{"text_format":"1","workbook":"xlsx","n_sheets":14,"sheets":["Feeds","FeedIn cattle (TMR)","FeedIn cattle (AFC)","FeedIn pigs (Intensive)","Feedin pigs (AFC)","FeedIn poultry (Intensive)","Feedin poultry (AFC)","Feedin sheep (AFC)","Feedin goats (AFC)","Feedin horses (AFC)","Ex animal"," Ex housing and ex storage (MB)","Tehnology","Additional information"],"not_rendered":{"charts":0,"images":3,"macros":1,"external_links":0,"defined_names":1,"comments":13,"pivot_tables":0},"unopened":[],"bounds":{"document_bytes":16777216,"sheet_cells":100000,"rows_first":2000,"rows_last":500,"rows_between":2000,"halvings":0,"cell_chars":16384,"cell_head_chars":4096},"cells_cut":0,"cells_raw":0,"read":"whole","date_system":"1900"}

{"sheet":"Feeds","index":0,"n_rows":109,"n_cols":30,"rows_kept":109,"cut":false,"hidden":false,"merged":[[2,1,2,10],[4,18,5,21],[6,18,7,18],[6,19,7,19],[6,20,7,20],[6,21,7,21],[4,14,5,17],[6,17,7,17],[6,14,7,14],[6,15,7,15],[6,16,7,16],[6,10,7,10],[6,11,7,11],[6,12,7,12],[4,10,5,13],[6,13,7,13],[6,7,7,7],[6,9,7,9],[4,4,4,5],[6,4,7,5],[6,8,7,8],[4,30,5,32],[1,1,1,10],[4,28,6,28],[4,29,6,29],[4,1,7,1],[4,2,5,3],[6,2,7,2],[6,3,7,3],[7,25,7,27],[4,23,6,23],[4,24,6,24],[4,25,6,25],[4,26,6,26],[4,27,6,27],[4,6,5,9],[6,6,7,6]]}
[]
[null,"Söödad"]
[]
[]
[null,"Sööt","Kuivaine",null," Seeduvus",null,"Toortuhk",null,null,null,"Toorproteiin",null,null,null,"P",null,null,null,"K",null,null,null,null,"DM","Dry matter digestibility","Crude protein","P","K","DM","Ash"]
[null,null,null,null,"OA","KA"]
[null,null,"%","g/kg ","%",null,"% KA","% ","g/kg ","g/kg  KA","% KA","% ","g/kg ","g/kg  KA","% KA","% ","g/kg ","g/kg  KA","% KA","% ","g/kg ","g/kg  KA"]
[null,null,null,null,null,null,null,null,null,null,null,null,null,null,null,null,null,null,null,null,null,null,null,"g/kg","%","g/kg",null,null,"%","% DM"]
[null,null,null,null,null,null,null,null,null,null,null,null,null,null,null,null,null,null,null,null,null,null,null,{"$f":"IF(C9=0,D9,IF(C9=0,\"\",1000*C9/100))","v":0},{"$f":"IF(E9=0,F9,IF(AC9=0,\"\",(((1000*AC9/100-1000*AD9/100)*E9/100)+1000*AD9/100*40/100)/(1000*AC9/100)*100))","v":0},{"$f":"IF(N9>M9,N9*X9/1000,IF(M9>0,M9,IF(K9=0,1000*L9/100,X9*K9/100)))","v":0},{"$f":"IF(R9>Q9,R9*X9/1000,IF(Q9>0,Q9,IF(O9=0,1000*P9/100,X9*O9/100)))","v":0},{"$f":"IF(V9>U9,V9*X9/1000,IF(U9>0,U9,IF(S9=0,1000*T9/100,X9*S9/100)))","v":0},{"$f":"X9/1000*100","v":0},{"$f":"IF(J9>H9,J9/1000*100,IF(I9>0,I9/X9*100,IF(G9=0,H9*1000/X9,G9)))","v":{"$error":"#DIV/0!"}}]
[null,null,null,null,null,null,null,null,null,null,null,null,null,null,null,null,null,null,null,null,null,null,null,{"$f":"IF(C10=0,D10,IF(C10=0,\"\",1000*C10/100))","v":0},{"$f":"IF(E10=0,F10,IF(AC10=0,\"\",(((1000*AC10/100-1000*AD10/100)*E10/100)+1000*AD10/100*40/100)/(1000*AC10/100)*100))","v":0},{"$f":"IF(N10>M10,N10*X10/1000,IF(M10>0,M10,IF(K10=0,1000*L10/100,X10*K10/100)))","v":0},{"$f":"IF(R10>Q10,R10*X10/1000,IF(Q10>0,Q10,IF(O10=0,1000*P10/100,X10*O10/100)))","v":0},{"$f":"IF(V10>U10,V10*X10/1000,IF(U10>0,U10,IF(S10=0,1000*T10/100,X10*S10/100)))","v":0},{"$f":"X10/1000*100","v":0},{"$f":"IF(J10>H10,J10/1000*100,IF(I10>0,I10/X10*100,IF(G10=0,H10*1000/X10,G10)))","v":{"$error":"#DIV/0!"}}]
[null,null,null,null,null,null,null,null,null,null,null,null,null,null,null,null,null,null,null,null,null,null,null,0,0,0,0,0,0,{"$error":"#DIV/0!"}]
[null,null,null,null,null,null,null,null,null,null,null,null,null,null,null,null,null,null,null,null,null,null,null,0,0,0,0,0,0,{"$error":"#DIV/0!"}]
[null,null,null,null,null,null,null,null,null,null,null,null,null,null,null,null,null,null,null,null,null,null,null,0,0,0,0,0,0,{"$error":"#DIV/0!"}]
[null,null,null,null,null,null,null,null,null,null,null,null,null,null,null,null,null,null,null,null,null,null,null,0,0,0,0,0,0,{"$error":"#DIV/0!"}]
[null,null,null,null,null,null,null,null,null,null,null,null,null,null,null,null,null,null,null,null,null,null,null,0,0,0,0,0,0,{"$error":"#DIV/0!"}]
[null,null,null,null,null,null,null,null,null,null,null,null,null,null,null,null,null,null,null,null,null,null,null,0,0,0,0,0,0,{"$error":"#DIV/0!"}]
[null,null,null,null,null,null,null,null,null,null,null,null,null,null,null,null,null,null,null,null,null,null,null,{"$f":"IF(C17=0,D17,IF(C17=0,\"\",1000*C17/100))","v":0},{"$f":"IF(E17=0,F17,IF(AC17=0,\"\",(((1000*AC17/100-1000*AD17/100)*E17/100)+1000*AD17/100*40/100)/(1000*AC17/100)*100))","v":0},{"$f":"IF(N17>M17,N17*X17/1000,IF(M17>0,M17,IF(K17=0,1000*L17/100,X17*K17/100)))","v":0},{"$f":"IF(R17>Q17,R17*X17/1000,IF(Q17>0,Q17,IF(O17=0,1000*P17/100,X17*O17/100)))","v":0},{"$f":"IF(V17>U17,V17*X17/1000,IF(U17>0,U17,IF(S17=0,1000*T17/100,X17*S17/100)))","v":0},{"$f":"X17/1000*100","v":0},{"$f":"IF(J17>H17,J17/1000*100,IF(I17>0,I17/X17*100,IF(G17=0,H17*1000/X17,G17)))","v":{"$error":"#DIV/0!"}}]
[null,null,null,null,null,null,null,null,null,null,null,null,null,null,null,null,null,null,null,null,null,null,null,0,0,0,0,0,0,{"$error":"#DIV/0!"}]
[null,null,null,null,null,null,null,null,null,null,null,null,null,null,null,null,null,null,null,null,null,null,null,0,0,0,0,0,0,{"$error":"#DIV/0!"}]
[null,null,null,null,null,null,null,null,null,null,null,null,null,null,null,null,null,null,null,null,null,null,null,0,0,0,0,0,0,{"$error":"#DIV/0!"}]
[null,null,null,null,null,null,null,null,null,null,null,null,null,null,null,null,null,null,null,null,null,null,null,0,0,0,0,0,0,{"$error":"#DIV/0!"}]
[null,null,null,null,null,null,null,null,null,null,null,null,null,null,null,null,null,null,null,null,null,null,null,0,0,0,0,0,0,{"$error":"#DIV/0!"}]
[null,null,null,null,null,null,null,null,null,null,null,null,null,null,null,null,null,null,null,null,null,null,null,0,0,0,0,0,0,{"$error":"#DIV/0!"}]
[null,null,null,null,null,null,null,null,null,null,null,null,null,null,null,null,null,null,null,null,null,null,null,0,0,0,0,0,0,{"$error":"#DIV/0!"}]
[null,null,null,null,null,null,null,null,null,null,null,null,null,null,null,null,null,null,null,null,null,null,null,0,0,0,0,0,0,{"$error":"#DIV/0!"}]
[null,null,null,null,null,null,null,null,null,null,null,null,null,null,null,null,null,null,null,null,null,null,null,0,0,0,0,0,0,{"$error":"#DIV/0!"}]
[null,null,null,null,null,null,null,null,null,null,null,null,null,null,null,null,null,null,null,null,null,null,null,0,0,0,0,0,0,{"$error":"#DIV/0!"}]
[null,null,null,null,null,null,null,null,null,null,null,null,null,null,null,null,null,null,null,null,null,null,null,0,0,0,0,0,0,{"$error":"#DIV/0!"}]
[null,null,null,null,null,null,null,null,null,null,null,null,null,null,null,null,null,null,null,null,null,null,null,0,0,0,0,0,0,{"$error":"#DIV/0!"}]
[null,null,null,null,null,null,null,null,null,null,null,null,null,null,null,null,null,null,null,null,null,null,null,0,0,0,0,{"$f":"IF(V30>U30,V30*X30/1000,IF(U30>0,U30,IF(S30=0,1000*T30/100,X30*S30/100)))","v":0},0,{"$error":"#DIV/0!"}]
[null,null,null,null,null,null,null,null,null,null,null,null,null,null,null,null,null,null,null,null,null,null,null,0,0,0,0,0,0,{"$error":"#DIV/0!"}]
[null,null,null,null,null,null,null,null,null,null,null,null,null,null,null,null,null,null,null,null,null,null,null,0,0,0,0,0,0,{"$error":"#DIV/0!"}]
[null,null,null,null,null,null,null,null,null,null,null,null,null,null,null,null,null,null,null,null,null,null,null,0,0,0,0,0,0,{"$error":"#DIV/0!"}]
[null,null,null,null,null,null,null,null,null,null,null,null,null,null,null,null,null,null,null,null,null,null,null,0,0,0,0,0,0,{"$error":"#DIV/0!"}]
[null,null,null,null,null,null,null,null,null,null,null,null,null,null,null,null,null,null,null,null,null,null,null,0,0,0,0,0,0,{"$error":"#DIV/0!"}]
[null,null,null,null,null,null,null,null,null,null,null,null,null,null,null,null,null,null,null,null,null,null,null,0,0,0,0,0,0,{"$error":"#DIV/0!"}]
[null,null,null,null,null,null,null,null,null,null,null,null,null,null,null,null,null,null,null,null,null,null,null,0,0,0,0,0,0,{"$error":"#DIV/0!"}]
[null,null,null,null,null,null,null,null,null,null,null,null,null,null,null,null,null,null,null,null,null,null,null,0,0,0,0,0,0,{"$error":"#DIV/0!"}]
[null,null,null,null,null,null,null,null,null,null,null,null,null,null,null,null,null,null,null,null,null,null,null,0,0,0,0,0,0,{"$error":"#DIV/0!"}]
[null,null,null,null,null,null,null,null,null,null,null,null,null,null,null,null,null,null,null,null,null,null,null,0,0,0,0,0,0,{"$error":"#DIV/0!"}]
[null,null,null,null,null,null,null,null,null,null,null,null,null,null,null,null,null,null,null,null,null,null,null,0,0,0,0,0,0,{"$error":"#DIV/0!"}]
[null,null,null,null,null,null,null,null,null,null,null,null,null,null,null,null,null,null,null,null,null,null,null,0,0,0,0,0,0,{"$error":"#DIV/0!"}]
[null,null,null,null,null,null,null,null,null,null,null,null,null,null,null,null,null,null,null,null,null,null,null,0,0,0,0,0,0,{"$error":"#DIV/0!"}]
[null,null,null,null,null,null,null,null,null,null,null,null,null,null,null,null,null,null,null,null,null,null,null,0,0,0,0,0,0,{"$error":"#DIV/0!"}]
[null,null,null,null,null,null,null,null,null,null,null,null,null,null,null,null,null,null,null,null,null,null,null,0,0,0,0,0,0,{"$error":"#DIV/0!"}]
[null,null,null,null,null,null,null,null,null,null,null,null,null,null,null,null,null,null,null,null,null,null,null,0,0,0,0,0,0,{"$error":"#DIV/0!"}]
[null,null,null,null,null,null,null,null,null,null,null,null,null,null,null,null,null,null,null,null,null,null,null,0,0,0,0,0,0,{"$error":"#DIV/0!"}]
[null,null,null,null,null,null,null,null,null,null,null,null,null,null,null,null,null,null,null,null,null,null,null,0,0,0,0,0,0,{"$error":"#DIV/0!"}]
[null,null,null,null,null,null,null,null,null,null,null,null,null,null,null,null,null,null,null,null,null,null,null,0,0,0,0,0,0,{"$error":"#DIV/0!"}]
[null,null,null,null,null,null,null,null,null,null,null,null,null,null,null,null,null,null,null,null,null,null,null,0,0,0,0,0,0,{"$error":"#DIV/0!"}]
[null,null,null,null,null,null,null,null,null,null,null,null,null,null,null,null,null,null,null,null,null,null,null,0,0,0,0,0,0,{"$error":"#DIV/0!"}]
[null,null,null,null,null,null,null,null,null,null,null,null,null,null,null,null,null,null,null,null,null,null,null,0,0,0,0,0,0,{"$error":"#DIV/0!"}]
[null,null,null,null,null,null,null,null,null,null,null,null,null,null,null,null,null,null,null,null,null,null,null,0,0,0,0,0,0,{"$error":"#DIV/0!"}]
[null,null,null,null,null,null,null,null,null,null,null,null,null,null,null,null,null,null,null,null,null,null,null,0,0,0,0,0,0,{"$error":"#DIV/0!"}]
[null,null,null,null,null,null,null,null,null,null,null,null,null,null,null,null,null,null,null,null,null,null,null,0,0,0,0,0,0,{"$error":"#DIV/0!"}]
[null,null,null,null,null,null,null,null,null,null,null,null,null,null,null,null,null,null,null,null,null,null,null,0,0,0,0,0,0,{"$error":"#DIV/0!"}]
[null,null,null,null,null,null,null,null,null,null,null,null,null,null,null,null,null,null,null,null,null,null,null,0,0,0,0,0,0,{"$error":"#DIV/0!"}]
[null,null,null,null,null,null,null,null,null,null,null,null,null,null,null,null,null,null,null,null,null,null,null,0,0,0,0,0,0,{"$error":"#DIV/0!"}]
[null,null,null,null,null,null,null,null,null,null,null,null,null,null,null,null,null,null,null,null,null,null,null,0,0,0,0,0,0,{"$error":"#DIV/0!"}]
[null,null,null,null,null,null,null,null,null,null,null,null,null,null,null,null,null,null,null,null,null,null,null,0,0,0,0,0,0,{"$error":"#DIV/0!"}]
[null,null,null,null,null,null,null,null,null,null,null,null,null,null,null,null,null,null,null,null,null,null,null,0,0,0,0,0,0,{"$error":"#DIV/0!"}]
[null,null,null,null,null,null,null,null,null,null,null,null,null,null,null,null,null,null,null,null,null,null,null,0,0,0,0,0,0,{"$error":"#DIV/0!"}]
[null,null,null,null,null,null,null,null,null,null,null,null,null,null,null,null,null,null,null,null,null,null,null,0,0,0,0,0,0,{"$error":"#DIV/0!"}]
[null,null,null,null,null,null,null,null,null,null,null,null,null,null,null,null,null,null,null,null,null,null,null,0,0,0,0,0,0,{"$error":"#DIV/0!"}]
[null,null,null,null,null,null,null,null,null,null,null,null,null,null,null,null,null,null,null,null,null,null,null,0,0,0,0,0,0,{"$error":"#DIV/0!"}]
[null,null,null,null,null,null,null,null,null,null,null,null,null,null,null,null,null,null,null,null,null,null,null,0,0,0,0,0,0,{"$error":"#DIV/0!"}]
[null,null,null,null,null,null,null,null,null,null,null,null,null,null,null,null,null,null,null,null,null,null,null,0,0,0,0,0,0,{"$error":"#DIV/0!"}]
[null,null,null,null,null,null,null,null,null,null,null,null,null,null,null,null,null,null,null,null,null,null,null,0,0,0,0,0,0,{"$error":"#DIV/0!"}]
[null,null,null,null,null,null,null,null,null,null,null,null,null,null,null,null,null,null,null,null,null,null,null,0,0,0,0,0,0,{"$error":"#DIV/0!"}]
[null,null,null,null,null,null,null,null,null,null,null,null,null,null,null,null,null,null,null,null,null,null,null,0,0,0,0,0,0,{"$error":"#DIV/0!"}]
[null,null,null,null,null,null,null,null,null,null,null,null,null,null,null,null,null,null,null,null,null,null,null,0,0,0,0,0,0,{"$error":"#DIV/0!"}]
[null,null,null,null,null,null,null,null,null,null,null,null,null,null,null,null,null,null,null,null,null,null,null,0,0,0,0,0,0,{"$error":"#DIV/0!"}]
[null,null,null,null,null,null,null,null,null,null,null,null,null,null,null,null,null,null,null,null,null,null,null,0,0,0,0,0,0,{"$error":"#DIV/0!"}]
[null,null,null,null,null,null,null,null,null,null,null,null,null,null,null,null,null,null,null,null,null,null,null,0,0,0,0,0,0,{"$error":"#DIV/0!"}]
[null,null,null,null,null,null,null,null,null,null,null,null,null,null,null,null,null,null,null,null,null,null,null,0,0,0,0,0,0,{"$error":"#DIV/0!"}]
[null,null,null,null,null,null,null,null,null,null,null,null,null,null,null,null,null,null,null,null,null,null,null,0,0,0,0,0,0,{"$error":"#DIV/0!"}]
[null,null,null,null,null,null,null,null,null,null,null,null,null,null,null,null,null,null,null,null,null,null,null,0,0,0,0,0,0,{"$error":"#DIV/0!"}]
[null,null,null,null,null,null,null,null,null,null,null,null,null,null,null,null,null,null,null,null,null,null,null,0,0,0,0,0,0,{"$error":"#DIV/0!"}]
[null,null,null,null,null,null,null,null,null,null,null,null,null,null,null,null,null,null,null,null,null,null,null,0,0,0,0,0,0,{"$error":"#DIV/0!"}]
[null,null,null,null,null,null,null,null,null,null,null,null,null,null,null,null,null,null,null,null,null,null,null,0,0,0,0,0,0,{"$error":"#DIV/0!"}]
[null,null,null,null,null,null,null,null,null,null,null,null,null,null,null,null,null,null,null,null,null,null,null,{"$f":"IF(C81=0,D81,IF(C81=0,\"\",1000*C81/100))","v":0},{"$f":"IF(E81=0,F81,IF(AC81=0,\"\",(((1000*AC81/100-1000*AD81/100)*E81/100)+1000*AD81/100*40/100)/(1000*AC81/100)*100))","v":0},{"$f":"IF(N81>M81,N81*X81/1000,IF(M81>0,M81,IF(K81=0,1000*L81/100,X81*K81/100)))","v":0},{"$f":"IF(R81>Q81,R81*X81/1000,IF(Q81>0,Q81,IF(O81=0,1000*P81/100,X81*O81/100)))","v":0},{"$f":"IF(V81>U81,V81*X81/1000,IF(U81>0,U81,IF(S81=0,1000*T81/100,X81*S81/100)))","v":0},{"$f":"X81/1000*100","v":0},{"$f":"IF(J81>H81,J81/1000*100,IF(I81>0,I81/X81*100,IF(G81=0,H81*1000/X81,G81)))","v":{"$error":"#DIV/0!"}}]
[null,null,null,null,null,null,null,null,null,null,null,null,null,null,null,null,null,null,null,null,null,null,null,0,0,0,0,0,0,{"$error":"#DIV/0!"}]
[null,null,null,null,null,null,null,null,null,null,null,null,null,null,null,null,null,null,null,null,null,null,null,0,0,0,0,0,0,{"$error":"#DIV/0!"}]
[null,null,null,null,null,null,null,null,null,null,null,null,null,null,null,null,null,null,null,null,null,null,null,0,0,0,0,0,0,{"$error":"#DIV/0!"}]
[null,null,null,null,null,null,null,null,null,null,null,null,null,null,null,null,null,null,null,null,null,null,null,0,0,0,0,0,0,{"$error":"#DIV/0!"}]
[null,null,null,null,null,null,null,null,null,null,null,null,null,null,null,null,null,null,null,null,null,null,null,0,0,0,0,0,0,{"$error":"#DIV/0!"}]
[null,null,null,null,null,null,null,null,null,null,null,null,null,null,null,null,null,null,null,null,null,null,null,0,0,0,0,0,0,{"$error":"#DIV/0!"}]
[null,null,null,null,null,null,null,null,null,null,null,null,null,null,null,null,null,null,null,null,null,null,null,0,0,0,0,0,0,{"$error":"#DIV/0!"}]
[null,null,null,null,null,null,null,null,null,null,null,null,null,null,null,null,null,null,null,null,null,null,null,0,0,0,0,0,0,{"$error":"#DIV/0!"}]
[null,null,null,null,null,null,null,null,null,null,null,null,null,null,null,null,null,null,null,null,null,null,null,0,0,0,0,0,0,{"$error":"#DIV/0!"}]
[null,null,null,null,null,null,null,null,null,null,null,null,null,null,null,null,null,null,null,null,null,null,null,0,0,0,0,0,0,{"$error":"#DIV/0!"}]
[null,null,null,null,null,null,null,null,null,null,null,null,null,null,null,null,null,null,null,null,null,null,null,0,0,0,0,0,0,{"$error":"#DIV/0!"}]
[null,null,null,null,null,null,null,null,null,null,null,null,null,null,null,null,null,null,null,null,null,null,null,0,0,0,0,0,0,{"$error":"#DIV/0!"}]
[null,null,null,null,null,null,null,null,null,null,null,null,null,null,null,null,null,null,null,null,null,null,null,0,0,0,0,0,0,{"$error":"#DIV/0!"}]
[null,null,null,null,null,null,null,null,null,null,null,null,null,null,null,null,null,null,null,null,null,null,null,0,0,0,0,0,0,{"$error":"#DIV/0!"}]
[null,null,null,null,null,null,null,null,null,null,null,null,null,null,null,null,null,null,null,null,null,null,null,0,0,0,0,0,0,{"$error":"#DIV/0!"}]
[null,null,null,null,null,null,null,null,null,null,null,null,null,null,null,null,null,null,null,null,null,null,null,0,0,0,0,0,0,{"$error":"#DIV/0!"}]
[null,null,null,null,null,null,null,null,null,null,null,null,null,null,null,null,null,null,null,null,null,null,null,0,0,0,0,0,0,{"$error":"#DIV/0!"}]
[null,null,null,null,null,null,null,null,null,null,null,null,null,null,null,null,null,null,null,null,null,null,null,0,0,0,0,0,0,{"$error":"#DIV/0!"}]
[null,null,null,null,null,null,null,null,null,null,null,null,null,null,null,null,null,null,null,null,null,null,null,0,0,0,0,0,0,{"$error":"#DIV/0!"}]
[null,null,null,null,null,null,null,null,null,null,null,null,null,null,null,null,null,null,null,null,null,null,null,0,0,0,0,0,0,{"$error":"#DIV/0!"}]
[null,null,null,null,null,null,null,null,null,null,null,null,null,null,null,null,null,null,null,null,null,null,null,0,0,0,0,0,0,{"$error":"#DIV/0!"}]
[null,null,null,null,null,null,null,null,null,null,null,null,null,null,null,null,null,null,null,null,null,null,null,0,0,0,0,0,0,{"$error":"#DIV/0!"}]
[null,null,null,null,null,null,null,null,null,null,null,null,null,null,null,null,null,null,null,null,null,null,null,0,0,0,0,0,0,{"$error":"#DIV/0!"}]
[null,null,null,null,null,null,null,null,null,null,null,null,null,null,null,null,null,null,null,null,null,null,null,0,0,0,0,0,0,{"$error":"#DIV/0!"}]
[null,null,null,null,null,null,null,null,null,null,null,null,null,null,null,null,null,null,null,null,null,null,null,0,0,0,0,0,0,{"$error":"#DIV/0!"}]
[null,null,null,null,null,null,null,null,null,null,null,null,null,null,null,null,null,null,null,null,null,null,null,0,0,0,0,0,0,{"$error":"#DIV/0!"}]
[null,null,null,null,null,null,null,null,null,null,null,null,null,null,null,null,null,null,null,null,null,null,null,0,0,0,0,0,0,{"$error":"#DIV/0!"}]
[null,null,null,null,null,null,null,null,null,null,null,null,null,null,null,null,null,null,null,null,null,null,null,{"$f":"IF(C109=0,D109,IF(C109=0,\"\",1000*C109/100))","v":0},{"$f":"IF(E109=0,F109,IF(AC109=0,\"\",(((1000*AC109/100-1000*AD109/100)*E109/100)+1000*AD109/100*40/100)/(1000*AC109/100)*100))","v":0},0,0,0,0,{"$error":"#DIV/0!"}]

{"sheet":"FeedIn cattle (TMR)","index":1,"n_rows":177,"n_cols":79,"rows_kept":177,"cut":false,"hidden":false,"merged":[[1,7,1,11],[2,2,9,11],[16,45,16,49],[17,45,17,49],[16,37,16,39],[17,37,17,39],[13,37,13,39],[13,45,13,49],[15,19,15,23],[15,24,15,26],[13,2,17,5],[13,15,17,18],[1,2,1,6],[174,2,176,2],[14,6,14,10],[14,11,14,13],[15,6,15,10],[15,11,15,13],[17,11,17,13],[37,2,37,3],[38,2,38,3],[57,2,57,3],[58,2,58,3],[78,2,78,3],[79,2,79,3],[98,2,98,3],[99,2,99,3],[118,2,118,3],[119,2,119,3],[172,2,172,3],[138,2,138,3],[139,2,139,3],[155,2,155,3],[156,2,156,3],[171,2,171,3],[174,15,176,15],[16,6,16,10],[17,6,17,10],[16,11,16,13],[175,6,175,8],[13,6,13,10],[13,11,13,13],[37,28,37,29],[38,28,38,29],[57,28,57,29],[58,28,58,29],[78,28,78,29],[79,28,79,29],[175,19,175,21],[174,28,176,28],[37,15,37,16],[38,15,38,16],[57,15,57,16],[58,15,58,16],[78,15,78,16],[79,15,79,16],[98,15,98,16],[99,15,99,16],[175,32,175,34],[16,32,16,36],[13,19,13,23],[13,24,13,26],[17,32,17,36],[13,32,13,36],[16,19,16,23],[16,24,16,26],[17,19,17,23],[17,24,17,26],[13,28,17,31],[174,67,176,67],[175,71,175,73],[174,41,176,41],[175,45,175,47],[174,54,176,54],[175,58,175,60],[13,71,13,75],[13,76,13,78],[16,50,16,52],[17,63,17,65],[16,71,16,75],[16,76,16,78],[17,71,17,75],[17,76,17,78],[13,41,17,44],[13,54,17,57],[13,67,17,70],[13,50,13,52],[13,58,13,62],[13,63,13,65],[16,58,16,62],[17,58,17,62],[16,63,16,65],[17,50,17,52],[79,67,79,68],[98,67,98,68],[99,67,99,68],[37,67,37,68],[38,67,38,68],[57,67,57,68],[58,67,58,68],[78,67,78,68],[37,41,37,42],[38,41,38,42],[57,41,57,42],[58,41,58,42],[37,54,37,55],[38,54,38,55],[57,54,57,55],[58,54,58,55]]}
[]
[null,null,"Veiste söötmine",null,null,null,null,"TRSS"]
[]
[]
[null,123456789]
[]
[]
[]
[]
[]
[]
[]
[]
[null,null,"Piimalehmad",null,null,null,"Loomade arv, aastalehmi",null,null,null,null,null,null,null,null,"Lehmmullikad (vanus 6 kuud kuni poegimine)",null,null,null,"Loomade arv, aastamullikaid",null,null,null,null,null,null,null,null,"Lihaveised (vanus 6 kuud kuni realiseerimine)",null,null,null,"Loomade arv, toodetud loomi",null,null,null,null,null,null,null,null,"Lehmvasikad (vanus kuni 6 kuud)",null,null,null,"Loomade arv, toodetud loomi",null,null,null,null,null,null,null,null,"Pullvasikad (vanus kuni 6 kuud)",null,null,null,"Loomade arv, toodetud loomi",null,null,null,null,null,null,null,null,"Ammlehmad",null,null,null,"Loomade arv, aastalehmi "]
[null,null,null,null,null,null,"Toodang, kg/loom/aasta"]
[null,null,null,null,null,null,"Piima valgusisaldus, %",null,null,null,null,null,null,null,null,null,null,null,null,"Poegimise vanus, kuud"]
[null,null,null,null,null,null,"Keskmine kehamass, kg/loom",null,null,null,null,null,null,null,null,null,null,null,null,"Kehamass perioodi alguses, kg",null,null,null,null,null,null,null,null,null,null,null,null,"Kehamass perioodi alguses, kg",null,null,null,null,null,null,null,null,null,null,null,null,"Kehamass perioodi alguses, kg",null,null,null,null,null,null,null,null,null,null,null,null,"Kehamass perioodi alguses, kg",null,null,null,null,null,null,null,null,null,null,null,null,"Vasika kehamass perioodi alguses, kg"]
[null,null,null,null,null,null,"Kehamass enne poegimist, kg/loom",null,null,null,null,null,null,null,null,null,null,null,null,"Kehamass perioodi lõpus, kg",null,null,null,null,null,null,null,null,null,null,null,null,"Kehamass perioodi lõpus, kg",null,null,null,null,null,null,null,null,null,null,null,null,"Kehamass perioodi lõpus, kg",null,null,null,null,null,null,null,null,null,null,null,null,"Kehamass perioodi lõpus, kg",null,null,null,null,null,null,null,null,null,null,null,null,"Vasika kehamass perioodi lõpus, kg"]
[]
[null,null,"Negatiivse energiabilansi periood (NEB)"]
[null,null,"NEB1",null,null,null,null,null,null,null,null,"Päevi grupis",null,"TRSS kadu, %",null,"Vanus 7-10 kuud",null,null,null,null,null,null,null,null,"Päevi grupis",null,"TRSS kadu, %",null,"Vanus 7-9 kuud",null,null,null,null,null,null,null,null,"Päevi grupis",null,"TRSS kadu, %",null,"Vanus 0-3 kuud",null,null,null,null,null,null,null,null,"Päevi grupis",null,"TRSS kadu, %",null,"Vanus 0-3 kuud",null,null,null,null,null,null,null,null,"Päevi grupis",null,"TRSS kadu, %",null,"Laktatsiooni algus",null,null,null,null,null,null,null,null,"Päevi grupis",null,"TRSS kadu, %"]
[null,null,"Söödad (s.h. mineraalsöödad)","Kogus kg/päev","KA kg/päev","KA seeduvus %","TP   g/päev","P g/päev","K   g/päev",null,null,null,null,null,null,"Söödad (s.h. mineraalsöödad)","Kogus kg/päev","KA kg/päev","KA seeduvus %","TP   g/päev","P g/päev","K g/päev",null,null,null,null,null,null,"Söödad (s.h. mineraalsöödad)","Kogus kg/päev","KA kg/päev","KA seeduvus %","TP   g/päev","P g/päev","K g/päev",null,null,null,null,null,null,"Söödad (s.h. mineraalsöödad)","Kogus kg/päev","KA kg/päev","KA seeduvus %","TP   g/päev","P g/päev","K g/päev",null,null,null,null,null,null,"Söödad (s.h. mineraalsöödad)","Kogus kg/päev","KA kg/päev","KA seeduvus %","TP   g/päev","P g/päev","K g/päev",null,null,null,null,null,null,"Söödad (s.h. mineraalsöödad)","Kogus kg/päev","KA kg/päev","KA seeduvus %","TP   g/päev","P g/päev","K g/päev"]
[null,null,null,null,{"$f":"IF(D23=0,\"\",VLOOKUP(C23,Feeds!$B$9:$AB$109,23,FALSE)*D23/1000)","v":""},{"$f":"IF(D23=0,\"\",VLOOKUP(C23,Feeds!$B$9:$AB$109,24,FALSE))","v":""},{"$f":"IF(D23=\"\",\"\",D23*VLOOKUP(C23,Feeds!$B$9:$AB$109,25,FALSE))","v":""},{"$f":"IF(D23=\"\",\"\",D23*VLOOKUP(C23,Feeds!$B$9:$AB$109,26,FALSE))","v":""},{"$f":"IF(D23=\"\",\"\",D23*VLOOKUP(C23,Feeds!$B$9:$AB$109,27,FALSE))","v":""},{"$f":"IF(D23=\"\",0,E23*F23/100)","v":0},null,null,null,null,null,null,null,{"$f":"IF(Q23=0,\"\",VLOOKUP(P23,Feeds!$B$9:$AB$109,23,FALSE)*Q23/1000)","v":""},{"$f":"IF(Q23=0,\"\",VLOOKUP(P23,Feeds!$B$9:$AB$109,24,FALSE))","v":""},{"$f":"IF(Q23=\"\",\"\",Q23*VLOOKUP(P23,Feeds!$B$9:$AB$109,25,FALSE))","v":""},{"$f":"IF(Q23=\"\",\"\",Q23*VLOOKUP(P23,Feeds!$B$9:$AB$109,26,FALSE))","v":""},{"$f":"IF(Q23=\"\",\"\",Q23*VLOOKUP(P23,Feeds!$B$9:$AB$109,27,FALSE))","v":""},{"$f":"IF(Q23=\"\",0,R23*S23/100)","v":0},null,null,null,null,null,null,null,{"$f":"IF(AD23=0,\"\",VLOOKUP(AC23,Feeds!$B$9:$AB$109,23,FALSE)*AD23/1000)","v":""},{"$f":"IF(AD23=0,\"\",VLOOKUP(AC23,Feeds!$B$9:$AB$109,24,FALSE))","v":""},{"$f":"IF(AD23=\"\",\"\",AD23*VLOOKUP(AC23,Feeds!$B$9:$AB$109,25,FALSE))","v":""},{"$f":"IF(AD23=\"\",\"\",AD23*VLOOKUP(AC23,Feeds!$B$9:$AB$109,26,FALSE))","v":""},{"$f":"IF(AD23=\"\",\"\",AD23*VLOOKUP(AC23,Feeds!$B$9:$AB$109,27,FALSE))","v":""},{"$f":"IF(AD23=\"\",0,AE23*AF23/100)","v":0},null,null,null,null,null,null,null,{"$f":"IF(AQ23=0,\"\",VLOOKUP(AP23,Feeds!$B$9:$AB$109,23,FALSE)*AQ23/1000)","v":""},{"$f":"IF(AQ23=0,\"\",VLOOKUP(AP23,Feeds!$B$9:$AB$109,24,FALSE))","v":""},{"$f":"IF(AQ23=\"\",\"\",AQ23*VLOOKUP(AP23,Feeds!$B$9:$AB$109,25,FALSE))","v":""},{"$f":"IF(AQ23=\"\",\"\",AQ23*VLOOKUP(AP23,Feeds!$B$9:$AB$109,26,FALSE))","v":""},{"$f":"IF(AQ23=\"\",\"\",AQ23*VLOOKUP(AP23,Feeds!$B$9:$AB$109,27,FALSE))","v":""},{"$f":"IF(AQ23=\"\",0,AR23*AS23/100)","v":0},null,null,null,null,null,null,null,{"$f":"IF(BD23=0,\"\",VLOOKUP(BC23,Feeds!$B$9:$AB$109,23,FALSE)*BD23/1000)","v":""},{"$f":"IF(BD23=0,\"\",VLOOKUP(BC23,Feeds!$B$9:$AB$109,24,FALSE))","v":""},{"$f":"IF(BD23=\"\",\"\",BD23*VLOOKUP(BC23,Feeds!$B$9:$AB$109,25,FALSE))","v":""},{"$f":"IF(BD23=\"\",\"\",BD23*VLOOKUP(BC23,Feeds!$B$9:$AB$109,26,FALSE))","v":""},{"$f":"IF(BD23=\"\",\"\",BD23*VLOOKUP(BC23,Feeds!$B$9:$AB$109,27,FALSE))","v":""},{"$f":"IF(BD23=\"\",0,BE23*BF23/100)","v":0},null,null,null,null,null,null,null,{"$f":"IF(BQ23=0,\"\",VLOOKUP(BP23,Feeds!$B$9:$AB$109,23,FALSE)*BQ23/1000)","v":""},{"$f":"IF(BQ23=0,\"\",VLOOKUP(BP23,Feeds!$B$9:$AB$109,24,FALSE))","v":""},{"$f":"IF(BQ23=\"\",\"\",BQ23*VLOOKUP(BP23,Feeds!$B$9:$AB$109,25,FALSE))","v":""},{"$f":"IF(BQ23=\"\",\"\",BQ23*VLOOKUP(BP23,Feeds!$B$9:$AB$109,26,FALSE))","v":""},{"$f":"IF(BQ23=\"\",\"\",BQ23*VLOOKUP(BP23,Feeds!$B$9:$AB$109,27,FALSE))","v":""},{"$f":"IF(BQ23=\"\",0,BR23*BS23/100)","v":0}]
[null,null,null,null,{"$f":"IF(D24=0,\"\",VLOOKUP(C24,Feeds!$B$9:$AB$109,23,FALSE)*D24/1000)","v":""},{"$f":"IF(D24=0,\"\",VLOOKUP(C24,Feeds!$B$9:$AB$109,24,FALSE))","v":""},{"$f":"IF(D24=\"\",\"\",D24*VLOOKUP(C24,Feeds!$B$9:$AB$109,25,FALSE))","v":""},{"$f":"IF(D24=\"\",\"\",D24*VLOOKUP(C24,Feeds!$B$9:$AB$109,26,FALSE))","v":""},{"$f":"IF(D24=\"\",\"\",D24*VLOOKUP(C24,Feeds!$B$9:$AB$109,27,FALSE))","v":""},{"$f":"IF(D24=\"\",0,E24*F24/100)","v":0},null,null,null,null,null,null,null,{"$f":"IF(Q24=0,\"\",VLOOKUP(P24,Feeds!$B$9:$AB$109,23,FALSE)*Q24/1000)","v":""},{"$f":"IF(Q24=0,\"\",VLOOKUP(P24,Feeds!$B$9:$AB$109,24,FALSE))","v":""},{"$f":"IF(Q24=\"\",\"\",Q24*VLOOKUP(P24,Feeds!$B$9:$AB$109,25,FALSE))","v":""},{"$f":"IF(Q24=\"\",\"\",Q24*VLOOKUP(P24,Feeds!$B$9:$AB$109,26,FALSE))","v":""},{"$f":"IF(Q24=\"\",\"\",Q24*VLOOKUP(P24,Feeds!$B$9:$AB$109,27,FALSE))","v":""},{"$f":"IF(Q24=\"\",0,R24*S24/100)","v":0},null,null,null,null,null,null,null,{"$f":"IF(AD24=0,\"\",VLOOKUP(AC24,Feeds!$B$9:$AB$109,23,FALSE)*AD24/1000)","v":""},{"$f":"IF(AD24=0,\"\",VLOOKUP(AC24,Feeds!$B$9:$AB$109,24,FALSE))","v":""},{"$f":"IF(AD24=\"\",\"\",AD24*VLOOKUP(AC24,Feeds!$B$9:$AB$109,25,FALSE))","v":""},{"$f":"IF(AD24=\"\",\"\",AD24*VLOOKUP(AC24,Feeds!$B$9:$AB$109,26,FALSE))","v":""},{"$f":"IF(AD24=\"\",\"\",AD24*VLOOKUP(AC24,Feeds!$B$9:$AB$109,27,FALSE))","v":""},0,null,null,null,null,null,null,null,{"$f":"IF(AQ24=0,\"\",VLOOKUP(AP24,Feeds!$B$9:$AB$109,23,FALSE)*AQ24/1000)","v":""},{"$f":"IF(AQ24=0,\"\",VLOOKUP(AP24,Feeds!$B$9:$AB$109,24,FALSE))","v":""},{"$f":"IF(AQ24=\"\",\"\",AQ24*VLOOKUP(AP24,Feeds!$B$9:$AB$109,25,FALSE))","v":""},{"$f":"IF(AQ24=\"\",\"\",AQ24*VLOOKUP(AP24,Feeds!$B$9:$AB$109,26,FALSE))","v":""},{"$f":"IF(AQ24=\"\",\"\",AQ24*VLOOKUP(AP24,Feeds!$B$9:$AB$109,27,FALSE))","v":""},0,null,null,null,null,null,null,null,{"$f":"IF(BD24=0,\"\",VLOOKUP(BC24,Feeds!$B$9:$AB$109,23,FALSE)*BD24/1000)","v":""},{"$f":"IF(BD24=0,\"\",VLOOKUP(BC24,Feeds!$B$9:$AB$109,24,FALSE))","v":""},{"$f":"IF(BD24=\"\",\"\",BD24*VLOOKUP(BC24,Feeds!$B$9:$AB$109,25,FALSE))","v":""},{"$f":"IF(BD24=\"\",\"\",BD24*VLOOKUP(BC24,Feeds!$B$9:$AB$109,26,FALSE))","v":""},{"$f":"IF(BD24=\"\",\"\",BD24*VLOOKUP(BC24,Feeds!$B$9:$AB$109,27,FALSE))","v":""},0,null,null,null,null,null,null,null,{"$f":"IF(BQ24=0,\"\",VLOOKUP(BP24,Feeds!$B$9:$AB$109,23,FALSE)*BQ24/1000)","v":""},{"$f":"IF(BQ24=0,\"\",VLOOKUP(BP24,Feeds!$B$9:$AB$109,24,FALSE))","v":""},{"$f":"IF(BQ24=\"\",\"\",BQ24*VLOOKUP(BP24,Feeds!$B$9:$AB$109,25,FALSE))","v":""},{"$f":"IF(BQ24=\"\",\"\",BQ24*VLOOKUP(BP24,Feeds!$B$9:$AB$109,26,FALSE))","v":""},{"$f":"IF(BQ24=\"\",\"\",BQ24*VLOOKUP(BP24,Feeds!$B$9:$AB$109,27,FALSE))","v":""},0]
[null,null,null,null,{"$f":"IF(D25=0,\"\",VLOOKUP(C25,Feeds!$B$9:$AB$109,23,FALSE)*D25/1000)","v":""},{"$f":"IF(D25=0,\"\",VLOOKUP(C25,Feeds!$B$9:$AB$109,24,FALSE))","v":""},{"$f":"IF(D25=\"\",\"\",D25*VLOOKUP(C25,Feeds!$B$9:$AB$109,25,FALSE))","v":""},{"$f":"IF(D25=\"\",\"\",D25*VLOOKUP(C25,Feeds!$B$9:$AB$109,26,FALSE))","v":""},{"$f":"IF(D25=\"\",\"\",D25*VLOOKUP(C25,Feeds!$B$9:$AB$109,27,FALSE))","v":""},0,null,null,null,null,null,null,null,{"$f":"IF(Q25=0,\"\",VLOOKUP(P25,Feeds!$B$9:$AB$109,23,FALSE)*Q25/1000)","v":""},{"$f":"IF(Q25=0,\"\",VLOOKUP(P25,Feeds!$B$9:$AB$109,24,FALSE))","v":""},{"$f":"IF(Q25=\"\",\"\",Q25*VLOOKUP(P25,Feeds!$B$9:$AB$109,25,FALSE))","v":""},{"$f":"IF(Q25=\"\",\"\",Q25*VLOOKUP(P25,Feeds!$B$9:$AB$109,26,FALSE))","v":""},{"$f":"IF(Q25=\"\",\"\",Q25*VLOOKUP(P25,Feeds!$B$9:$AB$109,27,FALSE))","v":""},0,null,null,null,null,null,null,null,{"$f":"IF(AD25=0,\"\",VLOOKUP(AC25,Feeds!$B$9:$AB$109,23,FALSE)*AD25/1000)","v":""},{"$f":"IF(AD25=0,\"\",VLOOKUP(AC25,Feeds!$B$9:$AB$109,24,FALSE))","v":""},{"$f":"IF(AD25=\"\",\"\",AD25*VLOOKUP(AC25,Feeds!$B$9:$AB$109,25,FALSE))","v":""},{"$f":"IF(AD25=\"\",\"\",AD25*VLOOKUP(AC25,Feeds!$B$9:$AB$109,26,FALSE))","v":""},{"$f":"IF(AD25=\"\",\"\",AD25*VLOOKUP(AC25,Feeds!$B$9:$AB$109,27,FALSE))","v":""},0,null,null,null,null,null,null,null,{"$f":"IF(AQ25=0,\"\",VLOOKUP(AP25,Feeds!$B$9:$AB$109,23,FALSE)*AQ25/1000)","v":""},{"$f":"IF(AQ25=0,\"\",VLOOKUP(AP25,Feeds!$B$9:$AB$109,24,FALSE))","v":""},{"$f":"IF(AQ25=\"\",\"\",AQ25*VLOOKUP(AP25,Feeds!$B$9:$AB$109,25,FALSE))","v":""},{"$f":"IF(AQ25=\"\",\"\",AQ25*VLOOKUP(AP25,Feeds!$B$9:$AB$109,26,FALSE))","v":""},{"$f":"IF(AQ25=\"\",\"\",AQ25*VLOOKUP(AP25,Feeds!$B$9:$AB$109,27,FALSE))","v":""},0,null,null,null,null,null,null,null,{"$f":"IF(BD25=0,\"\",VLOOKUP(BC25,Feeds!$B$9:$AB$109,23,FALSE)*BD25/1000)","v":""},{"$f":"IF(BD25=0,\"\",VLOOKUP(BC25,Feeds!$B$9:$AB$109,24,FALSE))","v":""},{"$f":"IF(BD25=\"\",\"\",BD25*VLOOKUP(BC25,Feeds!$B$9:$AB$109,25,FALSE))","v":""},{"$f":"IF(BD25=\"\",\"\",BD25*VLOOKUP(BC25,Feeds!$B$9:$AB$109,26,FALSE))","v":""},{"$f":"IF(BD25=\"\",\"\",BD25*VLOOKUP(BC25,Feeds!$B$9:$AB$109,27,FALSE))","v":""},0,null,null,null,null,null,null,null,{"$f":"IF(BQ25=0,\"\",VLOOKUP(BP25,Feeds!$B$9:$AB$109,23,FALSE)*BQ25/1000)","v":""},{"$f":"IF(BQ25=0,\"\",VLOOKUP(BP25,Feeds!$B$9:$AB$109,24,FALSE))","v":""},{"$f":"IF(BQ25=\"\",\"\",BQ25*VLOOKUP(BP25,Feeds!$B$9:$AB$109,25,FALSE))","v":""},{"$f":"IF(BQ25=\"\",\"\",BQ25*VLOOKUP(BP25,Feeds!$B$9:$AB$109,26,FALSE))","v":""},{"$f":"IF(BQ25=\"\",\"\",BQ25*VLOOKUP(BP25,Feeds!$B$9:$AB$109,27,FALSE))","v":""},0]
[null,null,null,null,{"$f":"IF(D26=0,\"\",VLOOKUP(C26,Feeds!$B$9:$AB$109,23,FALSE)*D26/1000)","v":""},{"$f":"IF(D26=0,\"\",VLOOKUP(C26,Feeds!$B$9:$AB$109,24,FALSE))","v":""},{"$f":"IF(D26=\"\",\"\",D26*VLOOKUP(C26,Feeds!$B$9:$AB$109,25,FALSE))","v":""},{"$f":"IF(D26=\"\",\"\",D26*VLOOKUP(C26,Feeds!$B$9:$AB$109,26,FALSE))","v":""},{"$f":"IF(D26=\"\",\"\",D26*VLOOKUP(C26,Feeds!$B$9:$AB$109,27,FALSE))","v":""},0,null,null,null,null,null,null,null,{"$f":"IF(Q26=0,\"\",VLOOKUP(P26,Feeds!$B$9:$AB$109,23,FALSE)*Q26/1000)","v":""},{"$f":"IF(Q26=0,\"\",VLOOKUP(P26,Feeds!$B$9:$AB$109,24,FALSE))","v":""},{"$f":"IF(Q26=\"\",\"\",Q26*VLOOKUP(P26,Feeds!$B$9:$AB$109,25,FALSE))","v":""},{"$f":"IF(Q26=\"\",\"\",Q26*VLOOKUP(P26,Feeds!$B$9:$AB$109,26,FALSE))","v":""},{"$f":"IF(Q26=\"\",\"\",Q26*VLOOKUP(P26,Feeds!$B$9:$AB$109,27,FALSE))","v":""},0,null,null,null,null,null,null,null,{"$f":"IF(AD26=0,\"\",VLOOKUP(AC26,Feeds!$B$9:$AB$109,23,FALSE)*AD26/1000)","v":""},{"$f":"IF(AD26=0,\"\",VLOOKUP(AC26,Feeds!$B$9:$AB$109,24,FALSE))","v":""},{"$f":"IF(AD26=\"\",\"\",AD26*VLOOKUP(AC26,Feeds!$B$9:$AB$109,25,FALSE))","v":""},{"$f":"IF(AD26=\"\",\"\",AD26*VLOOKUP(AC26,Feeds!$B$9:$AB$109,26,FALSE))","v":""},{"$f":"IF(AD26=\"\",\"\",AD26*VLOOKUP(AC26,Feeds!$B$9:$AB$109,27,FALSE))","v":""},0,null,null,null,null,null,null,null,{"$f":"IF(AQ26=0,\"\",VLOOKUP(AP26,Feeds!$B$9:$AB$109,23,FALSE)*AQ26/1000)","v":""},{"$f":"IF(AQ26=0,\"\",VLOOKUP(AP26,Feeds!$B$9:$AB$109,24,FALSE))","v":""},{"$f":"IF(AQ26=\"\",\"\",AQ26*VLOOKUP(AP26,Feeds!$B$9:$AB$109,25,FALSE))","v":""},{"$f":"IF(AQ26=\"\",\"\",AQ26*VLOOKUP(AP26,Feeds!$B$9:$AB$109,26,FALSE))","v":""},{"$f":"IF(AQ26=\"\",\"\",AQ26*VLOOKUP(AP26,Feeds!$B$9:$AB$109,27,FALSE))","v":""},0,null,null,null,null,null,null,null,{"$f":"IF(BD26=0,\"\",VLOOKUP(BC26,Feeds!$B$9:$AB$109,23,FALSE)*BD26/1000)","v":""},{"$f":"IF(BD26=0,\"\",VLOOKUP(BC26,Feeds!$B$9:$AB$109,24,FALSE))","v":""},{"$f":"IF(BD26=\"\",\"\",BD26*VLOOKUP(BC26,Feeds!$B$9:$AB$109,25,FALSE))","v":""},{"$f":"IF(BD26=\"\",\"\",BD26*VLOOKUP(BC26,Feeds!$B$9:$AB$109,26,FALSE))","v":""},{"$f":"IF(BD26=\"\",\"\",BD26*VLOOKUP(BC26,Feeds!$B$9:$AB$109,27,FALSE))","v":""},0,null,null,null,null,null,null,null,{"$f":"IF(BQ26=0,\"\",VLOOKUP(BP26,Feeds!$B$9:$AB$109,23,FALSE)*BQ26/1000)","v":""},{"$f":"IF(BQ26=0,\"\",VLOOKUP(BP26,Feeds!$B$9:$AB$109,24,FALSE))","v":""},{"$f":"IF(BQ26=\"\",\"\",BQ26*VLOOKUP(BP26,Feeds!$B$9:$AB$109,25,FALSE))","v":""},{"$f":"IF(BQ26=\"\",\"\",BQ26*VLOOKUP(BP26,Feeds!$B$9:$AB$109,26,FALSE))","v":""},{"$f":"IF(BQ26=\"\",\"\",BQ26*VLOOKUP(BP26,Feeds!$B$9:$AB$109,27,FALSE))","v":""},0]
[null,null,null,null,{"$f":"IF(D27=0,\"\",VLOOKUP(C27,Feeds!$B$9:$AB$109,23,FALSE)*D27/1000)","v":""},{"$f":"IF(D27=0,\"\",VLOOKUP(C27,Feeds!$B$9:$AB$109,24,FALSE))","v":""},{"$f":"IF(D27=\"\",\"\",D27*VLOOKUP(C27,Feeds!$B$9:$AB$109,25,FALSE))","v":""},{"$f":"IF(D27=\"\",\"\",D27*VLOOKUP(C27,Feeds!$B$9:$AB$109,26,FALSE))","v":""},{"$f":"IF(D27=\"\",\"\",D27*VLOOKUP(C27,Feeds!$B$9:$AB$109,27,FALSE))","v":""},0,null,null,null,null,null,null,null,{"$f":"IF(Q27=0,\"\",VLOOKUP(P27,Feeds!$B$9:$AB$109,23,FALSE)*Q27/1000)","v":""},{"$f":"IF(Q27=0,\"\",VLOOKUP(P27,Feeds!$B$9:$AB$109,24,FALSE))","v":""},{"$f":"IF(Q27=\"\",\"\",Q27*VLOOKUP(P27,Feeds!$B$9:$AB$109,25,FALSE))","v":""},{"$f":"IF(Q27=\"\",\"\",Q27*VLOOKUP(P27,Feeds!$B$9:$AB$109,26,FALSE))","v":""},{"$f":"IF(Q27=\"\",\"\",Q27*VLOOKUP(P27,Feeds!$B$9:$AB$109,27,FALSE))","v":""},0,null,null,null,null,null,null,null,{"$f":"IF(AD27=0,\"\",VLOOKUP(AC27,Feeds!$B$9:$AB$109,23,FALSE)*AD27/1000)","v":""},{"$f":"IF(AD27=0,\"\",VLOOKUP(AC27,Feeds!$B$9:$AB$109,24,FALSE))","v":""},{"$f":"IF(AD27=\"\",\"\",AD27*VLOOKUP(AC27,Feeds!$B$9:$AB$109,25,FALSE))","v":""},{"$f":"IF(AD27=\"\",\"\",AD27*VLOOKUP(AC27,Feeds!$B$9:$AB$109,26,FALSE))","v":""},{"$f":"IF(AD27=\"\",\"\",AD27*VLOOKUP(AC27,Feeds!$B$9:$AB$109,27,FALSE))","v":""},0,null,null,null,null,null,null,null,{"$f":"IF(AQ27=0,\"\",VLOOKUP(AP27,Feeds!$B$9:$AB$109,23,FALSE)*AQ27/1000)","v":""},{"$f":"IF(AQ27=0,\"\",VLOOKUP(AP27,Feeds!$B$9:$AB$109,24,FALSE))","v":""},{"$f":"IF(AQ27=\"\",\"\",AQ27*VLOOKUP(AP27,Feeds!$B$9:$AB$109,25,FALSE))","v":""},{"$f":"IF(AQ27=\"\",\"\",AQ27*VLOOKUP(AP27,Feeds!$B$9:$AB$109,26,FALSE))","v":""},{"$f":"IF(AQ27=\"\",\"\",AQ27*VLOOKUP(AP27,Feeds!$B$9:$AB$109,27,FALSE))","v":""},0,null,null,null,null,null,null,null,{"$f":"IF(BD27=0,\"\",VLOOKUP(BC27,Feeds!$B$9:$AB$109,23,FALSE)*BD27/1000)","v":""},{"$f":"IF(BD27=0,\"\",VLOOKUP(BC27,Feeds!$B$9:$AB$109,24,FALSE))","v":""},{"$f":"IF(BD27=\"\",\"\",BD27*VLOOKUP(BC27,Feeds!$B$9:$AB$109,25,FALSE))","v":""},{"$f":"IF(BD27=\"\",\"\",BD27*VLOOKUP(BC27,Feeds!$B$9:$AB$109,26,FALSE))","v":""},{"$f":"IF(BD27=\"\",\"\",BD27*VLOOKUP(BC27,Feeds!$B$9:$AB$109,27,FALSE))","v":""},0,null,null,null,null,null,null,null,{"$f":"IF(BQ27=0,\"\",VLOOKUP(BP27,Feeds!$B$9:$AB$109,23,FALSE)*BQ27/1000)","v":""},{"$f":"IF(BQ27=0,\"\",VLOOKUP(BP27,Feeds!$B$9:$AB$109,24,FALSE))","v":""},{"$f":"IF(BQ27=\"\",\"\",BQ27*VLOOKUP(BP27,Feeds!$B$9:$AB$109,25,FALSE))","v":""},{"$f":"IF(BQ27=\"\",\"\",BQ27*VLOOKUP(BP27,Feeds!$B$9:$AB$109,26,FALSE))","v":""},{"$f":"IF(BQ27=\"\",\"\",BQ27*VLOOKUP(BP27,Feeds!$B$9:$AB$109,27,FALSE))","v":""},0]
[null,null,null,null,{"$f":"IF(D28=0,\"\",VLOOKUP(C28,Feeds!$B$9:$AB$109,23,FALSE)*D28/1000)","v":""},{"$f":"IF(D28=0,\"\",VLOOKUP(C28,Feeds!$B$9:$AB$109,24,FALSE))","v":""},{"$f":"IF(D28=\"\",\"\",D28*VLOOKUP(C28,Feeds!$B$9:$AB$109,25,FALSE))","v":""},{"$f":"IF(D28=\"\",\"\",D28*VLOOKUP(C28,Feeds!$B$9:$AB$109,26,FALSE))","v":""},{"$f":"IF(D28=\"\",\"\",D28*VLOOKUP(C28,Feeds!$B$9:$AB$109,27,FALSE))","v":""},0,null,null,null,null,null,null,null,{"$f":"IF(Q28=0,\"\",VLOOKUP(P28,Feeds!$B$9:$AB$109,23,FALSE)*Q28/1000)","v":""},{"$f":"IF(Q28=0,\"\",VLOOKUP(P28,Feeds!$B$9:$AB$109,24,FALSE))","v":""},{"$f":"IF(Q28=\"\",\"\",Q28*VLOOKUP(P28,Feeds!$B$9:$AB$109,25,FALSE))","v":""},{"$f":"IF(Q28=\"\",\"\",Q28*VLOOKUP(P28,Feeds!$B$9:$AB$109,26,FALSE))","v":""},{"$f":"IF(Q28=\"\",\"\",Q28*VLOOKUP(P28,Feeds!$B$9:$AB$109,27,FALSE))","v":""},0,null,null,null,null,null,null,null,{"$f":"IF(AD28=0,\"\",VLOOKUP(AC28,Feeds!$B$9:$AB$109,23,FALSE)*AD28/1000)","v":""},{"$f":"IF(AD28=0,\"\",VLOOKUP(AC28,Feeds!$B$9:$AB$109,24,FALSE))","v":""},{"$f":"IF(AD28=\"\",\"\",AD28*VLOOKUP(AC28,Feeds!$B$9:$AB$109,25,FALSE))","v":""},{"$f":"IF(AD28=\"\",\"\",AD28*VLOOKUP(AC28,Feeds!$B$9:$AB$109,26,FALSE))","v":""},{"$f":"IF(AD28=\"\",\"\",AD28*VLOOKUP(AC28,Feeds!$B$9:$AB$109,27,FALSE))","v":""},0,null,null,null,null,null,null,null,{"$f":"IF(AQ28=0,\"\",VLOOKUP(AP28,Feeds!$B$9:$AB$109,23,FALSE)*AQ28/1000)","v":""},{"$f":"IF(AQ28=0,\"\",VLOOKUP(AP28,Feeds!$B$9:$AB$109,24,FALSE))","v":""},{"$f":"IF(AQ28=\"\",\"\",AQ28*VLOOKUP(AP28,Feeds!$B$9:$AB$109,25,FALSE))","v":""},{"$f":"IF(AQ28=\"\",\"\",AQ28*VLOOKUP(AP28,Feeds!$B$9:$AB$109,26,FALSE))","v":""},{"$f":"IF(AQ28=\"\",\"\",AQ28*VLOOKUP(AP28,Feeds!$B$9:$AB$109,27,FALSE))","v":""},0,null,null,null,null,null,null,null,{"$f":"IF(BD28=0,\"\",VLOOKUP(BC28,Feeds!$B$9:$AB$109,23,FALSE)*BD28/1000)","v":""},{"$f":"IF(BD28=0,\"\",VLOOKUP(BC28,Feeds!$B$9:$AB$109,24,FALSE))","v":""},{"$f":"IF(BD28=\"\",\"\",BD28*VLOOKUP(BC28,Feeds!$B$9:$AB$109,25,FALSE))","v":""},{"$f":"IF(BD28=\"\",\"\",BD28*VLOOKUP(BC28,Feeds!$B$9:$AB$109,26,FALSE))","v":""},{"$f":"IF(BD28=\"\",\"\",BD28*VLOOKUP(BC28,Feeds!$B$9:$AB$109,27,FALSE))","v":""},0,null,null,null,null,null,null,null,{"$f":"IF(BQ28=0,\"\",VLOOKUP(BP28,Feeds!$B$9:$AB$109,23,FALSE)*BQ28/1000)","v":""},{"$f":"IF(BQ28=0,\"\",VLOOKUP(BP28,Feeds!$B$9:$AB$109,24,FALSE))","v":""},{"$f":"IF(BQ28=\"\",\"\",BQ28*VLOOKUP(BP28,Feeds!$B$9:$AB$109,25,FALSE))","v":""},{"$f":"IF(BQ28=\"\",\"\",BQ28*VLOOKUP(BP28,Feeds!$B$9:$AB$109,26,FALSE))","v":""},{"$f":"IF(BQ28=\"\",\"\",BQ28*VLOOKUP(BP28,Feeds!$B$9:$AB$109,27,FALSE))","v":""},0]
[null,null,null,null,{"$f":"IF(D29=0,\"\",VLOOKUP(C29,Feeds!$B$9:$AB$109,23,FALSE)*D29/1000)","v":""},{"$f":"IF(D29=0,\"\",VLOOKUP(C29,Feeds!$B$9:$AB$109,24,FALSE))","v":""},{"$f":"IF(D29=\"\",\"\",D29*VLOOKUP(C29,Feeds!$B$9:$AB$109,25,FALSE))","v":""},{"$f":"IF(D29=\"\",\"\",D29*VLOOKUP(C29,Feeds!$B$9:$AB$109,26,FALSE))","v":""},{"$f":"IF(D29=\"\",\"\",D29*VLOOKUP(C29,Feeds!$B$9:$AB$109,27,FALSE))","v":""},0,null,null,null,null,null,null,null,{"$f":"IF(Q29=0,\"\",VLOOKUP(P29,Feeds!$B$9:$AB$109,23,FALSE)*Q29/1000)","v":""},{"$f":"IF(Q29=0,\"\",VLOOKUP(P29,Feeds!$B$9:$AB$109,24,FALSE))","v":""},{"$f":"IF(Q29=\"\",\"\",Q29*VLOOKUP(P29,Feeds!$B$9:$AB$109,25,FALSE))","v":""},{"$f":"IF(Q29=\"\",\"\",Q29*VLOOKUP(P29,Feeds!$B$9:$AB$109,26,FALSE))","v":""},{"$f":"IF(Q29=\"\",\"\",Q29*VLOOKUP(P29,Feeds!$B$9:$AB$109,27,FALSE))","v":""},0,null,null,null,null,null,null,null,{"$f":"IF(AD29=0,\"\",VLOOKUP(AC29,Feeds!$B$9:$AB$109,23,FALSE)*AD29/1000)","v":""},{"$f":"IF(AD29=0,\"\",VLOOKUP(AC29,Feeds!$B$9:$AB$109,24,FALSE))","v":""},{"$f":"IF(AD29=\"\",\"\",AD29*VLOOKUP(AC29,Feeds!$B$9:$AB$109,25,FALSE))","v":""},{"$f":"IF(AD29=\"\",\"\",AD29*VLOOKUP(AC29,Feeds!$B$9:$AB$109,26,FALSE))","v":""},{"$f":"IF(AD29=\"\",\"\",AD29*VLOOKUP(AC29,Feeds!$B$9:$AB$109,27,FALSE))","v":""},0,null,null,null,null,null,null,null,{"$f":"IF(AQ29=0,\"\",VLOOKUP(AP29,Feeds!$B$9:$AB$109,23,FALSE)*AQ29/1000)","v":""},{"$f":"IF(AQ29=0,\"\",VLOOKUP(AP29,Feeds!$B$9:$AB$109,24,FALSE))","v":""},{"$f":"IF(AQ29=\"\",\"\",AQ29*VLOOKUP(AP29,Feeds!$B$9:$AB$109,25,FALSE))","v":""},{"$f":"IF(AQ29=\"\",\"\",AQ29*VLOOKUP(AP29,Feeds!$B$9:$AB$109,26,FALSE))","v":""},{"$f":"IF(AQ29=\"\",\"\",AQ29*VLOOKUP(AP29,Feeds!$B$9:$AB$109,27,FALSE))","v":""},0,null,null,null,null,null,null,null,{"$f":"IF(BD29=0,\"\",VLOOKUP(BC29,Feeds!$B$9:$AB$109,23,FALSE)*BD29/1000)","v":""},{"$f":"IF(BD29=0,\"\",VLOOKUP(BC29,Feeds!$B$9:$AB$109,24,FALSE))","v":""},{"$f":"IF(BD29=\"\",\"\",BD29*VLOOKUP(BC29,Feeds!$B$9:$AB$109,25,FALSE))","v":""},{"$f":"IF(BD29=\"\",\"\",BD29*VLOOKUP(BC29,Feeds!$B$9:$AB$109,26,FALSE))","v":""},{"$f":"IF(BD29=\"\",\"\",BD29*VLOOKUP(BC29,Feeds!$B$9:$AB$109,27,FALSE))","v":""},0,null,null,null,null,null,null,null,{"$f":"IF(BQ29=0,\"\",VLOOKUP(BP29,Feeds!$B$9:$AB$109,23,FALSE)*BQ29/1000)","v":""},{"$f":"IF(BQ29=0,\"\",VLOOKUP(BP29,Feeds!$B$9:$AB$109,24,FALSE))","v":""},{"$f":"IF(BQ29=\"\",\"\",BQ29*VLOOKUP(BP29,Feeds!$B$9:$AB$109,25,FALSE))","v":""},{"$f":"IF(BQ29=\"\",\"\",BQ29*VLOOKUP(BP29,Feeds!$B$9:$AB$109,26,FALSE))","v":""},{"$f":"IF(BQ29=\"\",\"\",BQ29*VLOOKUP(BP29,Feeds!$B$9:$AB$109,27,FALSE))","v":""},0]
[null,null,null,null,{"$f":"IF(D30=0,\"\",VLOOKUP(C30,Feeds!$B$9:$AB$109,23,FALSE)*D30/1000)","v":""},{"$f":"IF(D30=0,\"\",VLOOKUP(C30,Feeds!$B$9:$AB$109,24,FALSE))","v":""},{"$f":"IF(D30=\"\",\"\",D30*VLOOKUP(C30,Feeds!$B$9:$AB$109,25,FALSE))","v":""},{"$f":"IF(D30=\"\",\"\",D30*VLOOKUP(C30,Feeds!$B$9:$AB$109,26,FALSE))","v":""},{"$f":"IF(D30=\"\",\"\",D30*VLOOKUP(C30,Feeds!$B$9:$AB$109,27,FALSE))","v":""},0,null,null,null,null,null,null,null,{"$f":"IF(Q30=0,\"\",VLOOKUP(P30,Feeds!$B$9:$AB$109,23,FALSE)*Q30/1000)","v":""},{"$f":"IF(Q30=0,\"\",VLOOKUP(P30,Feeds!$B$9:$AB$109,24,FALSE))","v":""},{"$f":"IF(Q30=\"\",\"\",Q30*VLOOKUP(P30,Feeds!$B$9:$AB$109,25,FALSE))","v":""},{"$f":"IF(Q30=\"\",\"\",Q30*VLOOKUP(P30,Feeds!$B$9:$AB$109,26,FALSE))","v":""},{"$f":"IF(Q30=\"\",\"\",Q30*VLOOKUP(P30,Feeds!$B$9:$AB$109,27,FALSE))","v":""},0,null,null,null,null,null,null,null,{"$f":"IF(AD30=0,\"\",VLOOKUP(AC30,Feeds!$B$9:$AB$109,23,FALSE)*AD30/1000)","v":""},{"$f":"IF(AD30=0,\"\",VLOOKUP(AC30,Feeds!$B$9:$AB$109,24,FALSE))","v":""},{"$f":"IF(AD30=\"\",\"\",AD30*VLOOKUP(AC30,Feeds!$B$9:$AB$109,25,FALSE))","v":""},{"$f":"IF(AD30=\"\",\"\",AD30*VLOOKUP(AC30,Feeds!$B$9:$AB$109,26,FALSE))","v":""},{"$f":"IF(AD30=\"\",\"\",AD30*VLOOKUP(AC30,Feeds!$B$9:$AB$109,27,FALSE))","v":""},0,null,null,null,null,null,null,null,{"$f":"IF(AQ30=0,\"\",VLOOKUP(AP30,Feeds!$B$9:$AB$109,23,FALSE)*AQ30/1000)","v":""},{"$f":"IF(AQ30=0,\"\",VLOOKUP(AP30,Feeds!$B$9:$AB$109,24,FALSE))","v":""},{"$f":"IF(AQ30=\"\",\"\",AQ30*VLOOKUP(AP30,Feeds!$B$9:$AB$109,25,FALSE))","v":""},{"$f":"IF(AQ30=\"\",\"\",AQ30*VLOOKUP(AP30,Feeds!$B$9:$AB$109,26,FALSE))","v":""},{"$f":"IF(AQ30=\"\",\"\",AQ30*VLOOKUP(AP30,Feeds!$B$9:$AB$109,27,FALSE))","v":""},0,null,null,null,null,null,null,null,{"$f":"IF(BD30=0,\"\",VLOOKUP(BC30,Feeds!$B$9:$AB$109,23,FALSE)*BD30/1000)","v":""},{"$f":"IF(BD30=0,\"\",VLOOKUP(BC30,Feeds!$B$9:$AB$109,24,FALSE))","v":""},{"$f":"IF(BD30=\"\",\"\",BD30*VLOOKUP(BC30,Feeds!$B$9:$AB$109,25,FALSE))","v":""},{"$f":"IF(BD30=\"\",\"\",BD30*VLOOKUP(BC30,Feeds!$B$9:$AB$109,26,FALSE))","v":""},{"$f":"IF(BD30=\"\",\"\",BD30*VLOOKUP(BC30,Feeds!$B$9:$AB$109,27,FALSE))","v":""},0,null,null,null,null,null,null,null,{"$f":"IF(BQ30=0,\"\",VLOOKUP(BP30,Feeds!$B$9:$AB$109,23,FALSE)*BQ30/1000)","v":""},{"$f":"IF(BQ30=0,\"\",VLOOKUP(BP30,Feeds!$B$9:$AB$109,24,FALSE))","v":""},{"$f":"IF(BQ30=\"\",\"\",BQ30*VLOOKUP(BP30,Feeds!$B$9:$AB$109,25,FALSE))","v":""},{"$f":"IF(BQ30=\"\",\"\",BQ30*VLOOKUP(BP30,Feeds!$B$9:$AB$109,26,FALSE))","v":""},{"$f":"IF(BQ30=\"\",\"\",BQ30*VLOOKUP(BP30,Feeds!$B$9:$AB$109,27,FALSE))","v":""},0]
[null,null,null,null,{"$f":"IF(D31=0,\"\",VLOOKUP(C31,Feeds!$B$9:$AB$109,23,FALSE)*D31/1000)","v":""},{"$f":"IF(D31=0,\"\",VLOOKUP(C31,Feeds!$B$9:$AB$109,24,FALSE))","v":""},{"$f":"IF(D31=\"\",\"\",D31*VLOOKUP(C31,Feeds!$B$9:$AB$109,25,FALSE))","v":""},{"$f":"IF(D31=\"\",\"\",D31*VLOOKUP(C31,Feeds!$B$9:$AB$109,26,FALSE))","v":""},{"$f":"IF(D31=\"\",\"\",D31*VLOOKUP(C31,Feeds!$B$9:$AB$109,27,FALSE))","v":""},{"$f":"IF(D31=\"\",0,E31*F31/100)","v":0},null,null,null,null,null,null,null,{"$f":"IF(Q31=0,\"\",VLOOKUP(P31,Feeds!$B$9:$AB$109,23,FALSE)*Q31/1000)","v":""},{"$f":"IF(Q31=0,\"\",VLOOKUP(P31,Feeds!$B$9:$AB$109,24,FALSE))","v":""},{"$f":"IF(Q31=\"\",\"\",Q31*VLOOKUP(P31,Feeds!$B$9:$AB$109,25,FALSE))","v":""},{"$f":"IF(Q31=\"\",\"\",Q31*VLOOKUP(P31,Feeds!$B$9:$AB$109,26,FALSE))","v":""},{"$f":"IF(Q31=\"\",\"\",Q31*VLOOKUP(P31,Feeds!$B$9:$AB$109,27,FALSE))","v":""},0,null,null,null,null,null,null,null,{"$f":"IF(AD31=0,\"\",VLOOKUP(AC31,Feeds!$B$9:$AB$109,23,FALSE)*AD31/1000)","v":""},{"$f":"IF(AD31=0,\"\",VLOOKUP(AC31,Feeds!$B$9:$AB$109,24,FALSE))","v":""},{"$f":"IF(AD31=\"\",\"\",AD31*VLOOKUP(AC31,Feeds!$B$9:$AB$109,25,FALSE))","v":""},{"$f":"IF(AD31=\"\",\"\",AD31*VLOOKUP(AC31,Feeds!$B$9:$AB$109,26,FALSE))","v":""},{"$f":"IF(AD31=\"\",\"\",AD31*VLOOKUP(AC31,Feeds!$B$9:$AB$109,27,FALSE))","v":""},0,null,null,null,null,null,null,null,{"$f":"IF(AQ31=0,\"\",VLOOKUP(AP31,Feeds!$B$9:$AB$109,23,FALSE)*AQ31/1000)","v":""},{"$f":"IF(AQ31=0,\"\",VLOOKUP(AP31,Feeds!$B$9:$AB$109,24,FALSE))","v":""},{"$f":"IF(AQ31=\"\",\"\",AQ31*VLOOKUP(AP31,Feeds!$B$9:$AB$109,25,FALSE))","v":""},{"$f":"IF(AQ31=\"\",\"\",AQ31*VLOOKUP(AP31,Feeds!$B$9:$AB$109,26,FALSE))","v":""},{"$f":"IF(AQ31=\"\",\"\",AQ31*VLOOKUP(AP31,Feeds!$B$9:$AB$109,27,FALSE))","v":""},0,null,null,null,null,null,null,null,{"$f":"IF(BD31=0,\"\",VLOOKUP(BC31,Feeds!$B$9:$AB$109,23,FALSE)*BD31/1000)","v":""},{"$f":"IF(BD31=0,\"\",VLOOKUP(BC31,Feeds!$B$9:$AB$109,24,FALSE))","v":""},{"$f":"IF(BD31=\"\",\"\",BD31*VLOOKUP(BC31,Feeds!$B$9:$AB$109,25,FALSE))","v":""},{"$f":"IF(BD31=\"\",\"\",BD31*VLOOKUP(BC31,Feeds!$B$9:$AB$109,26,FALSE))","v":""},{"$f":"IF(BD31=\"\",\"\",BD31*VLOOKUP(BC31,Feeds!$B$9:$AB$109,27,FALSE))","v":""},0,null,null,null,null,null,null,null,{"$f":"IF(BQ31=0,\"\",VLOOKUP(BP31,Feeds!$B$9:$AB$109,23,FALSE)*BQ31/1000)","v":""},{"$f":"IF(BQ31=0,\"\",VLOOKUP(BP31,Feeds!$B$9:$AB$109,24,FALSE))","v":""},{"$f":"IF(BQ31=\"\",\"\",BQ31*VLOOKUP(BP31,Feeds!$B$9:$AB$109,25,FALSE))","v":""},{"$f":"IF(BQ31=\"\",\"\",BQ31*VLOOKUP(BP31,Feeds!$B$9:$AB$109,26,FALSE))","v":""},{"$f":"IF(BQ31=\"\",\"\",BQ31*VLOOKUP(BP31,Feeds!$B$9:$AB$109,27,FALSE))","v":""},0]
[null,null,null,null,{"$f":"IF(D32=0,\"\",VLOOKUP(C32,Feeds!$B$9:$AB$109,23,FALSE)*D32/1000)","v":""},{"$f":"IF(D32=0,\"\",VLOOKUP(C32,Feeds!$B$9:$AB$109,24,FALSE))","v":""},{"$f":"IF(D32=\"\",\"\",D32*VLOOKUP(C32,Feeds!$B$9:$AB$109,25,FALSE))","v":""},{"$f":"IF(D32=\"\",\"\",D32*VLOOKUP(C32,Feeds!$B$9:$AB$109,26,FALSE))","v":""},{"$f":"IF(D32=\"\",\"\",D32*VLOOKUP(C32,Feeds!$B$9:$AB$109,27,FALSE))","v":""},0,null,null,null,null,null,null,null,{"$f":"IF(Q32=0,\"\",VLOOKUP(P32,Feeds!$B$9:$AB$109,23,FALSE)*Q32/1000)","v":""},{"$f":"IF(Q32=0,\"\",VLOOKUP(P32,Feeds!$B$9:$AB$109,24,FALSE))","v":""},{"$f":"IF(Q32=\"\",\"\",Q32*VLOOKUP(P32,Feeds!$B$9:$AB$109,25,FALSE))","v":""},{"$f":"IF(Q32=\"\",\"\",Q32*VLOOKUP(P32,Feeds!$B$9:$AB$109,26,FALSE))","v":""},{"$f":"IF(Q32=\"\",\"\",Q32*VLOOKUP(P32,Feeds!$B$9:$AB$109,27,FALSE))","v":""},0,null,null,null,null,null,null,null,{"$f":"IF(AD32=0,\"\",VLOOKUP(AC32,Feeds!$B$9:$AB$109,23,FALSE)*AD32/1000)","v":""},{"$f":"IF(AD32=0,\"\",VLOOKUP(AC32,Feeds!$B$9:$AB$109,24,FALSE))","v":""},{"$f":"IF(AD32=\"\",\"\",AD32*VLOOKUP(AC32,Feeds!$B$9:$AB$109,25,FALSE))","v":""},{"$f":"IF(AD32=\"\",\"\",AD32*VLOOKUP(AC32,Feeds!$B$9:$AB$109,26,FALSE))","v":""},{"$f":"IF(AD32=\"\",\"\",AD32*VLOOKUP(AC32,Feeds!$B$9:$AB$109,27,FALSE))","v":""},0,null,null,null,null,null,null,null,{"$f":"IF(AQ32=0,\"\",VLOOKUP(AP32,Feeds!$B$9:$AB$109,23,FALSE)*AQ32/1000)","v":""},{"$f":"IF(AQ32=0,\"\",VLOOKUP(AP32,Feeds!$B$9:$AB$109,24,FALSE))","v":""},{"$f":"IF(AQ32=\"\",\"\",AQ32*VLOOKUP(AP32,Feeds!$B$9:$AB$109,25,FALSE))","v":""},{"$f":"IF(AQ32=\"\",\"\",AQ32*VLOOKUP(AP32,Feeds!$B$9:$AB$109,26,FALSE))","v":""},{"$f":"IF(AQ32=\"\",\"\",AQ32*VLOOKUP(AP32,Feeds!$B$9:$AB$109,27,FALSE))","v":""},{"$f":"IF(AQ32=\"\",0,AR32*AS32/100)","v":0},null,null,null,null,null,null,null,{"$f":"IF(BD32=0,\"\",VLOOKUP(BC32,Feeds!$B$9:$AB$109,23,FALSE)*BD32/1000)","v":""},{"$f":"IF(BD32=0,\"\",VLOOKUP(BC32,Feeds!$B$9:$AB$109,24,FALSE))","v":""},{"$f":"IF(BD32=\"\",\"\",BD32*VLOOKUP(BC32,Feeds!$B$9:$AB$109,25,FALSE))","v":""},{"$f":"IF(BD32=\"\",\"\",BD32*VLOOKUP(BC32,Feeds!$B$9:$AB$109,26,FALSE))","v":""},{"$f":"IF(BD32=\"\",\"\",BD32*VLOOKUP(BC32,Feeds!$B$9:$AB$109,27,FALSE))","v":""},{"$f":"IF(BD32=\"\",0,BE32*BF32/100)","v":0},null,null,null,null,null,null,null,{"$f":"IF(BQ32=0,\"\",VLOOKUP(BP32,Feeds!$B$9:$AB$109,23,FALSE)*BQ32/1000)","v":""},{"$f":"IF(BQ32=0,\"\",VLOOKUP(BP32,Feeds!$B$9:$AB$109,24,FALSE))","v":""},{"$f":"IF(BQ32=\"\",\"\",BQ32*VLOOKUP(BP32,Feeds!$B$9:$AB$109,25,FALSE))","v":""},{"$f":"IF(BQ32=\"\",\"\",BQ32*VLOOKUP(BP32,Feeds!$B$9:$AB$109,26,FALSE))","v":""},{"$f":"IF(BQ32=\"\",\"\",BQ32*VLOOKUP(BP32,Feeds!$B$9:$AB$109,27,FALSE))","v":""},0]
[null,null,null,null,{"$f":"IF(D33=0,\"\",VLOOKUP(C33,Feeds!$B$9:$AB$109,23,FALSE)*D33/1000)","v":""},{"$f":"IF(D33=0,\"\",VLOOKUP(C33,Feeds!$B$9:$AB$109,24,FALSE))","v":""},{"$f":"IF(D33=\"\",\"\",D33*VLOOKUP(C33,Feeds!$B$9:$AB$109,25,FALSE))","v":""},{"$f":"IF(D33=\"\",\"\",D33*VLOOKUP(C33,Feeds!$B$9:$AB$109,26,FALSE))","v":""},{"$f":"IF(D33=\"\",\"\",D33*VLOOKUP(C33,Feeds!$B$9:$AB$109,27,FALSE))","v":""},0,null,null,null,null,null,null,null,{"$f":"IF(Q33=0,\"\",VLOOKUP(P33,Feeds!$B$9:$AB$109,23,FALSE)*Q33/1000)","v":""},{"$f":"IF(Q33=0,\"\",VLOOKUP(P33,Feeds!$B$9:$AB$109,24,FALSE))","v":""},{"$f":"IF(Q33=\"\",\"\",Q33*VLOOKUP(P33,Feeds!$B$9:$AB$109,25,FALSE))","v":""},{"$f":"IF(Q33=\"\",\"\",Q33*VLOOKUP(P33,Feeds!$B$9:$AB$109,26,FALSE))","v":""},{"$f":"IF(Q33=\"\",\"\",Q33*VLOOKUP(P33,Feeds!$B$9:$AB$109,27,FALSE))","v":""},0,null,null,null,null,null,null,null,{"$f":"IF(AD33=0,\"\",VLOOKUP(AC33,Feeds!$B$9:$AB$109,23,FALSE)*AD33/1000)","v":""},{"$f":"IF(AD33=0,\"\",VLOOKUP(AC33,Feeds!$B$9:$AB$109,24,FALSE))","v":""},{"$f":"IF(AD33=\"\",\"\",AD33*VLOOKUP(AC33,Feeds!$B$9:$AB$109,25,FALSE))","v":""},{"$f":"IF(AD33=\"\",\"\",AD33*VLOOKUP(AC33,Feeds!$B$9:$AB$109,26,FALSE))","v":""},{"$f":"IF(AD33=\"\",\"\",AD33*VLOOKUP(AC33,Feeds!$B$9:$AB$109,27,FALSE))","v":""},0,null,null,null,null,null,null,null,{"$f":"IF(AQ33=0,\"\",VLOOKUP(AP33,Feeds!$B$9:$AB$109,23,FALSE)*AQ33/1000)","v":""},{"$f":"IF(AQ33=0,\"\",VLOOKUP(AP33,Feeds!$B$9:$AB$109,24,FALSE))","v":""},{"$f":"IF(AQ33=\"\",\"\",AQ33*VLOOKUP(AP33,Feeds!$B$9:$AB$109,25,FALSE))","v":""},{"$f":"IF(AQ33=\"\",\"\",AQ33*VLOOKUP(AP33,Feeds!$B$9:$AB$109,26,FALSE))","v":""},{"$f":"IF(AQ33=\"\",\"\",AQ33*VLOOKUP(AP33,Feeds!$B$9:$AB$109,27,FALSE))","v":""},0,null,null,null,null,null,null,null,{"$f":"IF(BD33=0,\"\",VLOOKUP(BC33,Feeds!$B$9:$AB$109,23,FALSE)*BD33/1000)","v":""},{"$f":"IF(BD33=0,\"\",VLOOKUP(BC33,Feeds!$B$9:$AB$109,24,FALSE))","v":""},{"$f":"IF(BD33=\"\",\"\",BD33*VLOOKUP(BC33,Feeds!$B$9:$AB$109,25,FALSE))","v":""},{"$f":"IF(BD33=\"\",\"\",BD33*VLOOKUP(BC33,Feeds!$B$9:$AB$109,26,FALSE))","v":""},{"$f":"IF(BD33=\"\",\"\",BD33*VLOOKUP(BC33,Feeds!$B$9:$AB$109,27,FALSE))","v":""},0,null,null,null,null,null,null,null,{"$f":"IF(BQ33=0,\"\",VLOOKUP(BP33,Feeds!$B$9:$AB$109,23,FALSE)*BQ33/1000)","v":""},{"$f":"IF(BQ33=0,\"\",VLOOKUP(BP33,Feeds!$B$9:$AB$109,24,FALSE))","v":""},{"$f":"IF(BQ33=\"\",\"\",BQ33*VLOOKUP(BP33,Feeds!$B$9:$AB$109,25,FALSE))","v":""},{"$f":"IF(BQ33=\"\",\"\",BQ33*VLOOKUP(BP33,Feeds!$B$9:$AB$109,26,FALSE))","v":""},{"$f":"IF(BQ33=\"\",\"\",BQ33*VLOOKUP(BP33,Feeds!$B$9:$AB$109,27,FALSE))","v":""},0]
[null,null,null,null,{"$f":"IF(D34=0,\"\",VLOOKUP(C34,Feeds!$B$9:$AB$109,23,FALSE)*D34/1000)","v":""},{"$f":"IF(D34=0,\"\",VLOOKUP(C34,Feeds!$B$9:$AB$109,24,FALSE))","v":""},{"$f":"IF(D34=\"\",\"\",D34*VLOOKUP(C34,Feeds!$B$9:$AB$109,25,FALSE))","v":""},{"$f":"IF(D34=\"\",\"\",D34*VLOOKUP(C34,Feeds!$B$9:$AB$109,26,FALSE))","v":""},{"$f":"IF(D34=\"\",\"\",D34*VLOOKUP(C34,Feeds!$B$9:$AB$109,27,FALSE))","v":""},0,null,null,null,null,null,null,null,{"$f":"IF(Q34=0,\"\",VLOOKUP(P34,Feeds!$B$9:$AB$109,23,FALSE)*Q34/1000)","v":""},{"$f":"IF(Q34=0,\"\",VLOOKUP(P34,Feeds!$B$9:$AB$109,24,FALSE))","v":""},{"$f":"IF(Q34=\"\",\"\",Q34*VLOOKUP(P34,Feeds!$B$9:$AB$109,25,FALSE))","v":""},{"$f":"IF(Q34=\"\",\"\",Q34*VLOOKUP(P34,Feeds!$B$9:$AB$109,26,FALSE))","v":""},{"$f":"IF(Q34=\"\",\"\",Q34*VLOOKUP(P34,Feeds!$B$9:$AB$109,27,FALSE))","v":""},0,null,null,null,null,null,null,null,{"$f":"IF(AD34=0,\"\",VLOOKUP(AC34,Feeds!$B$9:$AB$109,23,FALSE)*AD34/1000)","v":""},{"$f":"IF(AD34=0,\"\",VLOOKUP(AC34,Feeds!$B$9:$AB$109,24,FALSE))","v":""},{"$f":"IF(AD34=\"\",\"\",AD34*VLOOKUP(AC34,Feeds!$B$9:$AB$109,25,FALSE))","v":""},{"$f":"IF(AD34=\"\",\"\",AD34*VLOOKUP(AC34,Feeds!$B$9:$AB$109,26,FALSE))","v":""},{"$f":"IF(AD34=\"\",\"\",AD34*VLOOKUP(AC34,Feeds!$B$9:$AB$109,27,FALSE))","v":""},0,null,null,null,null,null,null,null,{"$f":"IF(AQ34=0,\"\",VLOOKUP(AP34,Feeds!$B$9:$AB$109,23,FALSE)*AQ34/1000)","v":""},{"$f":"IF(AQ34=0,\"\",VLOOKUP(AP34,Feeds!$B$9:$AB$109,24,FALSE))","v":""},{"$f":"IF(AQ34=\"\",\"\",AQ34*VLOOKUP(AP34,Feeds!$B$9:$AB$109,25,FALSE))","v":""},{"$f":"IF(AQ34=\"\",\"\",AQ34*VLOOKUP(AP34,Feeds!$B$9:$AB$109,26,FALSE))","v":""},{"$f":"IF(AQ34=\"\",\"\",AQ34*VLOOKUP(AP34,Feeds!$B$9:$AB$109,27,FALSE))","v":""},{"$f":"IF(AQ34=\"\",0,AR34*AS34/100)","v":0},null,null,null,null,null,null,null,{"$f":"IF(BD34=0,\"\",VLOOKUP(BC34,Feeds!$B$9:$AB$109,23,FALSE)*BD34/1000)","v":""},{"$f":"IF(BD34=0,\"\",VLOOKUP(BC34,Feeds!$B$9:$AB$109,24,FALSE))","v":""},{"$f":"IF(BD34=\"\",\"\",BD34*VLOOKUP(BC34,Feeds!$B$9:$AB$109,25,FALSE))","v":""},{"$f":"IF(BD34=\"\",\"\",BD34*VLOOKUP(BC34,Feeds!$B$9:$AB$109,26,FALSE))","v":""},{"$f":"IF(BD34=\"\",\"\",BD34*VLOOKUP(BC34,Feeds!$B$9:$AB$109,27,FALSE))","v":""},0,null,null,null,null,null,null,null,{"$f":"IF(BQ34=0,\"\",VLOOKUP(BP34,Feeds!$B$9:$AB$109,23,FALSE)*BQ34/1000)","v":""},{"$f":"IF(BQ34=0,\"\",VLOOKUP(BP34,Feeds!$B$9:$AB$109,24,FALSE))","v":""},{"$f":"IF(BQ34=\"\",\"\",BQ34*VLOOKUP(BP34,Feeds!$B$9:$AB$109,25,FALSE))","v":""},{"$f":"IF(BQ34=\"\",\"\",BQ34*VLOOKUP(BP34,Feeds!$B$9:$AB$109,26,FALSE))","v":""},{"$f":"IF(BQ34=\"\",\"\",BQ34*VLOOKUP(BP34,Feeds!$B$9:$AB$109,27,FALSE))","v":""},{"$f":"IF(BQ34=\"\",0,BR34*BS34/100)","v":0}]
[null,null,null,null,{"$f":"IF(D35=0,\"\",VLOOKUP(C35,Feeds!$B$9:$AB$109,23,FALSE)*D35/1000)","v":""},{"$f":"IF(D35=0,\"\",VLOOKUP(C35,Feeds!$B$9:$AB$109,24,FALSE))","v":""},{"$f":"IF(D35=\"\",\"\",D35*VLOOKUP(C35,Feeds!$B$9:$AB$109,25,FALSE))","v":""},{"$f":"IF(D35=\"\",\"\",D35*VLOOKUP(C35,Feeds!$B$9:$AB$109,26,FALSE))","v":""},{"$f":"IF(D35=\"\",\"\",D35*VLOOKUP(C35,Feeds!$B$9:$AB$109,27,FALSE))","v":""},0,null,null,null,null,null,null,null,{"$f":"IF(Q35=0,\"\",VLOOKUP(P35,Feeds!$B$9:$AB$109,23,FALSE)*Q35/1000)","v":""},{"$f":"IF(Q35=0,\"\",VLOOKUP(P35,Feeds!$B$9:$AB$109,24,FALSE))","v":""},{"$f":"IF(Q35=\"\",\"\",Q35*VLOOKUP(P35,Feeds!$B$9:$AB$109,25,FALSE))","v":""},{"$f":"IF(Q35=\"\",\"\",Q35*VLOOKUP(P35,Feeds!$B$9:$AB$109,26,FALSE))","v":""},{"$f":"IF(Q35=\"\",\"\",Q35*VLOOKUP(P35,Feeds!$B$9:$AB$109,27,FALSE))","v":""},0,null,null,null,null,null,null,null,{"$f":"IF(AD35=0,\"\",VLOOKUP(AC35,Feeds!$B$9:$AB$109,23,FALSE)*AD35/1000)","v":""},{"$f":"IF(AD35=0,\"\",VLOOKUP(AC35,Feeds!$B$9:$AB$109,24,FALSE))","v":""},{"$f":"IF(AD35=\"\",\"\",AD35*VLOOKUP(AC35,Feeds!$B$9:$AB$109,25,FALSE))","v":""},{"$f":"IF(AD35=\"\",\"\",AD35*VLOOKUP(AC35,Feeds!$B$9:$AB$109,26,FALSE))","v":""},{"$f":"IF(AD35=\"\",\"\",AD35*VLOOKUP(AC35,Feeds!$B$9:$AB$109,27,FALSE))","v":""},0,null,null,null,null,null,null,null,{"$f":"IF(AQ35=0,\"\",VLOOKUP(AP35,Feeds!$B$9:$AB$109,23,FALSE)*AQ35/1000)","v":""},{"$f":"IF(AQ35=0,\"\",VLOOKUP(AP35,Feeds!$B$9:$AB$109,24,FALSE))","v":""},{"$f":"IF(AQ35=\"\",\"\",AQ35*VLOOKUP(AP35,Feeds!$B$9:$AB$109,25,FALSE))","v":""},{"$f":"IF(AQ35=\"\",\"\",AQ35*VLOOKUP(AP35,Feeds!$B$9:$AB$109,26,FALSE))","v":""},{"$f":"IF(AQ35=\"\",\"\",AQ35*VLOOKUP(AP35,Feeds!$B$9:$AB$109,27,FALSE))","v":""},0,null,null,null,null,null,null,null,{"$f":"IF(BD35=0,\"\",VLOOKUP(BC35,Feeds!$B$9:$AB$109,23,FALSE)*BD35/1000)","v":""},{"$f":"IF(BD35=0,\"\",VLOOKUP(BC35,Feeds!$B$9:$AB$109,24,FALSE))","v":""},{"$f":"IF(BD35=\"\",\"\",BD35*VLOOKUP(BC35,Feeds!$B$9:$AB$109,25,FALSE))","v":""},{"$f":"IF(BD35=\"\",\"\",BD35*VLOOKUP(BC35,Feeds!$B$9:$AB$109,26,FALSE))","v":""},{"$f":"IF(BD35=\"\",\"\",BD35*VLOOKUP(BC35,Feeds!$B$9:$AB$109,27,FALSE))","v":""},0,null,null,null,null,null,null,null,{"$f":"IF(BQ35=0,\"\",VLOOKUP(BP35,Feeds!$B$9:$AB$109,23,FALSE)*BQ35/1000)","v":""},{"$f":"IF(BQ35=0,\"\",VLOOKUP(BP35,Feeds!$B$9:$AB$109,24,FALSE))","v":""},{"$f":"IF(BQ35=\"\",\"\",BQ35*VLOOKUP(BP35,Feeds!$B$9:$AB$109,25,FALSE))","v":""},{"$f":"IF(BQ35=\"\",\"\",BQ35*VLOOKUP(BP35,Feeds!$B$9:$AB$109,26,FALSE))","v":""},{"$f":"IF(BQ35=\"\",\"\",BQ35*VLOOKUP(BP35,Feeds!$B$9:$AB$109,27,FALSE))","v":""},0]
[null,null,null,null,{"$f":"IF(D36=0,\"\",VLOOKUP(C36,Feeds!$B$9:$AB$109,23,FALSE)*D36/1000)","v":""},{"$f":"IF(D36=0,\"\",VLOOKUP(C36,Feeds!$B$9:$AB$109,24,FALSE))","v":""},{"$f":"IF(D36=\"\",\"\",D36*VLOOKUP(C36,Feeds!$B$9:$AB$109,25,FALSE))","v":""},{"$f":"IF(D36=\"\",\"\",D36*VLOOKUP(C36,Feeds!$B$9:$AB$109,26,FALSE))","v":""},{"$f":"IF(D36=\"\",\"\",D36*VLOOKUP(C36,Feeds!$B$9:$AB$109,27,FALSE))","v":""},0,null,null,null,null,null,null,null,{"$f":"IF(Q36=0,\"\",VLOOKUP(P36,Feeds!$B$9:$AB$109,23,FALSE)*Q36/1000)","v":""},{"$f":"IF(Q36=0,\"\",VLOOKUP(P36,Feeds!$B$9:$AB$109,24,FALSE))","v":""},{"$f":"IF(Q36=\"\",\"\",Q36*VLOOKUP(P36,Feeds!$B$9:$AB$109,25,FALSE))","v":""},{"$f":"IF(Q36=\"\",\"\",Q36*VLOOKUP(P36,Feeds!$B$9:$AB$109,26,FALSE))","v":""},{"$f":"IF(Q36=\"\",\"\",Q36*VLOOKUP(P36,Feeds!$B$9:$AB$109,27,FALSE))","v":""},0,null,null,null,null,null,null,null,{"$f":"IF(AD36=0,\"\",VLOOKUP(AC36,Feeds!$B$9:$AB$109,23,FALSE)*AD36/1000)","v":""},{"$f":"IF(AD36=0,\"\",VLOOKUP(AC36,Feeds!$B$9:$AB$109,24,FALSE))","v":""},{"$f":"IF(AD36=\"\",\"\",AD36*VLOOKUP(AC36,Feeds!$B$9:$AB$109,25,FALSE))","v":""},{"$f":"IF(AD36=\"\",\"\",AD36*VLOOKUP(AC36,Feeds!$B$9:$AB$109,26,FALSE))","v":""},{"$f":"IF(AD36=\"\",\"\",AD36*VLOOKUP(AC36,Feeds!$B$9:$AB$109,27,FALSE))","v":""},0,null,null,null,null,null,null,null,{"$f":"IF(AQ36=0,\"\",VLOOKUP(AP36,Feeds!$B$9:$AB$109,23,FALSE)*AQ36/1000)","v":""},{"$f":"IF(AQ36=0,\"\",VLOOKUP(AP36,Feeds!$B$9:$AB$109,24,FALSE))","v":""},{"$f":"IF(AQ36=\"\",\"\",AQ36*VLOOKUP(AP36,Feeds!$B$9:$AB$109,25,FALSE))","v":""},{"$f":"IF(AQ36=\"\",\"\",AQ36*VLOOKUP(AP36,Feeds!$B$9:$AB$109,26,FALSE))","v":""},{"$f":"IF(AQ36=\"\",\"\",AQ36*VLOOKUP(AP36,Feeds!$B$9:$AB$109,27,FALSE))","v":""},0,null,null,null,null,null,null,null,{"$f":"IF(BD36=0,\"\",VLOOKUP(BC36,Feeds!$B$9:$AB$109,23,FALSE)*BD36/1000)","v":""},{"$f":"IF(BD36=0,\"\",VLOOKUP(BC36,Feeds!$B$9:$AB$109,24,FALSE))","v":""},{"$f":"IF(BD36=\"\",\"\",BD36*VLOOKUP(BC36,Feeds!$B$9:$AB$109,25,FALSE))","v":""},{"$f":"IF(BD36=\"\",\"\",BD36*VLOOKUP(BC36,Feeds!$B$9:$AB$109,26,FALSE))","v":""},{"$f":"IF(BD36=\"\",\"\",BD36*VLOOKUP(BC36,Feeds!$B$9:$AB$109,27,FALSE))","v":""},0,null,null,null,null,null,null,null,{"$f":"IF(BQ36=0,\"\",VLOOKUP(BP36,Feeds!$B$9:$AB$109,23,FALSE)*BQ36/1000)","v":""},{"$f":"IF(BQ36=0,\"\",VLOOKUP(BP36,Feeds!$B$9:$AB$109,24,FALSE))","v":""},{"$f":"IF(BQ36=\"\",\"\",BQ36*VLOOKUP(BP36,Feeds!$B$9:$AB$109,25,FALSE))","v":""},{"$f":"IF(BQ36=\"\",\"\",BQ36*VLOOKUP(BP36,Feeds!$B$9:$AB$109,26,FALSE))","v":""},{"$f":"IF(BQ36=\"\",\"\",BQ36*VLOOKUP(BP36,Feeds!$B$9:$AB$109,27,FALSE))","v":""},0]
[null,null,null,null,{"$f":"IF(D37=0,\"\",VLOOKUP(C37,Feeds!$B$9:$AB$109,23,FALSE)*D37/1000)","v":""},{"$f":"IF(D37=0,\"\",VLOOKUP(C37,Feeds!$B$9:$AB$109,24,FALSE))","v":""},{"$f":"IF(D37=\"\",\"\",D37*VLOOKUP(C37,Feeds!$B$9:$AB$109,25,FALSE))","v":""},{"$f":"IF(D37=\"\",\"\",D37*VLOOKUP(C37,Feeds!$B$9:$AB$109,26,FALSE))","v":""},{"$f":"IF(D37=\"\",\"\",D37*VLOOKUP(C37,Feeds!$B$9:$AB$109,27,FALSE))","v":""},0,null,null,null,null,null,null,null,{"$f":"IF(Q37=0,\"\",VLOOKUP(P37,Feeds!$B$9:$AB$109,23,FALSE)*Q37/1000)","v":""},{"$f":"IF(Q37=0,\"\",VLOOKUP(P37,Feeds!$B$9:$AB$109,24,FALSE))","v":""},{"$f":"IF(Q37=\"\",\"\",Q37*VLOOKUP(P37,Feeds!$B$9:$AB$109,25,FALSE))","v":""},{"$f":"IF(Q37=\"\",\"\",Q37*VLOOKUP(P37,Feeds!$B$9:$AB$109,26,FALSE))","v":""},{"$f":"IF(Q37=\"\",\"\",Q37*VLOOKUP(P37,Feeds!$B$9:$AB$109,27,FALSE))","v":""},0,null,null,null,null,null,null,null,{"$f":"IF(AD37=0,\"\",VLOOKUP(AC37,Feeds!$B$9:$AB$109,23,FALSE)*AD37/1000)","v":""},{"$f":"IF(AD37=0,\"\",VLOOKUP(AC37,Feeds!$B$9:$AB$109,24,FALSE))","v":""},{"$f":"IF(AD37=\"\",\"\",AD37*VLOOKUP(AC37,Feeds!$B$9:$AB$109,25,FALSE))","v":""},{"$f":"IF(AD37=\"\",\"\",AD37*VLOOKUP(AC37,Feeds!$B$9:$AB$109,26,FALSE))","v":""},{"$f":"IF(AD37=\"\",\"\",AD37*VLOOKUP(AC37,Feeds!$B$9:$AB$109,27,FALSE))","v":""},0,null,null,null,null,null,null,null,{"$f":"IF(AQ37=0,\"\",VLOOKUP(AP37,Feeds!$B$9:$AB$109,23,FALSE)*AQ37/1000)","v":""},{"$f":"IF(AQ37=0,\"\",VLOOKUP(AP37,Feeds!$B$9:$AB$109,24,FALSE))","v":""},{"$f":"IF(AQ37=\"\",\"\",AQ37*VLOOKUP(AP37,Feeds!$B$9:$AB$109,25,FALSE))","v":""},{"$f":"IF(AQ37=\"\",\"\",AQ37*VLOOKUP(AP37,Feeds!$B$9:$AB$109,26,FALSE))","v":""},{"$f":"IF(AQ37=\"\",\"\",AQ37*VLOOKUP(AP37,Feeds!$B$9:$AB$109,27,FALSE))","v":""},0,null,null,null,null,null,null,null,{"$f":"IF(BD37=0,\"\",VLOOKUP(BC37,Feeds!$B$9:$AB$109,23,FALSE)*BD37/1000)","v":""},{"$f":"IF(BD37=0,\"\",VLOOKUP(BC37,Feeds!$B$9:$AB$109,24,FALSE))","v":""},{"$f":"IF(BD37=\"\",\"\",BD37*VLOOKUP(BC37,Feeds!$B$9:$AB$109,25,FALSE))","v":""},{"$f":"IF(BD37=\"\",\"\",BD37*VLOOKUP(BC37,Feeds!$B$9:$AB$109,26,FALSE))","v":""},{"$f":"IF(BD37=\"\",\"\",BD37*VLOOKUP(BC37,Feeds!$B$9:$AB$109,27,FALSE))","v":""},0,null,null,null,null,null,null,null,{"$f":"IF(BQ37=0,\"\",VLOOKUP(BP37,Feeds!$B$9:$AB$109,23,FALSE)*BQ37/1000)","v":""},{"$f":"IF(BQ37=0,\"\",VLOOKUP(BP37,Feeds!$B$9:$AB$109,24,FALSE))","v":""},{"$f":"IF(BQ37=\"\",\"\",BQ37*VLOOKUP(BP37,Feeds!$B$9:$AB$109,25,FALSE))","v":""},{"$f":"IF(BQ37=\"\",\"\",BQ37*VLOOKUP(BP37,Feeds!$B$9:$AB$109,26,FALSE))","v":""},{"$f":"IF(BQ37=\"\",\"\",BQ37*VLOOKUP(BP37,Feeds!$B$9:$AB$109,27,FALSE))","v":""},0]
[null,null,"Kokku päevas",null,{"$f":"SUM(E23:E37)","v":0},null,{"$f":"SUM(G23:G37)","v":0},{"$f":"SUM(H23:H37)","v":0},{"$f":"SUM(I23:I37)","v":0},{"$f":"SUM(J23:J37)","v":0},null,null,null,null,null,"Kokku päevas",null,{"$f":"SUM(R23:R37)","v":0},null,{"$f":"SUM(T23:T37)","v":0},{"$f":"SUM(U23:U37)","v":0},{"$f":"SUM(V23:V37)","v":0},{"$f":"SUM(W23:W37)","v":0},null,null,null,null,null,"Kokku päevas",null,{"$f":"SUM(AE23:AE37)","v":0},null,{"$f":"SUM(AG23:AG37)","v":0},{"$f":"SUM(AH23:AH37)","v":0},{"$f":"SUM(AI23:AI37)","v":0},{"$f":"SUM(AJ23:AJ37)","v":0},null,null,null,null,null,"Kokku päevas",null,{"$f":"SUM(AR23:AR37)","v":0},null,{"$f":"SUM(AT23:AT37)","v":0},{"$f":"SUM(AU23:AU37)","v":0},{"$f":"SUM(AV23:AV37)","v":0},{"$f":"SUM(AW23:AW37)","v":0},null,null,null,null,null,"Kokku päevas",null,{"$f":"SUM(BE23:BE37)","v":0},null,{"$f":"SUM(BG23:BG37)","v":0},{"$f":"SUM(BH23:BH37)","v":0},{"$f":"SUM(BI23:BI37)","v":0},{"$f":"SUM(BJ23:BJ37)","v":0},null,null,null,null,null,"Kokku päevas",null,{"$f":"SUM(BR23:BR37)","v":0},null,{"$f":"SUM(BT23:BT37)","v":0},{"$f":"SUM(BU23:BU37)","v":0},{"$f":"SUM(BV23:BV37)","v":0},{"$f":"SUM(BW23:BW37)","v":0}]
[null,null,"Kokku perioodis",null,{"$f":"E38*L22*(1-N22/100)","v":0},{"$f":"IF(J39=0,0,J39*100/E39)","v":0},{"$f":"G38*L22*(1-N22/100)","v":0},{"$f":"H38*L22*(1-N22/100)","v":0},{"$f":"I38*L22*(1-N22/100)","v":0},{"$f":"J38*L22*(1-N22/100)","v":0},null,null,null,null,null,"Kokku perioodis",null,{"$f":"R38*Y22*(1-AA22/100)","v":0},{"$f":"IF(W39=0,0,W39*100/R39)","v":0},{"$f":"T38*Y22*(1-AA22/100)","v":0},{"$f":"U38*Y22*(1-AA22/100)","v":0},{"$f":"V38*Y22*(1-AA22/100)","v":0},{"$f":"W38*Y22*(1-AA22/100)","v":0},null,null,null,null,null,"Kokku perioodis",null,{"$f":"AE38*AL22*(1-AN22/100)","v":0},{"$f":"IF(AJ39=0,0,AJ39*100/AE39)","v":0},{"$f":"AG38*AL22*(1-AN22/100)","v":0},{"$f":"AH38*AL22*(1-AN22/100)","v":0},{"$f":"AI38*AL22*(1-AN22/100)","v":0},{"$f":"AJ38*AL22*(1-AN22/100)","v":0},null,null,null,null,null,"Kokku perioodis",null,{"$f":"AR38*AY22*(1-BA22/100)","v":0},{"$f":"IF(AW39=0,0,AW39*100/AR39)","v":0},{"$f":"AT38*AY22*(1-BA22/100)","v":0},{"$f":"AU38*AY22*(1-BA22/100)","v":0},{"$f":"AV38*AY22*(1-BA22/100)","v":0},{"$f":"AW38*AY22*(1-BA22/100)","v":0},null,null,null,null,null,"Kokku perioodis",null,{"$f":"BE38*BL22*(1-BN22/100)","v":0},{"$f":"IF(BJ39=0,0,BJ39*100/BE39)","v":0},{"$f":"BG38*BL22*(1-BN22/100)","v":0},{"$f":"BH38*BL22*(1-BN22/100)","v":0},{"$f":"BI38*BL22*(1-BN22/100)","v":0},{"$f":"BJ38*BL22*(1-BN22/100)","v":0},null,null,null,null,null,"Kokku perioodis",null,{"$f":"BR38*BY22*(1-CA22/100)","v":0},{"$f":"IF(BW39=0,0,BW39*100/BR39)","v":0},{"$f":"BT38*BY22*(1-CA22/100)","v":0},{"$f":"BU38*BY22*(1-CA22/100)","v":0},{"$f":"BV38*BY22*(1-CA22/100)","v":0},{"$f":"BW38*BY22*(1-CA22/100)","v":0}]
[]
[null,null,"NEB2",null,null,null,null,null,null,null,null,"Päevi grupis",null,"TRSS kadu, %",null,"Vanus 11-15 kuud",null,null,null,null,null,null,null,null,"Päevi grupis",null,"TRSS kadu, %",null,"Vanus 10-12 kuud",null,null,null,null,null,null,null,null,"Päevi grupis",null,"TRSS kadu, %",null,"Vanus 3-6 kuud",null,null,null,null,null,null,null,null,"Päevi grupis",null,"TRSS kadu, %",null,"Vanus 3-6 kuud",null,null,null,null,null,null,null,null,"Päevi grupis",null,"TRSS kadu, %",null,"Laktatsiooni keskel",null,null,null,null,null,null,null,null,"Päevi grupis",null,"TRSS kadu, %"]
[null,null,"Söödad (s.h. mineraalsöödad)","Kogus kg/päev","KA kg/päev","KA seeduvus %","TP   g/päev","P g/päev","K g/päev",null,null,null,null,null,null,"Söödad (s.h. mineraalsöödad)","Kogus kg/päev","KA kg/päev","KA seeduvus %","TP   g/päev","P g/päev","K g/päev",null,null,null,null,null,null,"Söödad (s.h. mineraalsöödad)","Kogus kg/päev","KA kg/päev","KA seeduvus %","TP   g/päev","P g/päev","K g/päev",null,null,null,null,null,null,"Söödad (s.h. mineraalsöödad)","Kogus kg/päev","KA kg/päev","KA seeduvus %","TP   g/päev","P g/päev","K g/päev",null,null,null,null,null,null,"Söödad (s.h. mineraalsöödad)","Kogus kg/päev","KA kg/päev","KA seeduvus %","TP   g/päev","P g/päev","K g/päev",null,null,null,null,null,null,"Söödad (s.h. mineraalsöödad)","Kogus kg/päev","KA kg/päev","KA seeduvus %","TP   g/päev","P g/päev","K g/päev"]
[null,null,null,null,{"$f":"IF(D43=0,\"\",VLOOKUP(C43,Feeds!$B$9:$AB$109,23,FALSE)*D43/1000)","v":""},{"$f":"IF(D43=0,\"\",VLOOKUP(C43,Feeds!$B$9:$AB$109,24,FALSE))","v":""},{"$f":"IF(D43=\"\",\"\",D43*VLOOKUP(C43,Feeds!$B$9:$AB$109,25,FALSE))","v":""},{"$f":"IF(D43=\"\",\"\",D43*VLOOKUP(C43,Feeds!$B$9:$AB$109,26,FALSE))","v":""},{"$f":"IF(D43=\"\",\"\",D43*VLOOKUP(C43,Feeds!$B$9:$AB$109,27,FALSE))","v":""},{"$f":"IF(D43=\"\",0,E43*F43/100)","v":0},null,null,null,null,null,null,null,{"$f":"IF(Q43=0,\"\",VLOOKUP(P43,Feeds!$B$9:$AB$109,23,FALSE)*Q43/1000)","v":""},{"$f":"IF(Q43=0,\"\",VLOOKUP(P43,Feeds!$B$9:$AB$109,24,FALSE))","v":""},{"$f":"IF(Q43=\"\",\"\",Q43*VLOOKUP(P43,Feeds!$B$9:$AB$109,25,FALSE))","v":""},{"$f":"IF(Q43=\"\",\"\",Q43*VLOOKUP(P43,Feeds!$B$9:$AB$109,26,FALSE))","v":""},{"$f":"IF(Q43=\"\",\"\",Q43*VLOOKUP(P43,Feeds!$B$9:$AB$109,27,FALSE))","v":""},{"$f":"IF(Q43=\"\",0,R43*S43/100)","v":0},null,null,null,null,null,null,null,{"$f":"IF(AD43=0,\"\",VLOOKUP(AC43,Feeds!$B$9:$AB$109,23,FALSE)*AD43/1000)","v":""},{"$f":"IF(AD43=0,\"\",VLOOKUP(AC43,Feeds!$B$9:$AB$109,24,FALSE))","v":""},{"$f":"IF(AD43=\"\",\"\",AD43*VLOOKUP(AC43,Feeds!$B$9:$AB$109,25,FALSE))","v":""},{"$f":"IF(AD43=\"\",\"\",AD43*VLOOKUP(AC43,Feeds!$B$9:$AB$109,26,FALSE))","v":""},{"$f":"IF(AD43=\"\",\"\",AD43*VLOOKUP(AC43,Feeds!$B$9:$AB$109,27,FALSE))","v":""},{"$f":"IF(AD43=\"\",0,AE43*AF43/100)","v":0},null,null,null,null,null,null,null,{"$f":"IF(AQ43=0,\"\",VLOOKUP(AP43,Feeds!$B$9:$AB$109,23,FALSE)*AQ43/1000)","v":""},{"$f":"IF(AQ43=0,\"\",VLOOKUP(AP43,Feeds!$B$9:$AB$109,24,FALSE))","v":""},{"$f":"IF(AQ43=\"\",\"\",AQ43*VLOOKUP(AP43,Feeds!$B$9:$AB$109,25,FALSE))","v":""},{"$f":"IF(AQ43=\"\",\"\",AQ43*VLOOKUP(AP43,Feeds!$B$9:$AB$109,26,FALSE))","v":""},{"$f":"IF(AQ43=\"\",\"\",AQ43*VLOOKUP(AP43,Feeds!$B$9:$AB$109,27,FALSE))","v":""},{"$f":"IF(AQ43=\"\",0,AR43*AS43/100)","v":0},null,null,null,null,null,null,null,{"$f":"IF(BD43=0,\"\",VLOOKUP(BC43,Feeds!$B$9:$AB$109,23,FALSE)*BD43/1000)","v":""},{"$f":"IF(BD43=0,\"\",VLOOKUP(BC43,Feeds!$B$9:$AB$109,24,FALSE))","v":""},{"$f":"IF(BD43=\"\",\"\",BD43*VLOOKUP(BC43,Feeds!$B$9:$AB$109,25,FALSE))","v":""},{"$f":"IF(BD43=\"\",\"\",BD43*VLOOKUP(BC43,Feeds!$B$9:$AB$109,26,FALSE))","v":""},{"$f":"IF(BD43=\"\",\"\",BD43*VLOOKUP(BC43,Feeds!$B$9:$AB$109,27,FALSE))","v":""},{"$f":"IF(BD43=\"\",0,BE43*BF43/100)","v":0},null,null,null,null,null,null,null,{"$f":"IF(BQ43=0,\"\",VLOOKUP(BP43,Feeds!$B$9:$AB$109,23,FALSE)*BQ43/1000)","v":""},{"$f":"IF(BQ43=0,\"\",VLOOKUP(BP43,Feeds!$B$9:$AB$109,24,FALSE))","v":""},{"$f":"IF(BQ43=\"\",\"\",BQ43*VLOOKUP(BP43,Feeds!$B$9:$AB$109,25,FALSE))","v":""},{"$f":"IF(BQ43=\"\",\"\",BQ43*VLOOKUP(BP43,Feeds!$B$9:$AB$109,26,FALSE))","v":""},{"$f":"IF(BQ43=\"\",\"\",BQ43*VLOOKUP(BP43,Feeds!$B$9:$AB$109,27,FALSE))","v":""},{"$f":"IF(BQ43=\"\",0,BR43*BS43/100)","v":0}]
[null,null,null,null,{"$f":"IF(D44=0,\"\",VLOOKUP(C44,Feeds!$B$9:$AB$109,23,FALSE)*D44/1000)","v":""},{"$f":"IF(D44=0,\"\",VLOOKUP(C44,Feeds!$B$9:$AB$109,24,FALSE))","v":""},{"$f":"IF(D44=\"\",\"\",D44*VLOOKUP(C44,Feeds!$B$9:$AB$109,25,FALSE))","v":""},{"$f":"IF(D44=\"\",\"\",D44*VLOOKUP(C44,Feeds!$B$9:$AB$109,26,FALSE))","v":""},{"$f":"IF(D44=\"\",\"\",D44*VLOOKUP(C44,Feeds!$B$9:$AB$109,27,FALSE))","v":""},0,null,null,null,null,null,null,null,{"$f":"IF(Q44=0,\"\",VLOOKUP(P44,Feeds!$B$9:$AB$109,23,FALSE)*Q44/1000)","v":""},{"$f":"IF(Q44=0,\"\",VLOOKUP(P44,Feeds!$B$9:$AB$109,24,FALSE))","v":""},{"$f":"IF(Q44=\"\",\"\",Q44*VLOOKUP(P44,Feeds!$B$9:$AB$109,25,FALSE))","v":""},{"$f":"IF(Q44=\"\",\"\",Q44*VLOOKUP(P44,Feeds!$B$9:$AB$109,26,FALSE))","v":""},{"$f":"IF(Q44=\"\",\"\",Q44*VLOOKUP(P44,Feeds!$B$9:$AB$109,27,FALSE))","v":""},0,null,null,null,null,null,null,null,{"$f":"IF(AD44=0,\"\",VLOOKUP(AC44,Feeds!$B$9:$AB$109,23,FALSE)*AD44/1000)","v":""},{"$f":"IF(AD44=0,\"\",VLOOKUP(AC44,Feeds!$B$9:$AB$109,24,FALSE))","v":""},{"$f":"IF(AD44=\"\",\"\",AD44*VLOOKUP(AC44,Feeds!$B$9:$AB$109,25,FALSE))","v":""},{"$f":"IF(AD44=\"\",\"\",AD44*VLOOKUP(AC44,Feeds!$B$9:$AB$109,26,FALSE))","v":""},{"$f":"IF(AD44=\"\",\"\",AD44*VLOOKUP(AC44,Feeds!$B$9:$AB$109,27,FALSE))","v":""},0,null,null,null,null,null,null,null,{"$f":"IF(AQ44=0,\"\",VLOOKUP(AP44,Feeds!$B$9:$AB$109,23,FALSE)*AQ44/1000)","v":""},{"$f":"IF(AQ44=0,\"\",VLOOKUP(AP44,Feeds!$B$9:$AB$109,24,FALSE))","v":""},{"$f":"IF(AQ44=\"\",\"\",AQ44*VLOOKUP(AP44,Feeds!$B$9:$AB$109,25,FALSE))","v":""},{"$f":"IF(AQ44=\"\",\"\",AQ44*VLOOKUP(AP44,Feeds!$B$9:$AB$109,26,FALSE))","v":""},{"$f":"IF(AQ44=\"\",\"\",AQ44*VLOOKUP(AP44,Feeds!$B$9:$AB$109,27,FALSE))","v":""},0,null,null,null,null,null,null,null,{"$f":"IF(BD44=0,\"\",VLOOKUP(BC44,Feeds!$B$9:$AB$109,23,FALSE)*BD44/1000)","v":""},{"$f":"IF(BD44=0,\"\",VLOOKUP(BC44,Feeds!$B$9:$AB$109,24,FALSE))","v":""},{"$f":"IF(BD44=\"\",\"\",BD44*VLOOKUP(BC44,Feeds!$B$9:$AB$109,25,FALSE))","v":""},{"$f":"IF(BD44=\"\",\"\",BD44*VLOOKUP(BC44,Feeds!$B$9:$AB$109,26,FALSE))","v":""},{"$f":"IF(BD44=\"\",\"\",BD44*VLOOKUP(BC44,Feeds!$B$9:$AB$109,27,FALSE))","v":""},0,null,null,null,null,null,null,null,{"$f":"IF(BQ44=0,\"\",VLOOKUP(BP44,Feeds!$B$9:$AB$109,23,FALSE)*BQ44/1000)","v":""},{"$f":"IF(BQ44=0,\"\",VLOOKUP(BP44,Feeds!$B$9:$AB$109,24,FALSE))","v":""},{"$f":"IF(BQ44=\"\",\"\",BQ44*VLOOKUP(BP44,Feeds!$B$9:$AB$109,25,FALSE))","v":""},{"$f":"IF(BQ44=\"\",\"\",BQ44*VLOOKUP(BP44,Feeds!$B$9:$AB$109,26,FALSE))","v":""},{"$f":"IF(BQ44=\"\",\"\",BQ44*VLOOKUP(BP44,Feeds!$B$9:$AB$109,27,FALSE))","v":""},0]
[null,null,null,null,{"$f":"IF(D45=0,\"\",VLOOKUP(C45,Feeds!$B$9:$AB$109,23,FALSE)*D45/1000)","v":""},{"$f":"IF(D45=0,\"\",VLOOKUP(C45,Feeds!$B$9:$AB$109,24,FALSE))","v":""},{"$f":"IF(D45=\"\",\"\",D45*VLOOKUP(C45,Feeds!$B$9:$AB$109,25,FALSE))","v":""},{"$f":"IF(D45=\"\",\"\",D45*VLOOKUP(C45,Feeds!$B$9:$AB$109,26,FALSE))","v":""},{"$f":"IF(D45=\"\",\"\",D45*VLOOKUP(C45,Feeds!$B$9:$AB$109,27,FALSE))","v":""},0,null,null,null,null,null,null,null,{"$f":"IF(Q45=0,\"\",VLOOKUP(P45,Feeds!$B$9:$AB$109,23,FALSE)*Q45/1000)","v":""},{"$f":"IF(Q45=0,\"\",VLOOKUP(P45,Feeds!$B$9:$AB$109,24,FALSE))","v":""},{"$f":"IF(Q45=\"\",\"\",Q45*VLOOKUP(P45,Feeds!$B$9:$AB$109,25,FALSE))","v":""},{"$f":"IF(Q45=\"\",\"\",Q45*VLOOKUP(P45,Feeds!$B$9:$AB$109,26,FALSE))","v":""},{"$f":"IF(Q45=\"\",\"\",Q45*VLOOKUP(P45,Feeds!$B$9:$AB$109,27,FALSE))","v":""},0,null,null,null,null,null,null,null,{"$f":"IF(AD45=0,\"\",VLOOKUP(AC45,Feeds!$B$9:$AB$109,23,FALSE)*AD45/1000)","v":""},{"$f":"IF(AD45=0,\"\",VLOOKUP(AC45,Feeds!$B$9:$AB$109,24,FALSE))","v":""},{"$f":"IF(AD45=\"\",\"\",AD45*VLOOKUP(AC45,Feeds!$B$9:$AB$109,25,FALSE))","v":""},{"$f":"IF(AD45=\"\",\"\",AD45*VLOOKUP(AC45,Feeds!$B$9:$AB$109,26,FALSE))","v":""},{"$f":"IF(AD45=\"\",\"\",AD45*VLOOKUP(AC45,Feeds!$B$9:$AB$109,27,FALSE))","v":""},0,null,null,null,null,null,null,null,{"$f":"IF(AQ45=0,\"\",VLOOKUP(AP45,Feeds!$B$9:$AB$109,23,FALSE)*AQ45/1000)","v":""},{"$f":"IF(AQ45=0,\"\",VLOOKUP(AP45,Feeds!$B$9:$AB$109,24,FALSE))","v":""},{"$f":"IF(AQ45=\"\",\"\",AQ45*VLOOKUP(AP45,Feeds!$B$9:$AB$109,25,FALSE))","v":""},{"$f":"IF(AQ45=\"\",\"\",AQ45*VLOOKUP(AP45,Feeds!$B$9:$AB$109,26,FALSE))","v":""},{"$f":"IF(AQ45=\"\",\"\",AQ45*VLOOKUP(AP45,Feeds!$B$9:$AB$109,27,FALSE))","v":""},0,null,null,null,null,null,null,null,{"$f":"IF(BD45=0,\"\",VLOOKUP(BC45,Feeds!$B$9:$AB$109,23,FALSE)*BD45/1000)","v":""},{"$f":"IF(BD45=0,\"\",VLOOKUP(BC45,Feeds!$B$9:$AB$109,24,FALSE))","v":""},{"$f":"IF(BD45=\"\",\"\",BD45*VLOOKUP(BC45,Feeds!$B$9:$AB$109,25,FALSE))","v":""},{"$f":"IF(BD45=\"\",\"\",BD45*VLOOKUP(BC45,Feeds!$B$9:$AB$109,26,FALSE))","v":""},{"$f":"IF(BD45=\"\",\"\",BD45*VLOOKUP(BC45,Feeds!$B$9:$AB$109,27,FALSE))","v":""},0,null,null,null,null,null,null,null,{"$f":"IF(BQ45=0,\"\",VLOOKUP(BP45,Feeds!$B$9:$AB$109,23,FALSE)*BQ45/1000)","v":""},{"$f":"IF(BQ45=0,\"\",VLOOKUP(BP45,Feeds!$B$9:$AB$109,24,FALSE))","v":""},{"$f":"IF(BQ45=\"\",\"\",BQ45*VLOOKUP(BP45,Feeds!$B$9:$AB$109,25,FALSE))","v":""},{"$f":"IF(BQ45=\"\",\"\",BQ45*VLOOKUP(BP45,Feeds!$B$9:$AB$109,26,FALSE))","v":""},{"$f":"IF(BQ45=\"\",\"\",BQ45*VLOOKUP(BP45,Feeds!$B$9:$AB$109,27,FALSE))","v":""},0]
[null,null,null,null,{"$f":"IF(D46=0,\"\",VLOOKUP(C46,Feeds!$B$9:$AB$109,23,FALSE)*D46/1000)","v":""},{"$f":"IF(D46=0,\"\",VLOOKUP(C46,Feeds!$B$9:$AB$109,24,FALSE))","v":""},{"$f":"IF(D46=\"\",\"\",D46*VLOOKUP(C46,Feeds!$B$9:$AB$109,25,FALSE))","v":""},{"$f":"IF(D46=\"\",\"\",D46*VLOOKUP(C46,Feeds!$B$9:$AB$109,26,FALSE))","v":""},{"$f":"IF(D46=\"\",\"\",D46*VLOOKUP(C46,Feeds!$B$9:$AB$109,27,FALSE))","v":""},0,null,null,null,null,null,null,null,{"$f":"IF(Q46=0,\"\",VLOOKUP(P46,Feeds!$B$9:$AB$109,23,FALSE)*Q46/1000)","v":""},{"$f":"IF(Q46=0,\"\",VLOOKUP(P46,Feeds!$B$9:$AB$109,24,FALSE))","v":""},{"$f":"IF(Q46=\"\",\"\",Q46*VLOOKUP(P46,Feeds!$B$9:$AB$109,25,FALSE))","v":""},{"$f":"IF(Q46=\"\",\"\",Q46*VLOOKUP(P46,Feeds!$B$9:$AB$109,26,FALSE))","v":""},{"$f":"IF(Q46=\"\",\"\",Q46*VLOOKUP(P46,Feeds!$B$9:$AB$109,27,FALSE))","v":""},0,null,null,null,null,null,null,null,{"$f":"IF(AD46=0,\"\",VLOOKUP(AC46,Feeds!$B$9:$AB$109,23,FALSE)*AD46/1000)","v":""},{"$f":"IF(AD46=0,\"\",VLOOKUP(AC46,Feeds!$B$9:$AB$109,24,FALSE))","v":""},{"$f":"IF(AD46=\"\",\"\",AD46*VLOOKUP(AC46,Feeds!$B$9:$AB$109,25,FALSE))","v":""},{"$f":"IF(AD46=\"\",\"\",AD46*VLOOKUP(AC46,Feeds!$B$9:$AB$109,26,FALSE))","v":""},{"$f":"IF(AD46=\"\",\"\",AD46*VLOOKUP(AC46,Feeds!$B$9:$AB$109,27,FALSE))","v":""},0,null,null,null,null,null,null,null,{"$f":"IF(AQ46=0,\"\",VLOOKUP(AP46,Feeds!$B$9:$AB$109,23,FALSE)*AQ46/1000)","v":""},{"$f":"IF(AQ46=0,\"\",VLOOKUP(AP46,Feeds!$B$9:$AB$109,24,FALSE))","v":""},{"$f":"IF(AQ46=\"\",\"\",AQ46*VLOOKUP(AP46,Feeds!$B$9:$AB$109,25,FALSE))","v":""},{"$f":"IF(AQ46=\"\",\"\",AQ46*VLOOKUP(AP46,Feeds!$B$9:$AB$109,26,FALSE))","v":""},{"$f":"IF(AQ46=\"\",\"\",AQ46*VLOOKUP(AP46,Feeds!$B$9:$AB$109,27,FALSE))","v":""},0,null,null,null,null,null,null,null,{"$f":"IF(BD46=0,\"\",VLOOKUP(BC46,Feeds!$B$9:$AB$109,23,FALSE)*BD46/1000)","v":""},{"$f":"IF(BD46=0,\"\",VLOOKUP(BC46,Feeds!$B$9:$AB$109,24,FALSE))","v":""},{"$f":"IF(BD46=\"\",\"\",BD46*VLOOKUP(BC46,Feeds!$B$9:$AB$109,25,FALSE))","v":""},{"$f":"IF(BD46=\"\",\"\",BD46*VLOOKUP(BC46,Feeds!$B$9:$AB$109,26,FALSE))","v":""},{"$f":"IF(BD46=\"\",\"\",BD46*VLOOKUP(BC46,Feeds!$B$9:$AB$109,27,FALSE))","v":""},0,null,null,null,null,null,null,null,{"$f":"IF(BQ46=0,\"\",VLOOKUP(BP46,Feeds!$B$9:$AB$109,23,FALSE)*BQ46/1000)","v":""},{"$f":"IF(BQ46=0,\"\",VLOOKUP(BP46,Feeds!$B$9:$AB$109,24,FALSE))","v":""},{"$f":"IF(BQ46=\"\",\"\",BQ46*VLOOKUP(BP46,Feeds!$B$9:$AB$109,25,FALSE))","v":""},{"$f":"IF(BQ46=\"\",\"\",BQ46*VLOOKUP(BP46,Feeds!$B$9:$AB$109,26,FALSE))","v":""},{"$f":"IF(BQ46=\"\",\"\",BQ46*VLOOKUP(BP46,Feeds!$B$9:$AB$109,27,FALSE))","v":""},0]
[null,null,null,null,{"$f":"IF(D47=0,\"\",VLOOKUP(C47,Feeds!$B$9:$AB$109,23,FALSE)*D47/1000)","v":""},{"$f":"IF(D47=0,\"\",VLOOKUP(C47,Feeds!$B$9:$AB$109,24,FALSE))","v":""},{"$f":"IF(D47=\"\",\"\",D47*VLOOKUP(C47,Feeds!$B$9:$AB$109,25,FALSE))","v":""},{"$f":"IF(D47=\"\",\"\",D47*VLOOKUP(C47,Feeds!$B$9:$AB$109,26,FALSE))","v":""},{"$f":"IF(D47=\"\",\"\",D47*VLOOKUP(C47,Feeds!$B$9:$AB$109,27,FALSE))","v":""},0,null,null,null,null,null,null,null,{"$f":"IF(Q47=0,\"\",VLOOKUP(P47,Feeds!$B$9:$AB$109,23,FALSE)*Q47/1000)","v":""},{"$f":"IF(Q47=0,\"\",VLOOKUP(P47,Feeds!$B$9:$AB$109,24,FALSE))","v":""},{"$f":"IF(Q47=\"\",\"\",Q47*VLOOKUP(P47,Feeds!$B$9:$AB$109,25,FALSE))","v":""},{"$f":"IF(Q47=\"\",\"\",Q47*VLOOKUP(P47,Feeds!$B$9:$AB$109,26,FALSE))","v":""},{"$f":"IF(Q47=\"\",\"\",Q47*VLOOKUP(P47,Feeds!$B$9:$AB$109,27,FALSE))","v":""},0,null,null,null,null,null,null,null,{"$f":"IF(AD47=0,\"\",VLOOKUP(AC47,Feeds!$B$9:$AB$109,23,FALSE)*AD47/1000)","v":""},{"$f":"IF(AD47=0,\"\",VLOOKUP(AC47,Feeds!$B$9:$AB$109,24,FALSE))","v":""},{"$f":"IF(AD47=\"\",\"\",AD47*VLOOKUP(AC47,Feeds!$B$9:$AB$109,25,FALSE))","v":""},{"$f":"IF(AD47=\"\",\"\",AD47*VLOOKUP(AC47,Feeds!$B$9:$AB$109,26,FALSE))","v":""},{"$f":"IF(AD47=\"\",\"\",AD47*VLOOKUP(AC47,Feeds!$B$9:$AB$109,27,FALSE))","v":""},0,null,null,null,null,null,null,null,{"$f":"IF(AQ47=0,\"\",VLOOKUP(AP47,Feeds!$B$9:$AB$109,23,FALSE)*AQ47/1000)","v":""},{"$f":"IF(AQ47=0,\"\",VLOOKUP(AP47,Feeds!$B$9:$AB$109,24,FALSE))","v":""},{"$f":"IF(AQ47=\"\",\"\",AQ47*VLOOKUP(AP47,Feeds!$B$9:$AB$109,25,FALSE))","v":""},{"$f":"IF(AQ47=\"\",\"\",AQ47*VLOOKUP(AP47,Feeds!$B$9:$AB$109,26,FALSE))","v":""},{"$f":"IF(AQ47=\"\",\"\",AQ47*VLOOKUP(AP47,Feeds!$B$9:$AB$109,27,FALSE))","v":""},0,null,null,null,null,null,null,null,{"$f":"IF(BD47=0,\"\",VLOOKUP(BC47,Feeds!$B$9:$AB$109,23,FALSE)*BD47/1000)","v":""},{"$f":"IF(BD47=0,\"\",VLOOKUP(BC47,Feeds!$B$9:$AB$109,24,FALSE))","v":""},{"$f":"IF(BD47=\"\",\"\",BD47*VLOOKUP(BC47,Feeds!$B$9:$AB$109,25,FALSE))","v":""},{"$f":"IF(BD47=\"\",\"\",BD47*VLOOKUP(BC47,Feeds!$B$9:$AB$109,26,FALSE))","v":""},{"$f":"IF(BD47=\"\",\"\",BD47*VLOOKUP(BC47,Feeds!$B$9:$AB$109,27,FALSE))","v":""},0,null,null,null,null,null,null,null,{"$f":"IF(BQ47=0,\"\",VLOOKUP(BP47,Feeds!$B$9:$AB$109,23,FALSE)*BQ47/1000)","v":""},{"$f":"IF(BQ47=0,\"\",VLOOKUP(BP47,Feeds!$B$9:$AB$109,24,FALSE))","v":""},{"$f":"IF(BQ47=\"\",\"\",BQ47*VLOOKUP(BP47,Feeds!$B$9:$AB$109,25,FALSE))","v":""},{"$f":"IF(BQ47=\"\",\"\",BQ47*VLOOKUP(BP47,Feeds!$B$9:$AB$109,26,FALSE))","v":""},{"$f":"IF(BQ47=\"\",\"\",BQ47*VLOOKUP(BP47,Feeds!$B$9:$AB$109,27,FALSE))","v":""},0]
[null,null,null,null,{"$f":"IF(D48=0,\"\",VLOOKUP(C48,Feeds!$B$9:$AB$109,23,FALSE)*D48/1000)","v":""},{"$f":"IF(D48=0,\"\",VLOOKUP(C48,Feeds!$B$9:$AB$109,24,FALSE))","v":""},{"$f":"IF(D48=\"\",\"\",D48*VLOOKUP(C48,Feeds!$B$9:$AB$109,25,FALSE))","v":""},{"$f":"IF(D48=\"\",\"\",D48*VLOOKUP(C48,Feeds!$B$9:$AB$109,26,FALSE))","v":""},{"$f":"IF(D48=\"\",\"\",D48*VLOOKUP(C48,Feeds!$B$9:$AB$109,27,FALSE))","v":""},0,null,null,null,null,null,null,null,{"$f":"IF(Q48=0,\"\",VLOOKUP(P48,Feeds!$B$9:$AB$109,23,FALSE)*Q48/1000)","v":""},{"$f":"IF(Q48=0,\"\",VLOOKUP(P48,Feeds!$B$9:$AB$109,24,FALSE))","v":""},{"$f":"IF(Q48=\"\",\"\",Q48*VLOOKUP(P48,Feeds!$B$9:$AB$109,25,FALSE))","v":""},{"$f":"IF(Q48=\"\",\"\",Q48*VLOOKUP(P48,Feeds!$B$9:$AB$109,26,FALSE))","v":""},{"$f":"IF(Q48=\"\",\"\",Q48*VLOOKUP(P48,Feeds!$B$9:$AB$109,27,FALSE))","v":""},0,null,null,null,null,null,null,null,{"$f":"IF(AD48=0,\"\",VLOOKUP(AC48,Feeds!$B$9:$AB$109,23,FALSE)*AD48/1000)","v":""},{"$f":"IF(AD48=0,\"\",VLOOKUP(AC48,Feeds!$B$9:$AB$109,24,FALSE))","v":""},{"$f":"IF(AD48=\"\",\"\",AD48*VLOOKUP(AC48,Feeds!$B$9:$AB$109,25,FALSE))","v":""},{"$f":"IF(AD48=\"\",\"\",AD48*VLOOKUP(AC48,Feeds!$B$9:$AB$109,26,FALSE))","v":""},{"$f":"IF(AD48=\"\",\"\",AD48*VLOOKUP(AC48,Feeds!$B$9:$AB$109,27,FALSE))","v":""},0,null,null,null,null,null,null,null,{"$f":"IF(AQ48=0,\"\",VLOOKUP(AP48,Feeds!$B$9:$AB$109,23,FALSE)*AQ48/1000)","v":""},{"$f":"IF(AQ48=0,\"\",VLOOKUP(AP48,Feeds!$B$9:$AB$109,24,FALSE))","v":""},{"$f":"IF(AQ48=\"\",\"\",AQ48*VLOOKUP(AP48,Feeds!$B$9:$AB$109,25,FALSE))","v":""},{"$f":"IF(AQ48=\"\",\"\",AQ48*VLOOKUP(AP48,Feeds!$B$9:$AB$109,26,FALSE))","v":""},{"$f":"IF(AQ48=\"\",\"\",AQ48*VLOOKUP(AP48,Feeds!$B$9:$AB$109,27,FALSE))","v":""},0,null,null,null,null,null,null,null,{"$f":"IF(BD48=0,\"\",VLOOKUP(BC48,Feeds!$B$9:$AB$109,23,FALSE)*BD48/1000)","v":""},{"$f":"IF(BD48=0,\"\",VLOOKUP(BC48,Feeds!$B$9:$AB$109,24,FALSE))","v":""},{"$f":"IF(BD48=\"\",\"\",BD48*VLOOKUP(BC48,Feeds!$B$9:$AB$109,25,FALSE))","v":""},{"$f":"IF(BD48=\"\",\"\",BD48*VLOOKUP(BC48,Feeds!$B$9:$AB$109,26,FALSE))","v":""},{"$f":"IF(BD48=\"\",\"\",BD48*VLOOKUP(BC48,Feeds!$B$9:$AB$109,27,FALSE))","v":""},0,null,null,null,null,null,null,null,{"$f":"IF(BQ48=0,\"\",VLOOKUP(BP48,Feeds!$B$9:$AB$109,23,FALSE)*BQ48/1000)","v":""},{"$f":"IF(BQ48=0,\"\",VLOOKUP(BP48,Feeds!$B$9:$AB$109,24,FALSE))","v":""},{"$f":"IF(BQ48=\"\",\"\",BQ48*VLOOKUP(BP48,Feeds!$B$9:$AB$109,25,FALSE))","v":""},{"$f":"IF(BQ48=\"\",\"\",BQ48*VLOOKUP(BP48,Feeds!$B$9:$AB$109,26,FALSE))","v":""},{"$f":"IF(BQ48=\"\",\"\",BQ48*VLOOKUP(BP48,Feeds!$B$9:$AB$109,27,FALSE))","v":""},0]
[null,null,null,null,{"$f":"IF(D49=0,\"\",VLOOKUP(C49,Feeds!$B$9:$AB$109,23,FALSE)*D49/1000)","v":""},{"$f":"IF(D49=0,\"\",VLOOKUP(C49,Feeds!$B$9:$AB$109,24,FALSE))","v":""},{"$f":"IF(D49=\"\",\"\",D49*VLOOKUP(C49,Feeds!$B$9:$AB$109,25,FALSE))","v":""},{"$f":"IF(D49=\"\",\"\",D49*VLOOKUP(C49,Feeds!$B$9:$AB$109,26,FALSE))","v":""},{"$f":"IF(D49=\"\",\"\",D49*VLOOKUP(C49,Feeds!$B$9:$AB$109,27,FALSE))","v":""},0,null,null,null,null,null,null,null,{"$f":"IF(Q49=0,\"\",VLOOKUP(P49,Feeds!$B$9:$AB$109,23,FALSE)*Q49/1000)","v":""},{"$f":"IF(Q49=0,\"\",VLOOKUP(P49,Feeds!$B$9:$AB$109,24,FALSE))","v":""},{"$f":"IF(Q49=\"\",\"\",Q49*VLOOKUP(P49,Feeds!$B$9:$AB$109,25,FALSE))","v":""},{"$f":"IF(Q49=\"\",\"\",Q49*VLOOKUP(P49,Feeds!$B$9:$AB$109,26,FALSE))","v":""},{"$f":"IF(Q49=\"\",\"\",Q49*VLOOKUP(P49,Feeds!$B$9:$AB$109,27,FALSE))","v":""},0,null,null,null,null,null,null,null,{"$f":"IF(AD49=0,\"\",VLOOKUP(AC49,Feeds!$B$9:$AB$109,23,FALSE)*AD49/1000)","v":""},{"$f":"IF(AD49=0,\"\",VLOOKUP(AC49,Feeds!$B$9:$AB$109,24,FALSE))","v":""},{"$f":"IF(AD49=\"\",\"\",AD49*VLOOKUP(AC49,Feeds!$B$9:$AB$109,25,FALSE))","v":""},{"$f":"IF(AD49=\"\",\"\",AD49*VLOOKUP(AC49,Feeds!$B$9:$AB$109,26,FALSE))","v":""},{"$f":"IF(AD49=\"\",\"\",AD49*VLOOKUP(AC49,Feeds!$B$9:$AB$109,27,FALSE))","v":""},0,null,null,null,null,null,null,null,{"$f":"IF(AQ49=0,\"\",VLOOKUP(AP49,Feeds!$B$9:$AB$109,23,FALSE)*AQ49/1000)","v":""},{"$f":"IF(AQ49=0,\"\",VLOOKUP(AP49,Feeds!$B$9:$AB$109,24,FALSE))","v":""},{"$f":"IF(AQ49=\"\",\"\",AQ49*VLOOKUP(AP49,Feeds!$B$9:$AB$109,25,FALSE))","v":""},{"$f":"IF(AQ49=\"\",\"\",AQ49*VLOOKUP(AP49,Feeds!$B$9:$AB$109,26,FALSE))","v":""},{"$f":"IF(AQ49=\"\",\"\",AQ49*VLOOKUP(AP49,Feeds!$B$9:$AB$109,27,FALSE))","v":""},0,null,null,null,null,null,null,null,{"$f":"IF(BD49=0,\"\",VLOOKUP(BC49,Feeds!$B$9:$AB$109,23,FALSE)*BD49/1000)","v":""},{"$f":"IF(BD49=0,\"\",VLOOKUP(BC49,Feeds!$B$9:$AB$109,24,FALSE))","v":""},{"$f":"IF(BD49=\"\",\"\",BD49*VLOOKUP(BC49,Feeds!$B$9:$AB$109,25,FALSE))","v":""},{"$f":"IF(BD49=\"\",\"\",BD49*VLOOKUP(BC49,Feeds!$B$9:$AB$109,26,FALSE))","v":""},{"$f":"IF(BD49=\"\",\"\",BD49*VLOOKUP(BC49,Feeds!$B$9:$AB$109,27,FALSE))","v":""},0,null,null,null,null,null,null,null,{"$f":"IF(BQ49=0,\"\",VLOOKUP(BP49,Feeds!$B$9:$AB$109,23,FALSE)*BQ49/1000)","v":""},{"$f":"IF(BQ49=0,\"\",VLOOKUP(BP49,Feeds!$B$9:$AB$109,24,FALSE))","v":""},{"$f":"IF(BQ49=\"\",\"\",BQ49*VLOOKUP(BP49,Feeds!$B$9:$AB$109,25,FALSE))","v":""},{"$f":"IF(BQ49=\"\",\"\",BQ49*VLOOKUP(BP49,Feeds!$B$9:$AB$109,26,FALSE))","v":""},{"$f":"IF(BQ49=\"\",\"\",BQ49*VLOOKUP(BP49,Feeds!$B$9:$AB$109,27,FALSE))","v":""},0]
[null,null,null,null,{"$f":"IF(D50=0,\"\",VLOOKUP(C50,Feeds!$B$9:$AB$109,23,FALSE)*D50/1000)","v":""},{"$f":"IF(D50=0,\"\",VLOOKUP(C50,Feeds!$B$9:$AB$109,24,FALSE))","v":""},{"$f":"IF(D50=\"\",\"\",D50*VLOOKUP(C50,Feeds!$B$9:$AB$109,25,FALSE))","v":""},{"$f":"IF(D50=\"\",\"\",D50*VLOOKUP(C50,Feeds!$B$9:$AB$109,26,FALSE))","v":""},{"$f":"IF(D50=\"\",\"\",D50*VLOOKUP(C50,Feeds!$B$9:$AB$109,27,FALSE))","v":""},0,null,null,null,null,null,null,null,{"$f":"IF(Q50=0,\"\",VLOOKUP(P50,Feeds!$B$9:$AB$109,23,FALSE)*Q50/1000)","v":""},{"$f":"IF(Q50=0,\"\",VLOOKUP(P50,Feeds!$B$9:$AB$109,24,FALSE))","v":""},{"$f":"IF(Q50=\"\",\"\",Q50*VLOOKUP(P50,Feeds!$B$9:$AB$109,25,FALSE))","v":""},{"$f":"IF(Q50=\"\",\"\",Q50*VLOOKUP(P50,Feeds!$B$9:$AB$109,26,FALSE))","v":""},{"$f":"IF(Q50=\"\",\"\",Q50*VLOOKUP(P50,Feeds!$B$9:$AB$109,27,FALSE))","v":""},0,null,null,null,null,null,null,null,{"$f":"IF(AD50=0,\"\",VLOOKUP(AC50,Feeds!$B$9:$AB$109,23,FALSE)*AD50/1000)","v":""},{"$f":"IF(AD50=0,\"\",VLOOKUP(AC50,Feeds!$B$9:$AB$109,24,FALSE))","v":""},{"$f":"IF(AD50=\"\",\"\",AD50*VLOOKUP(AC50,Feeds!$B$9:$AB$109,25,FALSE))","v":""},{"$f":"IF(AD50=\"\",\"\",AD50*VLOOKUP(AC50,Feeds!$B$9:$AB$109,26,FALSE))","v":""},{"$f":"IF(AD50=\"\",\"\",AD50*VLOOKUP(AC50,Feeds!$B$9:$AB$109,27,FALSE))","v":""},0,null,null,null,null,null,null,null,{"$f":"IF(AQ50=0,\"\",VLOOKUP(AP50,Feeds!$B$9:$AB$109,23,FALSE)*AQ50/1000)","v":""},{"$f":"IF(AQ50=0,\"\",VLOOKUP(AP50,Feeds!$B$9:$AB$109,24,FALSE))","v":""},{"$f":"IF(AQ50=\"\",\"\",AQ50*VLOOKUP(AP50,Feeds!$B$9:$AB$109,25,FALSE))","v":""},{"$f":"IF(AQ50=\"\",\"\",AQ50*VLOOKUP(AP50,Feeds!$B$9:$AB$109,26,FALSE))","v":""},{"$f":"IF(AQ50=\"\",\"\",AQ50*VLOOKUP(AP50,Feeds!$B$9:$AB$109,27,FALSE))","v":""},0,null,null,null,null,null,null,null,{"$f":"IF(BD50=0,\"\",VLOOKUP(BC50,Feeds!$B$9:$AB$109,23,FALSE)*BD50/1000)","v":""},{"$f":"IF(BD50=0,\"\",VLOOKUP(BC50,Feeds!$B$9:$AB$109,24,FALSE))","v":""},{"$f":"IF(BD50=\"\",\"\",BD50*VLOOKUP(BC50,Feeds!$B$9:$AB$109,25,FALSE))","v":""},{"$f":"IF(BD50=\"\",\"\",BD50*VLOOKUP(BC50,Feeds!$B$9:$AB$109,26,FALSE))","v":""},{"$f":"IF(BD50=\"\",\"\",BD50*VLOOKUP(BC50,Feeds!$B$9:$AB$109,27,FALSE))","v":""},0,null,null,null,null,null,null,null,{"$f":"IF(BQ50=0,\"\",VLOOKUP(BP50,Feeds!$B$9:$AB$109,23,FALSE)*BQ50/1000)","v":""},{"$f":"IF(BQ50=0,\"\",VLOOKUP(BP50,Feeds!$B$9:$AB$109,24,FALSE))","v":""},{"$f":"IF(BQ50=\"\",\"\",BQ50*VLOOKUP(BP50,Feeds!$B$9:$AB$109,25,FALSE))","v":""},{"$f":"IF(BQ50=\"\",\"\",BQ50*VLOOKUP(BP50,Feeds!$B$9:$AB$109,26,FALSE))","v":""},{"$f":"IF(BQ50=\"\",\"\",BQ50*VLOOKUP(BP50,Feeds!$B$9:$AB$109,27,FALSE))","v":""},0]
[null,null,null,null,{"$f":"IF(D51=0,\"\",VLOOKUP(C51,Feeds!$B$9:$AB$109,23,FALSE)*D51/1000)","v":""},{"$f":"IF(D51=0,\"\",VLOOKUP(C51,Feeds!$B$9:$AB$109,24,FALSE))","v":""},{"$f":"IF(D51=\"\",\"\",D51*VLOOKUP(C51,Feeds!$B$9:$AB$109,25,FALSE))","v":""},{"$f":"IF(D51=\"\",\"\",D51*VLOOKUP(C51,Feeds!$B$9:$AB$109,26,FALSE))","v":""},{"$f":"IF(D51=\"\",\"\",D51*VLOOKUP(C51,Feeds!$B$9:$AB$109,27,FALSE))","v":""},0,null,null,null,null,null,null,null,{"$f":"IF(Q51=0,\"\",VLOOKUP(P51,Feeds!$B$9:$AB$109,23,FALSE)*Q51/1000)","v":""},{"$f":"IF(Q51=0,\"\",VLOOKUP(P51,Feeds!$B$9:$AB$109,24,FALSE))","v":""},{"$f":"IF(Q51=\"\",\"\",Q51*VLOOKUP(P51,Feeds!$B$9:$AB$109,25,FALSE))","v":""},{"$f":"IF(Q51=\"\",\"\",Q51*VLOOKUP(P51,Feeds!$B$9:$AB$109,26,FALSE))","v":""},{"$f":"IF(Q51=\"\",\"\",Q51*VLOOKUP(P51,Feeds!$B$9:$AB$109,27,FALSE))","v":""},0,null,null,null,null,null,null,null,{"$f":"IF(AD51=0,\"\",VLOOKUP(AC51,Feeds!$B$9:$AB$109,23,FALSE)*AD51/1000)","v":""},{"$f":"IF(AD51=0,\"\",VLOOKUP(AC51,Feeds!$B$9:$AB$109,24,FALSE))","v":""},{"$f":"IF(AD51=\"\",\"\",AD51*VLOOKUP(AC51,Feeds!$B$9:$AB$109,25,FALSE))","v":""},{"$f":"IF(AD51=\"\",\"\",AD51*VLOOKUP(AC51,Feeds!$B$9:$AB$109,26,FALSE))","v":""},{"$f":"IF(AD51=\"\",\"\",AD51*VLOOKUP(AC51,Feeds!$B$9:$AB$109,27,FALSE))","v":""},0,null,null,null,null,null,null,null,{"$f":"IF(AQ51=0,\"\",VLOOKUP(AP51,Feeds!$B$9:$AB$109,23,FALSE)*AQ51/1000)","v":""},{"$f":"IF(AQ51=0,\"\",VLOOKUP(AP51,Feeds!$B$9:$AB$109,24,FALSE))","v":""},{"$f":"IF(AQ51=\"\",\"\",AQ51*VLOOKUP(AP51,Feeds!$B$9:$AB$109,25,FALSE))","v":""},{"$f":"IF(AQ51=\"\",\"\",AQ51*VLOOKUP(AP51,Feeds!$B$9:$AB$109,26,FALSE))","v":""},{"$f":"IF(AQ51=\"\",\"\",AQ51*VLOOKUP(AP51,Feeds!$B$9:$AB$109,27,FALSE))","v":""},0,null,null,null,null,null,null,null,{"$f":"IF(BD51=0,\"\",VLOOKUP(BC51,Feeds!$B$9:$AB$109,23,FALSE)*BD51/1000)","v":""},{"$f":"IF(BD51=0,\"\",VLOOKUP(BC51,Feeds!$B$9:$AB$109,24,FALSE))","v":""},{"$f":"IF(BD51=\"\",\"\",BD51*VLOOKUP(BC51,Feeds!$B$9:$AB$109,25,FALSE))","v":""},{"$f":"IF(BD51=\"\",\"\",BD51*VLOOKUP(BC51,Feeds!$B$9:$AB$109,26,FALSE))","v":""},{"$f":"IF(BD51=\"\",\"\",BD51*VLOOKUP(BC51,Feeds!$B$9:$AB$109,27,FALSE))","v":""},0,null,null,null,null,null,null,null,{"$f":"IF(BQ51=0,\"\",VLOOKUP(BP51,Feeds!$B$9:$AB$109,23,FALSE)*BQ51/1000)","v":""},{"$f":"IF(BQ51=0,\"\",VLOOKUP(BP51,Feeds!$B$9:$AB$109,24,FALSE))","v":""},{"$f":"IF(BQ51=\"\",\"\",BQ51*VLOOKUP(BP51,Feeds!$B$9:$AB$109,25,FALSE))","v":""},{"$f":"IF(BQ51=\"\",\"\",BQ51*VLOOKUP(BP51,Feeds!$B$9:$AB$109,26,FALSE))","v":""},{"$f":"IF(BQ51=\"\",\"\",BQ51*VLOOKUP(BP51,Feeds!$B$9:$AB$109,27,FALSE))","v":""},0]
[null,null,null,null,{"$f":"IF(D52=0,\"\",VLOOKUP(C52,Feeds!$B$9:$AB$109,23,FALSE)*D52/1000)","v":""},{"$f":"IF(D52=0,\"\",VLOOKUP(C52,Feeds!$B$9:$AB$109,24,FALSE))","v":""},{"$f":"IF(D52=\"\",\"\",D52*VLOOKUP(C52,Feeds!$B$9:$AB$109,25,FALSE))","v":""},{"$f":"IF(D52=\"\",\"\",D52*VLOOKUP(C52,Feeds!$B$9:$AB$109,26,FALSE))","v":""},{"$f":"IF(D52=\"\",\"\",D52*VLOOKUP(C52,Feeds!$B$9:$AB$109,27,FALSE))","v":""},0,null,null,null,null,null,null,null,{"$f":"IF(Q52=0,\"\",VLOOKUP(P52,Feeds!$B$9:$AB$109,23,FALSE)*Q52/1000)","v":""},{"$f":"IF(Q52=0,\"\",VLOOKUP(P52,Feeds!$B$9:$AB$109,24,FALSE))","v":""},{"$f":"IF(Q52=\"\",\"\",Q52*VLOOKUP(P52,Feeds!$B$9:$AB$109,25,FALSE))","v":""},{"$f":"IF(Q52=\"\",\"\",Q52*VLOOKUP(P52,Feeds!$B$9:$AB$109,26,FALSE))","v":""},{"$f":"IF(Q52=\"\",\"\",Q52*VLOOKUP(P52,Feeds!$B$9:$AB$109,27,FALSE))","v":""},0,null,null,null,null,null,null,null,{"$f":"IF(AD52=0,\"\",VLOOKUP(AC52,Feeds!$B$9:$AB$109,23,FALSE)*AD52/1000)","v":""},{"$f":"IF(AD52=0,\"\",VLOOKUP(AC52,Feeds!$B$9:$AB$109,24,FALSE))","v":""},{"$f":"IF(AD52=\"\",\"\",AD52*VLOOKUP(AC52,Feeds!$B$9:$AB$109,25,FALSE))","v":""},{"$f":"IF(AD52=\"\",\"\",AD52*VLOOKUP(AC52,Feeds!$B$9:$AB$109,26,FALSE))","v":""},{"$f":"IF(AD52=\"\",\"\",AD52*VLOOKUP(AC52,Feeds!$B$9:$AB$109,27,FALSE))","v":""},0,null,null,null,null,null,null,null,{"$f":"IF(AQ52=0,\"\",VLOOKUP(AP52,Feeds!$B$9:$AB$109,23,FALSE)*AQ52/1000)","v":""},{"$f":"IF(AQ52=0,\"\",VLOOKUP(AP52,Feeds!$B$9:$AB$109,24,FALSE))","v":""},{"$f":"IF(AQ52=\"\",\"\",AQ52*VLOOKUP(AP52,Feeds!$B$9:$AB$109,25,FALSE))","v":""},{"$f":"IF(AQ52=\"\",\"\",AQ52*VLOOKUP(AP52,Feeds!$B$9:$AB$109,26,FALSE))","v":""},{"$f":"IF(AQ52=\"\",\"\",AQ52*VLOOKUP(AP52,Feeds!$B$9:$AB$109,27,FALSE))","v":""},0,null,null,null,null,null,null,null,{"$f":"IF(BD52=0,\"\",VLOOKUP(BC52,Feeds!$B$9:$AB$109,23,FALSE)*BD52/1000)","v":""},{"$f":"IF(BD52=0,\"\",VLOOKUP(BC52,Feeds!$B$9:$AB$109,24,FALSE))","v":""},{"$f":"IF(BD52=\"\",\"\",BD52*VLOOKUP(BC52,Feeds!$B$9:$AB$109,25,FALSE))","v":""},{"$f":"IF(BD52=\"\",\"\",BD52*VLOOKUP(BC52,Feeds!$B$9:$AB$109,26,FALSE))","v":""},{"$f":"IF(BD52=\"\",\"\",BD52*VLOOKUP(BC52,Feeds!$B$9:$AB$109,27,FALSE))","v":""},0,null,null,null,null,null,null,null,{"$f":"IF(BQ52=0,\"\",VLOOKUP(BP52,Feeds!$B$9:$AB$109,23,FALSE)*BQ52/1000)","v":""},{"$f":"IF(BQ52=0,\"\",VLOOKUP(BP52,Feeds!$B$9:$AB$109,24,FALSE))","v":""},{"$f":"IF(BQ52=\"\",\"\",BQ52*VLOOKUP(BP52,Feeds!$B$9:$AB$109,25,FALSE))","v":""},{"$f":"IF(BQ52=\"\",\"\",BQ52*VLOOKUP(BP52,Feeds!$B$9:$AB$109,26,FALSE))","v":""},{"$f":"IF(BQ52=\"\",\"\",BQ52*VLOOKUP(BP52,Feeds!$B$9:$AB$109,27,FALSE))","v":""},0]
[null,null,null,null,{"$f":"IF(D53=0,\"\",VLOOKUP(C53,Feeds!$B$9:$AB$109,23,FALSE)*D53/1000)","v":""},{"$f":"IF(D53=0,\"\",VLOOKUP(C53,Feeds!$B$9:$AB$109,24,FALSE))","v":""},{"$f":"IF(D53=\"\",\"\",D53*VLOOKUP(C53,Feeds!$B$9:$AB$109,25,FALSE))","v":""},{"$f":"IF(D53=\"\",\"\",D53*VLOOKUP(C53,Feeds!$B$9:$AB$109,26,FALSE))","v":""},{"$f":"IF(D53=\"\",\"\",D53*VLOOKUP(C53,Feeds!$B$9:$AB$109,27,FALSE))","v":""},0,null,null,null,null,null,null,null,{"$f":"IF(Q53=0,\"\",VLOOKUP(P53,Feeds!$B$9:$AB$109,23,FALSE)*Q53/1000)","v":""},{"$f":"IF(Q53=0,\"\",VLOOKUP(P53,Feeds!$B$9:$AB$109,24,FALSE))","v":""},{"$f":"IF(Q53=\"\",\"\",Q53*VLOOKUP(P53,Feeds!$B$9:$AB$109,25,FALSE))","v":""},{"$f":"IF(Q53=\"\",\"\",Q53*VLOOKUP(P53,Feeds!$B$9:$AB$109,26,FALSE))","v":""},{"$f":"IF(Q53=\"\",\"\",Q53*VLOOKUP(P53,Feeds!$B$9:$AB$109,27,FALSE))","v":""},0,null,null,null,null,null,null,null,{"$f":"IF(AD53=0,\"\",VLOOKUP(AC53,Feeds!$B$9:$AB$109,23,FALSE)*AD53/1000)","v":""},{"$f":"IF(AD53=0,\"\",VLOOKUP(AC53,Feeds!$B$9:$AB$109,24,FALSE))","v":""},{"$f":"IF(AD53=\"\",\"\",AD53*VLOOKUP(AC53,Feeds!$B$9:$AB$109,25,FALSE))","v":""},{"$f":"IF(AD53=\"\",\"\",AD53*VLOOKUP(AC53,Feeds!$B$9:$AB$109,26,FALSE))","v":""},{"$f":"IF(AD53=\"\",\"\",AD53*VLOOKUP(AC53,Feeds!$B$9:$AB$109,27,FALSE))","v":""},0,null,null,null,null,null,null,null,{"$f":"IF(AQ53=0,\"\",VLOOKUP(AP53,Feeds!$B$9:$AB$109,23,FALSE)*AQ53/1000)","v":""},{"$f":"IF(AQ53=0,\"\",VLOOKUP(AP53,Feeds!$B$9:$AB$109,24,FALSE))","v":""},{"$f":"IF(AQ53=\"\",\"\",AQ53*VLOOKUP(AP53,Feeds!$B$9:$AB$109,25,FALSE))","v":""},{"$f":"IF(AQ53=\"\",\"\",AQ53*VLOOKUP(AP53,Feeds!$B$9:$AB$109,26,FALSE))","v":""},{"$f":"IF(AQ53=\"\",\"\",AQ53*VLOOKUP(AP53,Feeds!$B$9:$AB$109,27,FALSE))","v":""},0,null,null,null,null,null,null,null,{"$f":"IF(BD53=0,\"\",VLOOKUP(BC53,Feeds!$B$9:$AB$109,23,FALSE)*BD53/1000)","v":""},{"$f":"IF(BD53=0,\"\",VLOOKUP(BC53,Feeds!$B$9:$AB$109,24,FALSE))","v":""},{"$f":"IF(BD53=\"\",\"\",BD53*VLOOKUP(BC53,Feeds!$B$9:$AB$109,25,FALSE))","v":""},{"$f":"IF(BD53=\"\",\"\",BD53*VLOOKUP(BC53,Feeds!$B$9:$AB$109,26,FALSE))","v":""},{"$f":"IF(BD53=\"\",\"\",BD53*VLOOKUP(BC53,Feeds!$B$9:$AB$109,27,FALSE))","v":""},0,null,null,null,null,null,null,null,{"$f":"IF(BQ53=0,\"\",VLOOKUP(BP53,Feeds!$B$9:$AB$109,23,FALSE)*BQ53/1000)","v":""},{"$f":"IF(BQ53=0,\"\",VLOOKUP(BP53,Feeds!$B$9:$AB$109,24,FALSE))","v":""},{"$f":"IF(BQ53=\"\",\"\",BQ53*VLOOKUP(BP53,Feeds!$B$9:$AB$109,25,FALSE))","v":""},{"$f":"IF(BQ53=\"\",\"\",BQ53*VLOOKUP(BP53,Feeds!$B$9:$AB$109,26,FALSE))","v":""},{"$f":"IF(BQ53=\"\",\"\",BQ53*VLOOKUP(BP53,Feeds!$B$9:$AB$109,27,FALSE))","v":""},0]
[null,null,null,null,{"$f":"IF(D54=0,\"\",VLOOKUP(C54,Feeds!$B$9:$AB$109,23,FALSE)*D54/1000)","v":""},{"$f":"IF(D54=0,\"\",VLOOKUP(C54,Feeds!$B$9:$AB$109,24,FALSE))","v":""},{"$f":"IF(D54=\"\",\"\",D54*VLOOKUP(C54,Feeds!$B$9:$AB$109,25,FALSE))","v":""},{"$f":"IF(D54=\"\",\"\",D54*VLOOKUP(C54,Feeds!$B$9:$AB$109,26,FALSE))","v":""},{"$f":"IF(D54=\"\",\"\",D54*VLOOKUP(C54,Feeds!$B$9:$AB$109,27,FALSE))","v":""},0,null,null,null,null,null,null,null,{"$f":"IF(Q54=0,\"\",VLOOKUP(P54,Feeds!$B$9:$AB$109,23,FALSE)*Q54/1000)","v":""},{"$f":"IF(Q54=0,\"\",VLOOKUP(P54,Feeds!$B$9:$AB$109,24,FALSE))","v":""},{"$f":"IF(Q54=\"\",\"\",Q54*VLOOKUP(P54,Feeds!$B$9:$AB$109,25,FALSE))","v":""},{"$f":"IF(Q54=\"\",\"\",Q54*VLOOKUP(P54,Feeds!$B$9:$AB$109,26,FALSE))","v":""},{"$f":"IF(Q54=\"\",\"\",Q54*VLOOKUP(P54,Feeds!$B$9:$AB$109,27,FALSE))","v":""},0,null,null,null,null,null,null,null,{"$f":"IF(AD54=0,\"\",VLOOKUP(AC54,Feeds!$B$9:$AB$109,23,FALSE)*AD54/1000)","v":""},{"$f":"IF(AD54=0,\"\",VLOOKUP(AC54,Feeds!$B$9:$AB$109,24,FALSE))","v":""},{"$f":"IF(AD54=\"\",\"\",AD54*VLOOKUP(AC54,Feeds!$B$9:$AB$109,25,FALSE))","v":""},{"$f":"IF(AD54=\"\",\"\",AD54*VLOOKUP(AC54,Feeds!$B$9:$AB$109,26,FALSE))","v":""},{"$f":"IF(AD54=\"\",\"\",AD54*VLOOKUP(AC54,Feeds!$B$9:$AB$109,27,FALSE))","v":""},0,null,null,null,null,null,null,null,{"$f":"IF(AQ54=0,\"\",VLOOKUP(AP54,Feeds!$B$9:$AB$109,23,FALSE)*AQ54/1000)","v":""},{"$f":"IF(AQ54=0,\"\",VLOOKUP(AP54,Feeds!$B$9:$AB$109,24,FALSE))","v":""},{"$f":"IF(AQ54=\"\",\"\",AQ54*VLOOKUP(AP54,Feeds!$B$9:$AB$109,25,FALSE))","v":""},{"$f":"IF(AQ54=\"\",\"\",AQ54*VLOOKUP(AP54,Feeds!$B$9:$AB$109,26,FALSE))","v":""},{"$f":"IF(AQ54=\"\",\"\",AQ54*VLOOKUP(AP54,Feeds!$B$9:$AB$109,27,FALSE))","v":""},0,null,null,null,null,null,null,null,{"$f":"IF(BD54=0,\"\",VLOOKUP(BC54,Feeds!$B$9:$AB$109,23,FALSE)*BD54/1000)","v":""},{"$f":"IF(BD54=0,\"\",VLOOKUP(BC54,Feeds!$B$9:$AB$109,24,FALSE))","v":""},{"$f":"IF(BD54=\"\",\"\",BD54*VLOOKUP(BC54,Feeds!$B$9:$AB$109,25,FALSE))","v":""},{"$f":"IF(BD54=\"\",\"\",BD54*VLOOKUP(BC54,Feeds!$B$9:$AB$109,26,FALSE))","v":""},{"$f":"IF(BD54=\"\",\"\",BD54*VLOOKUP(BC54,Feeds!$B$9:$AB$109,27,FALSE))","v":""},0,null,null,null,null,null,null,null,{"$f":"IF(BQ54=0,\"\",VLOOKUP(BP54,Feeds!$B$9:$AB$109,23,FALSE)*BQ54/1000)","v":""},{"$f":"IF(BQ54=0,\"\",VLOOKUP(BP54,Feeds!$B$9:$AB$109,24,FALSE))","v":""},{"$f":"IF(BQ54=\"\",\"\",BQ54*VLOOKUP(BP54,Feeds!$B$9:$AB$109,25,FALSE))","v":""},{"$f":"IF(BQ54=\"\",\"\",BQ54*VLOOKUP(BP54,Feeds!$B$9:$AB$109,26,FALSE))","v":""},{"$f":"IF(BQ54=\"\",\"\",BQ54*VLOOKUP(BP54,Feeds!$B$9:$AB$109,27,FALSE))","v":""},0]
[null,null,null,null,{"$f":"IF(D55=0,\"\",VLOOKUP(C55,Feeds!$B$9:$AB$109,23,FALSE)*D55/1000)","v":""},{"$f":"IF(D55=0,\"\",VLOOKUP(C55,Feeds!$B$9:$AB$109,24,FALSE))","v":""},{"$f":"IF(D55=\"\",\"\",D55*VLOOKUP(C55,Feeds!$B$9:$AB$109,25,FALSE))","v":""},{"$f":"IF(D55=\"\",\"\",D55*VLOOKUP(C55,Feeds!$B$9:$AB$109,26,FALSE))","v":""},{"$f":"IF(D55=\"\",\"\",D55*VLOOKUP(C55,Feeds!$B$9:$AB$109,27,FALSE))","v":""},0,null,null,null,null,null,null,null,{"$f":"IF(Q55=0,\"\",VLOOKUP(P55,Feeds!$B$9:$AB$109,23,FALSE)*Q55/1000)","v":""},{"$f":"IF(Q55=0,\"\",VLOOKUP(P55,Feeds!$B$9:$AB$109,24,FALSE))","v":""},{"$f":"IF(Q55=\"\",\"\",Q55*VLOOKUP(P55,Feeds!$B$9:$AB$109,25,FALSE))","v":""},{"$f":"IF(Q55=\"\",\"\",Q55*VLOOKUP(P55,Feeds!$B$9:$AB$109,26,FALSE))","v":""},{"$f":"IF(Q55=\"\",\"\",Q55*VLOOKUP(P55,Feeds!$B$9:$AB$109,27,FALSE))","v":""},{"$f":"IF(Q55=\"\",0,R55*S55/100)","v":0},null,null,null,null,null,null,null,{"$f":"IF(AD55=0,\"\",VLOOKUP(AC55,Feeds!$B$9:$AB$109,23,FALSE)*AD55/1000)","v":""},{"$f":"IF(AD55=0,\"\",VLOOKUP(AC55,Feeds!$B$9:$AB$109,24,FALSE))","v":""},{"$f":"IF(AD55=\"\",\"\",AD55*VLOOKUP(AC55,Feeds!$B$9:$AB$109,25,FALSE))","v":""},{"$f":"IF(AD55=\"\",\"\",AD55*VLOOKUP(AC55,Feeds!$B$9:$AB$109,26,FALSE))","v":""},{"$f":"IF(AD55=\"\",\"\",AD55*VLOOKUP(AC55,Feeds!$B$9:$AB$109,27,FALSE))","v":""},0,null,null,null,null,null,null,null,{"$f":"IF(AQ55=0,\"\",VLOOKUP(AP55,Feeds!$B$9:$AB$109,23,FALSE)*AQ55/1000)","v":""},{"$f":"IF(AQ55=0,\"\",VLOOKUP(AP55,Feeds!$B$9:$AB$109,24,FALSE))","v":""},{"$f":"IF(AQ55=\"\",\"\",AQ55*VLOOKUP(AP55,Feeds!$B$9:$AB$109,25,FALSE))","v":""},{"$f":"IF(AQ55=\"\",\"\",AQ55*VLOOKUP(AP55,Feeds!$B$9:$AB$109,26,FALSE))","v":""},{"$f":"IF(AQ55=\"\",\"\",AQ55*VLOOKUP(AP55,Feeds!$B$9:$AB$109,27,FALSE))","v":""},0,null,null,null,null,null,null,null,{"$f":"IF(BD55=0,\"\",VLOOKUP(BC55,Feeds!$B$9:$AB$109,23,FALSE)*BD55/1000)","v":""},{"$f":"IF(BD55=0,\"\",VLOOKUP(BC55,Feeds!$B$9:$AB$109,24,FALSE))","v":""},{"$f":"IF(BD55=\"\",\"\",BD55*VLOOKUP(BC55,Feeds!$B$9:$AB$109,25,FALSE))","v":""},{"$f":"IF(BD55=\"\",\"\",BD55*VLOOKUP(BC55,Feeds!$B$9:$AB$109,26,FALSE))","v":""},{"$f":"IF(BD55=\"\",\"\",BD55*VLOOKUP(BC55,Feeds!$B$9:$AB$109,27,FALSE))","v":""},0,null,null,null,null,null,null,null,{"$f":"IF(BQ55=0,\"\",VLOOKUP(BP55,Feeds!$B$9:$AB$109,23,FALSE)*BQ55/1000)","v":""},{"$f":"IF(BQ55=0,\"\",VLOOKUP(BP55,Feeds!$B$9:$AB$109,24,FALSE))","v":""},{"$f":"IF(BQ55=\"\",\"\",BQ55*VLOOKUP(BP55,Feeds!$B$9:$AB$109,25,FALSE))","v":""},{"$f":"IF(BQ55=\"\",\"\",BQ55*VLOOKUP(BP55,Feeds!$B$9:$AB$109,26,FALSE))","v":""},{"$f":"IF(BQ55=\"\",\"\",BQ55*VLOOKUP(BP55,Feeds!$B$9:$AB$109,27,FALSE))","v":""},0]
[null,null,null,null,{"$f":"IF(D56=0,\"\",VLOOKUP(C56,Feeds!$B$9:$AB$109,23,FALSE)*D56/1000)","v":""},{"$f":"IF(D56=0,\"\",VLOOKUP(C56,Feeds!$B$9:$AB$109,24,FALSE))","v":""},{"$f":"IF(D56=\"\",\"\",D56*VLOOKUP(C56,Feeds!$B$9:$AB$109,25,FALSE))","v":""},{"$f":"IF(D56=\"\",\"\",D56*VLOOKUP(C56,Feeds!$B$9:$AB$109,26,FALSE))","v":""},{"$f":"IF(D56=\"\",\"\",D56*VLOOKUP(C56,Feeds!$B$9:$AB$109,27,FALSE))","v":""},0,null,null,null,null,null,null,null,{"$f":"IF(Q56=0,\"\",VLOOKUP(P56,Feeds!$B$9:$AB$109,23,FALSE)*Q56/1000)","v":""},{"$f":"IF(Q56=0,\"\",VLOOKUP(P56,Feeds!$B$9:$AB$109,24,FALSE))","v":""},{"$f":"IF(Q56=\"\",\"\",Q56*VLOOKUP(P56,Feeds!$B$9:$AB$109,25,FALSE))","v":""},{"$f":"IF(Q56=\"\",\"\",Q56*VLOOKUP(P56,Feeds!$B$9:$AB$109,26,FALSE))","v":""},{"$f":"IF(Q56=\"\",\"\",Q56*VLOOKUP(P56,Feeds!$B$9:$AB$109,27,FALSE))","v":""},0,null,null,null,null,null,null,null,{"$f":"IF(AD56=0,\"\",VLOOKUP(AC56,Feeds!$B$9:$AB$109,23,FALSE)*AD56/1000)","v":""},{"$f":"IF(AD56=0,\"\",VLOOKUP(AC56,Feeds!$B$9:$AB$109,24,FALSE))","v":""},{"$f":"IF(AD56=\"\",\"\",AD56*VLOOKUP(AC56,Feeds!$B$9:$AB$109,25,FALSE))","v":""},{"$f":"IF(AD56=\"\",\"\",AD56*VLOOKUP(AC56,Feeds!$B$9:$AB$109,26,FALSE))","v":""},{"$f":"IF(AD56=\"\",\"\",AD56*VLOOKUP(AC56,Feeds!$B$9:$AB$109,27,FALSE))","v":""},0,null,null,null,null,null,null,null,{"$f":"IF(AQ56=0,\"\",VLOOKUP(AP56,Feeds!$B$9:$AB$109,23,FALSE)*AQ56/1000)","v":""},{"$f":"IF(AQ56=0,\"\",VLOOKUP(AP56,Feeds!$B$9:$AB$109,24,FALSE))","v":""},{"$f":"IF(AQ56=\"\",\"\",AQ56*VLOOKUP(AP56,Feeds!$B$9:$AB$109,25,FALSE))","v":""},{"$f":"IF(AQ56=\"\",\"\",AQ56*VLOOKUP(AP56,Feeds!$B$9:$AB$109,26,FALSE))","v":""},{"$f":"IF(AQ56=\"\",\"\",AQ56*VLOOKUP(AP56,Feeds!$B$9:$AB$109,27,FALSE))","v":""},0,null,null,null,null,null,null,null,{"$f":"IF(BD56=0,\"\",VLOOKUP(BC56,Feeds!$B$9:$AB$109,23,FALSE)*BD56/1000)","v":""},{"$f":"IF(BD56=0,\"\",VLOOKUP(BC56,Feeds!$B$9:$AB$109,24,FALSE))","v":""},{"$f":"IF(BD56=\"\",\"\",BD56*VLOOKUP(BC56,Feeds!$B$9:$AB$109,25,FALSE))","v":""},{"$f":"IF(BD56=\"\",\"\",BD56*VLOOKUP(BC56,Feeds!$B$9:$AB$109,26,FALSE))","v":""},{"$f":"IF(BD56=\"\",\"\",BD56*VLOOKUP(BC56,Feeds!$B$9:$AB$109,27,FALSE))","v":""},0,null,null,null,null,null,null,null,{"$f":"IF(BQ56=0,\"\",VLOOKUP(BP56,Feeds!$B$9:$AB$109,23,FALSE)*BQ56/1000)","v":""},{"$f":"IF(BQ56=0,\"\",VLOOKUP(BP56,Feeds!$B$9:$AB$109,24,FALSE))","v":""},{"$f":"IF(BQ56=\"\",\"\",BQ56*VLOOKUP(BP56,Feeds!$B$9:$AB$109,25,FALSE))","v":""},{"$f":"IF(BQ56=\"\",\"\",BQ56*VLOOKUP(BP56,Feeds!$B$9:$AB$109,26,FALSE))","v":""},{"$f":"IF(BQ56=\"\",\"\",BQ56*VLOOKUP(BP56,Feeds!$B$9:$AB$109,27,FALSE))","v":""},0]
[null,null,null,null,{"$f":"IF(D57=0,\"\",VLOOKUP(C57,Feeds!$B$9:$AB$109,23,FALSE)*D57/1000)","v":""},{"$f":"IF(D57=0,\"\",VLOOKUP(C57,Feeds!$B$9:$AB$109,24,FALSE))","v":""},{"$f":"IF(D57=\"\",\"\",D57*VLOOKUP(C57,Feeds!$B$9:$AB$109,25,FALSE))","v":""},{"$f":"IF(D57=\"\",\"\",D57*VLOOKUP(C57,Feeds!$B$9:$AB$109,26,FALSE))","v":""},{"$f":"IF(D57=\"\",\"\",D57*VLOOKUP(C57,Feeds!$B$9:$AB$109,27,FALSE))","v":""},0,null,null,null,null,null,null,null,{"$f":"IF(Q57=0,\"\",VLOOKUP(P57,Feeds!$B$9:$AB$109,23,FALSE)*Q57/1000)","v":""},{"$f":"IF(Q57=0,\"\",VLOOKUP(P57,Feeds!$B$9:$AB$109,24,FALSE))","v":""},{"$f":"IF(Q57=\"\",\"\",Q57*VLOOKUP(P57,Feeds!$B$9:$AB$109,25,FALSE))","v":""},{"$f":"IF(Q57=\"\",\"\",Q57*VLOOKUP(P57,Feeds!$B$9:$AB$109,26,FALSE))","v":""},{"$f":"IF(Q57=\"\",\"\",Q57*VLOOKUP(P57,Feeds!$B$9:$AB$109,27,FALSE))","v":""},0,null,null,null,null,null,null,null,{"$f":"IF(AD57=0,\"\",VLOOKUP(AC57,Feeds!$B$9:$AB$109,23,FALSE)*AD57/1000)","v":""},{"$f":"IF(AD57=0,\"\",VLOOKUP(AC57,Feeds!$B$9:$AB$109,24,FALSE))","v":""},{"$f":"IF(AD57=\"\",\"\",AD57*VLOOKUP(AC57,Feeds!$B$9:$AB$109,25,FALSE))","v":""},{"$f":"IF(AD57=\"\",\"\",AD57*VLOOKUP(AC57,Feeds!$B$9:$AB$109,26,FALSE))","v":""},{"$f":"IF(AD57=\"\",\"\",AD57*VLOOKUP(AC57,Feeds!$B$9:$AB$109,27,FALSE))","v":""},0,null,null,null,null,null,null,null,{"$f":"IF(AQ57=0,\"\",VLOOKUP(AP57,Feeds!$B$9:$AB$109,23,FALSE)*AQ57/1000)","v":""},{"$f":"IF(AQ57=0,\"\",VLOOKUP(AP57,Feeds!$B$9:$AB$109,24,FALSE))","v":""},{"$f":"IF(AQ57=\"\",\"\",AQ57*VLOOKUP(AP57,Feeds!$B$9:$AB$109,25,FALSE))","v":""},{"$f":"IF(AQ57=\"\",\"\",AQ57*VLOOKUP(AP57,Feeds!$B$9:$AB$109,26,FALSE))","v":""},{"$f":"IF(AQ57=\"\",\"\",AQ57*VLOOKUP(AP57,Feeds!$B$9:$AB$109,27,FALSE))","v":""},0,null,null,null,null,null,null,null,{"$f":"IF(BD57=0,\"\",VLOOKUP(BC57,Feeds!$B$9:$AB$109,23,FALSE)*BD57/1000)","v":""},{"$f":"IF(BD57=0,\"\",VLOOKUP(BC57,Feeds!$B$9:$AB$109,24,FALSE))","v":""},{"$f":"IF(BD57=\"\",\"\",BD57*VLOOKUP(BC57,Feeds!$B$9:$AB$109,25,FALSE))","v":""},{"$f":"IF(BD57=\"\",\"\",BD57*VLOOKUP(BC57,Feeds!$B$9:$AB$109,26,FALSE))","v":""},{"$f":"IF(BD57=\"\",\"\",BD57*VLOOKUP(BC57,Feeds!$B$9:$AB$109,27,FALSE))","v":""},0,null,null,null,null,null,null,null,{"$f":"IF(BQ57=0,\"\",VLOOKUP(BP57,Feeds!$B$9:$AB$109,23,FALSE)*BQ57/1000)","v":""},{"$f":"IF(BQ57=0,\"\",VLOOKUP(BP57,Feeds!$B$9:$AB$109,24,FALSE))","v":""},{"$f":"IF(BQ57=\"\",\"\",BQ57*VLOOKUP(BP57,Feeds!$B$9:$AB$109,25,FALSE))","v":""},{"$f":"IF(BQ57=\"\",\"\",BQ57*VLOOKUP(BP57,Feeds!$B$9:$AB$109,26,FALSE))","v":""},{"$f":"IF(BQ57=\"\",\"\",BQ57*VLOOKUP(BP57,Feeds!$B$9:$AB$109,27,FALSE))","v":""},0]
[null,null,"Kokku päevas",null,{"$f":"SUM(E43:E57)","v":0},null,{"$f":"SUM(G43:G57)","v":0},{"$f":"SUM(H43:H57)","v":0},{"$f":"SUM(I43:I57)","v":0},{"$f":"SUM(J43:J57)","v":0},null,null,null,null,null,"Kokku päevas",null,{"$f":"SUM(R43:R57)","v":0},null,{"$f":"SUM(T43:T57)","v":0},{"$f":"SUM(U43:U57)","v":0},{"$f":"SUM(V43:V57)","v":0},{"$f":"SUM(W43:W57)","v":0},null,null,null,null,null,"Kokku päevas",null,{"$f":"SUM(AE43:AE57)","v":0},null,{"$f":"SUM(AG43:AG57)","v":0},{"$f":"SUM(AH43:AH57)","v":0},{"$f":"SUM(AI43:AI57)","v":0},{"$f":"SUM(AJ43:AJ57)","v":0},null,null,null,null,null,"Kokku päevas",null,{"$f":"SUM(AR43:AR57)","v":0},null,{"$f":"SUM(AT43:AT57)","v":0},{"$f":"SUM(AU43:AU57)","v":0},{"$f":"SUM(AV43:AV57)","v":0},{"$f":"SUM(AW43:AW57)","v":0},null,null,null,null,null,"Kokku päevas",null,{"$f":"SUM(BE43:BE57)","v":0},null,{"$f":"SUM(BG43:BG57)","v":0},{"$f":"SUM(BH43:BH57)","v":0},{"$f":"SUM(BI43:BI57)","v":0},{"$f":"SUM(BJ43:BJ57)","v":0},null,null,null,null,null,"Kokku päevas",null,{"$f":"SUM(BR43:BR57)","v":0},null,{"$f":"SUM(BT43:BT57)","v":0},{"$f":"SUM(BU43:BU57)","v":0},{"$f":"SUM(BV43:BV57)","v":0},{"$f":"SUM(BW43:BW57)","v":0}]
[null,null,"Kokku perioodis",null,{"$f":"E58*L42*(1-N42/100)","v":0},{"$f":"IF(J59=0,0,J59*100/E59)","v":0},{"$f":"G58*L42*(1-N42/100)","v":0},{"$f":"H58*L42*(1-N42/100)","v":0},{"$f":"I58*L42*(1-N42/100)","v":0},{"$f":"J58*L42*(1-N42/100)","v":0},null,null,null,null,null,"Kokku perioodis",null,{"$f":"R58*Y42*(1-AA42/100)","v":0},{"$f":"IF(W59=0,0,W59*100/R59)","v":0},{"$f":"T58*Y42*(1-AA42/100)","v":0},{"$f":"U58*Y42*(1-AA42/100)","v":0},{"$f":"V58*Y42*(1-AA42/100)","v":0},{"$f":"W58*Y42*(1-AA42/100)","v":0},null,null,null,null,null,"Kokku perioodis",null,{"$f":"AE58*AL42*(1-AN42/100)","v":0},{"$f":"IF(AJ59=0,0,AJ59*100/AE59)","v":0},{"$f":"AG58*AL42*(1-AN42/100)","v":0},{"$f":"AH58*AL42*(1-AN42/100)","v":0},{"$f":"AI58*AL42*(1-AN42/100)","v":0},{"$f":"AJ58*AL42*(1-AN42/100)","v":0},null,null,null,null,null,"Kokku perioodis",null,{"$f":"AR58*AY42*(1-BA42/100)","v":0},{"$f":"IF(AW59=0,0,AW59*100/AR59)","v":0},{"$f":"AT58*AY42*(1-BA42/100)","v":0},{"$f":"AU58*AY42*(1-BA42/100)","v":0},{"$f":"AV58*AY42*(1-BA42/100)","v":0},{"$f":"AW58*AY42*(1-BA42/100)","v":0},null,null,null,null,null,"Kokku perioodis",null,{"$f":"BE58*BL42*(1-BN42/100)","v":0},{"$f":"IF(BJ59=0,0,BJ59*100/BE59)","v":0},{"$f":"BG58*BL42*(1-BN42/100)","v":0},{"$f":"BH58*BL42*(1-BN42/100)","v":0},{"$f":"BI58*BL42*(1-BN42/100)","v":0},{"$f":"BJ58*BL42*(1-BN42/100)","v":0},null,null,null,null,null,"Kokku perioodis",null,{"$f":"BR58*BY42*(1-CA42/100)","v":0},{"$f":"IF(BW59=0,0,BW59*100/BR59)","v":0},{"$f":"BT58*BY42*(1-CA42/100)","v":0},{"$f":"BU58*BY42*(1-CA42/100)","v":0},{"$f":"BV58*BY42*(1-CA42/100)","v":0},{"$f":"BW58*BY42*(1-CA42/100)","v":0}]
[]
[null,null,"0 energiabilansi periood (0EB)"]
[null,null,"0EB1",null,null,null,null,null,null,null,null,"Päevi grupis",null,"TRSS kadu, %",null,"Enne seemendamist",null,null,null,null,null,null,null,null,"Päevi grupis",null,"TRSS kadu, %",null,"Enne realiseerimist",null,null,null,null,null,null,null,null,"Päevi grupis",null,"TRSS kadu, %",null,null,null,null,null,null,null,null,null,null,null,null,null,null,null,null,null,null,null,null,null,null,null,null,null,null,null,"Laktatsiooni lõpp",null,null,null,null,null,null,null,null,"Päevi grupis",null,"TRSS kadu, %"]
[null,null,"Söödad (s.h. mineraalsöödad)","Kogus kg/päev","KA kg/päev","KA seeduvus %","TP   g/päev","P g/päev","K g/päev",null,null,null,null,null,null,"Söödad (s.h. mineraalsöödad)","Kogus kg/päev","KA kg/päev","KA seeduvus %","TP   g/päev","P g/päev","K g/päev",null,null,null,null,null,null,"Söödad (s.h. mineraalsöödad)","Kogus kg/päev","KA kg/päev","KA seeduvus %","TP   g/päev","P g/päev","K g/päev",null,null,null,null,null,null,null,null,null,null,null,null,null,null,null,null,null,null,null,null,null,null,null,null,null,null,null,null,null,null,null,null,"Söödad (s.h. mineraalsöödad)","Kogus kg/päev","KA kg/päev","KA seeduvus %","TP   g/päev","P g/päev","K g/päev"]
[null,null,null,null,{"$f":"IF(D64=0,\"\",VLOOKUP(C64,Feeds!$B$9:$AB$109,23,FALSE)*D64/1000)","v":""},{"$f":"IF(D64=0,\"\",VLOOKUP(C64,Feeds!$B$9:$AB$109,24,FALSE))","v":""},{"$f":"IF(D64=\"\",\"\",D64*VLOOKUP(C64,Feeds!$B$9:$AB$109,25,FALSE))","v":""},{"$f":"IF(D64=\"\",\"\",D64*VLOOKUP(C64,Feeds!$B$9:$AB$109,26,FALSE))","v":""},{"$f":"IF(D64=\"\",\"\",D64*VLOOKUP(C64,Feeds!$B$9:$AB$109,27,FALSE))","v":""},{"$f":"IF(D64=\"\",0,E64*F64/100)","v":0},null,null,null,null,null,null,null,{"$f":"IF(Q64=0,\"\",VLOOKUP(P64,Feeds!$B$9:$AB$109,23,FALSE)*Q64/1000)","v":""},{"$f":"IF(Q64=0,\"\",VLOOKUP(P64,Feeds!$B$9:$AB$109,24,FALSE))","v":""},{"$f":"IF(Q64=\"\",\"\",Q64*VLOOKUP(P64,Feeds!$B$9:$AB$109,25,FALSE))","v":""},{"$f":"IF(Q64=\"\",\"\",Q64*VLOOKUP(P64,Feeds!$B$9:$AB$109,26,FALSE))","v":""},{"$f":"IF(Q64=\"\",\"\",Q64*VLOOKUP(P64,Feeds!$B$9:$AB$109,27,FALSE))","v":""},{"$f":"IF(Q64=\"\",0,R64*S64/100)","v":0},null,null,null,null,null,null,null,{"$f":"IF(AD64=0,\"\",VLOOKUP(AC64,Feeds!$B$9:$AB$109,23,FALSE)*AD64/1000)","v":""},{"$f":"IF(AD64=0,\"\",VLOOKUP(AC64,Feeds!$B$9:$AB$109,24,FALSE))","v":""},{"$f":"IF(AD64=\"\",\"\",AD64*VLOOKUP(AC64,Feeds!$B$9:$AB$109,25,FALSE))","v":""},{"$f":"IF(AD64=\"\",\"\",AD64*VLOOKUP(AC64,Feeds!$B$9:$AB$109,26,FALSE))","v":""},{"$f":"IF(AD64=\"\",\"\",AD64*VLOOKUP(AC64,Feeds!$B$9:$AB$109,27,FALSE))","v":""},{"$f":"IF(AD64=\"\",0,AE64*AF64/100)","v":0},null,null,null,null,null,null,null,null,null,null,null,null,null,null,null,null,null,null,null,null,null,null,null,null,null,null,null,null,null,null,null,null,null,{"$f":"IF(BQ64=0,\"\",VLOOKUP(BP64,Feeds!$B$9:$AB$109,23,FALSE)*BQ64/1000)","v":""},{"$f":"IF(BQ64=0,\"\",VLOOKUP(BP64,Feeds!$B$9:$AB$109,24,FALSE))","v":""},{"$f":"IF(BQ64=\"\",\"\",BQ64*VLOOKUP(BP64,Feeds!$B$9:$AB$109,25,FALSE))","v":""},{"$f":"IF(BQ64=\"\",\"\",BQ64*VLOOKUP(BP64,Feeds!$B$9:$AB$109,26,FALSE))","v":""},{"$f":"IF(BQ64=\"\",\"\",BQ64*VLOOKUP(BP64,Feeds!$B$9:$AB$109,27,FALSE))","v":""},{"$f":"IF(BQ64=\"\",0,BR64*BS64/100)","v":0}]
[null,null,null,null,{"$f":"IF(D65=0,\"\",VLOOKUP(C65,Feeds!$B$9:$AB$109,23,FALSE)*D65/1000)","v":""},{"$f":"IF(D65=0,\"\",VLOOKUP(C65,Feeds!$B$9:$AB$109,24,FALSE))","v":""},{"$f":"IF(D65=\"\",\"\",D65*VLOOKUP(C65,Feeds!$B$9:$AB$109,25,FALSE))","v":""},{"$f":"IF(D65=\"\",\"\",D65*VLOOKUP(C65,Feeds!$B$9:$AB$109,26,FALSE))","v":""},{"$f":"IF(D65=\"\",\"\",D65*VLOOKUP(C65,Feeds!$B$9:$AB$109,27,FALSE))","v":""},0,null,null,null,null,null,null,null,{"$f":"IF(Q65=0,\"\",VLOOKUP(P65,Feeds!$B$9:$AB$109,23,FALSE)*Q65/1000)","v":""},{"$f":"IF(Q65=0,\"\",VLOOKUP(P65,Feeds!$B$9:$AB$109,24,FALSE))","v":""},{"$f":"IF(Q65=\"\",\"\",Q65*VLOOKUP(P65,Feeds!$B$9:$AB$109,25,FALSE))","v":""},{"$f":"IF(Q65=\"\",\"\",Q65*VLOOKUP(P65,Feeds!$B$9:$AB$109,26,FALSE))","v":""},{"$f":"IF(Q65=\"\",\"\",Q65*VLOOKUP(P65,Feeds!$B$9:$AB$109,27,FALSE))","v":""},0,null,null,null,null,null,null,null,{"$f":"IF(AD65=0,\"\",VLOOKUP(AC65,Feeds!$B$9:$AB$109,23,FALSE)*AD65/1000)","v":""},{"$f":"IF(AD65=0,\"\",VLOOKUP(AC65,Feeds!$B$9:$AB$109,24,FALSE))","v":""},{"$f":"IF(AD65=\"\",\"\",AD65*VLOOKUP(AC65,Feeds!$B$9:$AB$109,25,FALSE))","v":""},{"$f":"IF(AD65=\"\",\"\",AD65*VLOOKUP(AC65,Feeds!$B$9:$AB$109,26,FALSE))","v":""},{"$f":"IF(AD65=\"\",\"\",AD65*VLOOKUP(AC65,Feeds!$B$9:$AB$109,27,FALSE))","v":""},0,null,null,null,null,null,null,null,null,null,null,null,null,null,null,null,null,null,null,null,null,null,null,null,null,null,null,null,null,null,null,null,null,null,{"$f":"IF(BQ65=0,\"\",VLOOKUP(BP65,Feeds!$B$9:$AB$109,23,FALSE)*BQ65/1000)","v":""},{"$f":"IF(BQ65=0,\"\",VLOOKUP(BP65,Feeds!$B$9:$AB$109,24,FALSE))","v":""},{"$f":"IF(BQ65=\"\",\"\",BQ65*VLOOKUP(BP65,Feeds!$B$9:$AB$109,25,FALSE))","v":""},{"$f":"IF(BQ65=\"\",\"\",BQ65*VLOOKUP(BP65,Feeds!$B$9:$AB$109,26,FALSE))","v":""},{"$f":"IF(BQ65=\"\",\"\",BQ65*VLOOKUP(BP65,Feeds!$B$9:$AB$109,27,FALSE))","v":""},{"$f":"IF(BQ65=\"\",0,BR65*BS65/100)","v":0}]
[null,null,null,null,{"$f":"IF(D66=0,\"\",VLOOKUP(C66,Feeds!$B$9:$AB$109,23,FALSE)*D66/1000)","v":""},{"$f":"IF(D66=0,\"\",VLOOKUP(C66,Feeds!$B$9:$AB$109,24,FALSE))","v":""},{"$f":"IF(D66=\"\",\"\",D66*VLOOKUP(C66,Feeds!$B$9:$AB$109,25,FALSE))","v":""},{"$f":"IF(D66=\"\",\"\",D66*VLOOKUP(C66,Feeds!$B$9:$AB$109,26,FALSE))","v":""},{"$f":"IF(D66=\"\",\"\",D66*VLOOKUP(C66,Feeds!$B$9:$AB$109,27,FALSE))","v":""},0,null,null,null,null,null,null,null,{"$f":"IF(Q66=0,\"\",VLOOKUP(P66,Feeds!$B$9:$AB$109,23,FALSE)*Q66/1000)","v":""},{"$f":"IF(Q66=0,\"\",VLOOKUP(P66,Feeds!$B$9:$AB$109,24,FALSE))","v":""},{"$f":"IF(Q66=\"\",\"\",Q66*VLOOKUP(P66,Feeds!$B$9:$AB$109,25,FALSE))","v":""},{"$f":"IF(Q66=\"\",\"\",Q66*VLOOKUP(P66,Feeds!$B$9:$AB$109,26,FALSE))","v":""},{"$f":"IF(Q66=\"\",\"\",Q66*VLOOKUP(P66,Feeds!$B$9:$AB$109,27,FALSE))","v":""},0,null,null,null,null,null,null,null,{"$f":"IF(AD66=0,\"\",VLOOKUP(AC66,Feeds!$B$9:$AB$109,23,FALSE)*AD66/1000)","v":""},{"$f":"IF(AD66=0,\"\",VLOOKUP(AC66,Feeds!$B$9:$AB$109,24,FALSE))","v":""},{"$f":"IF(AD66=\"\",\"\",AD66*VLOOKUP(AC66,Feeds!$B$9:$AB$109,25,FALSE))","v":""},{"$f":"IF(AD66=\"\",\"\",AD66*VLOOKUP(AC66,Feeds!$B$9:$AB$109,26,FALSE))","v":""},{"$f":"IF(AD66=\"\",\"\",AD66*VLOOKUP(AC66,Feeds!$B$9:$AB$109,27,FALSE))","v":""},0,null,null,null,null,null,null,null,null,null,null,null,null,null,null,null,null,null,null,null,null,null,null,null,null,null,null,null,null,null,null,null,null,null,{"$f":"IF(BQ66=0,\"\",VLOOKUP(BP66,Feeds!$B$9:$AB$109,23,FALSE)*BQ66/1000)","v":""},{"$f":"IF(BQ66=0,\"\",VLOOKUP(BP66,Feeds!$B$9:$AB$109,24,FALSE))","v":""},{"$f":"IF(BQ66=\"\",\"\",BQ66*VLOOKUP(BP66,Feeds!$B$9:$AB$109,25,FALSE))","v":""},{"$f":"IF(BQ66=\"\",\"\",BQ66*VLOOKUP(BP66,Feeds!$B$9:$AB$109,26,FALSE))","v":""},{"$f":"IF(BQ66=\"\",\"\",BQ66*VLOOKUP(BP66,Feeds!$B$9:$AB$109,27,FALSE))","v":""},0]
[null,null,null,null,{"$f":"IF(D67=0,\"\",VLOOKUP(C67,Feeds!$B$9:$AB$109,23,FALSE)*D67/1000)","v":""},{"$f":"IF(D67=0,\"\",VLOOKUP(C67,Feeds!$B$9:$AB$109,24,FALSE))","v":""},{"$f":"IF(D67=\"\",\"\",D67*VLOOKUP(C67,Feeds!$B$9:$AB$109,25,FALSE))","v":""},{"$f":"IF(D67=\"\",\"\",D67*VLOOKUP(C67,Feeds!$B$9:$AB$109,26,FALSE))","v":""},{"$f":"IF(D67=\"\",\"\",D67*VLOOKUP(C67,Feeds!$B$9:$AB$109,27,FALSE))","v":""},0,null,null,null,null,null,null,null,{"$f":"IF(Q67=0,\"\",VLOOKUP(P67,Feeds!$B$9:$AB$109,23,FALSE)*Q67/1000)","v":""},{"$f":"IF(Q67=0,\"\",VLOOKUP(P67,Feeds!$B$9:$AB$109,24,FALSE))","v":""},{"$f":"IF(Q67=\"\",\"\",Q67*VLOOKUP(P67,Feeds!$B$9:$AB$109,25,FALSE))","v":""},{"$f":"IF(Q67=\"\",\"\",Q67*VLOOKUP(P67,Feeds!$B$9:$AB$109,26,FALSE))","v":""},{"$f":"IF(Q67=\"\",\"\",Q67*VLOOKUP(P67,Feeds!$B$9:$AB$109,27,FALSE))","v":""},0,null,null,null,null,null,null,null,{"$f":"IF(AD67=0,\"\",VLOOKUP(AC67,Feeds!$B$9:$AB$109,23,FALSE)*AD67/1000)","v":""},{"$f":"IF(AD67=0,\"\",VLOOKUP(AC67,Feeds!$B$9:$AB$109,24,FALSE))","v":""},{"$f":"IF(AD67=\"\",\"\",AD67*VLOOKUP(AC67,Feeds!$B$9:$AB$109,25,FALSE))","v":""},{"$f":"IF(AD67=\"\",\"\",AD67*VLOOKUP(AC67,Feeds!$B$9:$AB$109,26,FALSE))","v":""},{"$f":"IF(AD67=\"\",\"\",AD67*VLOOKUP(AC67,Feeds!$B$9:$AB$109,27,FALSE))","v":""},0,null,null,null,null,null,null,null,null,null,null,null,null,null,null,null,null,null,null,null,null,null,null,null,null,null,null,null,null,null,null,null,null,null,{"$f":"IF(BQ67=0,\"\",VLOOKUP(BP67,Feeds!$B$9:$AB$109,23,FALSE)*BQ67/1000)","v":""},{"$f":"IF(BQ67=0,\"\",VLOOKUP(BP67,Feeds!$B$9:$AB$109,24,FALSE))","v":""},{"$f":"IF(BQ67=\"\",\"\",BQ67*VLOOKUP(BP67,Feeds!$B$9:$AB$109,25,FALSE))","v":""},{"$f":"IF(BQ67=\"\",\"\",BQ67*VLOOKUP(BP67,Feeds!$B$9:$AB$109,26,FALSE))","v":""},{"$f":"IF(BQ67=\"\",\"\",BQ67*VLOOKUP(BP67,Feeds!$B$9:$AB$109,27,FALSE))","v":""},0]
[null,null,null,null,{"$f":"IF(D68=0,\"\",VLOOKUP(C68,Feeds!$B$9:$AB$109,23,FALSE)*D68/1000)","v":""},{"$f":"IF(D68=0,\"\",VLOOKUP(C68,Feeds!$B$9:$AB$109,24,FALSE))","v":""},{"$f":"IF(D68=\"\",\"\",D68*VLOOKUP(C68,Feeds!$B$9:$AB$109,25,FALSE))","v":""},{"$f":"IF(D68=\"\",\"\",D68*VLOOKUP(C68,Feeds!$B$9:$AB$109,26,FALSE))","v":""},{"$f":"IF(D68=\"\",\"\",D68*VLOOKUP(C68,Feeds!$B$9:$AB$109,27,FALSE))","v":""},0,null,null,null,null,null,null,null,{"$f":"IF(Q68=0,\"\",VLOOKUP(P68,Feeds!$B$9:$AB$109,23,FALSE)*Q68/1000)","v":""},{"$f":"IF(Q68=0,\"\",VLOOKUP(P68,Feeds!$B$9:$AB$109,24,FALSE))","v":""},{"$f":"IF(Q68=\"\",\"\",Q68*VLOOKUP(P68,Feeds!$B$9:$AB$109,25,FALSE))","v":""},{"$f":"IF(Q68=\"\",\"\",Q68*VLOOKUP(P68,Feeds!$B$9:$AB$109,26,FALSE))","v":""},{"$f":"IF(Q68=\"\",\"\",Q68*VLOOKUP(P68,Feeds!$B$9:$AB$109,27,FALSE))","v":""},0,null,null,null,null,null,null,null,{"$f":"IF(AD68=0,\"\",VLOOKUP(AC68,Feeds!$B$9:$AB$109,23,FALSE)*AD68/1000)","v":""},{"$f":"IF(AD68=0,\"\",VLOOKUP(AC68,Feeds!$B$9:$AB$109,24,FALSE))","v":""},{"$f":"IF(AD68=\"\",\"\",AD68*VLOOKUP(AC68,Feeds!$B$9:$AB$109,25,FALSE))","v":""},{"$f":"IF(AD68=\"\",\"\",AD68*VLOOKUP(AC68,Feeds!$B$9:$AB$109,26,FALSE))","v":""},{"$f":"IF(AD68=\"\",\"\",AD68*VLOOKUP(AC68,Feeds!$B$9:$AB$109,27,FALSE))","v":""},0,null,null,null,null,null,null,null,null,null,null,null,null,null,null,null,null,null,null,null,null,null,null,null,null,null,null,null,null,null,null,null,null,null,{"$f":"IF(BQ68=0,\"\",VLOOKUP(BP68,Feeds!$B$9:$AB$109,23,FALSE)*BQ68/1000)","v":""},{"$f":"IF(BQ68=0,\"\",VLOOKUP(BP68,Feeds!$B$9:$AB$109,24,FALSE))","v":""},{"$f":"IF(BQ68=\"\",\"\",BQ68*VLOOKUP(BP68,Feeds!$B$9:$AB$109,25,FALSE))","v":""},{"$f":"IF(BQ68=\"\",\"\",BQ68*VLOOKUP(BP68,Feeds!$B$9:$AB$109,26,FALSE))","v":""},{"$f":"IF(BQ68=\"\",\"\",BQ68*VLOOKUP(BP68,Feeds!$B$9:$AB$109,27,FALSE))","v":""},0]
[null,null,null,null,{"$f":"IF(D69=0,\"\",VLOOKUP(C69,Feeds!$B$9:$AB$109,23,FALSE)*D69/1000)","v":""},{"$f":"IF(D69=0,\"\",VLOOKUP(C69,Feeds!$B$9:$AB$109,24,FALSE))","v":""},{"$f":"IF(D69=\"\",\"\",D69*VLOOKUP(C69,Feeds!$B$9:$AB$109,25,FALSE))","v":""},{"$f":"IF(D69=\"\",\"\",D69*VLOOKUP(C69,Feeds!$B$9:$AB$109,26,FALSE))","v":""},{"$f":"IF(D69=\"\",\"\",D69*VLOOKUP(C69,Feeds!$B$9:$AB$109,27,FALSE))","v":""},0,null,null,null,null,null,null,null,{"$f":"IF(Q69=0,\"\",VLOOKUP(P69,Feeds!$B$9:$AB$109,23,FALSE)*Q69/1000)","v":""},{"$f":"IF(Q69=0,\"\",VLOOKUP(P69,Feeds!$B$9:$AB$109,24,FALSE))","v":""},{"$f":"IF(Q69=\"\",\"\",Q69*VLOOKUP(P69,Feeds!$B$9:$AB$109,25,FALSE))","v":""},{"$f":"IF(Q69=\"\",\"\",Q69*VLOOKUP(P69,Feeds!$B$9:$AB$109,26,FALSE))","v":""},{"$f":"IF(Q69=\"\",\"\",Q69*VLOOKUP(P69,Feeds!$B$9:$AB$109,27,FALSE))","v":""},0,null,null,null,null,null,null,null,{"$f":"IF(AD69=0,\"\",VLOOKUP(AC69,Feeds!$B$9:$AB$109,23,FALSE)*AD69/1000)","v":""},{"$f":"IF(AD69=0,\"\",VLOOKUP(AC69,Feeds!$B$9:$AB$109,24,FALSE))","v":""},{"$f":"IF(AD69=\"\",\"\",AD69*VLOOKUP(AC69,Feeds!$B$9:$AB$109,25,FALSE))","v":""},{"$f":"IF(AD69=\"\",\"\",AD69*VLOOKUP(AC69,Feeds!$B$9:$AB$109,26,FALSE))","v":""},{"$f":"IF(AD69=\"\",\"\",AD69*VLOOKUP(AC69,Feeds!$B$9:$AB$109,27,FALSE))","v":""},0,null,null,null,null,null,null,null,null,null,null,null,null,null,null,null,null,null,null,null,null,null,null,null,null,null,null,null,null,null,null,null,null,null,{"$f":"IF(BQ69=0,\"\",VLOOKUP(BP69,Feeds!$B$9:$AB$109,23,FALSE)*BQ69/1000)","v":""},{"$f":"IF(BQ69=0,\"\",VLOOKUP(BP69,Feeds!$B$9:$AB$109,24,FALSE))","v":""},{"$f":"IF(BQ69=\"\",\"\",BQ69*VLOOKUP(BP69,Feeds!$B$9:$AB$109,25,FALSE))","v":""},{"$f":"IF(BQ69=\"\",\"\",BQ69*VLOOKUP(BP69,Feeds!$B$9:$AB$109,26,FALSE))","v":""},{"$f":"IF(BQ69=\"\",\"\",BQ69*VLOOKUP(BP69,Feeds!$B$9:$AB$109,27,FALSE))","v":""},0]
[null,null,null,null,{"$f":"IF(D70=0,\"\",VLOOKUP(C70,Feeds!$B$9:$AB$109,23,FALSE)*D70/1000)","v":""},{"$f":"IF(D70=0,\"\",VLOOKUP(C70,Feeds!$B$9:$AB$109,24,FALSE))","v":""},{"$f":"IF(D70=\"\",\"\",D70*VLOOKUP(C70,Feeds!$B$9:$AB$109,25,FALSE))","v":""},{"$f":"IF(D70=\"\",\"\",D70*VLOOKUP(C70,Feeds!$B$9:$AB$109,26,FALSE))","v":""},{"$f":"IF(D70=\"\",\"\",D70*VLOOKUP(C70,Feeds!$B$9:$AB$109,27,FALSE))","v":""},0,null,null,null,null,null,null,null,{"$f":"IF(Q70=0,\"\",VLOOKUP(P70,Feeds!$B$9:$AB$109,23,FALSE)*Q70/1000)","v":""},{"$f":"IF(Q70=0,\"\",VLOOKUP(P70,Feeds!$B$9:$AB$109,24,FALSE))","v":""},{"$f":"IF(Q70=\"\",\"\",Q70*VLOOKUP(P70,Feeds!$B$9:$AB$109,25,FALSE))","v":""},{"$f":"IF(Q70=\"\",\"\",Q70*VLOOKUP(P70,Feeds!$B$9:$AB$109,26,FALSE))","v":""},{"$f":"IF(Q70=\"\",\"\",Q70*VLOOKUP(P70,Feeds!$B$9:$AB$109,27,FALSE))","v":""},0,null,null,null,null,null,null,null,{"$f":"IF(AD70=0,\"\",VLOOKUP(AC70,Feeds!$B$9:$AB$109,23,FALSE)*AD70/1000)","v":""},{"$f":"IF(AD70=0,\"\",VLOOKUP(AC70,Feeds!$B$9:$AB$109,24,FALSE))","v":""},{"$f":"IF(AD70=\"\",\"\",AD70*VLOOKUP(AC70,Feeds!$B$9:$AB$109,25,FALSE))","v":""},{"$f":"IF(AD70=\"\",\"\",AD70*VLOOKUP(AC70,Feeds!$B$9:$AB$109,26,FALSE))","v":""},{"$f":"IF(AD70=\"\",\"\",AD70*VLOOKUP(AC70,Feeds!$B$9:$AB$109,27,FALSE))","v":""},0,null,null,null,null,null,null,null,null,null,null,null,null,null,null,null,null,null,null,null,null,null,null,null,null,null,null,null,null,null,null,null,null,null,{"$f":"IF(BQ70=0,\"\",VLOOKUP(BP70,Feeds!$B$9:$AB$109,23,FALSE)*BQ70/1000)","v":""},{"$f":"IF(BQ70=0,\"\",VLOOKUP(BP70,Feeds!$B$9:$AB$109,24,FALSE))","v":""},{"$f":"IF(BQ70=\"\",\"\",BQ70*VLOOKUP(BP70,Feeds!$B$9:$AB$109,25,FALSE))","v":""},{"$f":"IF(BQ70=\"\",\"\",BQ70*VLOOKUP(BP70,Feeds!$B$9:$AB$109,26,FALSE))","v":""},{"$f":"IF(BQ70=\"\",\"\",BQ70*VLOOKUP(BP70,Feeds!$B$9:$AB$109,27,FALSE))","v":""},0]
[null,null,null,null,{"$f":"IF(D71=0,\"\",VLOOKUP(C71,Feeds!$B$9:$AB$109,23,FALSE)*D71/1000)","v":""},{"$f":"IF(D71=0,\"\",VLOOKUP(C71,Feeds!$B$9:$AB$109,24,FALSE))","v":""},{"$f":"IF(D71=\"\",\"\",D71*VLOOKUP(C71,Feeds!$B$9:$AB$109,25,FALSE))","v":""},{"$f":"IF(D71=\"\",\"\",D71*VLOOKUP(C71,Feeds!$B$9:$AB$109,26,FALSE))","v":""},{"$f":"IF(D71=\"\",\"\",D71*VLOOKUP(C71,Feeds!$B$9:$AB$109,27,FALSE))","v":""},0,null,null,null,null,null,null,null,{"$f":"IF(Q71=0,\"\",VLOOKUP(P71,Feeds!$B$9:$AB$109,23,FALSE)*Q71/1000)","v":""},{"$f":"IF(Q71=0,\"\",VLOOKUP(P71,Feeds!$B$9:$AB$109,24,FALSE))","v":""},{"$f":"IF(Q71=\"\",\"\",Q71*VLOOKUP(P71,Feeds!$B$9:$AB$109,25,FALSE))","v":""},{"$f":"IF(Q71=\"\",\"\",Q71*VLOOKUP(P71,Feeds!$B$9:$AB$109,26,FALSE))","v":""},{"$f":"IF(Q71=\"\",\"\",Q71*VLOOKUP(P71,Feeds!$B$9:$AB$109,27,FALSE))","v":""},0,null,null,null,null,null,null,null,{"$f":"IF(AD71=0,\"\",VLOOKUP(AC71,Feeds!$B$9:$AB$109,23,FALSE)*AD71/1000)","v":""},{"$f":"IF(AD71=0,\"\",VLOOKUP(AC71,Feeds!$B$9:$AB$109,24,FALSE))","v":""},{"$f":"IF(AD71=\"\",\"\",AD71*VLOOKUP(AC71,Feeds!$B$9:$AB$109,25,FALSE))","v":""},{"$f":"IF(AD71=\"\",\"\",AD71*VLOOKUP(AC71,Feeds!$B$9:$AB$109,26,FALSE))","v":""},{"$f":"IF(AD71=\"\",\"\",AD71*VLOOKUP(AC71,Feeds!$B$9:$AB$109,27,FALSE))","v":""},0,null,null,null,null,null,null,null,null,null,null,null,null,null,null,null,null,null,null,null,null,null,null,null,null,null,null,null,null,null,null,null,null,null,{"$f":"IF(BQ71=0,\"\",VLOOKUP(BP71,Feeds!$B$9:$AB$109,23,FALSE)*BQ71/1000)","v":""},{"$f":"IF(BQ71=0,\"\",VLOOKUP(BP71,Feeds!$B$9:$AB$109,24,FALSE))","v":""},{"$f":"IF(BQ71=\"\",\"\",BQ71*VLOOKUP(BP71,Feeds!$B$9:$AB$109,25,FALSE))","v":""},{"$f":"IF(BQ71=\"\",\"\",BQ71*VLOOKUP(BP71,Feeds!$B$9:$AB$109,26,FALSE))","v":""},{"$f":"IF(BQ71=\"\",\"\",BQ71*VLOOKUP(BP71,Feeds!$B$9:$AB$109,27,FALSE))","v":""},0]
[null,null,null,null,{"$f":"IF(D72=0,\"\",VLOOKUP(C72,Feeds!$B$9:$AB$109,23,FALSE)*D72/1000)","v":""},{"$f":"IF(D72=0,\"\",VLOOKUP(C72,Feeds!$B$9:$AB$109,24,FALSE))","v":""},{"$f":"IF(D72=\"\",\"\",D72*VLOOKUP(C72,Feeds!$B$9:$AB$109,25,FALSE))","v":""},{"$f":"IF(D72=\"\",\"\",D72*VLOOKUP(C72,Feeds!$B$9:$AB$109,26,FALSE))","v":""},{"$f":"IF(D72=\"\",\"\",D72*VLOOKUP(C72,Feeds!$B$9:$AB$109,27,FALSE))","v":""},0,null,null,null,null,null,null,null,{"$f":"IF(Q72=0,\"\",VLOOKUP(P72,Feeds!$B$9:$AB$109,23,FALSE)*Q72/1000)","v":""},{"$f":"IF(Q72=0,\"\",VLOOKUP(P72,Feeds!$B$9:$AB$109,24,FALSE))","v":""},{"$f":"IF(Q72=\"\",\"\",Q72*VLOOKUP(P72,Feeds!$B$9:$AB$109,25,FALSE))","v":""},{"$f":"IF(Q72=\"\",\"\",Q72*VLOOKUP(P72,Feeds!$B$9:$AB$109,26,FALSE))","v":""},{"$f":"IF(Q72=\"\",\"\",Q72*VLOOKUP(P72,Feeds!$B$9:$AB$109,27,FALSE))","v":""},0,null,null,null,null,null,null,null,{"$f":"IF(AD72=0,\"\",VLOOKUP(AC72,Feeds!$B$9:$AB$109,23,FALSE)*AD72/1000)","v":""},{"$f":"IF(AD72=0,\"\",VLOOKUP(AC72,Feeds!$B$9:$AB$109,24,FALSE))","v":""},{"$f":"IF(AD72=\"\",\"\",AD72*VLOOKUP(AC72,Feeds!$B$9:$AB$109,25,FALSE))","v":""},{"$f":"IF(AD72=\"\",\"\",AD72*VLOOKUP(AC72,Feeds!$B$9:$AB$109,26,FALSE))","v":""},{"$f":"IF(AD72=\"\",\"\",AD72*VLOOKUP(AC72,Feeds!$B$9:$AB$109,27,FALSE))","v":""},0,null,null,null,null,null,null,null,null,null,null,null,null,null,null,null,null,null,null,null,null,null,null,null,null,null,null,null,null,null,null,null,null,null,{"$f":"IF(BQ72=0,\"\",VLOOKUP(BP72,Feeds!$B$9:$AB$109,23,FALSE)*BQ72/1000)","v":""},{"$f":"IF(BQ72=0,\"\",VLOOKUP(BP72,Feeds!$B$9:$AB$109,24,FALSE))","v":""},{"$f":"IF(BQ72=\"\",\"\",BQ72*VLOOKUP(BP72,Feeds!$B$9:$AB$109,25,FALSE))","v":""},{"$f":"IF(BQ72=\"\",\"\",BQ72*VLOOKUP(BP72,Feeds!$B$9:$AB$109,26,FALSE))","v":""},{"$f":"IF(BQ72=\"\",\"\",BQ72*VLOOKUP(BP72,Feeds!$B$9:$AB$109,27,FALSE))","v":""},0]
[null,null,null,null,{"$f":"IF(D73=0,\"\",VLOOKUP(C73,Feeds!$B$9:$AB$109,23,FALSE)*D73/1000)","v":""},{"$f":"IF(D73=0,\"\",VLOOKUP(C73,Feeds!$B$9:$AB$109,24,FALSE))","v":""},{"$f":"IF(D73=\"\",\"\",D73*VLOOKUP(C73,Feeds!$B$9:$AB$109,25,FALSE))","v":""},{"$f":"IF(D73=\"\",\"\",D73*VLOOKUP(C73,Feeds!$B$9:$AB$109,26,FALSE))","v":""},{"$f":"IF(D73=\"\",\"\",D73*VLOOKUP(C73,Feeds!$B$9:$AB$109,27,FALSE))","v":""},0,null,null,null,null,null,null,null,{"$f":"IF(Q73=0,\"\",VLOOKUP(P73,Feeds!$B$9:$AB$109,23,FALSE)*Q73/1000)","v":""},{"$f":"IF(Q73=0,\"\",VLOOKUP(P73,Feeds!$B$9:$AB$109,24,FALSE))","v":""},{"$f":"IF(Q73=\"\",\"\",Q73*VLOOKUP(P73,Feeds!$B$9:$AB$109,25,FALSE))","v":""},{"$f":"IF(Q73=\"\",\"\",Q73*VLOOKUP(P73,Feeds!$B$9:$AB$109,26,FALSE))","v":""},{"$f":"IF(Q73=\"\",\"\",Q73*VLOOKUP(P73,Feeds!$B$9:$AB$109,27,FALSE))","v":""},0,null,null,null,null,null,null,null,{"$f":"IF(AD73=0,\"\",VLOOKUP(AC73,Feeds!$B$9:$AB$109,23,FALSE)*AD73/1000)","v":""},{"$f":"IF(AD73=0,\"\",VLOOKUP(AC73,Feeds!$B$9:$AB$109,24,FALSE))","v":""},{"$f":"IF(AD73=\"\",\"\",AD73*VLOOKUP(AC73,Feeds!$B$9:$AB$109,25,FALSE))","v":""},{"$f":"IF(AD73=\"\",\"\",AD73*VLOOKUP(AC73,Feeds!$B$9:$AB$109,26,FALSE))","v":""},{"$f":"IF(AD73=\"\",\"\",AD73*VLOOKUP(AC73,Feeds!$B$9:$AB$109,27,FALSE))","v":""},{"$f":"IF(AD73=\"\",0,AE73*AF73/100)","v":0},null,null,null,null,null,null,null,null,null,null,null,null,null,null,null,null,null,null,null,null,null,null,null,null,null,null,null,null,null,null,null,null,null,{"$f":"IF(BQ73=0,\"\",VLOOKUP(BP73,Feeds!$B$9:$AB$109,23,FALSE)*BQ73/1000)","v":""},{"$f":"IF(BQ73=0,\"\",VLOOKUP(BP73,Feeds!$B$9:$AB$109,24,FALSE))","v":""},{"$f":"IF(BQ73=\"\",\"\",BQ73*VLOOKUP(BP73,Feeds!$B$9:$AB$109,25,FALSE))","v":""},{"$f":"IF(BQ73=\"\",\"\",BQ73*VLOOKUP(BP73,Feeds!$B$9:$AB$109,26,FALSE))","v":""},{"$f":"IF(BQ73=\"\",\"\",BQ73*VLOOKUP(BP73,Feeds!$B$9:$AB$109,27,FALSE))","v":""},0]
[null,null,null,null,{"$f":"IF(D74=0,\"\",VLOOKUP(C74,Feeds!$B$9:$AB$109,23,FALSE)*D74/1000)","v":""},{"$f":"IF(D74=0,\"\",VLOOKUP(C74,Feeds!$B$9:$AB$109,24,FALSE))","v":""},{"$f":"IF(D74=\"\",\"\",D74*VLOOKUP(C74,Feeds!$B$9:$AB$109,25,FALSE))","v":""},{"$f":"IF(D74=\"\",\"\",D74*VLOOKUP(C74,Feeds!$B$9:$AB$109,26,FALSE))","v":""},{"$f":"IF(D74=\"\",\"\",D74*VLOOKUP(C74,Feeds!$B$9:$AB$109,27,FALSE))","v":""},0,null,null,null,null,null,null,null,{"$f":"IF(Q74=0,\"\",VLOOKUP(P74,Feeds!$B$9:$AB$109,23,FALSE)*Q74/1000)","v":""},{"$f":"IF(Q74=0,\"\",VLOOKUP(P74,Feeds!$B$9:$AB$109,24,FALSE))","v":""},{"$f":"IF(Q74=\"\",\"\",Q74*VLOOKUP(P74,Feeds!$B$9:$AB$109,25,FALSE))","v":""},{"$f":"IF(Q74=\"\",\"\",Q74*VLOOKUP(P74,Feeds!$B$9:$AB$109,26,FALSE))","v":""},{"$f":"IF(Q74=\"\",\"\",Q74*VLOOKUP(P74,Feeds!$B$9:$AB$109,27,FALSE))","v":""},0,null,null,null,null,null,null,null,{"$f":"IF(AD74=0,\"\",VLOOKUP(AC74,Feeds!$B$9:$AB$109,23,FALSE)*AD74/1000)","v":""},{"$f":"IF(AD74=0,\"\",VLOOKUP(AC74,Feeds!$B$9:$AB$109,24,FALSE))","v":""},{"$f":"IF(AD74=\"\",\"\",AD74*VLOOKUP(AC74,Feeds!$B$9:$AB$109,25,FALSE))","v":""},{"$f":"IF(AD74=\"\",\"\",AD74*VLOOKUP(AC74,Feeds!$B$9:$AB$109,26,FALSE))","v":""},{"$f":"IF(AD74=\"\",\"\",AD74*VLOOKUP(AC74,Feeds!$B$9:$AB$109,27,FALSE))","v":""},0,null,null,null,null,null,null,null,null,null,null,null,null,null,null,null,null,null,null,null,null,null,null,null,null,null,null,null,null,null,null,null,null,null,{"$f":"IF(BQ74=0,\"\",VLOOKUP(BP74,Feeds!$B$9:$AB$109,23,FALSE)*BQ74/1000)","v":""},{"$f":"IF(BQ74=0,\"\",VLOOKUP(BP74,Feeds!$B$9:$AB$109,24,FALSE))","v":""},{"$f":"IF(BQ74=\"\",\"\",BQ74*VLOOKUP(BP74,Feeds!$B$9:$AB$109,25,FALSE))","v":""},{"$f":"IF(BQ74=\"\",\"\",BQ74*VLOOKUP(BP74,Feeds!$B$9:$AB$109,26,FALSE))","v":""},{"$f":"IF(BQ74=\"\",\"\",BQ74*VLOOKUP(BP74,Feeds!$B$9:$AB$109,27,FALSE))","v":""},0]
[null,null,null,null,{"$f":"IF(D75=0,\"\",VLOOKUP(C75,Feeds!$B$9:$AB$109,23,FALSE)*D75/1000)","v":""},{"$f":"IF(D75=0,\"\",VLOOKUP(C75,Feeds!$B$9:$AB$109,24,FALSE))","v":""},{"$f":"IF(D75=\"\",\"\",D75*VLOOKUP(C75,Feeds!$B$9:$AB$109,25,FALSE))","v":""},{"$f":"IF(D75=\"\",\"\",D75*VLOOKUP(C75,Feeds!$B$9:$AB$109,26,FALSE))","v":""},{"$f":"IF(D75=\"\",\"\",D75*VLOOKUP(C75,Feeds!$B$9:$AB$109,27,FALSE))","v":""},0,null,null,null,null,null,null,null,{"$f":"IF(Q75=0,\"\",VLOOKUP(P75,Feeds!$B$9:$AB$109,23,FALSE)*Q75/1000)","v":""},{"$f":"IF(Q75=0,\"\",VLOOKUP(P75,Feeds!$B$9:$AB$109,24,FALSE))","v":""},{"$f":"IF(Q75=\"\",\"\",Q75*VLOOKUP(P75,Feeds!$B$9:$AB$109,25,FALSE))","v":""},{"$f":"IF(Q75=\"\",\"\",Q75*VLOOKUP(P75,Feeds!$B$9:$AB$109,26,FALSE))","v":""},{"$f":"IF(Q75=\"\",\"\",Q75*VLOOKUP(P75,Feeds!$B$9:$AB$109,27,FALSE))","v":""},0,null,null,null,null,null,null,null,{"$f":"IF(AD75=0,\"\",VLOOKUP(AC75,Feeds!$B$9:$AB$109,23,FALSE)*AD75/1000)","v":""},{"$f":"IF(AD75=0,\"\",VLOOKUP(AC75,Feeds!$B$9:$AB$109,24,FALSE))","v":""},{"$f":"IF(AD75=\"\",\"\",AD75*VLOOKUP(AC75,Feeds!$B$9:$AB$109,25,FALSE))","v":""},{"$f":"IF(AD75=\"\",\"\",AD75*VLOOKUP(AC75,Feeds!$B$9:$AB$109,26,FALSE))","v":""},{"$f":"IF(AD75=\"\",\"\",AD75*VLOOKUP(AC75,Feeds!$B$9:$AB$109,27,FALSE))","v":""},0,null,null,null,null,null,null,null,null,null,null,null,null,null,null,null,null,null,null,null,null,null,null,null,null,null,null,null,null,null,null,null,null,null,{"$f":"IF(BQ75=0,\"\",VLOOKUP(BP75,Feeds!$B$9:$AB$109,23,FALSE)*BQ75/1000)","v":""},{"$f":"IF(BQ75=0,\"\",VLOOKUP(BP75,Feeds!$B$9:$AB$109,24,FALSE))","v":""},{"$f":"IF(BQ75=\"\",\"\",BQ75*VLOOKUP(BP75,Feeds!$B$9:$AB$109,25,FALSE))","v":""},{"$f":"IF(BQ75=\"\",\"\",BQ75*VLOOKUP(BP75,Feeds!$B$9:$AB$109,26,FALSE))","v":""},{"$f":"IF(BQ75=\"\",\"\",BQ75*VLOOKUP(BP75,Feeds!$B$9:$AB$109,27,FALSE))","v":""},0]
[null,null,null,null,{"$f":"IF(D76=0,\"\",VLOOKUP(C76,Feeds!$B$9:$AB$109,23,FALSE)*D76/1000)","v":""},{"$f":"IF(D76=0,\"\",VLOOKUP(C76,Feeds!$B$9:$AB$109,24,FALSE))","v":""},{"$f":"IF(D76=\"\",\"\",D76*VLOOKUP(C76,Feeds!$B$9:$AB$109,25,FALSE))","v":""},{"$f":"IF(D76=\"\",\"\",D76*VLOOKUP(C76,Feeds!$B$9:$AB$109,26,FALSE))","v":""},{"$f":"IF(D76=\"\",\"\",D76*VLOOKUP(C76,Feeds!$B$9:$AB$109,27,FALSE))","v":""},0,null,null,null,null,null,null,null,{"$f":"IF(Q76=0,\"\",VLOOKUP(P76,Feeds!$B$9:$AB$109,23,FALSE)*Q76/1000)","v":""},{"$f":"IF(Q76=0,\"\",VLOOKUP(P76,Feeds!$B$9:$AB$109,24,FALSE))","v":""},{"$f":"IF(Q76=\"\",\"\",Q76*VLOOKUP(P76,Feeds!$B$9:$AB$109,25,FALSE))","v":""},{"$f":"IF(Q76=\"\",\"\",Q76*VLOOKUP(P76,Feeds!$B$9:$AB$109,26,FALSE))","v":""},{"$f":"IF(Q76=\"\",\"\",Q76*VLOOKUP(P76,Feeds!$B$9:$AB$109,27,FALSE))","v":""},0,null,null,null,null,null,null,null,{"$f":"IF(AD76=0,\"\",VLOOKUP(AC76,Feeds!$B$9:$AB$109,23,FALSE)*AD76/1000)","v":""},{"$f":"IF(AD76=0,\"\",VLOOKUP(AC76,Feeds!$B$9:$AB$109,24,FALSE))","v":""},{"$f":"IF(AD76=\"\",\"\",AD76*VLOOKUP(AC76,Feeds!$B$9:$AB$109,25,FALSE))","v":""},{"$f":"IF(AD76=\"\",\"\",AD76*VLOOKUP(AC76,Feeds!$B$9:$AB$109,26,FALSE))","v":""},{"$f":"IF(AD76=\"\",\"\",AD76*VLOOKUP(AC76,Feeds!$B$9:$AB$109,27,FALSE))","v":""},0,null,null,null,null,null,null,null,null,null,null,null,null,null,null,null,null,null,null,null,null,null,null,null,null,null,null,null,null,null,null,null,null,null,{"$f":"IF(BQ76=0,\"\",VLOOKUP(BP76,Feeds!$B$9:$AB$109,23,FALSE)*BQ76/1000)","v":""},{"$f":"IF(BQ76=0,\"\",VLOOKUP(BP76,Feeds!$B$9:$AB$109,24,FALSE))","v":""},{"$f":"IF(BQ76=\"\",\"\",BQ76*VLOOKUP(BP76,Feeds!$B$9:$AB$109,25,FALSE))","v":""},{"$f":"IF(BQ76=\"\",\"\",BQ76*VLOOKUP(BP76,Feeds!$B$9:$AB$109,26,FALSE))","v":""},{"$f":"IF(BQ76=\"\",\"\",BQ76*VLOOKUP(BP76,Feeds!$B$9:$AB$109,27,FALSE))","v":""},0]
[null,null,null,null,{"$f":"IF(D77=0,\"\",VLOOKUP(C77,Feeds!$B$9:$AB$109,23,FALSE)*D77/1000)","v":""},{"$f":"IF(D77=0,\"\",VLOOKUP(C77,Feeds!$B$9:$AB$109,24,FALSE))","v":""},{"$f":"IF(D77=\"\",\"\",D77*VLOOKUP(C77,Feeds!$B$9:$AB$109,25,FALSE))","v":""},{"$f":"IF(D77=\"\",\"\",D77*VLOOKUP(C77,Feeds!$B$9:$AB$109,26,FALSE))","v":""},{"$f":"IF(D77=\"\",\"\",D77*VLOOKUP(C77,Feeds!$B$9:$AB$109,27,FALSE))","v":""},{"$f":"IF(D77=\"\",0,E77*F77/100)","v":0},null,null,null,null,null,null,null,{"$f":"IF(Q77=0,\"\",VLOOKUP(P77,Feeds!$B$9:$AB$109,23,FALSE)*Q77/1000)","v":""},{"$f":"IF(Q77=0,\"\",VLOOKUP(P77,Feeds!$B$9:$AB$109,24,FALSE))","v":""},{"$f":"IF(Q77=\"\",\"\",Q77*VLOOKUP(P77,Feeds!$B$9:$AB$109,25,FALSE))","v":""},{"$f":"IF(Q77=\"\",\"\",Q77*VLOOKUP(P77,Feeds!$B$9:$AB$109,26,FALSE))","v":""},{"$f":"IF(Q77=\"\",\"\",Q77*VLOOKUP(P77,Feeds!$B$9:$AB$109,27,FALSE))","v":""},0,null,null,null,null,null,null,null,{"$f":"IF(AD77=0,\"\",VLOOKUP(AC77,Feeds!$B$9:$AB$109,23,FALSE)*AD77/1000)","v":""},{"$f":"IF(AD77=0,\"\",VLOOKUP(AC77,Feeds!$B$9:$AB$109,24,FALSE))","v":""},{"$f":"IF(AD77=\"\",\"\",AD77*VLOOKUP(AC77,Feeds!$B$9:$AB$109,25,FALSE))","v":""},{"$f":"IF(AD77=\"\",\"\",AD77*VLOOKUP(AC77,Feeds!$B$9:$AB$109,26,FALSE))","v":""},{"$f":"IF(AD77=\"\",\"\",AD77*VLOOKUP(AC77,Feeds!$B$9:$AB$109,27,FALSE))","v":""},0,null,null,null,null,null,null,null,null,null,null,null,null,null,null,null,null,null,null,null,null,null,null,null,null,null,null,null,null,null,null,null,null,null,{"$f":"IF(BQ77=0,\"\",VLOOKUP(BP77,Feeds!$B$9:$AB$109,23,FALSE)*BQ77/1000)","v":""},{"$f":"IF(BQ77=0,\"\",VLOOKUP(BP77,Feeds!$B$9:$AB$109,24,FALSE))","v":""},{"$f":"IF(BQ77=\"\",\"\",BQ77*VLOOKUP(BP77,Feeds!$B$9:$AB$109,25,FALSE))","v":""},{"$f":"IF(BQ77=\"\",\"\",BQ77*VLOOKUP(BP77,Feeds!$B$9:$AB$109,26,FALSE))","v":""},{"$f":"IF(BQ77=\"\",\"\",BQ77*VLOOKUP(BP77,Feeds!$B$9:$AB$109,27,FALSE))","v":""},0]
[null,null,null,null,{"$f":"IF(D78=0,\"\",VLOOKUP(C78,Feeds!$B$9:$AB$109,23,FALSE)*D78/1000)","v":""},{"$f":"IF(D78=0,\"\",VLOOKUP(C78,Feeds!$B$9:$AB$109,24,FALSE))","v":""},{"$f":"IF(D78=\"\",\"\",D78*VLOOKUP(C78,Feeds!$B$9:$AB$109,25,FALSE))","v":""},{"$f":"IF(D78=\"\",\"\",D78*VLOOKUP(C78,Feeds!$B$9:$AB$109,26,FALSE))","v":""},{"$f":"IF(D78=\"\",\"\",D78*VLOOKUP(C78,Feeds!$B$9:$AB$109,27,FALSE))","v":""},0,null,null,null,null,null,null,null,{"$f":"IF(Q78=0,\"\",VLOOKUP(P78,Feeds!$B$9:$AB$109,23,FALSE)*Q78/1000)","v":""},{"$f":"IF(Q78=0,\"\",VLOOKUP(P78,Feeds!$B$9:$AB$109,24,FALSE))","v":""},{"$f":"IF(Q78=\"\",\"\",Q78*VLOOKUP(P78,Feeds!$B$9:$AB$109,25,FALSE))","v":""},{"$f":"IF(Q78=\"\",\"\",Q78*VLOOKUP(P78,Feeds!$B$9:$AB$109,26,FALSE))","v":""},{"$f":"IF(Q78=\"\",\"\",Q78*VLOOKUP(P78,Feeds!$B$9:$AB$109,27,FALSE))","v":""},0,null,null,null,null,null,null,null,{"$f":"IF(AD78=0,\"\",VLOOKUP(AC78,Feeds!$B$9:$AB$109,23,FALSE)*AD78/1000)","v":""},{"$f":"IF(AD78=0,\"\",VLOOKUP(AC78,Feeds!$B$9:$AB$109,24,FALSE))","v":""},{"$f":"IF(AD78=\"\",\"\",AD78*VLOOKUP(AC78,Feeds!$B$9:$AB$109,25,FALSE))","v":""},{"$f":"IF(AD78=\"\",\"\",AD78*VLOOKUP(AC78,Feeds!$B$9:$AB$109,26,FALSE))","v":""},{"$f":"IF(AD78=\"\",\"\",AD78*VLOOKUP(AC78,Feeds!$B$9:$AB$109,27,FALSE))","v":""},0,null,null,null,null,null,null,null,null,null,null,null,null,null,null,null,null,null,null,null,null,null,null,null,null,null,null,null,null,null,null,null,null,null,{"$f":"IF(BQ78=0,\"\",VLOOKUP(BP78,Feeds!$B$9:$AB$109,23,FALSE)*BQ78/1000)","v":""},{"$f":"IF(BQ78=0,\"\",VLOOKUP(BP78,Feeds!$B$9:$AB$109,24,FALSE))","v":""},{"$f":"IF(BQ78=\"\",\"\",BQ78*VLOOKUP(BP78,Feeds!$B$9:$AB$109,25,FALSE))","v":""},{"$f":"IF(BQ78=\"\",\"\",BQ78*VLOOKUP(BP78,Feeds!$B$9:$AB$109,26,FALSE))","v":""},{"$f":"IF(BQ78=\"\",\"\",BQ78*VLOOKUP(BP78,Feeds!$B$9:$AB$109,27,FALSE))","v":""},0]
[null,null,"Kokku päevas",null,{"$f":"SUM(E64:E78)","v":0},null,{"$f":"SUM(G64:G78)","v":0},{"$f":"SUM(H64:H78)","v":0},{"$f":"SUM(I64:I78)","v":0},{"$f":"SUM(J64:J78)","v":0},null,null,null,null,null,"Kokku päevas",null,{"$f":"SUM(R64:R78)","v":0},null,{"$f":"SUM(T64:T78)","v":0},{"$f":"SUM(U64:U78)","v":0},{"$f":"SUM(V64:V78)","v":0},{"$f":"SUM(W64:W78)","v":0},null,null,null,null,null,"Kokku päevas",null,{"$f":"SUM(AE64:AE78)","v":0},null,{"$f":"SUM(AG64:AG78)","v":0},{"$f":"SUM(AH64:AH78)","v":0},{"$f":"SUM(AI64:AI78)","v":0},{"$f":"SUM(AJ64:AJ78)","v":0},null,null,null,null,null,null,null,null,null,null,null,null,null,null,null,null,null,null,null,null,null,null,null,null,null,null,null,null,null,null,null,"Kokku päevas",null,{"$f":"SUM(BR64:BR78)","v":0},null,{"$f":"SUM(BT64:BT78)","v":0},{"$f":"SUM(BU64:BU78)","v":0},{"$f":"SUM(BV64:BV78)","v":0},{"$f":"SUM(BW64:BW78)","v":0}]
[null,null,"Kokku perioodis",null,{"$f":"E79*L63*(1-N63/100)","v":0},{"$f":"IF(J80=0,0,J80*100/E80)","v":0},{"$f":"G79*L63*(1-N63/100)","v":0},{"$f":"H79*L63*(1-N63/100)","v":0},{"$f":"I79*L63*(1-N63/100)","v":0},{"$f":"J79*L63*(1-N63/100)","v":0},null,null,null,null,null,"Kokku perioodis",null,{"$f":"R79*Y63*(1-AA63/100)","v":0},{"$f":"IF(W80=0,0,W80*100/R80)","v":0},{"$f":"T79*Y63*(1-AA63/100)","v":0},{"$f":"U79*Y63*(1-AA63/100)","v":0},{"$f":"V79*Y63*(1-AA63/100)","v":0},{"$f":"W79*Y63*(1-AA63/100)","v":0},null,null,null,null,null,"Kokku perioodis",null,{"$f":"AE79*AL63*(1-AN63/100)","v":0},{"$f":"IF(AJ80=0,0,AJ80*100/AE80)","v":0},{"$f":"AG79*AL63*(1-AN63/100)","v":0},{"$f":"AH79*AL63*(1-AN63/100)","v":0},{"$f":"AI79*AL63*(1-AN63/100)","v":0},{"$f":"AJ79*AL63*(1-AN63/100)","v":0},null,null,null,null,null,null,null,null,null,null,null,null,null,null,null,null,null,null,null,null,null,null,null,null,null,null,null,null,null,null,null,"Kokku perioodis",null,{"$f":"BR79*BY63*(1-CA63/100)","v":0},{"$f":"IF(BW80=0,0,BW80*100/BR80)","v":0},{"$f":"BT79*BY63*(1-CA63/100)","v":0},{"$f":"BU79*BY63*(1-CA63/100)","v":0},{"$f":"BV79*BY63*(1-CA63/100)","v":0},{"$f":"BW79*BY63*(1-CA63/100)","v":0}]
[]
[null,null,"0EB2",null,null,null,null,null,null,null,null,"Päevi grupis",null,"TRSS kadu, %",null,"Tiined",null,null,null,null,null,null,null,null,"Päevi grupis",null,"TRSS kadu, %",null,null,null,null,null,null,null,null,null,null,null,null,null,null,null,null,null,null,null,null,null,null,null,null,null,null,null,null,null,null,null,null,null,null,null,null,null,null,null,null,"Kinnisperiood",null,null,null,null,null,null,null,null,"Päevi grupis",null,"TRSS kadu, %"]
[null,null,"Söödad (s.h. mineraalsöödad)","Kogus kg/päev","KA kg/päev","KA seeduvus %","TP   g/päev","P g/päev","K g/päev",null,null,null,null,null,null,"Söödad (s.h. mineraalsöödad)","Kogus kg/päev","KA kg/päev","KA seeduvus %","TP   g/päev","P g/päev","K g/päev",null,null,null,null,null,null,null,null,null,null,null,null,null,null,null,null,null,null,null,null,null,null,null,null,null,null,null,null,null,null,null,null,null,null,null,null,null,null,null,null,null,null,null,null,null,"Söödad (s.h. mineraalsöödad)","Kogus kg/päev","KA kg/päev","KA seeduvus %","TP   g/päev","P g/päev","K g/päev"]
[null,null,null,null,{"$f":"IF(D84=0,\"\",VLOOKUP(C84,Feeds!$B$9:$AB$109,23,FALSE)*D84/1000)","v":""},{"$f":"IF(D84=0,\"\",VLOOKUP(C84,Feeds!$B$9:$AB$109,24,FALSE))","v":""},{"$f":"IF(D84=\"\",\"\",D84*VLOOKUP(C84,Feeds!$B$9:$AB$109,25,FALSE))","v":""},{"$f":"IF(D84=\"\",\"\",D84*VLOOKUP(C84,Feeds!$B$9:$AB$109,26,FALSE))","v":""},{"$f":"IF(D84=\"\",\"\",D84*VLOOKUP(C84,Feeds!$B$9:$AB$109,27,FALSE))","v":""},{"$f":"IF(D84=\"\",0,E84*F84/100)","v":0},null,null,null,null,null,null,null,{"$f":"IF(Q84=0,\"\",VLOOKUP(P84,Feeds!$B$9:$AB$109,23,FALSE)*Q84/1000)","v":""},{"$f":"IF(Q84=0,\"\",VLOOKUP(P84,Feeds!$B$9:$AB$109,24,FALSE))","v":""},{"$f":"IF(Q84=\"\",\"\",Q84*VLOOKUP(P84,Feeds!$B$9:$AB$109,25,FALSE))","v":""},{"$f":"IF(Q84=\"\",\"\",Q84*VLOOKUP(P84,Feeds!$B$9:$AB$109,26,FALSE))","v":""},{"$f":"IF(Q84=\"\",\"\",Q84*VLOOKUP(P84,Feeds!$B$9:$AB$109,27,FALSE))","v":""},{"$f":"IF(Q84=\"\",0,R84*S84/100)","v":0},null,null,null,null,null,null,null,null,null,null,null,null,null,null,null,null,null,null,null,null,null,null,null,null,null,null,null,null,null,null,null,null,null,null,null,null,null,null,null,null,null,null,null,null,null,null,{"$f":"IF(BQ84=0,\"\",VLOOKUP(BP84,Feeds!$B$9:$AB$109,23,FALSE)*BQ84/1000)","v":""},{"$f":"IF(BQ84=0,\"\",VLOOKUP(BP84,Feeds!$B$9:$AB$109,24,FALSE))","v":""},{"$f":"IF(BQ84=\"\",\"\",BQ84*VLOOKUP(BP84,Feeds!$B$9:$AB$109,25,FALSE))","v":""},{"$f":"IF(BQ84=\"\",\"\",BQ84*VLOOKUP(BP84,Feeds!$B$9:$AB$109,26,FALSE))","v":""},{"$f":"IF(BQ84=\"\",\"\",BQ84*VLOOKUP(BP84,Feeds!$B$9:$AB$109,27,FALSE))","v":""},{"$f":"IF(BQ84=\"\",0,BR84*BS84/100)","v":0}]
[null,null,null,null,{"$f":"IF(D85=0,\"\",VLOOKUP(C85,Feeds!$B$9:$AB$109,23,FALSE)*D85/1000)","v":""},{"$f":"IF(D85=0,\"\",VLOOKUP(C85,Feeds!$B$9:$AB$109,24,FALSE))","v":""},{"$f":"IF(D85=\"\",\"\",D85*VLOOKUP(C85,Feeds!$B$9:$AB$109,25,FALSE))","v":""},{"$f":"IF(D85=\"\",\"\",D85*VLOOKUP(C85,Feeds!$B$9:$AB$109,26,FALSE))","v":""},{"$f":"IF(D85=\"\",\"\",D85*VLOOKUP(C85,Feeds!$B$9:$AB$109,27,FALSE))","v":""},0,null,null,null,null,null,null,null,{"$f":"IF(Q85=0,\"\",VLOOKUP(P85,Feeds!$B$9:$AB$109,23,FALSE)*Q85/1000)","v":""},{"$f":"IF(Q85=0,\"\",VLOOKUP(P85,Feeds!$B$9:$AB$109,24,FALSE))","v":""},{"$f":"IF(Q85=\"\",\"\",Q85*VLOOKUP(P85,Feeds!$B$9:$AB$109,25,FALSE))","v":""},{"$f":"IF(Q85=\"\",\"\",Q85*VLOOKUP(P85,Feeds!$B$9:$AB$109,26,FALSE))","v":""},{"$f":"IF(Q85=\"\",\"\",Q85*VLOOKUP(P85,Feeds!$B$9:$AB$109,27,FALSE))","v":""},0,null,null,null,null,null,null,null,null,null,null,null,null,null,null,null,null,null,null,null,null,null,null,null,null,null,null,null,null,null,null,null,null,null,null,null,null,null,null,null,null,null,null,null,null,null,null,{"$f":"IF(BQ85=0,\"\",VLOOKUP(BP85,Feeds!$B$9:$AB$109,23,FALSE)*BQ85/1000)","v":""},{"$f":"IF(BQ85=0,\"\",VLOOKUP(BP85,Feeds!$B$9:$AB$109,24,FALSE))","v":""},{"$f":"IF(BQ85=\"\",\"\",BQ85*VLOOKUP(BP85,Feeds!$B$9:$AB$109,25,FALSE))","v":""},{"$f":"IF(BQ85=\"\",\"\",BQ85*VLOOKUP(BP85,Feeds!$B$9:$AB$109,26,FALSE))","v":""},{"$f":"IF(BQ85=\"\",\"\",BQ85*VLOOKUP(BP85,Feeds!$B$9:$AB$109,27,FALSE))","v":""},0]
[null,null,null,null,{"$f":"IF(D86=0,\"\",VLOOKUP(C86,Feeds!$B$9:$AB$109,23,FALSE)*D86/1000)","v":""},{"$f":"IF(D86=0,\"\",VLOOKUP(C86,Feeds!$B$9:$AB$109,24,FALSE))","v":""},{"$f":"IF(D86=\"\",\"\",D86*VLOOKUP(C86,Feeds!$B$9:$AB$109,25,FALSE))","v":""},{"$f":"IF(D86=\"\",\"\",D86*VLOOKUP(C86,Feeds!$B$9:$AB$109,26,FALSE))","v":""},{"$f":"IF(D86=\"\",\"\",D86*VLOOKUP(C86,Feeds!$B$9:$AB$109,27,FALSE))","v":""},0,null,null,null,null,null,null,null,{"$f":"IF(Q86=0,\"\",VLOOKUP(P86,Feeds!$B$9:$AB$109,23,FALSE)*Q86/1000)","v":""},{"$f":"IF(Q86=0,\"\",VLOOKUP(P86,Feeds!$B$9:$AB$109,24,FALSE))","v":""},{"$f":"IF(Q86=\"\",\"\",Q86*VLOOKUP(P86,Feeds!$B$9:$AB$109,25,FALSE))","v":""},{"$f":"IF(Q86=\"\",\"\",Q86*VLOOKUP(P86,Feeds!$B$9:$AB$109,26,FALSE))","v":""},{"$f":"IF(Q86=\"\",\"\",Q86*VLOOKUP(P86,Feeds!$B$9:$AB$109,27,FALSE))","v":""},0,null,null,null,null,null,null,null,null,null,null,null,null,null,null,null,null,null,null,null,null,null,null,null,null,null,null,null,null,null,null,null,null,null,null,null,null,null,null,null,null,null,null,null,null,null,null,{"$f":"IF(BQ86=0,\"\",VLOOKUP(BP86,Feeds!$B$9:$AB$109,23,FALSE)*BQ86/1000)","v":""},{"$f":"IF(BQ86=0,\"\",VLOOKUP(BP86,Feeds!$B$9:$AB$109,24,FALSE))","v":""},{"$f":"IF(BQ86=\"\",\"\",BQ86*VLOOKUP(BP86,Feeds!$B$9:$AB$109,25,FALSE))","v":""},{"$f":"IF(BQ86=\"\",\"\",BQ86*VLOOKUP(BP86,Feeds!$B$9:$AB$109,26,FALSE))","v":""},{"$f":"IF(BQ86=\"\",\"\",BQ86*VLOOKUP(BP86,Feeds!$B$9:$AB$109,27,FALSE))","v":""},0]
[null,null,null,null,{"$f":"IF(D87=0,\"\",VLOOKUP(C87,Feeds!$B$9:$AB$109,23,FALSE)*D87/1000)","v":""},{"$f":"IF(D87=0,\"\",VLOOKUP(C87,Feeds!$B$9:$AB$109,24,FALSE))","v":""},{"$f":"IF(D87=\"\",\"\",D87*VLOOKUP(C87,Feeds!$B$9:$AB$109,25,FALSE))","v":""},{"$f":"IF(D87=\"\",\"\",D87*VLOOKUP(C87,Feeds!$B$9:$AB$109,26,FALSE))","v":""},{"$f":"IF(D87=\"\",\"\",D87*VLOOKUP(C87,Feeds!$B$9:$AB$109,27,FALSE))","v":""},0,null,null,null,null,null,null,null,{"$f":"IF(Q87=0,\"\",VLOOKUP(P87,Feeds!$B$9:$AB$109,23,FALSE)*Q87/1000)","v":""},{"$f":"IF(Q87=0,\"\",VLOOKUP(P87,Feeds!$B$9:$AB$109,24,FALSE))","v":""},{"$f":"IF(Q87=\"\",\"\",Q87*VLOOKUP(P87,Feeds!$B$9:$AB$109,25,FALSE))","v":""},{"$f":"IF(Q87=\"\",\"\",Q87*VLOOKUP(P87,Feeds!$B$9:$AB$109,26,FALSE))","v":""},{"$f":"IF(Q87=\"\",\"\",Q87*VLOOKUP(P87,Feeds!$B$9:$AB$109,27,FALSE))","v":""},0,null,null,null,null,null,null,null,null,null,null,null,null,null,null,null,null,null,null,null,null,null,null,null,null,null,null,null,null,null,null,null,null,null,null,null,null,null,null,null,null,null,null,null,null,null,null,{"$f":"IF(BQ87=0,\"\",VLOOKUP(BP87,Feeds!$B$9:$AB$109,23,FALSE)*BQ87/1000)","v":""},{"$f":"IF(BQ87=0,\"\",VLOOKUP(BP87,Feeds!$B$9:$AB$109,24,FALSE))","v":""},{"$f":"IF(BQ87=\"\",\"\",BQ87*VLOOKUP(BP87,Feeds!$B$9:$AB$109,25,FALSE))","v":""},{"$f":"IF(BQ87=\"\",\"\",BQ87*VLOOKUP(BP87,Feeds!$B$9:$AB$109,26,FALSE))","v":""},{"$f":"IF(BQ87=\"\",\"\",BQ87*VLOOKUP(BP87,Feeds!$B$9:$AB$109,27,FALSE))","v":""},0]
[null,null,null,null,{"$f":"IF(D88=0,\"\",VLOOKUP(C88,Feeds!$B$9:$AB$109,23,FALSE)*D88/1000)","v":""},{"$f":"IF(D88=0,\"\",VLOOKUP(C88,Feeds!$B$9:$AB$109,24,FALSE))","v":""},{"$f":"IF(D88=\"\",\"\",D88*VLOOKUP(C88,Feeds!$B$9:$AB$109,25,FALSE))","v":""},{"$f":"IF(D88=\"\",\"\",D88*VLOOKUP(C88,Feeds!$B$9:$AB$109,26,FALSE))","v":""},{"$f":"IF(D88=\"\",\"\",D88*VLOOKUP(C88,Feeds!$B$9:$AB$109,27,FALSE))","v":""},0,null,null,null,null,null,null,null,{"$f":"IF(Q88=0,\"\",VLOOKUP(P88,Feeds!$B$9:$AB$109,23,FALSE)*Q88/1000)","v":""},{"$f":"IF(Q88=0,\"\",VLOOKUP(P88,Feeds!$B$9:$AB$109,24,FALSE))","v":""},{"$f":"IF(Q88=\"\",\"\",Q88*VLOOKUP(P88,Feeds!$B$9:$AB$109,25,FALSE))","v":""},{"$f":"IF(Q88=\"\",\"\",Q88*VLOOKUP(P88,Feeds!$B$9:$AB$109,26,FALSE))","v":""},{"$f":"IF(Q88=\"\",\"\",Q88*VLOOKUP(P88,Feeds!$B$9:$AB$109,27,FALSE))","v":""},0,null,null,null,null,null,null,null,null,null,null,null,null,null,null,null,null,null,null,null,null,null,null,null,null,null,null,null,null,null,null,null,null,null,null,null,null,null,null,null,null,null,null,null,null,null,null,{"$f":"IF(BQ88=0,\"\",VLOOKUP(BP88,Feeds!$B$9:$AB$109,23,FALSE)*BQ88/1000)","v":""},{"$f":"IF(BQ88=0,\"\",VLOOKUP(BP88,Feeds!$B$9:$AB$109,24,FALSE))","v":""},{"$f":"IF(BQ88=\"\",\"\",BQ88*VLOOKUP(BP88,Feeds!$B$9:$AB$109,25,FALSE))","v":""},{"$f":"IF(BQ88=\"\",\"\",BQ88*VLOOKUP(BP88,Feeds!$B$9:$AB$109,26,FALSE))","v":""},{"$f":"IF(BQ88=\"\",\"\",BQ88*VLOOKUP(BP88,Feeds!$B$9:$AB$109,27,FALSE))","v":""},0]
[null,null,null,null,{"$f":"IF(D89=0,\"\",VLOOKUP(C89,Feeds!$B$9:$AB$109,23,FALSE)*D89/1000)","v":""},{"$f":"IF(D89=0,\"\",VLOOKUP(C89,Feeds!$B$9:$AB$109,24,FALSE))","v":""},{"$f":"IF(D89=\"\",\"\",D89*VLOOKUP(C89,Feeds!$B$9:$AB$109,25,FALSE))","v":""},{"$f":"IF(D89=\"\",\"\",D89*VLOOKUP(C89,Feeds!$B$9:$AB$109,26,FALSE))","v":""},{"$f":"IF(D89=\"\",\"\",D89*VLOOKUP(C89,Feeds!$B$9:$AB$109,27,FALSE))","v":""},0,null,null,null,null,null,null,null,{"$f":"IF(Q89=0,\"\",VLOOKUP(P89,Feeds!$B$9:$AB$109,23,FALSE)*Q89/1000)","v":""},{"$f":"IF(Q89=0,\"\",VLOOKUP(P89,Feeds!$B$9:$AB$109,24,FALSE))","v":""},{"$f":"IF(Q89=\"\",\"\",Q89*VLOOKUP(P89,Feeds!$B$9:$AB$109,25,FALSE))","v":""},{"$f":"IF(Q89=\"\",\"\",Q89*VLOOKUP(P89,Feeds!$B$9:$AB$109,26,FALSE))","v":""},{"$f":"IF(Q89=\"\",\"\",Q89*VLOOKUP(P89,Feeds!$B$9:$AB$109,27,FALSE))","v":""},0,null,null,null,null,null,null,null,null,null,null,null,null,null,null,null,null,null,null,null,null,null,null,null,null,null,null,null,null,null,null,null,null,null,null,null,null,null,null,null,null,null,null,null,null,null,null,{"$f":"IF(BQ89=0,\"\",VLOOKUP(BP89,Feeds!$B$9:$AB$109,23,FALSE)*BQ89/1000)","v":""},{"$f":"IF(BQ89=0,\"\",VLOOKUP(BP89,Feeds!$B$9:$AB$109,24,FALSE))","v":""},{"$f":"IF(BQ89=\"\",\"\",BQ89*VLOOKUP(BP89,Feeds!$B$9:$AB$109,25,FALSE))","v":""},{"$f":"IF(BQ89=\"\",\"\",BQ89*VLOOKUP(BP89,Feeds!$B$9:$AB$109,26,FALSE))","v":""},{"$f":"IF(BQ89=\"\",\"\",BQ89*VLOOKUP(BP89,Feeds!$B$9:$AB$109,27,FALSE))","v":""},0]
[null,null,null,null,{"$f":"IF(D90=0,\"\",VLOOKUP(C90,Feeds!$B$9:$AB$109,23,FALSE)*D90/1000)","v":""},{"$f":"IF(D90=0,\"\",VLOOKUP(C90,Feeds!$B$9:$AB$109,24,FALSE))","v":""},{"$f":"IF(D90=\"\",\"\",D90*VLOOKUP(C90,Feeds!$B$9:$AB$109,25,FALSE))","v":""},{"$f":"IF(D90=\"\",\"\",D90*VLOOKUP(C90,Feeds!$B$9:$AB$109,26,FALSE))","v":""},{"$f":"IF(D90=\"\",\"\",D90*VLOOKUP(C90,Feeds!$B$9:$AB$109,27,FALSE))","v":""},0,null,null,null,null,null,null,null,{"$f":"IF(Q90=0,\"\",VLOOKUP(P90,Feeds!$B$9:$AB$109,23,FALSE)*Q90/1000)","v":""},{"$f":"IF(Q90=0,\"\",VLOOKUP(P90,Feeds!$B$9:$AB$109,24,FALSE))","v":""},{"$f":"IF(Q90=\"\",\"\",Q90*VLOOKUP(P90,Feeds!$B$9:$AB$109,25,FALSE))","v":""},{"$f":"IF(Q90=\"\",\"\",Q90*VLOOKUP(P90,Feeds!$B$9:$AB$109,26,FALSE))","v":""},{"$f":"IF(Q90=\"\",\"\",Q90*VLOOKUP(P90,Feeds!$B$9:$AB$109,27,FALSE))","v":""},0,null,null,null,null,null,null,null,null,null,null,null,null,null,null,null,null,null,null,null,null,null,null,null,null,null,null,null,null,null,null,null,null,null,null,null,null,null,null,null,null,null,null,null,null,null,null,{"$f":"IF(BQ90=0,\"\",VLOOKUP(BP90,Feeds!$B$9:$AB$109,23,FALSE)*BQ90/1000)","v":""},{"$f":"IF(BQ90=0,\"\",VLOOKUP(BP90,Feeds!$B$9:$AB$109,24,FALSE))","v":""},{"$f":"IF(BQ90=\"\",\"\",BQ90*VLOOKUP(BP90,Feeds!$B$9:$AB$109,25,FALSE))","v":""},{"$f":"IF(BQ90=\"\",\"\",BQ90*VLOOKUP(BP90,Feeds!$B$9:$AB$109,26,FALSE))","v":""},{"$f":"IF(BQ90=\"\",\"\",BQ90*VLOOKUP(BP90,Feeds!$B$9:$AB$109,27,FALSE))","v":""},0]
[null,null,null,null,{"$f":"IF(D91=0,\"\",VLOOKUP(C91,Feeds!$B$9:$AB$109,23,FALSE)*D91/1000)","v":""},{"$f":"IF(D91=0,\"\",VLOOKUP(C91,Feeds!$B$9:$AB$109,24,FALSE))","v":""},{"$f":"IF(D91=\"\",\"\",D91*VLOOKUP(C91,Feeds!$B$9:$AB$109,25,FALSE))","v":""},{"$f":"IF(D91=\"\",\"\",D91*VLOOKUP(C91,Feeds!$B$9:$AB$109,26,FALSE))","v":""},{"$f":"IF(D91=\"\",\"\",D91*VLOOKUP(C91,Feeds!$B$9:$AB$109,27,FALSE))","v":""},0,null,null,null,null,null,null,null,{"$f":"IF(Q91=0,\"\",VLOOKUP(P91,Feeds!$B$9:$AB$109,23,FALSE)*Q91/1000)","v":""},{"$f":"IF(Q91=0,\"\",VLOOKUP(P91,Feeds!$B$9:$AB$109,24,FALSE))","v":""},{"$f":"IF(Q91=\"\",\"\",Q91*VLOOKUP(P91,Feeds!$B$9:$AB$109,25,FALSE))","v":""},{"$f":"IF(Q91=\"\",\"\",Q91*VLOOKUP(P91,Feeds!$B$9:$AB$109,26,FALSE))","v":""},{"$f":"IF(Q91=\"\",\"\",Q91*VLOOKUP(P91,Feeds!$B$9:$AB$109,27,FALSE))","v":""},0,null,null,null,null,null,null,null,null,null,null,null,null,null,null,null,null,null,null,null,null,null,null,null,null,null,null,null,null,null,null,null,null,null,null,null,null,null,null,null,null,null,null,null,null,null,null,{"$f":"IF(BQ91=0,\"\",VLOOKUP(BP91,Feeds!$B$9:$AB$109,23,FALSE)*BQ91/1000)","v":""},{"$f":"IF(BQ91=0,\"\",VLOOKUP(BP91,Feeds!$B$9:$AB$109,24,FALSE))","v":""},{"$f":"IF(BQ91=\"\",\"\",BQ91*VLOOKUP(BP91,Feeds!$B$9:$AB$109,25,FALSE))","v":""},{"$f":"IF(BQ91=\"\",\"\",BQ91*VLOOKUP(BP91,Feeds!$B$9:$AB$109,26,FALSE))","v":""},{"$f":"IF(BQ91=\"\",\"\",BQ91*VLOOKUP(BP91,Feeds!$B$9:$AB$109,27,FALSE))","v":""},0]
[null,null,null,null,{"$f":"IF(D92=0,\"\",VLOOKUP(C92,Feeds!$B$9:$AB$109,23,FALSE)*D92/1000)","v":""},{"$f":"IF(D92=0,\"\",VLOOKUP(C92,Feeds!$B$9:$AB$109,24,FALSE))","v":""},{"$f":"IF(D92=\"\",\"\",D92*VLOOKUP(C92,Feeds!$B$9:$AB$109,25,FALSE))","v":""},{"$f":"IF(D92=\"\",\"\",D92*VLOOKUP(C92,Feeds!$B$9:$AB$109,26,FALSE))","v":""},{"$f":"IF(D92=\"\",\"\",D92*VLOOKUP(C92,Feeds!$B$9:$AB$109,27,FALSE))","v":""},0,null,null,null,null,null,null,null,{"$f":"IF(Q92=0,\"\",VLOOKUP(P92,Feeds!$B$9:$AB$109,23,FALSE)*Q92/1000)","v":""},{"$f":"IF(Q92=0,\"\",VLOOKUP(P92,Feeds!$B$9:$AB$109,24,FALSE))","v":""},{"$f":"IF(Q92=\"\",\"\",Q92*VLOOKUP(P92,Feeds!$B$9:$AB$109,25,FALSE))","v":""},{"$f":"IF(Q92=\"\",\"\",Q92*VLOOKUP(P92,Feeds!$B$9:$AB$109,26,FALSE))","v":""},{"$f":"IF(Q92=\"\",\"\",Q92*VLOOKUP(P92,Feeds!$B$9:$AB$109,27,FALSE))","v":""},0,null,null,null,null,null,null,null,null,null,null,null,null,null,null,null,null,null,null,null,null,null,null,null,null,null,null,null,null,null,null,null,null,null,null,null,null,null,null,null,null,null,null,null,null,null,null,{"$f":"IF(BQ92=0,\"\",VLOOKUP(BP92,Feeds!$B$9:$AB$109,23,FALSE)*BQ92/1000)","v":""},{"$f":"IF(BQ92=0,\"\",VLOOKUP(BP92,Feeds!$B$9:$AB$109,24,FALSE))","v":""},{"$f":"IF(BQ92=\"\",\"\",BQ92*VLOOKUP(BP92,Feeds!$B$9:$AB$109,25,FALSE))","v":""},{"$f":"IF(BQ92=\"\",\"\",BQ92*VLOOKUP(BP92,Feeds!$B$9:$AB$109,26,FALSE))","v":""},{"$f":"IF(BQ92=\"\",\"\",BQ92*VLOOKUP(BP92,Feeds!$B$9:$AB$109,27,FALSE))","v":""},0]
[null,null,null,null,{"$f":"IF(D93=0,\"\",VLOOKUP(C93,Feeds!$B$9:$AB$109,23,FALSE)*D93/1000)","v":""},{"$f":"IF(D93=0,\"\",VLOOKUP(C93,Feeds!$B$9:$AB$109,24,FALSE))","v":""},{"$f":"IF(D93=\"\",\"\",D93*VLOOKUP(C93,Feeds!$B$9:$AB$109,25,FALSE))","v":""},{"$f":"IF(D93=\"\",\"\",D93*VLOOKUP(C93,Feeds!$B$9:$AB$109,26,FALSE))","v":""},{"$f":"IF(D93=\"\",\"\",D93*VLOOKUP(C93,Feeds!$B$9:$AB$109,27,FALSE))","v":""},0,null,null,null,null,null,null,null,{"$f":"IF(Q93=0,\"\",VLOOKUP(P93,Feeds!$B$9:$AB$109,23,FALSE)*Q93/1000)","v":""},{"$f":"IF(Q93=0,\"\",VLOOKUP(P93,Feeds!$B$9:$AB$109,24,FALSE))","v":""},{"$f":"IF(Q93=\"\",\"\",Q93*VLOOKUP(P93,Feeds!$B$9:$AB$109,25,FALSE))","v":""},{"$f":"IF(Q93=\"\",\"\",Q93*VLOOKUP(P93,Feeds!$B$9:$AB$109,26,FALSE))","v":""},{"$f":"IF(Q93=\"\",\"\",Q93*VLOOKUP(P93,Feeds!$B$9:$AB$109,27,FALSE))","v":""},0,null,null,null,null,null,null,null,null,null,null,null,null,null,null,null,null,null,null,null,null,null,null,null,null,null,null,null,null,null,null,null,null,null,null,null,null,null,null,null,null,null,null,null,null,null,null,{"$f":"IF(BQ93=0,\"\",VLOOKUP(BP93,Feeds!$B$9:$AB$109,23,FALSE)*BQ93/1000)","v":""},{"$f":"IF(BQ93=0,\"\",VLOOKUP(BP93,Feeds!$B$9:$AB$109,24,FALSE))","v":""},{"$f":"IF(BQ93=\"\",\"\",BQ93*VLOOKUP(BP93,Feeds!$B$9:$AB$109,25,FALSE))","v":""},{"$f":"IF(BQ93=\"\",\"\",BQ93*VLOOKUP(BP93,Feeds!$B$9:$AB$109,26,FALSE))","v":""},{"$f":"IF(BQ93=\"\",\"\",BQ93*VLOOKUP(BP93,Feeds!$B$9:$AB$109,27,FALSE))","v":""},0]
[null,null,null,null,{"$f":"IF(D94=0,\"\",VLOOKUP(C94,Feeds!$B$9:$AB$109,23,FALSE)*D94/1000)","v":""},{"$f":"IF(D94=0,\"\",VLOOKUP(C94,Feeds!$B$9:$AB$109,24,FALSE))","v":""},{"$f":"IF(D94=\"\",\"\",D94*VLOOKUP(C94,Feeds!$B$9:$AB$109,25,FALSE))","v":""},{"$f":"IF(D94=\"\",\"\",D94*VLOOKUP(C94,Feeds!$B$9:$AB$109,26,FALSE))","v":""},{"$f":"IF(D94=\"\",\"\",D94*VLOOKUP(C94,Feeds!$B$9:$AB$109,27,FALSE))","v":""},0,null,null,null,null,null,null,null,{"$f":"IF(Q94=0,\"\",VLOOKUP(P94,Feeds!$B$9:$AB$109,23,FALSE)*Q94/1000)","v":""},{"$f":"IF(Q94=0,\"\",VLOOKUP(P94,Feeds!$B$9:$AB$109,24,FALSE))","v":""},{"$f":"IF(Q94=\"\",\"\",Q94*VLOOKUP(P94,Feeds!$B$9:$AB$109,25,FALSE))","v":""},{"$f":"IF(Q94=\"\",\"\",Q94*VLOOKUP(P94,Feeds!$B$9:$AB$109,26,FALSE))","v":""},{"$f":"IF(Q94=\"\",\"\",Q94*VLOOKUP(P94,Feeds!$B$9:$AB$109,27,FALSE))","v":""},0,null,null,null,null,null,null,null,null,null,null,null,null,null,null,null,null,null,null,null,null,null,null,null,null,null,null,null,null,null,null,null,null,null,null,null,null,null,null,null,null,null,null,null,null,null,null,{"$f":"IF(BQ94=0,\"\",VLOOKUP(BP94,Feeds!$B$9:$AB$109,23,FALSE)*BQ94/1000)","v":""},{"$f":"IF(BQ94=0,\"\",VLOOKUP(BP94,Feeds!$B$9:$AB$109,24,FALSE))","v":""},{"$f":"IF(BQ94=\"\",\"\",BQ94*VLOOKUP(BP94,Feeds!$B$9:$AB$109,25,FALSE))","v":""},{"$f":"IF(BQ94=\"\",\"\",BQ94*VLOOKUP(BP94,Feeds!$B$9:$AB$109,26,FALSE))","v":""},{"$f":"IF(BQ94=\"\",\"\",BQ94*VLOOKUP(BP94,Feeds!$B$9:$AB$109,27,FALSE))","v":""},0]
[null,null,null,null,{"$f":"IF(D95=0,\"\",VLOOKUP(C95,Feeds!$B$9:$AB$109,23,FALSE)*D95/1000)","v":""},{"$f":"IF(D95=0,\"\",VLOOKUP(C95,Feeds!$B$9:$AB$109,24,FALSE))","v":""},{"$f":"IF(D95=\"\",\"\",D95*VLOOKUP(C95,Feeds!$B$9:$AB$109,25,FALSE))","v":""},{"$f":"IF(D95=\"\",\"\",D95*VLOOKUP(C95,Feeds!$B$9:$AB$109,26,FALSE))","v":""},{"$f":"IF(D95=\"\",\"\",D95*VLOOKUP(C95,Feeds!$B$9:$AB$109,27,FALSE))","v":""},0,null,null,null,null,null,null,null,{"$f":"IF(Q95=0,\"\",VLOOKUP(P95,Feeds!$B$9:$AB$109,23,FALSE)*Q95/1000)","v":""},{"$f":"IF(Q95=0,\"\",VLOOKUP(P95,Feeds!$B$9:$AB$109,24,FALSE))","v":""},{"$f":"IF(Q95=\"\",\"\",Q95*VLOOKUP(P95,Feeds!$B$9:$AB$109,25,FALSE))","v":""},{"$f":"IF(Q95=\"\",\"\",Q95*VLOOKUP(P95,Feeds!$B$9:$AB$109,26,FALSE))","v":""},{"$f":"IF(Q95=\"\",\"\",Q95*VLOOKUP(P95,Feeds!$B$9:$AB$109,27,FALSE))","v":""},0,null,null,null,null,null,null,null,null,null,null,null,null,null,null,null,null,null,null,null,null,null,null,null,null,null,null,null,null,null,null,null,null,null,null,null,null,null,null,null,null,null,null,null,null,null,null,{"$f":"IF(BQ95=0,\"\",VLOOKUP(BP95,Feeds!$B$9:$AB$109,23,FALSE)*BQ95/1000)","v":""},{"$f":"IF(BQ95=0,\"\",VLOOKUP(BP95,Feeds!$B$9:$AB$109,24,FALSE))","v":""},{"$f":"IF(BQ95=\"\",\"\",BQ95*VLOOKUP(BP95,Feeds!$B$9:$AB$109,25,FALSE))","v":""},{"$f":"IF(BQ95=\"\",\"\",BQ95*VLOOKUP(BP95,Feeds!$B$9:$AB$109,26,FALSE))","v":""},{"$f":"IF(BQ95=\"\",\"\",BQ95*VLOOKUP(BP95,Feeds!$B$9:$AB$109,27,FALSE))","v":""},0]
[null,null,null,null,{"$f":"IF(D96=0,\"\",VLOOKUP(C96,Feeds!$B$9:$AB$109,23,FALSE)*D96/1000)","v":""},{"$f":"IF(D96=0,\"\",VLOOKUP(C96,Feeds!$B$9:$AB$109,24,FALSE))","v":""},{"$f":"IF(D96=\"\",\"\",D96*VLOOKUP(C96,Feeds!$B$9:$AB$109,25,FALSE))","v":""},{"$f":"IF(D96=\"\",\"\",D96*VLOOKUP(C96,Feeds!$B$9:$AB$109,26,FALSE))","v":""},{"$f":"IF(D96=\"\",\"\",D96*VLOOKUP(C96,Feeds!$B$9:$AB$109,27,FALSE))","v":""},0,null,null,null,null,null,null,null,{"$f":"IF(Q96=0,\"\",VLOOKUP(P96,Feeds!$B$9:$AB$109,23,FALSE)*Q96/1000)","v":""},{"$f":"IF(Q96=0,\"\",VLOOKUP(P96,Feeds!$B$9:$AB$109,24,FALSE))","v":""},{"$f":"IF(Q96=\"\",\"\",Q96*VLOOKUP(P96,Feeds!$B$9:$AB$109,25,FALSE))","v":""},{"$f":"IF(Q96=\"\",\"\",Q96*VLOOKUP(P96,Feeds!$B$9:$AB$109,26,FALSE))","v":""},{"$f":"IF(Q96=\"\",\"\",Q96*VLOOKUP(P96,Feeds!$B$9:$AB$109,27,FALSE))","v":""},0,null,null,null,null,null,null,null,null,null,null,null,null,null,null,null,null,null,null,null,null,null,null,null,null,null,null,null,null,null,null,null,null,null,null,null,null,null,null,null,null,null,null,null,null,null,null,{"$f":"IF(BQ96=0,\"\",VLOOKUP(BP96,Feeds!$B$9:$AB$109,23,FALSE)*BQ96/1000)","v":""},{"$f":"IF(BQ96=0,\"\",VLOOKUP(BP96,Feeds!$B$9:$AB$109,24,FALSE))","v":""},{"$f":"IF(BQ96=\"\",\"\",BQ96*VLOOKUP(BP96,Feeds!$B$9:$AB$109,25,FALSE))","v":""},{"$f":"IF(BQ96=\"\",\"\",BQ96*VLOOKUP(BP96,Feeds!$B$9:$AB$109,26,FALSE))","v":""},{"$f":"IF(BQ96=\"\",\"\",BQ96*VLOOKUP(BP96,Feeds!$B$9:$AB$109,27,FALSE))","v":""},0]
[null,null,null,null,{"$f":"IF(D97=0,\"\",VLOOKUP(C97,Feeds!$B$9:$AB$109,23,FALSE)*D97/1000)","v":""},{"$f":"IF(D97=0,\"\",VLOOKUP(C97,Feeds!$B$9:$AB$109,24,FALSE))","v":""},{"$f":"IF(D97=\"\",\"\",D97*VLOOKUP(C97,Feeds!$B$9:$AB$109,25,FALSE))","v":""},{"$f":"IF(D97=\"\",\"\",D97*VLOOKUP(C97,Feeds!$B$9:$AB$109,26,FALSE))","v":""},{"$f":"IF(D97=\"\",\"\",D97*VLOOKUP(C97,Feeds!$B$9:$AB$109,27,FALSE))","v":""},{"$f":"IF(D97=\"\",0,E97*F97/100)","v":0},null,null,null,null,null,null,null,{"$f":"IF(Q97=0,\"\",VLOOKUP(P97,Feeds!$B$9:$AB$109,23,FALSE)*Q97/1000)","v":""},{"$f":"IF(Q97=0,\"\",VLOOKUP(P97,Feeds!$B$9:$AB$109,24,FALSE))","v":""},{"$f":"IF(Q97=\"\",\"\",Q97*VLOOKUP(P97,Feeds!$B$9:$AB$109,25,FALSE))","v":""},{"$f":"IF(Q97=\"\",\"\",Q97*VLOOKUP(P97,Feeds!$B$9:$AB$109,26,FALSE))","v":""},{"$f":"IF(Q97=\"\",\"\",Q97*VLOOKUP(P97,Feeds!$B$9:$AB$109,27,FALSE))","v":""},0,null,null,null,null,null,null,null,null,null,null,null,null,null,null,null,null,null,null,null,null,null,null,null,null,null,null,null,null,null,null,null,null,null,null,null,null,null,null,null,null,null,null,null,null,null,null,{"$f":"IF(BQ97=0,\"\",VLOOKUP(BP97,Feeds!$B$9:$AB$109,23,FALSE)*BQ97/1000)","v":""},{"$f":"IF(BQ97=0,\"\",VLOOKUP(BP97,Feeds!$B$9:$AB$109,24,FALSE))","v":""},{"$f":"IF(BQ97=\"\",\"\",BQ97*VLOOKUP(BP97,Feeds!$B$9:$AB$109,25,FALSE))","v":""},{"$f":"IF(BQ97=\"\",\"\",BQ97*VLOOKUP(BP97,Feeds!$B$9:$AB$109,26,FALSE))","v":""},{"$f":"IF(BQ97=\"\",\"\",BQ97*VLOOKUP(BP97,Feeds!$B$9:$AB$109,27,FALSE))","v":""},0]
[null,null,null,null,{"$f":"IF(D98=0,\"\",VLOOKUP(C98,Feeds!$B$9:$AB$109,23,FALSE)*D98/1000)","v":""},{"$f":"IF(D98=0,\"\",VLOOKUP(C98,Feeds!$B$9:$AB$109,24,FALSE))","v":""},{"$f":"IF(D98=\"\",\"\",D98*VLOOKUP(C98,Feeds!$B$9:$AB$109,25,FALSE))","v":""},{"$f":"IF(D98=\"\",\"\",D98*VLOOKUP(C98,Feeds!$B$9:$AB$109,26,FALSE))","v":""},{"$f":"IF(D98=\"\",\"\",D98*VLOOKUP(C98,Feeds!$B$9:$AB$109,27,FALSE))","v":""},0,null,null,null,null,null,null,null,{"$f":"IF(Q98=0,\"\",VLOOKUP(P98,Feeds!$B$9:$AB$109,23,FALSE)*Q98/1000)","v":""},{"$f":"IF(Q98=0,\"\",VLOOKUP(P98,Feeds!$B$9:$AB$109,24,FALSE))","v":""},{"$f":"IF(Q98=\"\",\"\",Q98*VLOOKUP(P98,Feeds!$B$9:$AB$109,25,FALSE))","v":""},{"$f":"IF(Q98=\"\",\"\",Q98*VLOOKUP(P98,Feeds!$B$9:$AB$109,26,FALSE))","v":""},{"$f":"IF(Q98=\"\",\"\",Q98*VLOOKUP(P98,Feeds!$B$9:$AB$109,27,FALSE))","v":""},0,null,null,null,null,null,null,null,null,null,null,null,null,null,null,null,null,null,null,null,null,null,null,null,null,null,null,null,null,null,null,null,null,null,null,null,null,null,null,null,null,null,null,null,null,null,null,{"$f":"IF(BQ98=0,\"\",VLOOKUP(BP98,Feeds!$B$9:$AB$109,23,FALSE)*BQ98/1000)","v":""},{"$f":"IF(BQ98=0,\"\",VLOOKUP(BP98,Feeds!$B$9:$AB$109,24,FALSE))","v":""},{"$f":"IF(BQ98=\"\",\"\",BQ98*VLOOKUP(BP98,Feeds!$B$9:$AB$109,25,FALSE))","v":""},{"$f":"IF(BQ98=\"\",\"\",BQ98*VLOOKUP(BP98,Feeds!$B$9:$AB$109,26,FALSE))","v":""},{"$f":"IF(BQ98=\"\",\"\",BQ98*VLOOKUP(BP98,Feeds!$B$9:$AB$109,27,FALSE))","v":""},0]
[null,null,"Kokku päevas",null,{"$f":"SUM(E84:E98)","v":0},null,{"$f":"SUM(G84:G98)","v":0},{"$f":"SUM(H84:H98)","v":0},{"$f":"SUM(I84:I98)","v":0},{"$f":"SUM(J84:J98)","v":0},null,null,null,null,null,"Kokku päevas",null,{"$f":"SUM(R84:R98)","v":0},null,{"$f":"SUM(T84:T98)","v":0},{"$f":"SUM(U84:U98)","v":0},{"$f":"SUM(V84:V98)","v":0},{"$f":"SUM(W84:W98)","v":0},null,null,null,null,null,null,null,null,null,null,null,null,null,null,null,null,null,null,null,null,null,null,null,null,null,null,null,null,null,null,null,null,null,null,null,null,null,null,null,null,null,null,null,null,"Kokku päevas",null,{"$f":"SUM(BR84:BR98)","v":0},null,{"$f":"SUM(BT84:BT98)","v":0},{"$f":"SUM(BU84:BU98)","v":0},{"$f":"SUM(BV84:BV98)","v":0},{"$f":"SUM(BW84:BW98)","v":0}]
[null,null,"Kokku perioodis",null,{"$f":"E99*L83*(1-N83/100)","v":0},{"$f":"IF(J100=0,0,J100*100/E100)","v":0},{"$f":"G99*L83*(1-N83/100)","v":0},{"$f":"H99*L83*(1-N83/100)","v":0},{"$f":"I99*L83*(1-N83/100)","v":0},{"$f":"J99*L83*(1-N83/100)","v":0},null,null,null,null,null,"Kokku perioodis",null,{"$f":"R99*Y83*(1-AA83/100)","v":0},{"$f":"IF(W100=0,0,W100*100/R100)","v":0},{"$f":"T99*Y83*(1-AA83/100)","v":0},{"$f":"U99*Y83*(1-AA83/100)","v":0},{"$f":"V99*Y83*(1-AA83/100)","v":0},{"$f":"W99*Y83*(1-AA83/100)","v":0},null,null,null,null,null,null,null,null,null,null,null,null,null,null,null,null,null,null,null,null,null,null,null,null,null,null,null,null,null,null,null,null,null,null,null,null,null,null,null,null,null,null,null,null,"Kokku perioodis",null,{"$f":"BR99*BY83*(1-CA83/100)","v":0},{"$f":"IF(BW100=0,0,BW100*100/BR100)","v":0},{"$f":"BT99*BY83*(1-CA83/100)","v":0},{"$f":"BU99*BY83*(1-CA83/100)","v":0},{"$f":"BV99*BY83*(1-CA83/100)","v":0},{"$f":"BW99*BY83*(1-CA83/100)","v":0}]
[]
[null,null,"Positiivse energiabilansi periood (PEB)"]
[null,null,"PEB1",null,null,null,null,null,null,null,null,"Päevi grupis",null,"TRSS kadu, %"]
[null,null,"Söödad (s.h. mineraalsöödad)","Kogus kg/päev","KA kg/päev","KA seeduvus %","TP   g/päev","P g/päev","K g/päev"]
[null,null,null,null,{"$f":"IF(D105=0,\"\",VLOOKUP(C105,Feeds!$B$9:$AB$109,23,FALSE)*D105/1000)","v":""},{"$f":"IF(D105=0,\"\",VLOOKUP(C105,Feeds!$B$9:$AB$109,24,FALSE))","v":""},{"$f":"IF(D105=\"\",\"\",D105*VLOOKUP(C105,Feeds!$B$9:$AB$109,25,FALSE))","v":""},{"$f":"IF(D105=\"\",\"\",D105*VLOOKUP(C105,Feeds!$B$9:$AB$109,26,FALSE))","v":""},{"$f":"IF(D105=\"\",\"\",D105*VLOOKUP(C105,Feeds!$B$9:$AB$109,27,FALSE))","v":""},{"$f":"IF(D105=\"\",0,E105*F105/100)","v":0}]
[null,null,null,null,{"$f":"IF(D106=0,\"\",VLOOKUP(C106,Feeds!$B$9:$AB$109,23,FALSE)*D106/1000)","v":""},{"$f":"IF(D106=0,\"\",VLOOKUP(C106,Feeds!$B$9:$AB$109,24,FALSE))","v":""},{"$f":"IF(D106=\"\",\"\",D106*VLOOKUP(C106,Feeds!$B$9:$AB$109,25,FALSE))","v":""},{"$f":"IF(D106=\"\",\"\",D106*VLOOKUP(C106,Feeds!$B$9:$AB$109,26,FALSE))","v":""},{"$f":"IF(D106=\"\",\"\",D106*VLOOKUP(C106,Feeds!$B$9:$AB$109,27,FALSE))","v":""},0]
[null,null,null,null,{"$f":"IF(D107=0,\"\",VLOOKUP(C107,Feeds!$B$9:$AB$109,23,FALSE)*D107/1000)","v":""},{"$f":"IF(D107=0,\"\",VLOOKUP(C107,Feeds!$B$9:$AB$109,24,FALSE))","v":""},{"$f":"IF(D107=\"\",\"\",D107*VLOOKUP(C107,Feeds!$B$9:$AB$109,25,FALSE))","v":""},{"$f":"IF(D107=\"\",\"\",D107*VLOOKUP(C107,Feeds!$B$9:$AB$109,26,FALSE))","v":""},{"$f":"IF(D107=\"\",\"\",D107*VLOOKUP(C107,Feeds!$B$9:$AB$109,27,FALSE))","v":""},0]
[null,null,null,null,{"$f":"IF(D108=0,\"\",VLOOKUP(C108,Feeds!$B$9:$AB$109,23,FALSE)*D108/1000)","v":""},{"$f":"IF(D108=0,\"\",VLOOKUP(C108,Feeds!$B$9:$AB$109,24,FALSE))","v":""},{"$f":"IF(D108=\"\",\"\",D108*VLOOKUP(C108,Feeds!$B$9:$AB$109,25,FALSE))","v":""},{"$f":"IF(D108=\"\",\"\",D108*VLOOKUP(C108,Feeds!$B$9:$AB$109,26,FALSE))","v":""},{"$f":"IF(D108=\"\",\"\",D108*VLOOKUP(C108,Feeds!$B$9:$AB$109,27,FALSE))","v":""},0]
[null,null,null,null,{"$f":"IF(D109=0,\"\",VLOOKUP(C109,Feeds!$B$9:$AB$109,23,FALSE)*D109/1000)","v":""},{"$f":"IF(D109=0,\"\",VLOOKUP(C109,Feeds!$B$9:$AB$109,24,FALSE))","v":""},{"$f":"IF(D109=\"\",\"\",D109*VLOOKUP(C109,Feeds!$B$9:$AB$109,25,FALSE))","v":""},{"$f":"IF(D109=\"\",\"\",D109*VLOOKUP(C109,Feeds!$B$9:$AB$109,26,FALSE))","v":""},{"$f":"IF(D109=\"\",\"\",D109*VLOOKUP(C109,Feeds!$B$9:$AB$109,27,FALSE))","v":""},0]
[null,null,null,null,{"$f":"IF(D110=0,\"\",VLOOKUP(C110,Feeds!$B$9:$AB$109,23,FALSE)*D110/1000)","v":""},{"$f":"IF(D110=0,\"\",VLOOKUP(C110,Feeds!$B$9:$AB$109,24,FALSE))","v":""},{"$f":"IF(D110=\"\",\"\",D110*VLOOKUP(C110,Feeds!$B$9:$AB$109,25,FALSE))","v":""},{"$f":"IF(D110=\"\",\"\",D110*VLOOKUP(C110,Feeds!$B$9:$AB$109,26,FALSE))","v":""},{"$f":"IF(D110=\"\",\"\",D110*VLOOKUP(C110,Feeds!$B$9:$AB$109,27,FALSE))","v":""},0]
[null,null,null,null,{"$f":"IF(D111=0,\"\",VLOOKUP(C111,Feeds!$B$9:$AB$109,23,FALSE)*D111/1000)","v":""},{"$f":"IF(D111=0,\"\",VLOOKUP(C111,Feeds!$B$9:$AB$109,24,FALSE))","v":""},{"$f":"IF(D111=\"\",\"\",D111*VLOOKUP(C111,Feeds!$B$9:$AB$109,25,FALSE))","v":""},{"$f":"IF(D111=\"\",\"\",D111*VLOOKUP(C111,Feeds!$B$9:$AB$109,26,FALSE))","v":""},{"$f":"IF(D111=\"\",\"\",D111*VLOOKUP(C111,Feeds!$B$9:$AB$109,27,FALSE))","v":""},0]
[null,null,null,null,{"$f":"IF(D112=0,\"\",VLOOKUP(C112,Feeds!$B$9:$AB$109,23,FALSE)*D112/1000)","v":""},{"$f":"IF(D112=0,\"\",VLOOKUP(C112,Feeds!$B$9:$AB$109,24,FALSE))","v":""},{"$f":"IF(D112=\"\",\"\",D112*VLOOKUP(C112,Feeds!$B$9:$AB$109,25,FALSE))","v":""},{"$f":"IF(D112=\"\",\"\",D112*VLOOKUP(C112,Feeds!$B$9:$AB$109,26,FALSE))","v":""},{"$f":"IF(D112=\"\",\"\",D112*VLOOKUP(C112,Feeds!$B$9:$AB$109,27,FALSE))","v":""},0]
[null,null,null,null,{"$f":"IF(D113=0,\"\",VLOOKUP(C113,Feeds!$B$9:$AB$109,23,FALSE)*D113/1000)","v":""},{"$f":"IF(D113=0,\"\",VLOOKUP(C113,Feeds!$B$9:$AB$109,24,FALSE))","v":""},{"$f":"IF(D113=\"\",\"\",D113*VLOOKUP(C113,Feeds!$B$9:$AB$109,25,FALSE))","v":""},{"$f":"IF(D113=\"\",\"\",D113*VLOOKUP(C113,Feeds!$B$9:$AB$109,26,FALSE))","v":""},{"$f":"IF(D113=\"\",\"\",D113*VLOOKUP(C113,Feeds!$B$9:$AB$109,27,FALSE))","v":""},0]
[null,null,null,null,{"$f":"IF(D114=0,\"\",VLOOKUP(C114,Feeds!$B$9:$AB$109,23,FALSE)*D114/1000)","v":""},{"$f":"IF(D114=0,\"\",VLOOKUP(C114,Feeds!$B$9:$AB$109,24,FALSE))","v":""},{"$f":"IF(D114=\"\",\"\",D114*VLOOKUP(C114,Feeds!$B$9:$AB$109,25,FALSE))","v":""},{"$f":"IF(D114=\"\",\"\",D114*VLOOKUP(C114,Feeds!$B$9:$AB$109,26,FALSE))","v":""},{"$f":"IF(D114=\"\",\"\",D114*VLOOKUP(C114,Feeds!$B$9:$AB$109,27,FALSE))","v":""},0]
[null,null,null,null,{"$f":"IF(D115=0,\"\",VLOOKUP(C115,Feeds!$B$9:$AB$109,23,FALSE)*D115/1000)","v":""},{"$f":"IF(D115=0,\"\",VLOOKUP(C115,Feeds!$B$9:$AB$109,24,FALSE))","v":""},{"$f":"IF(D115=\"\",\"\",D115*VLOOKUP(C115,Feeds!$B$9:$AB$109,25,FALSE))","v":""},{"$f":"IF(D115=\"\",\"\",D115*VLOOKUP(C115,Feeds!$B$9:$AB$109,26,FALSE))","v":""},{"$f":"IF(D115=\"\",\"\",D115*VLOOKUP(C115,Feeds!$B$9:$AB$109,27,FALSE))","v":""},0]
[null,null,null,null,{"$f":"IF(D116=0,\"\",VLOOKUP(C116,Feeds!$B$9:$AB$109,23,FALSE)*D116/1000)","v":""},{"$f":"IF(D116=0,\"\",VLOOKUP(C116,Feeds!$B$9:$AB$109,24,FALSE))","v":""},{"$f":"IF(D116=\"\",\"\",D116*VLOOKUP(C116,Feeds!$B$9:$AB$109,25,FALSE))","v":""},{"$f":"IF(D116=\"\",\"\",D116*VLOOKUP(C116,Feeds!$B$9:$AB$109,26,FALSE))","v":""},{"$f":"IF(D116=\"\",\"\",D116*VLOOKUP(C116,Feeds!$B$9:$AB$109,27,FALSE))","v":""},0]
[null,null,null,null,{"$f":"IF(D117=0,\"\",VLOOKUP(C117,Feeds!$B$9:$AB$109,23,FALSE)*D117/1000)","v":""},{"$f":"IF(D117=0,\"\",VLOOKUP(C117,Feeds!$B$9:$AB$109,24,FALSE))","v":""},{"$f":"IF(D117=\"\",\"\",D117*VLOOKUP(C117,Feeds!$B$9:$AB$109,25,FALSE))","v":""},{"$f":"IF(D117=\"\",\"\",D117*VLOOKUP(C117,Feeds!$B$9:$AB$109,26,FALSE))","v":""},{"$f":"IF(D117=\"\",\"\",D117*VLOOKUP(C117,Feeds!$B$9:$AB$109,27,FALSE))","v":""},0]
[null,null,null,null,{"$f":"IF(D118=0,\"\",VLOOKUP(C118,Feeds!$B$9:$AB$109,23,FALSE)*D118/1000)","v":""},{"$f":"IF(D118=0,\"\",VLOOKUP(C118,Feeds!$B$9:$AB$109,24,FALSE))","v":""},{"$f":"IF(D118=\"\",\"\",D118*VLOOKUP(C118,Feeds!$B$9:$AB$109,25,FALSE))","v":""},{"$f":"IF(D118=\"\",\"\",D118*VLOOKUP(C118,Feeds!$B$9:$AB$109,26,FALSE))","v":""},{"$f":"IF(D118=\"\",\"\",D118*VLOOKUP(C118,Feeds!$B$9:$AB$109,27,FALSE))","v":""},0]
[null,null,"Kokku päevas",null,{"$f":"SUM(E105:E118)","v":0},null,{"$f":"SUM(G105:G118)","v":0},{"$f":"SUM(H105:H118)","v":0},{"$f":"SUM(I105:I118)","v":0},{"$f":"SUM(J104:J118)","v":0}]
[null,null,"Kokku perioodis",null,{"$f":"E119*L104*(1-N104/100)","v":0},{"$f":"IF(J120=0,0,J120*100/E120)","v":0},{"$f":"G119*L104*(1-N104/100)","v":0},{"$f":"H119*L104*(1-N104/100)","v":0},{"$f":"I119*L104*(1-N104/100)","v":0},{"$f":"J119*L104*(1-N104/100)","v":0}]
[]
[null,null,"PEB2",null,null,null,null,null,null,null,null,"Päevi grupis",null,"TRSS kadu, %"]
[null,null,"Söödad (s.h. mineraalsöödad)","Kogus kg/päev","KA kg/päev","KA seeduvus %","TP   g/päev","P g/päev","K g/päev"]
[null,null,null,null,{"$f":"IF(D124=0,\"\",VLOOKUP(C124,Feeds!$B$9:$AB$109,23,FALSE)*D124/1000)","v":""},{"$f":"IF(D124=0,\"\",VLOOKUP(C124,Feeds!$B$9:$AB$109,24,FALSE))","v":""},{"$f":"IF(D124=\"\",\"\",D124*VLOOKUP(C124,Feeds!$B$9:$AB$109,25,FALSE))","v":""},{"$f":"IF(D124=\"\",\"\",D124*VLOOKUP(C124,Feeds!$B$9:$AB$109,26,FALSE))","v":""},{"$f":"IF(D124=\"\",\"\",D124*VLOOKUP(C124,Feeds!$B$9:$AB$109,27,FALSE))","v":""},{"$f":"IF(D124=\"\",0,E124*F124/100)","v":0}]
[null,null,null,null,{"$f":"IF(D125=0,\"\",VLOOKUP(C125,Feeds!$B$9:$AB$109,23,FALSE)*D125/1000)","v":""},{"$f":"IF(D125=0,\"\",VLOOKUP(C125,Feeds!$B$9:$AB$109,24,FALSE))","v":""},{"$f":"IF(D125=\"\",\"\",D125*VLOOKUP(C125,Feeds!$B$9:$AB$109,25,FALSE))","v":""},{"$f":"IF(D125=\"\",\"\",D125*VLOOKUP(C125,Feeds!$B$9:$AB$109,26,FALSE))","v":""},{"$f":"IF(D125=\"\",\"\",D125*VLOOKUP(C125,Feeds!$B$9:$AB$109,27,FALSE))","v":""},0]
[null,null,null,null,{"$f":"IF(D126=0,\"\",VLOOKUP(C126,Feeds!$B$9:$AB$109,23,FALSE)*D126/1000)","v":""},{"$f":"IF(D126=0,\"\",VLOOKUP(C126,Feeds!$B$9:$AB$109,24,FALSE))","v":""},{"$f":"IF(D126=\"\",\"\",D126*VLOOKUP(C126,Feeds!$B$9:$AB$109,25,FALSE))","v":""},{"$f":"IF(D126=\"\",\"\",D126*VLOOKUP(C126,Feeds!$B$9:$AB$109,26,FALSE))","v":""},{"$f":"IF(D126=\"\",\"\",D126*VLOOKUP(C126,Feeds!$B$9:$AB$109,27,FALSE))","v":""},0]
[null,null,null,null,{"$f":"IF(D127=0,\"\",VLOOKUP(C127,Feeds!$B$9:$AB$109,23,FALSE)*D127/1000)","v":""},{"$f":"IF(D127=0,\"\",VLOOKUP(C127,Feeds!$B$9:$AB$109,24,FALSE))","v":""},{"$f":"IF(D127=\"\",\"\",D127*VLOOKUP(C127,Feeds!$B$9:$AB$109,25,FALSE))","v":""},{"$f":"IF(D127=\"\",\"\",D127*VLOOKUP(C127,Feeds!$B$9:$AB$109,26,FALSE))","v":""},{"$f":"IF(D127=\"\",\"\",D127*VLOOKUP(C127,Feeds!$B$9:$AB$109,27,FALSE))","v":""},0]
[null,null,null,null,{"$f":"IF(D128=0,\"\",VLOOKUP(C128,Feeds!$B$9:$AB$109,23,FALSE)*D128/1000)","v":""},{"$f":"IF(D128=0,\"\",VLOOKUP(C128,Feeds!$B$9:$AB$109,24,FALSE))","v":""},{"$f":"IF(D128=\"\",\"\",D128*VLOOKUP(C128,Feeds!$B$9:$AB$109,25,FALSE))","v":""},{"$f":"IF(D128=\"\",\"\",D128*VLOOKUP(C128,Feeds!$B$9:$AB$109,26,FALSE))","v":""},{"$f":"IF(D128=\"\",\"\",D128*VLOOKUP(C128,Feeds!$B$9:$AB$109,27,FALSE))","v":""},0]
[null,null,null,null,{"$f":"IF(D129=0,\"\",VLOOKUP(C129,Feeds!$B$9:$AB$109,23,FALSE)*D129/1000)","v":""},{"$f":"IF(D129=0,\"\",VLOOKUP(C129,Feeds!$B$9:$AB$109,24,FALSE))","v":""},{"$f":"IF(D129=\"\",\"\",D129*VLOOKUP(C129,Feeds!$B$9:$AB$109,25,FALSE))","v":""},{"$f":"IF(D129=\"\",\"\",D129*VLOOKUP(C129,Feeds!$B$9:$AB$109,26,FALSE))","v":""},{"$f":"IF(D129=\"\",\"\",D129*VLOOKUP(C129,Feeds!$B$9:$AB$109,27,FALSE))","v":""},0]
[null,null,null,null,{"$f":"IF(D130=0,\"\",VLOOKUP(C130,Feeds!$B$9:$AB$109,23,FALSE)*D130/1000)","v":""},{"$f":"IF(D130=0,\"\",VLOOKUP(C130,Feeds!$B$9:$AB$109,24,FALSE))","v":""},{"$f":"IF(D130=\"\",\"\",D130*VLOOKUP(C130,Feeds!$B$9:$AB$109,25,FALSE))","v":""},{"$f":"IF(D130=\"\",\"\",D130*VLOOKUP(C130,Feeds!$B$9:$AB$109,26,FALSE))","v":""},{"$f":"IF(D130=\"\",\"\",D130*VLOOKUP(C130,Feeds!$B$9:$AB$109,27,FALSE))","v":""},0]
[null,null,null,null,{"$f":"IF(D131=0,\"\",VLOOKUP(C131,Feeds!$B$9:$AB$109,23,FALSE)*D131/1000)","v":""},{"$f":"IF(D131=0,\"\",VLOOKUP(C131,Feeds!$B$9:$AB$109,24,FALSE))","v":""},{"$f":"IF(D131=\"\",\"\",D131*VLOOKUP(C131,Feeds!$B$9:$AB$109,25,FALSE))","v":""},{"$f":"IF(D131=\"\",\"\",D131*VLOOKUP(C131,Feeds!$B$9:$AB$109,26,FALSE))","v":""},{"$f":"IF(D131=\"\",\"\",D131*VLOOKUP(C131,Feeds!$B$9:$AB$109,27,FALSE))","v":""},0]
[null,null,null,null,{"$f":"IF(D132=0,\"\",VLOOKUP(C132,Feeds!$B$9:$AB$109,23,FALSE)*D132/1000)","v":""},{"$f":"IF(D132=0,\"\",VLOOKUP(C132,Feeds!$B$9:$AB$109,24,FALSE))","v":""},{"$f":"IF(D132=\"\",\"\",D132*VLOOKUP(C132,Feeds!$B$9:$AB$109,25,FALSE))","v":""},{"$f":"IF(D132=\"\",\"\",D132*VLOOKUP(C132,Feeds!$B$9:$AB$109,26,FALSE))","v":""},{"$f":"IF(D132=\"\",\"\",D132*VLOOKUP(C132,Feeds!$B$9:$AB$109,27,FALSE))","v":""},0]
[null,null,null,null,{"$f":"IF(D133=0,\"\",VLOOKUP(C133,Feeds!$B$9:$AB$109,23,FALSE)*D133/1000)","v":""},{"$f":"IF(D133=0,\"\",VLOOKUP(C133,Feeds!$B$9:$AB$109,24,FALSE))","v":""},{"$f":"IF(D133=\"\",\"\",D133*VLOOKUP(C133,Feeds!$B$9:$AB$109,25,FALSE))","v":""},{"$f":"IF(D133=\"\",\"\",D133*VLOOKUP(C133,Feeds!$B$9:$AB$109,26,FALSE))","v":""},{"$f":"IF(D133=\"\",\"\",D133*VLOOKUP(C133,Feeds!$B$9:$AB$109,27,FALSE))","v":""},0]
[null,null,null,null,{"$f":"IF(D134=0,\"\",VLOOKUP(C134,Feeds!$B$9:$AB$109,23,FALSE)*D134/1000)","v":""},{"$f":"IF(D134=0,\"\",VLOOKUP(C134,Feeds!$B$9:$AB$109,24,FALSE))","v":""},{"$f":"IF(D134=\"\",\"\",D134*VLOOKUP(C134,Feeds!$B$9:$AB$109,25,FALSE))","v":""},{"$f":"IF(D134=\"\",\"\",D134*VLOOKUP(C134,Feeds!$B$9:$AB$109,26,FALSE))","v":""},{"$f":"IF(D134=\"\",\"\",D134*VLOOKUP(C134,Feeds!$B$9:$AB$109,27,FALSE))","v":""},0]
[null,null,null,null,{"$f":"IF(D135=0,\"\",VLOOKUP(C135,Feeds!$B$9:$AB$109,23,FALSE)*D135/1000)","v":""},{"$f":"IF(D135=0,\"\",VLOOKUP(C135,Feeds!$B$9:$AB$109,24,FALSE))","v":""},{"$f":"IF(D135=\"\",\"\",D135*VLOOKUP(C135,Feeds!$B$9:$AB$109,25,FALSE))","v":""},{"$f":"IF(D135=\"\",\"\",D135*VLOOKUP(C135,Feeds!$B$9:$AB$109,26,FALSE))","v":""},{"$f":"IF(D135=\"\",\"\",D135*VLOOKUP(C135,Feeds!$B$9:$AB$109,27,FALSE))","v":""},0]
[null,null,null,null,{"$f":"IF(D136=0,\"\",VLOOKUP(C136,Feeds!$B$9:$AB$109,23,FALSE)*D136/1000)","v":""},{"$f":"IF(D136=0,\"\",VLOOKUP(C136,Feeds!$B$9:$AB$109,24,FALSE))","v":""},{"$f":"IF(D136=\"\",\"\",D136*VLOOKUP(C136,Feeds!$B$9:$AB$109,25,FALSE))","v":""},{"$f":"IF(D136=\"\",\"\",D136*VLOOKUP(C136,Feeds!$B$9:$AB$109,26,FALSE))","v":""},{"$f":"IF(D136=\"\",\"\",D136*VLOOKUP(C136,Feeds!$B$9:$AB$109,27,FALSE))","v":""},0]
[null,null,null,null,{"$f":"IF(D137=0,\"\",VLOOKUP(C137,Feeds!$B$9:$AB$109,23,FALSE)*D137/1000)","v":""},{"$f":"IF(D137=0,\"\",VLOOKUP(C137,Feeds!$B$9:$AB$109,24,FALSE))","v":""},{"$f":"IF(D137=\"\",\"\",D137*VLOOKUP(C137,Feeds!$B$9:$AB$109,25,FALSE))","v":""},{"$f":"IF(D137=\"\",\"\",D137*VLOOKUP(C137,Feeds!$B$9:$AB$109,26,FALSE))","v":""},{"$f":"IF(D137=\"\",\"\",D137*VLOOKUP(C137,Feeds!$B$9:$AB$109,27,FALSE))","v":""},0]
[null,null,null,null,{"$f":"IF(D138=0,\"\",VLOOKUP(C138,Feeds!$B$9:$AB$109,23,FALSE)*D138/1000)","v":""},{"$f":"IF(D138=0,\"\",VLOOKUP(C138,Feeds!$B$9:$AB$109,24,FALSE))","v":""},{"$f":"IF(D138=\"\",\"\",D138*VLOOKUP(C138,Feeds!$B$9:$AB$109,25,FALSE))","v":""},{"$f":"IF(D138=\"\",\"\",D138*VLOOKUP(C138,Feeds!$B$9:$AB$109,26,FALSE))","v":""},{"$f":"IF(D138=\"\",\"\",D138*VLOOKUP(C138,Feeds!$B$9:$AB$109,27,FALSE))","v":""},0]
[null,null,"Kokku päevas",null,{"$f":"SUM(E124:E138)","v":0},null,{"$f":"SUM(G124:G138)","v":0},{"$f":"SUM(H124:H138)","v":0},{"$f":"SUM(I124:I138)","v":0},{"$f":"SUM(J124:J138)","v":0}]
[null,null,"Kokku perioodis",null,{"$f":"E139*L123*(1-N123/100)","v":0},{"$f":"IF(J140=0,0,J140*100/E140)","v":0},{"$f":"G139*L123*(1-N123/100)","v":0},{"$f":"H139*L123*(1-N123/100)","v":0},{"$f":"I139*L123*(1-N123/100)","v":0},{"$f":"J139*L123*(1-N123/100)","v":0}]
[]
[null,null,"Kinnisperiood (KP)"]
[null,null,"KP1",null,null,null,null,null,null,null,null,"Päevi grupis",null,"TRSS kadu, %"]
[null,null,"Söödad (s.h. mineraalsöödad)","Kogus kg/päev","KA kg/päev","KA seeduvus %","TP   g/päev","P g/päev","K g/päev"]
[null,null,null,null,{"$f":"IF(D145=0,\"\",VLOOKUP(C145,Feeds!$B$9:$AB$109,23,FALSE)*D145/1000)","v":""},{"$f":"IF(D145=0,\"\",VLOOKUP(C145,Feeds!$B$9:$AB$109,24,FALSE))","v":""},{"$f":"IF(D145=\"\",\"\",D145*VLOOKUP(C145,Feeds!$B$9:$AB$109,25,FALSE))","v":""},{"$f":"IF(D145=\"\",\"\",D145*VLOOKUP(C145,Feeds!$B$9:$AB$109,26,FALSE))","v":""},{"$f":"IF(D145=\"\",\"\",D145*VLOOKUP(C145,Feeds!$B$9:$AB$109,27,FALSE))","v":""},{"$f":"IF(D145=\"\",0,E145*F145/100)","v":0}]
[null,null,null,null,{"$f":"IF(D146=0,\"\",VLOOKUP(C146,Feeds!$B$9:$AB$109,23,FALSE)*D146/1000)","v":""},{"$f":"IF(D146=0,\"\",VLOOKUP(C146,Feeds!$B$9:$AB$109,24,FALSE))","v":""},{"$f":"IF(D146=\"\",\"\",D146*VLOOKUP(C146,Feeds!$B$9:$AB$109,25,FALSE))","v":""},{"$f":"IF(D146=\"\",\"\",D146*VLOOKUP(C146,Feeds!$B$9:$AB$109,26,FALSE))","v":""},{"$f":"IF(D146=\"\",\"\",D146*VLOOKUP(C146,Feeds!$B$9:$AB$109,27,FALSE))","v":""},0]
[null,null,null,null,{"$f":"IF(D147=0,\"\",VLOOKUP(C147,Feeds!$B$9:$AB$109,23,FALSE)*D147/1000)","v":""},{"$f":"IF(D147=0,\"\",VLOOKUP(C147,Feeds!$B$9:$AB$109,24,FALSE))","v":""},{"$f":"IF(D147=\"\",\"\",D147*VLOOKUP(C147,Feeds!$B$9:$AB$109,25,FALSE))","v":""},{"$f":"IF(D147=\"\",\"\",D147*VLOOKUP(C147,Feeds!$B$9:$AB$109,26,FALSE))","v":""},{"$f":"IF(D147=\"\",\"\",D147*VLOOKUP(C147,Feeds!$B$9:$AB$109,27,FALSE))","v":""},0]
[null,null,null,null,{"$f":"IF(D148=0,\"\",VLOOKUP(C148,Feeds!$B$9:$AB$109,23,FALSE)*D148/1000)","v":""},{"$f":"IF(D148=0,\"\",VLOOKUP(C148,Feeds!$B$9:$AB$109,24,FALSE))","v":""},{"$f":"IF(D148=\"\",\"\",D148*VLOOKUP(C148,Feeds!$B$9:$AB$109,25,FALSE))","v":""},{"$f":"IF(D148=\"\",\"\",D148*VLOOKUP(C148,Feeds!$B$9:$AB$109,26,FALSE))","v":""},{"$f":"IF(D148=\"\",\"\",D148*VLOOKUP(C148,Feeds!$B$9:$AB$109,27,FALSE))","v":""},0]
[null,null,null,null,{"$f":"IF(D149=0,\"\",VLOOKUP(C149,Feeds!$B$9:$AB$109,23,FALSE)*D149/1000)","v":""},{"$f":"IF(D149=0,\"\",VLOOKUP(C149,Feeds!$B$9:$AB$109,24,FALSE))","v":""},{"$f":"IF(D149=\"\",\"\",D149*VLOOKUP(C149,Feeds!$B$9:$AB$109,25,FALSE))","v":""},{"$f":"IF(D149=\"\",\"\",D149*VLOOKUP(C149,Feeds!$B$9:$AB$109,26,FALSE))","v":""},{"$f":"IF(D149=\"\",\"\",D149*VLOOKUP(C149,Feeds!$B$9:$AB$109,27,FALSE))","v":""},0]
[null,null,null,null,{"$f":"IF(D150=0,\"\",VLOOKUP(C150,Feeds!$B$9:$AB$109,23,FALSE)*D150/1000)","v":""},{"$f":"IF(D150=0,\"\",VLOOKUP(C150,Feeds!$B$9:$AB$109,24,FALSE))","v":""},{"$f":"IF(D150=\"\",\"\",D150*VLOOKUP(C150,Feeds!$B$9:$AB$109,25,FALSE))","v":""},{"$f":"IF(D150=\"\",\"\",D150*VLOOKUP(C150,Feeds!$B$9:$AB$109,26,FALSE))","v":""},{"$f":"IF(D150=\"\",\"\",D150*VLOOKUP(C150,Feeds!$B$9:$AB$109,27,FALSE))","v":""},0]
[null,null,null,null,{"$f":"IF(D151=0,\"\",VLOOKUP(C151,Feeds!$B$9:$AB$109,23,FALSE)*D151/1000)","v":""},{"$f":"IF(D151=0,\"\",VLOOKUP(C151,Feeds!$B$9:$AB$109,24,FALSE))","v":""},{"$f":"IF(D151=\"\",\"\",D151*VLOOKUP(C151,Feeds!$B$9:$AB$109,25,FALSE))","v":""},{"$f":"IF(D151=\"\",\"\",D151*VLOOKUP(C151,Feeds!$B$9:$AB$109,26,FALSE))","v":""},{"$f":"IF(D151=\"\",\"\",D151*VLOOKUP(C151,Feeds!$B$9:$AB$109,27,FALSE))","v":""},0]
[null,null,null,null,{"$f":"IF(D152=0,\"\",VLOOKUP(C152,Feeds!$B$9:$AB$109,23,FALSE)*D152/1000)","v":""},{"$f":"IF(D152=0,\"\",VLOOKUP(C152,Feeds!$B$9:$AB$109,24,FALSE))","v":""},{"$f":"IF(D152=\"\",\"\",D152*VLOOKUP(C152,Feeds!$B$9:$AB$109,25,FALSE))","v":""},{"$f":"IF(D152=\"\",\"\",D152*VLOOKUP(C152,Feeds!$B$9:$AB$109,26,FALSE))","v":""},{"$f":"IF(D152=\"\",\"\",D152*VLOOKUP(C152,Feeds!$B$9:$AB$109,27,FALSE))","v":""},{"$f":"IF(D152=\"\",0,E152*F152/100)","v":0}]
[null,null,null,null,{"$f":"IF(D153=0,\"\",VLOOKUP(C153,Feeds!$B$9:$AB$109,23,FALSE)*D153/1000)","v":""},{"$f":"IF(D153=0,\"\",VLOOKUP(C153,Feeds!$B$9:$AB$109,24,FALSE))","v":""},{"$f":"IF(D153=\"\",\"\",D153*VLOOKUP(C153,Feeds!$B$9:$AB$109,25,FALSE))","v":""},{"$f":"IF(D153=\"\",\"\",D153*VLOOKUP(C153,Feeds!$B$9:$AB$109,26,FALSE))","v":""},{"$f":"IF(D153=\"\",\"\",D153*VLOOKUP(C153,Feeds!$B$9:$AB$109,27,FALSE))","v":""},0]
[null,null,null,null,{"$f":"IF(D154=0,\"\",VLOOKUP(C154,Feeds!$B$9:$AB$109,23,FALSE)*D154/1000)","v":""},{"$f":"IF(D154=0,\"\",VLOOKUP(C154,Feeds!$B$9:$AB$109,24,FALSE))","v":""},{"$f":"IF(D154=\"\",\"\",D154*VLOOKUP(C154,Feeds!$B$9:$AB$109,25,FALSE))","v":""},{"$f":"IF(D154=\"\",\"\",D154*VLOOKUP(C154,Feeds!$B$9:$AB$109,26,FALSE))","v":""},{"$f":"IF(D154=\"\",\"\",D154*VLOOKUP(C154,Feeds!$B$9:$AB$109,27,FALSE))","v":""},0]
[null,null,null,null,{"$f":"IF(D155=0,\"\",VLOOKUP(C155,Feeds!$B$9:$AB$109,23,FALSE)*D155/1000)","v":""},{"$f":"IF(D155=0,\"\",VLOOKUP(C155,Feeds!$B$9:$AB$109,24,FALSE))","v":""},{"$f":"IF(D155=\"\",\"\",D155*VLOOKUP(C155,Feeds!$B$9:$AB$109,25,FALSE))","v":""},{"$f":"IF(D155=\"\",\"\",D155*VLOOKUP(C155,Feeds!$B$9:$AB$109,26,FALSE))","v":""},{"$f":"IF(D155=\"\",\"\",D155*VLOOKUP(C155,Feeds!$B$9:$AB$109,27,FALSE))","v":""},0]
[null,null,"Kokku päevas",null,{"$f":"SUM(E145:E155)","v":0},null,{"$f":"SUM(G145:G155)","v":0},{"$f":"SUM(H145:H155)","v":0},{"$f":"SUM(I145:I155)","v":0},{"$f":"SUM(J145:J155)","v":0}]
[null,null,"Kokku perioodis",null,{"$f":"E156*L144*(1-N144/100)","v":0},{"$f":"IF(J157=0,0,J157*100/E157)","v":0},{"$f":"G156*L144*(1-N144/100)","v":0},{"$f":"H156*L144*(1-N144/100)","v":0},{"$f":"I156*L144*(1-N144/100)","v":0},{"$f":"J156*L144*(1-N144/100)","v":0}]
[]
[null,null,"KP2",null,null,null,null,null,null,null,null,"Päevi grupis",null,"TRSS kadu, %"]
[null,null,"Söödad (s.h. mineraalsöödad)","Kogus kg/päev","KA kg/päev","KA seeduvus %","TP   g/päev","P g/päev","K g/päev"]
[null,null,null,null,{"$f":"IF(D161=0,\"\",VLOOKUP(C161,Feeds!$B$9:$AB$109,23,FALSE)*D161/1000)","v":""},{"$f":"IF(D161=0,\"\",VLOOKUP(C161,Feeds!$B$9:$AB$109,24,FALSE))","v":""},{"$f":"IF(D161=\"\",\"\",D161*VLOOKUP(C161,Feeds!$B$9:$AB$109,25,FALSE))","v":""},{"$f":"IF(D161=\"\",\"\",D161*VLOOKUP(C161,Feeds!$B$9:$AB$109,26,FALSE))","v":""},{"$f":"IF(D161=\"\",\"\",D161*VLOOKUP(C161,Feeds!$B$9:$AB$109,27,FALSE))","v":""},{"$f":"IF(D161=\"\",0,E161*F161/100)","v":0}]
[null,null,null,null,{"$f":"IF(D162=0,\"\",VLOOKUP(C162,Feeds!$B$9:$AB$109,23,FALSE)*D162/1000)","v":""},{"$f":"IF(D162=0,\"\",VLOOKUP(C162,Feeds!$B$9:$AB$109,24,FALSE))","v":""},{"$f":"IF(D162=\"\",\"\",D162*VLOOKUP(C162,Feeds!$B$9:$AB$109,25,FALSE))","v":""},{"$f":"IF(D162=\"\",\"\",D162*VLOOKUP(C162,Feeds!$B$9:$AB$109,26,FALSE))","v":""},{"$f":"IF(D162=\"\",\"\",D162*VLOOKUP(C162,Feeds!$B$9:$AB$109,27,FALSE))","v":""},0]
[null,null,null,null,{"$f":"IF(D163=0,\"\",VLOOKUP(C163,Feeds!$B$9:$AB$109,23,FALSE)*D163/1000)","v":""},{"$f":"IF(D163=0,\"\",VLOOKUP(C163,Feeds!$B$9:$AB$109,24,FALSE))","v":""},{"$f":"IF(D163=\"\",\"\",D163*VLOOKUP(C163,Feeds!$B$9:$AB$109,25,FALSE))","v":""},{"$f":"IF(D163=\"\",\"\",D163*VLOOKUP(C163,Feeds!$B$9:$AB$109,26,FALSE))","v":""},{"$f":"IF(D163=\"\",\"\",D163*VLOOKUP(C163,Feeds!$B$9:$AB$109,27,FALSE))","v":""},0]
[null,null,null,null,{"$f":"IF(D164=0,\"\",VLOOKUP(C164,Feeds!$B$9:$AB$109,23,FALSE)*D164/1000)","v":""},{"$f":"IF(D164=0,\"\",VLOOKUP(C164,Feeds!$B$9:$AB$109,24,FALSE))","v":""},{"$f":"IF(D164=\"\",\"\",D164*VLOOKUP(C164,Feeds!$B$9:$AB$109,25,FALSE))","v":""},{"$f":"IF(D164=\"\",\"\",D164*VLOOKUP(C164,Feeds!$B$9:$AB$109,26,FALSE))","v":""},{"$f":"IF(D164=\"\",\"\",D164*VLOOKUP(C164,Feeds!$B$9:$AB$109,27,FALSE))","v":""},0]
[null,null,null,null,{"$f":"IF(D165=0,\"\",VLOOKUP(C165,Feeds!$B$9:$AB$109,23,FALSE)*D165/1000)","v":""},{"$f":"IF(D165=0,\"\",VLOOKUP(C165,Feeds!$B$9:$AB$109,24,FALSE))","v":""},{"$f":"IF(D165=\"\",\"\",D165*VLOOKUP(C165,Feeds!$B$9:$AB$109,25,FALSE))","v":""},{"$f":"IF(D165=\"\",\"\",D165*VLOOKUP(C165,Feeds!$B$9:$AB$109,26,FALSE))","v":""},{"$f":"IF(D165=\"\",\"\",D165*VLOOKUP(C165,Feeds!$B$9:$AB$109,27,FALSE))","v":""},0]
[null,null,null,null,{"$f":"IF(D166=0,\"\",VLOOKUP(C166,Feeds!$B$9:$AB$109,23,FALSE)*D166/1000)","v":""},{"$f":"IF(D166=0,\"\",VLOOKUP(C166,Feeds!$B$9:$AB$109,24,FALSE))","v":""},{"$f":"IF(D166=\"\",\"\",D166*VLOOKUP(C166,Feeds!$B$9:$AB$109,25,FALSE))","v":""},{"$f":"IF(D166=\"\",\"\",D166*VLOOKUP(C166,Feeds!$B$9:$AB$109,26,FALSE))","v":""},{"$f":"IF(D166=\"\",\"\",D166*VLOOKUP(C166,Feeds!$B$9:$AB$109,27,FALSE))","v":""},0]
[null,null,null,null,{"$f":"IF(D167=0,\"\",VLOOKUP(C167,Feeds!$B$9:$AB$109,23,FALSE)*D167/1000)","v":""},{"$f":"IF(D167=0,\"\",VLOOKUP(C167,Feeds!$B$9:$AB$109,24,FALSE))","v":""},{"$f":"IF(D167=\"\",\"\",D167*VLOOKUP(C167,Feeds!$B$9:$AB$109,25,FALSE))","v":""},{"$f":"IF(D167=\"\",\"\",D167*VLOOKUP(C167,Feeds!$B$9:$AB$109,26,FALSE))","v":""},{"$f":"IF(D167=\"\",\"\",D167*VLOOKUP(C167,Feeds!$B$9:$AB$109,27,FALSE))","v":""},0]
[null,null,null,null,{"$f":"IF(D168=0,\"\",VLOOKUP(C168,Feeds!$B$9:$AB$109,23,FALSE)*D168/1000)","v":""},{"$f":"IF(D168=0,\"\",VLOOKUP(C168,Feeds!$B$9:$AB$109,24,FALSE))","v":""},{"$f":"IF(D168=\"\",\"\",D168*VLOOKUP(C168,Feeds!$B$9:$AB$109,25,FALSE))","v":""},{"$f":"IF(D168=\"\",\"\",D168*VLOOKUP(C168,Feeds!$B$9:$AB$109,26,FALSE))","v":""},{"$f":"IF(D168=\"\",\"\",D168*VLOOKUP(C168,Feeds!$B$9:$AB$109,27,FALSE))","v":""},0]
[null,null,null,null,{"$f":"IF(D169=0,\"\",VLOOKUP(C169,Feeds!$B$9:$AB$109,23,FALSE)*D169/1000)","v":""},{"$f":"IF(D169=0,\"\",VLOOKUP(C169,Feeds!$B$9:$AB$109,24,FALSE))","v":""},{"$f":"IF(D169=\"\",\"\",D169*VLOOKUP(C169,Feeds!$B$9:$AB$109,25,FALSE))","v":""},{"$f":"IF(D169=\"\",\"\",D169*VLOOKUP(C169,Feeds!$B$9:$AB$109,26,FALSE))","v":""},{"$f":"IF(D169=\"\",\"\",D169*VLOOKUP(C169,Feeds!$B$9:$AB$109,27,FALSE))","v":""},0]
[null,null,null,null,{"$f":"IF(D170=0,\"\",VLOOKUP(C170,Feeds!$B$9:$AB$109,23,FALSE)*D170/1000)","v":""},{"$f":"IF(D170=0,\"\",VLOOKUP(C170,Feeds!$B$9:$AB$109,24,FALSE))","v":""},{"$f":"IF(D170=\"\",\"\",D170*VLOOKUP(C170,Feeds!$B$9:$AB$109,25,FALSE))","v":""},{"$f":"IF(D170=\"\",\"\",D170*VLOOKUP(C170,Feeds!$B$9:$AB$109,26,FALSE))","v":""},{"$f":"IF(D170=\"\",\"\",D170*VLOOKUP(C170,Feeds!$B$9:$AB$109,27,FALSE))","v":""},0]
[null,null,null,null,{"$f":"IF(D171=0,\"\",VLOOKUP(C171,Feeds!$B$9:$AB$109,23,FALSE)*D171/1000)","v":""},{"$f":"IF(D171=0,\"\",VLOOKUP(C171,Feeds!$B$9:$AB$109,24,FALSE))","v":""},{"$f":"IF(D171=\"\",\"\",D171*VLOOKUP(C171,Feeds!$B$9:$AB$109,25,FALSE))","v":""},{"$f":"IF(D171=\"\",\"\",D171*VLOOKUP(C171,Feeds!$B$9:$AB$109,26,FALSE))","v":""},{"$f":"IF(D171=\"\",\"\",D171*VLOOKUP(C171,Feeds!$B$9:$AB$109,27,FALSE))","v":""},0]
[null,null,"Kokku päevas",null,{"$f":"SUM(E161:E171)","v":0},null,{"$f":"SUM(G161:G171)","v":0},{"$f":"SUM(H161:H171)","v":0},{"$f":"SUM(I161:I171)","v":0},{"$f":"SUM(J161:J171)","v":0}]
[null,null,"Kokku perioodis",null,{"$f":"E172*L160*(1-N160/100)","v":0},{"$f":"IF(J173=0,0,J173*100/E173)","v":0},{"$f":"G172*L160*(1-N160/100)","v":0},{"$f":"H172*L160*(1-N160/100)","v":0},{"$f":"I172*L160*(1-N160/100)","v":0},{"$f":"J172*L160*(1-N160/100)","v":0}]
[null,null,null,null,null,null,null,null,null,{"$f":"IF((L160+L144+L123+L104+L83+L63+L42+L22)=0,0,(J173+J157+J140+J120+J100+J80+J59+J39)/(L160+L144+L123+L104+L83+L63+L42+L22)*365)","v":0},null,null,null,null,null,null,null,null,null,null,null,null,{"$f":"IF((Y160+Y144+Y123+Y104+Y83+Y63+Y42+Y22)=0,0,(W173+W157+W140+W120+W100+W80+W59+W39)/(Y160+Y144+Y123+Y104+Y83+Y63+Y42+Y22)*365)","v":0},null,null,null,null,null,null,null,null,null,null,null,null,{"$f":"IF((AL160+AL144+AL123+AL104+AL83+AL63+AL42+AL22)=0,0,(AJ173+AJ157+AJ140+AJ120+AJ100+AJ80+AJ59+AJ39)/(AL160+AL144+AL123+AL104+AL83+AL63+AL42+AL22)*365)","v":0},null,null,null,null,null,null,null,null,null,null,null,null,{"$f":"IF((AY160+AY144+AY123+AY104+AY83+AY63+AY42+AY22)=0,0,(AW173+AW157+AW140+AW120+AW100+AW80+AW59+AW39)/(AY160+AY144+AY123+AY104+AY83+AY63+AY42+AY22)*365)","v":0},null,null,null,null,null,null,null,null,null,null,null,null,{"$f":"IF((BL160+BL144+BL123+BL104+BL83+BL63+BL42+BL22)=0,0,(BJ173+BJ157+BJ140+BJ120+BJ100+BJ80+BJ59+BJ39)/(BL160+BL144+BL123+BL104+BL83+BL63+BL42+BL22)*365)","v":0},null,null,null,null,null,null,null,null,null,null,null,null,{"$f":"IF((BY160+BY144+BY123+BY104+BY83+BY63+BY42+BY22)=0,0,(BW173+BW157+BW140+BW120+BW100+BW80+BW59+BW39)/(BY160+BY144+BY123+BY104+BY83+BY63+BY42+BY22)*365)","v":0}]
[null,null,"Lehma kohta aastas",null,"KA","KA seeduvus ","TP","P","K",null,null,"Poegimisintervall",null,null,null,"Mullika kohta aastas",null,"KA","KA seeduvus ","TP","P","K",null,null,"Esimese poegimise vanus",null,null,null,"Looma kohta aastas",null,"KA","KA seeduvus ","TP","P","K",null,null,"Realiseerimise vanus",null,null,null,"Vasika kohta aastas",null,"KA","KA seeduvus ","TP","P","K",null,null,"Vanus",null,null,null,"Vasika kohta aastas",null,"KA","KA seeduvus ","TP","P","K",null,null,"Vanus",null,null,null,"Ammlehma kohta aastas",null,"KA","KA seeduvus ","TP","P","K",null,null,"Poegimisintervall"]
[null,null,null,null,"kg","%","g/kg KA",null,null,null,null,"päeva",null,null,null,null,null,"kg","%","g/kg KA",null,null,null,null,"päeva",null,null,null,null,null,"kg","%","g/kg KA",null,null,null,null,"päeva",null,null,null,null,null,"kg","%","g/kg KA",null,null,null,null,"päeva",null,null,null,null,null,"kg","%","g/kg KA",null,null,null,null,"päeva",null,null,null,null,null,"kg","%","g/kg KA",null,null,null,null,"päeva"]
[null,null,null,null,{"$f":"IF((L160+L144+L123+L104+L83+L63+L42+L22)=0,0,(E39+E59+E80+E100+E120+E140+E157+E173)/(L160+L144+L123+L104+L83+L63+L42+L22)*365)","v":0},{"$f":"IF(J174=0,0,J174*100/E177)","v":0},{"$f":"IF((L160+L144+L123+L104+L83+L63+L42+L22)=0,0,((G39+G59+G80+G100+G120+G140+G157+G173)/(L160+L144+L123+L104+L83+L63+L42+L22)*365)/E177)","v":0},{"$f":"IF((L160+L144+L123+L104+L83+L63+L42+L22)=0,0,((H39+H59+H80+H100+H120+H140+H157+H173)/(L160+L144+L123+L104+L83+L63+L42+L22)*365)/E177)","v":0},{"$f":"IF((L160+L144+L123+L104+L83+L63+L42+L22)=0,0,((I39+I59+I80+I100+I120+I140+I157+I173)/(L160+L144+L123+L104+L83+L63+L42+L22)*365)/E177)","v":0},null,null,{"$f":"L160+L144+L104+L123+L83+L63++L42+L22","v":0},null,null,null,null,null,{"$f":"IF((Y160+Y144+Y123+Y104+Y83+Y63+Y42+Y22)=0,0,(R39+R59+R80+R100+R120+R140+R157+R173)/(Y160+Y144+Y123+Y104+Y83+Y63+Y42+Y22)*365)","v":0},{"$f":"IF(W174=0,0,W174*100/R177)","v":0},{"$f":"IF((Y160+Y144+Y123+Y104+Y83+Y63+Y42+Y22)=0,0,((T39+T59+T80+T100+T120+T140+T157+T173)/(Y160+Y144+Y123+Y104+Y83+Y63+Y42+Y22)*365)/R177)","v":0},{"$f":"IF((Y160+Y144+Y123+Y104+Y83+Y63+Y42+Y22)=0,0,((U39+U59+U80+U100+U120+U140+U157+U173)/(Y160+Y144+Y123+Y104+Y83+Y63+Y42+Y22)*365)/R177)","v":0},{"$f":"IF((Y160+Y144+Y123+Y104+Y83+Y63+Y42+Y22)=0,0,((V39+V59+V80+V100+V120+V140+V157+V173)/(Y160+Y144+Y123+Y104+Y83+Y63+Y42+Y22)*365)/R177)","v":0},null,null,{"$f":"IF(Y160+Y144+Y104+Y123+Y83+Y63+Y42+Y22=0,0,Y160+Y144+Y104+Y123+Y83+Y63+Y42+Y22+180)","v":0},null,null,null,null,null,{"$f":"IF((AL160+AL144+AL123+AL104+AL83+AL63+AL42+AL22)=0,0,(AE39+AE59+AE80+AE100+AE120+AE140+AE157+AE173)/(AL160+AL144+AL123+AL104+AL83+AL63+AL42+AL22)*365)","v":0},{"$f":"IF(AJ174=0,0,AJ174*100/AE177)","v":0},{"$f":"IF((AL160+AL144+AL123+AL104+AL83+AL63+AL42+AL22)=0,0,((AG39+AG59+AG80+AG100+AG120+AG140+AG157+AG173)/(AL160+AL144+AL123+AL104+AL83+AL63+AL42+AL22)*365)/AE177)","v":0},{"$f":"IF((AL160+AL144+AL123+AL104+AL83+AL63+AL42+AL22)=0,0,((AH39+AH59+AH80+AH100+AH120+AH140+AH157+AH173)/(AL160+AL144+AL123+AL104+AL83+AL63+AL42+AL22)*365)/AE177)","v":0},{"$f":"IF((AL160+AL144+AL123+AL104+AL83+AL63+AL42+AL22)=0,0,((AI39+AI59+AI80+AI100+AI120+AI140+AI157+AI173)/(AL160+AL144+AL123+AL104+AL83+AL63+AL42+AL22)*365)/AE177)","v":0},null,null,{"$f":"IF(AL22+AL42+AL63=0,0,AL160+AL144+AL104+AL123+AL83+AL63+AL42+AL22+180)","v":0},null,null,null,null,null,{"$f":"IF((AY160+AY144+AY123+AY104+AY83+AY63+AY42+AY22)=0,0,(AR39+AR59+AR80+AR100+AR120+AR140+AR157+AR173)/(AY160+AY144+AY123+AY104+AY83+AY63+AY42+AY22)*365)","v":0},{"$f":"IF(AW174=0,0,AW174*100/AR177)","v":0},{"$f":"IF((AY160+AY144+AY123+AY104+AY83+AY63+AY42+AY22)=0,0,((AT39+AT59+AT80+AT100+AT120+AT140+AT157+AT173)/(AY160+AY144+AY123+AY104+AY83+AY63+AY42+AY22)*365)/AR177)","v":0},{"$f":"IF((AY160+AY144+AY123+AY104+AY83+AY63+AY42+AY22)=0,0,((AU39+AU59+AU80+AU100+AU120+AU140+AU157+AU173)/(AY160+AY144+AY123+AY104+AY83+AY63+AY42+AY22)*365)/AR177)","v":0},{"$f":"IF((AY160+AY144+AY123+AY104+AY83+AY63+AY42+AY22)=0,0,((AV39+AV59+AV80+AV100+AV120+AV140+AV157+AV173)/(AY160+AY144+AY123+AY104+AY83+AY63+AY42+AY22)*365)/AR177)","v":0},null,null,{"$f":"AY160+AY144+AY104+AY123+AY83+AY63++AY42+AY22","v":0},null,null,null,null,null,{"$f":"IF((BL160+BL144+BL123+BL104+BL83+BL63+BL42+BL22)=0,0,(BE39+BE59+BE80+BE100+BE120+BE140+BE157+BE173)/(BL160+BL144+BL123+BL104+BL83+BL63+BL42+BL22)*365)","v":0},{"$f":"IF(BJ174=0,0,BJ174*100/BE177)","v":0},{"$f":"IF((BL160+BL144+BL123+BL104+BL83+BL63+BL42+BL22)=0,0,((BG39+BG59+BG80+BG100+BG120+BG140+BG157+BG173)/(BL160+BL144+BL123+BL104+BL83+BL63+BL42+BL22)*365)/BE177)","v":0},{"$f":"IF((BL160+BL144+BL123+BL104+BL83+BL63+BL42+BL22)=0,0,((BH39+BH59+BH80+BH100+BH120+BH140+BH157+BH173)/(BL160+BL144+BL123+BL104+BL83+BL63+BL42+BL22)*365)/BE177)","v":0},{"$f":"IF((BL160+BL144+BL123+BL104+BL83+BL63+BL42+BL22)=0,0,((BI39+BI59+BI80+BI100+BI120+BI140+BI157+BI173)/(BL160+BL144+BL123+BL104+BL83+BL63+BL42+BL22)*365)/BE177)","v":0},null,null,{"$f":"BL160+BL144+BL104+BL123+BL83+BL63++BL42+BL22","v":0},null,null,null,null,null,{"$f":"IF((BY160+BY144+BY123+BY104+BY83+BY63+BY42+BY22)=0,0,(BR39+BR59+BR80+BR100+BR120+BR140+BR157+BR173)/(BY160+BY144+BY123+BY104+BY83+BY63+BY42+BY22)*365)","v":0},{"$f":"IF(BW174=0,0,BW174*100/BR177)","v":0},{"$f":"IF((BY160+BY144+BY123+BY104+BY83+BY63+BY42+BY22)=0,0,((BT39+BT59+BT80+BT100+BT120+BT140+BT157+BT173)/(BY160+BY144+BY123+BY104+BY83+BY63+BY42+BY22)*365)/BR177)","v":0},{"$f":"IF((BY160+BY144+BY123+BY104+BY83+BY63+BY42+BY22)=0,0,((BU39+BU59+BU80+BU100+BU120+BU140+BU157+BU173)/(BY160+BY144+BY123+BY104+BY83+BY63+BY42+BY22)*365)/BR177)","v":0},{"$f":"IF((BY160+BY144+BY123+BY104+BY83+BY63+BY42+BY22)=0,0,((BV39+BV59+BV80+BV100+BV120+BV140+BV157+BV173)/(BY160+BY144+BY123+BY104+BY83+BY63+BY42+BY22)*365)/BR177)","v":0},null,null,{"$f":"BY160+BY144+BY104+BY123+BY83+BY63++BY42+BY22","v":0}]

{"sheet":"FeedIn cattle (AFC)","index":2,"n_rows":58,"n_cols":73,"rows_kept":58,"cut":false,"hidden":false,"merged":[[36,65,36,66],[36,68,36,69],[36,70,36,71],[37,65,37,66],[37,68,37,69],[37,70,37,71],[32,68,32,69],[32,70,32,71],[33,65,33,66],[33,68,33,69],[33,70,33,71],[34,65,34,66],[34,68,34,69],[34,70,34,71],[35,65,35,66],[35,68,35,69],[35,70,35,71],[37,45,37,46],[37,48,37,49],[37,50,37,51],[28,55,28,56],[28,58,28,59],[28,60,28,61],[29,55,29,56],[29,58,29,59],[29,60,29,61],[30,55,30,56],[30,58,30,59],[30,60,30,61],[31,55,31,56],[31,58,31,59],[31,60,31,61],[32,55,32,56],[32,58,32,59],[32,60,32,61],[33,55,33,56],[33,58,33,59],[33,60,33,61],[34,55,34,56],[34,58,34,59],[34,60,34,61],[34,45,34,46],[34,48,34,49],[34,50,34,51],[35,45,35,46],[35,48,35,49],[35,50,35,51],[36,45,36,46],[36,48,36,49],[36,50,36,51],[31,45,31,46],[31,48,31,49],[31,50,31,51],[32,45,32,46],[32,48,32,49],[32,50,32,51],[33,45,33,46],[33,48,33,49],[33,50,33,51],[28,45,28,46],[28,48,28,49],[28,50,28,51],[29,45,29,46],[29,48,29,49],[29,50,29,51],[30,45,30,46],[30,48,30,49],[30,50,30,51],[37,25,37,26],[37,28,37,29],[37,30,37,31],[28,40,28,41],[29,35,29,36],[29,38,29,39],[29,40,29,41],[30,35,30,36],[30,38,30,39],[30,40,30,41],[31,35,31,36],[31,38,31,39],[31,40,31,41],[32,35,32,36],[32,38,32,39],[32,40,32,41],[33,35,33,36],[33,38,33,39],[33,40,33,41],[34,35,34,36],[34,38,34,39],[34,40,34,41],[35,35,35,36],[35,38,35,39],[32,25,32,26],[33,25,33,26],[34,25,34,26],[34,28,34,29],[34,30,34,31],[35,25,35,26],[35,28,35,29],[35,30,35,31],[36,25,36,26],[36,28,36,29],[36,30,36,31],[37,11,37,12],[28,15,28,16],[28,18,28,19],[28,20,28,21],[29,15,29,16],[29,18,29,19],[29,20,29,21],[30,15,30,16],[30,18,30,19],[30,20,30,21],[31,15,31,16],[31,18,31,19],[31,20,31,21],[32,15,32,16],[32,18,32,19],[32,20,32,21],[33,15,33,16],[33,18,33,19],[33,20,33,21],[34,15,34,16],[34,18,34,19],[34,20,34,21],[35,15,35,16],[35,18,35,19],[28,11,28,12],[29,11,29,12],[30,11,30,12],[31,11,31,12],[32,11,32,12],[33,11,33,12],[34,11,34,12],[35,11,35,12],[57,16,58,17],[50,15,50,16],[53,17,53,21],[54,18,54,19],[54,20,54,21],[50,18,50,19],[50,20,50,21],[42,20,42,21],[43,18,43,19],[43,20,43,21],[42,15,42,16],[43,15,43,16],[52,14,54,14],[52,20,52,21],[52,18,52,19],[36,11,36,12],[57,18,58,21],[14,66,14,67],[15,66,15,67],[14,68,14,71],[15,68,15,71],[14,36,14,37],[15,36,15,37],[14,46,14,47],[15,46,15,47],[14,48,14,51],[15,48,15,51],[11,64,16,65],[11,48,11,51],[16,46,16,47],[12,46,13,51],[11,46,11,47],[16,56,16,57],[15,58,15,61],[11,56,11,57],[14,56,14,57],[15,56,15,57],[11,36,11,37],[13,36,13,37],[13,38,13,41],[44,40,44,41],[45,35,45,36],[45,38,45,39],[45,40,45,41],[42,35,42,36],[42,38,42,39],[42,40,42,41],[43,35,43,36],[43,38,43,39],[43,40,43,41],[44,35,44,36],[44,38,44,39],[40,35,40,36],[40,38,40,39],[40,40,40,41],[41,35,41,36],[41,38,41,39],[41,40,41,41],[28,35,28,36],[28,38,28,39],[38,35,38,36],[38,38,38,39],[38,40,38,41],[39,35,39,36],[39,38,39,39],[39,40,39,41],[35,40,35,41],[36,35,36,36],[36,38,36,39],[36,40,36,41],[37,35,37,36],[37,38,37,39],[37,40,37,41],[49,35,49,36],[49,38,49,39],[49,40,49,41],[46,35,46,36],[46,38,46,39],[46,40,46,41],[47,35,47,36],[47,38,47,39],[47,40,47,41],[48,35,48,36],[48,38,48,39],[48,40,48,41],[50,35,50,36],[50,38,50,39],[50,40,50,41],[52,34,54,34],[52,38,52,39],[52,40,52,41],[53,37,53,41],[54,38,54,39],[54,40,54,41],[26,35,26,36],[26,38,26,39],[26,40,26,41],[27,35,27,36],[27,38,27,39],[27,40,27,41],[18,35,18,36],[18,38,18,39],[18,40,18,41],[19,35,19,41],[25,35,25,36],[25,38,25,39],[25,40,25,41],[23,35,23,36],[23,38,23,39],[23,40,23,41],[22,35,22,36],[22,38,22,39],[22,40,22,41],[52,24,54,24],[52,28,52,29],[52,30,52,31],[53,27,53,31],[54,28,54,29],[54,30,54,31],[49,25,49,26],[49,28,49,29],[49,30,49,31],[50,25,50,26],[50,28,50,29],[50,30,50,31],[47,25,47,26],[47,28,47,29],[47,30,47,31],[48,25,48,26],[48,28,48,29],[48,30,48,31],[24,35,24,36],[24,38,24,39],[24,40,24,41],[45,25,45,26],[45,28,45,29],[45,30,45,31],[46,25,46,26],[46,28,46,29],[46,30,46,31],[43,25,43,26],[43,28,43,29],[43,30,43,31],[44,25,44,26],[44,28,44,29],[44,30,44,31],[38,30,38,31],[25,30,25,31],[26,25,26,26],[26,30,26,31],[41,25,41,26],[41,28,41,29],[41,30,41,31],[42,25,42,26],[42,28,42,29],[42,30,42,31],[39,30,39,31],[40,25,40,26],[40,28,40,29],[40,30,40,31],[28,28,28,29],[28,30,28,31],[29,28,29,29],[29,30,29,31],[30,28,30,29],[30,30,30,31],[31,28,31,29],[31,30,31,31],[32,28,32,29],[32,30,32,31],[33,28,33,29],[33,30,33,31],[28,25,28,26],[20,25,20,26],[20,28,20,29],[20,30,20,31],[40,18,40,19],[40,20,40,21],[25,18,25,19],[25,20,25,21],[18,20,18,21],[18,18,18,19],[23,25,23,26],[23,28,23,29],[23,30,23,31],[24,25,24,26],[24,28,24,29],[24,30,24,31],[21,30,21,31],[22,25,22,26],[22,28,22,29],[22,30,22,31],[27,25,27,26],[27,28,27,29],[27,30,27,31],[38,25,38,26],[38,28,38,29],[21,25,21,26],[21,28,21,29],[25,25,25,26],[25,28,25,29],[39,25,39,26],[39,28,39,29],[38,20,38,21],[39,18,39,19],[39,20,39,21],[26,18,26,19],[26,20,26,21],[27,18,27,19],[27,20,27,21],[24,18,24,19],[24,20,24,21],[26,28,26,29],[35,20,35,21],[36,18,36,19],[36,20,36,21],[37,18,37,19],[37,20,37,21],[29,25,29,26],[30,25,30,26],[31,25,31,26],[44,18,44,19],[44,20,44,21],[45,18,45,19],[45,20,45,21],[44,15,44,16],[45,15,45,16],[42,18,42,19],[24,15,24,16],[25,15,25,16],[41,18,41,19],[41,20,41,21],[40,15,40,16],[41,15,41,16],[38,18,38,19],[38,15,38,16],[39,15,39,16],[26,15,26,16],[27,15,27,16],[36,15,36,16],[37,15,37,16],[48,18,48,19],[48,20,48,21],[49,18,49,19],[49,20,49,21],[48,15,48,16],[49,15,49,16],[46,18,46,19],[46,20,46,21],[47,18,47,19],[47,20,47,21],[46,15,46,16],[47,15,47,16],[22,20,22,21],[23,18,23,19],[23,20,23,21],[22,15,22,16],[23,15,23,16],[20,18,20,19],[20,20,20,21],[21,18,21,19],[21,20,21,21],[20,15,20,16],[21,15,21,16],[22,18,22,19],[18,24,19,24],[18,25,18,26],[18,28,18,29],[18,30,18,31],[19,25,19,31],[11,24,16,25],[11,28,11,31],[11,26,11,27],[16,26,16,27],[14,26,14,27],[13,26,13,27],[13,28,13,31],[14,28,14,31],[15,26,15,27],[15,28,15,31],[19,15,19,21],[18,15,18,16],[19,6,19,8],[18,2,19,2],[12,18,12,21],[16,16,16,17],[11,16,11,17],[11,18,11,21],[14,18,14,21],[15,18,15,21],[11,14,16,15],[11,2,16,8],[12,16,12,17],[13,16,13,17],[19,3,19,4],[21,45,21,46],[21,48,21,49],[21,50,21,51],[11,34,16,35],[11,44,16,45],[18,44,19,44],[18,45,18,46],[18,48,18,49],[18,50,18,51],[19,45,19,51],[20,45,20,46],[20,48,20,49],[20,50,20,51],[11,38,11,41],[16,36,16,37],[14,38,14,41],[15,38,15,41],[20,35,20,36],[20,38,20,39],[20,40,20,41],[21,35,21,36],[21,38,21,39],[21,40,21,41],[18,34,19,34],[22,45,22,46],[22,48,22,49],[22,50,22,51],[23,45,23,46],[23,48,23,49],[23,50,23,51],[24,45,24,46],[24,48,24,49],[24,50,24,51],[25,45,25,46],[25,48,25,49],[25,50,25,51],[26,45,26,46],[26,48,26,49],[26,50,26,51],[27,45,27,46],[27,48,27,49],[27,50,27,51],[38,45,38,46],[38,48,38,49],[38,50,38,51],[39,45,39,46],[39,48,39,49],[39,50,39,51],[40,45,40,46],[40,48,40,49],[40,50,40,51],[41,45,41,46],[41,48,41,49],[41,50,41,51],[42,45,42,46],[42,48,42,49],[42,50,42,51],[43,45,43,46],[43,48,43,49],[43,50,43,51],[44,45,44,46],[44,48,44,49],[44,50,44,51],[45,45,45,46],[45,48,45,49],[45,50,45,51],[46,45,46,46],[46,48,46,49],[46,50,46,51],[47,45,47,46],[47,48,47,49],[47,50,47,51],[48,45,48,46],[48,48,48,49],[48,50,48,51],[49,45,49,46],[49,48,49,49],[49,50,49,51],[50,45,50,46],[50,48,50,49],[50,50,50,51],[52,44,54,44],[52,48,52,49],[52,50,52,51],[53,47,53,51],[54,48,54,49],[54,50,54,51],[18,54,19,54],[18,55,18,56],[18,58,18,59],[18,60,18,61],[19,55,19,61],[11,58,11,61],[14,58,14,61],[11,54,16,55],[20,55,20,56],[20,58,20,59],[20,60,20,61],[21,55,21,56],[21,58,21,59],[21,60,21,61],[22,55,22,56],[22,58,22,59],[22,60,22,61],[23,55,23,56],[23,58,23,59],[23,60,23,61],[24,55,24,56],[24,58,24,59],[24,60,24,61],[25,55,25,56],[25,58,25,59],[25,60,25,61],[26,55,26,56],[26,58,26,59],[26,60,26,61],[27,55,27,56],[27,58,27,59],[27,60,27,61],[38,55,38,56],[38,58,38,59],[38,60,38,61],[39,55,39,56],[39,58,39,59],[39,60,39,61],[35,55,35,56],[35,58,35,59],[35,60,35,61],[36,55,36,56],[36,58,36,59],[36,60,36,61],[37,55,37,56],[37,58,37,59],[37,60,37,61],[40,55,40,56],[40,58,40,59],[40,60,40,61],[41,55,41,56],[41,58,41,59],[41,60,41,61],[42,55,42,56],[42,58,42,59],[42,60,42,61],[43,55,43,56],[43,58,43,59],[43,60,43,61],[44,55,44,56],[44,58,44,59],[44,60,44,61],[50,60,50,61],[45,55,45,56],[45,58,45,59],[45,60,45,61],[46,55,46,56],[46,58,46,59],[46,60,46,61],[47,55,47,56],[47,58,47,59],[47,60,47,61],[52,54,54,54],[52,58,52,59],[52,60,52,61],[53,57,53,61],[54,58,54,59],[54,60,54,61],[11,66,11,67],[11,68,11,71],[16,66,16,67],[12,66,13,71],[18,64,19,64],[18,65,18,66],[18,68,18,69],[18,70,18,71],[19,65,19,71],[20,65,20,66],[48,55,48,56],[48,58,48,59],[48,60,48,61],[49,55,49,56],[49,58,49,59],[49,60,49,61],[50,55,50,56],[50,58,50,59],[20,68,20,69],[20,70,20,71],[21,65,21,66],[21,68,21,69],[21,70,21,71],[22,65,22,66],[22,68,22,69],[22,70,22,71],[23,65,23,66],[23,68,23,69],[23,70,23,71],[24,65,24,66],[24,68,24,69],[24,70,24,71],[25,65,25,66],[25,68,25,69],[25,70,25,71],[26,65,26,66],[26,68,26,69],[26,70,26,71],[42,68,42,69],[42,70,42,71],[27,65,27,66],[27,68,27,69],[27,70,27,71],[38,65,38,66],[38,68,38,69],[38,70,38,71],[39,65,39,66],[39,68,39,69],[39,70,39,71],[28,65,28,66],[28,68,28,69],[28,70,28,71],[29,65,29,66],[29,68,29,69],[29,70,29,71],[30,65,30,66],[30,68,30,69],[30,70,30,71],[31,65,31,66],[31,68,31,69],[31,70,31,71],[32,65,32,66],[52,64,54,64],[52,68,52,69],[52,70,52,71],[53,67,53,71],[54,68,54,69],[54,70,54,71],[46,65,46,66],[46,68,46,69],[46,70,46,71],[47,65,47,66],[47,68,47,69],[47,70,47,71],[48,65,48,66],[48,68,48,69],[48,70,48,71],[20,11,20,12],[18,14,19,14],[49,65,49,66],[49,68,49,69],[49,70,49,71],[50,65,50,66],[50,68,50,69],[50,70,50,71],[43,65,43,66],[43,68,43,69],[43,70,43,71],[44,65,44,66],[44,68,44,69],[44,70,44,71],[45,65,45,66],[45,68,45,69],[45,70,45,71],[40,65,40,66],[40,68,40,69],[40,70,40,71],[41,65,41,66],[41,68,41,69],[41,70,41,71],[42,65,42,66],[1,2,1,5],[1,6,1,12],[48,11,48,12],[49,11,49,12],[50,11,50,12],[18,11,19,12],[13,18,13,21],[39,11,39,12],[40,11,40,12],[41,11,41,12],[42,11,42,12],[43,11,43,12],[44,11,44,12],[45,11,45,12],[46,11,46,12],[47,11,47,12],[21,11,21,12],[22,11,22,12],[23,11,23,12],[24,11,24,12],[25,11,25,12],[26,11,26,12],[27,11,27,12],[38,11,38,12]]}
[]
[null,null,"Veiste söötmine",null,null,null,"STA"]
[]
[]
[null,987654321]
[]
[]
[]
[]
[]
[]
[null,null,"Söötade trabimine aastas",null,null,null,null,null,null,null,null,null,null,null,"Piimalehmad",null,"Loomade arv, aastalehmi",null,1,null,null,null,null,null,"Lehmmullikad (vanus 6 kuud kuni poegimine)",null,"Loomade arv, aastamullikaid",null,null,null,null,null,null,null,"Lihaveised (vanus 6 kuud kuni realiseerimine)",null,"Loomade arv, toodetud loomi",null,null,null,null,null,null,null,"Lehmvasikad (vanus kuni 6 kuud)",null,"Loomade arv, toodetud loomi",null,null,null,null,null,null,null,"Pullvasikad (vanus kuni 6 kuud)",null,"Loomade arv, toodetud loomi",null,null,null,null,null,null,null,"Ammlehmad",null,"Loomade arv, aastalehmi"]
[null,null,null,null,null,null,null,null,null,null,null,null,null,null,null,null,"Toodang, kg/loom/aasta ",null,10000]
[null,null,null,null,null,null,null,null,null,null,null,null,null,null,null,null,"Piima valgusisaldus, %",null,3.2,null,null,null,null,null,null,null,"Poegimise vanus, kuud",null,null,null,null,null,null,null,null,null,"Vanus realiseerimisel, päeva"]
[null,null,null,null,null,null,null,null,null,null,null,null,null,null,null,null,"Keskmine kehamass, kg/loom",null,600,null,null,null,null,null,null,null,"Kehamass perioodi alguses, kg",null,null,null,null,null,null,null,null,null,"Kehamass perioodi alguses, kg",null,null,null,null,null,null,null,null,null,"Kehamass perioodi alguses, kg",null,40,null,null,null,null,null,null,null,"Kehamass perioodi alguses, kg",null,null,null,null,null,null,null,null,null,"Vasika kehamass perioodi alguses, kg"]
[null,null,null,null,null,null,null,null,null,null,null,null,null,null,null,null,"Kehamass enne poegimist, kg/loom",null,640,null,null,null,null,null,null,null,"Kehamass perioodi lõpus, kg",null,null,null,null,null,null,null,null,null,"Kehamass perioodi lõpus, kg",null,null,null,null,null,null,null,null,null,"Kehamass perioodi lõpus, kg",null,120,null,null,null,null,null,null,null,"Kehamass perioodi lõpus, kg",null,null,null,null,null,null,null,null,null,"Vasika kehamass perioodi lõpus, kg"]
[null,null,null,null,null,null,null,null,null,null,null,null,null,null,null,null,"Karjatamine ",null,"Päevi aastas ",null,"Tundi päevas ",null,null,null,null,null,"Karjatamine",null,"Päevi aastas",null,"Tundi päevas",null,null,null,null,null,"Karjatamine ",null,"Päevi aastas",null,"Tundi päevas",null,null,null,null,null,"Karjatamine",null,"Päevi aastas",null,"Tundi päevas",null,null,null,null,null,"Karjatamine",null,"Päevi aastas",null,"Tundi päevas ",null,null,null,null,null,"Karjatamine",null,"Päevi aastas",null,"Tundi päevas"]
[]
[null,null,"Söödad ","Kogus","KA","KA seeduvus ","TP","P","K",null,null,"Summa (max. 100%)",null,null,"Osakaal,% ","KA",null,"TP","P",null,"K",null,null,null,"Osakaal,% ","KA",null,"TP","P",null,"K",null,null,null,"Osakaal,% ","KA",null,"TP","P",null,"K",null,null,null,"Osakaal,% ","KA",null,"TP","P",null,"K",null,null,null,"Osakaal,% ","KA",null,"TP","P",null,"K",null,null,null,"Osakaal,% ","KA",null,"TP","P",null,"K"]
[null,null,null,"t/aasta",null,"%","t/aasta",null,null,null,null,null,null,null,null,"t/aasta",null,null,null,null,null,null,null,null,null,"t/aasta",null,null,null,null,null,null,null,null,null,"t/aasta",null,null,null,null,null,null,null,null,null,"t/aasta",null,null,null,null,null,null,null,null,null,"t/aasta",null,null,null,null,null,null,null,null,null,"t/aasta"]
[null,null,null,null,{"$f":"IF(D21=0,\"\",VLOOKUP(C21,Feeds!$B$9:$AB$109,23,FALSE)*D21/1000)","v":""},{"$f":"IF(D21=0,\"\",VLOOKUP(C21,Feeds!$B$9:$AB$109,24,FALSE))","v":""},{"$f":"IF(D21=0,\"\",VLOOKUP(C21,Feeds!$B$9:$AB$109,25,FALSE)*D21/1000)","v":""},{"$f":"IF(D21=0,\"\",VLOOKUP(C21,Feeds!$B$9:$AB$109,26,FALSE)*D21/1000)","v":""},{"$f":"IF(D21=0,\"\",VLOOKUP(C21,Feeds!$B$9:$AB$109,27,FALSE)*D21/1000)","v":""},{"$f":"O21+Y21+AI21+AS21+BC21+BM21","v":0},null,{"$f":"IF(O21+Y21+AI21+AS21+BC21+BM21 <=100,O21+Y21+AI21+AS21+BC21+BM21,\"ERROR, SUM>100%\")","v":0},null,null,null,{"$f":"IF(O21=\"\",\"\",IF($E$21=\"\",\"\",$E$21*O21/100))","v":""},null,{"$f":"IF(O21=\"\",\"\",IF($G$21=\"\",\"\",$G$21*O21/100))","v":""},{"$f":"IF(O21=\"\",\"\",IF($H$21=\"\",\"\",$H$21*O21/100))","v":""},null,{"$f":"IF(O21=\"\",\"\",IF($I$21=\"\",\"\",$I$21*O21/100))","v":""},null,{"$f":"IF(P21=\"\",0,P21*$F$21/100)","v":0},null,null,{"$f":"IF(Y21=\"\",\"\",IF($E$21=\"\",\"\",$E$21*Y21/100))","v":""},null,{"$f":"IF(Y21=\"\",\"\",IF($G$21=\"\",\"\",$G$21*Y21/100))","v":""},{"$f":"IF(Y21=\"\",\"\",IF($H$21=\"\",\"\",$H$21*Y21/100))","v":""},null,{"$f":"IF(Y21=\"\",\"\",IF($I$21=\"\",\"\",$I$21*Y21/100))","v":""},null,{"$f":"IF(Z21=\"\",0,Z21*$F$21/100)","v":0},null,null,{"$f":"IF(AI21=\"\",\"\",IF($E$21=\"\",\"\",$E$21*AI21/100))","v":""},null,{"$f":"IF(AI21=\"\",\"\",IF($G$21=\"\",\"\",$G$21*AI21/100))","v":""},{"$f":"IF(AI21=\"\",\"\",IF($H$21=\"\",\"\",$H$21*AI21/100))","v":""},null,{"$f":"IF(AI21=\"\",\"\",IF($I$21=\"\",\"\",$I$21*AI21/100))","v":""},null,{"$f":"IF(AJ21=\"\",0,AJ21*$F$21/100)","v":0},null,null,{"$f":"IF(AS21=\"\",\"\",IF($E$21=\"\",\"\",$E$21*AS21/100))","v":""},null,{"$f":"IF(AS21=\"\",\"\",IF($G$21=\"\",\"\",$G$21*AS21/100))","v":""},{"$f":"IF(AS21=\"\",\"\",IF($H$21=\"\",\"\",$H$21*AS21/100))","v":""},null,{"$f":"IF(AS21=\"\",\"\",IF($I$21=\"\",\"\",$I$21*AS21/100))","v":""},null,{"$f":"IF(AT21=\"\",0,AT21*$F$21/100)","v":0},null,null,{"$f":"IF(BC21=\"\",\"\",IF($E$21=\"\",\"\",$E$21*BC21/100))","v":""},null,{"$f":"IF(BC21=\"\",\"\",IF($G$21=\"\",\"\",$G$21*BC21/100))","v":""},{"$f":"IF(BC21=\"\",\"\",IF($H$21=\"\",\"\",$H$21*BC21/100))","v":""},null,{"$f":"IF(BC21=\"\",\"\",IF($I$21=\"\",\"\",$I$21*BC21/100))","v":""},null,{"$f":"IF(BD21=\"\",0,BD21*$F$21/100)","v":0},null,null,{"$f":"IF(BM21=\"\",\"\",IF($E$21=\"\",\"\",$E$21*BM21/100))","v":""},null,{"$f":"IF(BM21=\"\",\"\",IF($G$21=\"\",\"\",$G$21*BM21/100))","v":""},{"$f":"IF(BM21=\"\",\"\",IF($H$21=\"\",\"\",$H$21*BM21/100))","v":""},null,{"$f":"IF(BM21=\"\",\"\",IF($I$21=\"\",\"\",$I$21*BM21/100))","v":""},null,{"$f":"IF(BN21=\"\",0,BN21*$F$21/100)","v":0}]
[null,null,null,null,{"$f":"IF(D22=0,\"\",VLOOKUP(C22,Feeds!$B$9:$AB$109,23,FALSE)*D22/1000)","v":""},{"$f":"IF(D22=0,\"\",VLOOKUP(C22,Feeds!$B$9:$AB$109,24,FALSE))","v":""},{"$f":"IF(D22=0,\"\",VLOOKUP(C22,Feeds!$B$9:$AB$109,25,FALSE)*D22/1000)","v":""},{"$f":"IF(D22=0,\"\",VLOOKUP(C22,Feeds!$B$9:$AB$109,26,FALSE)*D22/1000)","v":""},{"$f":"IF(D22=0,\"\",VLOOKUP(C22,Feeds!$B$9:$AB$109,27,FALSE)*D22/1000)","v":""},{"$f":"O22+Y22+AI22+AS22+BC22+BM22","v":0},null,{"$f":"IF(O22+Y22+AI22+AS22+BC22+BM22 <=100,O22+Y22+AI22+AS22+BC22+BM22,\"ERROR, SUM>100%\")","v":0},null,null,null,{"$f":"IF(O22=\"\",\"\",IF(E22=\"\",\"\",E22*O22/100))","v":""},null,{"$f":"IF(O22=\"\",\"\",IF(G22=\"\",\"\",G22*O22/100))","v":""},{"$f":"IF(O22=\"\",\"\",IF(H22=\"\",\"\",H22*O22/100))","v":""},null,{"$f":"IF(O22=\"\",\"\",IF(I22=\"\",\"\",I22*O22/100))","v":""},null,{"$f":"IF(P22=\"\",0,P22*F22/100)","v":0},null,null,{"$f":"IF(Y22=\"\",\"\",IF($E$22=\"\",\"\",$E$22*Y22/100))","v":""},null,{"$f":"IF(Y22=\"\",\"\",IF($G$22=\"\",\"\",$G$22*Y22/100))","v":""},{"$f":"IF(Y22=\"\",\"\",IF($H$22=\"\",\"\",$H$22*Y22/100))","v":""},null,{"$f":"IF(Y22=\"\",\"\",IF($I$22=\"\",\"\",$I$22*Y22/100))","v":""},null,{"$f":"IF(Z22=\"\",0,Z22*$F$22/100)","v":0},null,null,{"$f":"IF(AI22=\"\",\"\",IF($E$22=\"\",\"\",$E$22*AI22/100))","v":""},null,{"$f":"IF(AI22=\"\",\"\",IF($G$22=\"\",\"\",$G$22*AI22/100))","v":""},{"$f":"IF(AI22=\"\",\"\",IF($H$22=\"\",\"\",$H$22*AI22/100))","v":""},null,{"$f":"IF(AI22=\"\",\"\",IF($I$22=\"\",\"\",$I$22*AI22/100))","v":""},null,{"$f":"IF(AJ22=\"\",0,AJ22*$F$22/100)","v":0},null,null,{"$f":"IF(AS22=\"\",\"\",IF($E$22=\"\",\"\",$E$22*AS22/100))","v":""},null,{"$f":"IF(AS22=\"\",\"\",IF($G$22=\"\",\"\",$G$22*AS22/100))","v":""},{"$f":"IF(AS22=\"\",\"\",IF($H$22=\"\",\"\",$H$22*AS22/100))","v":""},null,{"$f":"IF(AS22=\"\",\"\",IF($I$22=\"\",\"\",$I$22*AS22/100))","v":""},null,{"$f":"IF(AT22=\"\",0,AT22*$F$22/100)","v":0},null,null,{"$f":"IF(BC22=\"\",\"\",IF($E$22=\"\",\"\",$E$22*BC22/100))","v":""},null,{"$f":"IF(BC22=\"\",\"\",IF($G$22=\"\",\"\",$G$22*BC22/100))","v":""},{"$f":"IF(BC22=\"\",\"\",IF($H$22=\"\",\"\",$H$22*BC22/100))","v":""},null,{"$f":"IF(BC22=\"\",\"\",IF($I$22=\"\",\"\",$I$22*BC22/100))","v":""},null,{"$f":"IF(BD22=\"\",0,BD22*$F$22/100)","v":0},null,null,{"$f":"IF(BM22=\"\",\"\",IF($E$22=\"\",\"\",$E$22*BM22/100))","v":""},null,{"$f":"IF(BM22=\"\",\"\",IF($G$22=\"\",\"\",$G$22*BM22/100))","v":""},{"$f":"IF(BM22=\"\",\"\",IF($H$22=\"\",\"\",$H$22*BM22/100))","v":""},null,{"$f":"IF(BM22=\"\",\"\",IF($I$22=\"\",\"\",$I$22*BM22/100))","v":""},null,{"$f":"IF(BN22=\"\",0,BN22*$F$22/100)","v":0}]
[null,null,null,null,{"$f":"IF(D23=0,\"\",VLOOKUP(C23,Feeds!$B$9:$AB$109,23,FALSE)*D23/1000)","v":""},{"$f":"IF(D23=0,\"\",VLOOKUP(C23,Feeds!$B$9:$AB$109,24,FALSE))","v":""},{"$f":"IF(D23=0,\"\",VLOOKUP(C23,Feeds!$B$9:$AB$109,25,FALSE)*D23/1000)","v":""},{"$f":"IF(D23=0,\"\",VLOOKUP(C23,Feeds!$B$9:$AB$109,26,FALSE)*D23/1000)","v":""},{"$f":"IF(D23=0,\"\",VLOOKUP(C23,Feeds!$B$9:$AB$109,27,FALSE)*D23/1000)","v":""},0,null,0,null,null,null,"",null,{"$f":"IF(O23=\"\",\"\",IF(G23=\"\",\"\",G23*O23/100))","v":""},{"$f":"IF(O23=\"\",\"\",IF(H23=\"\",\"\",H23*O23/100))","v":""},null,{"$f":"IF(O23=\"\",\"\",IF(I23=\"\",\"\",I23*O23/100))","v":""},null,0,null,null,{"$f":"IF(Y23=\"\",\"\",IF($E$23=\"\",\"\",$E$23*Y23/100))","v":""},null,{"$f":"IF(Y23=\"\",\"\",IF($G$23=\"\",\"\",$G$23*Y23/100))","v":""},{"$f":"IF(Y23=\"\",\"\",IF($H$23=\"\",\"\",$H$23*Y23/100))","v":""},null,{"$f":"IF(Y23=\"\",\"\",IF($I$23=\"\",\"\",$I$23*Y23/100))","v":""},null,{"$f":"IF(Z23=\"\",0,Z23*$F$23/100)","v":0},null,null,{"$f":"IF(AI23=\"\",\"\",IF($E$23=\"\",\"\",$E$23*AI23/100))","v":""},null,{"$f":"IF(AI23=\"\",\"\",IF($G$23=\"\",\"\",$G$23*AI23/100))","v":""},{"$f":"IF(AI23=\"\",\"\",IF($H$23=\"\",\"\",$H$23*AI23/100))","v":""},null,{"$f":"IF(AI23=\"\",\"\",IF($I$23=\"\",\"\",$I$23*AI23/100))","v":""},null,{"$f":"IF(AJ23=\"\",0,AJ23*$F$23/100)","v":0},null,null,{"$f":"IF(AS23=\"\",\"\",IF($E$23=\"\",\"\",$E$23*AS23/100))","v":""},null,{"$f":"IF(AS23=\"\",\"\",IF($G$23=\"\",\"\",$G$23*AS23/100))","v":""},{"$f":"IF(AS23=\"\",\"\",IF($H$23=\"\",\"\",$H$23*AS23/100))","v":""},null,{"$f":"IF(AS23=\"\",\"\",IF($I$23=\"\",\"\",$I$23*AS23/100))","v":""},null,{"$f":"IF(AT23=\"\",0,AT23*$F$23/100)","v":0},null,null,{"$f":"IF(BC23=\"\",\"\",IF($E$23=\"\",\"\",$E$23*BC23/100))","v":""},null,{"$f":"IF(BC23=\"\",\"\",IF($G$23=\"\",\"\",$G$23*BC23/100))","v":""},{"$f":"IF(BC23=\"\",\"\",IF($H$23=\"\",\"\",$H$23*BC23/100))","v":""},null,{"$f":"IF(BC23=\"\",\"\",IF($I$23=\"\",\"\",$I$23*BC23/100))","v":""},null,{"$f":"IF(BD23=\"\",0,BD23*$F$23/100)","v":0},null,null,{"$f":"IF(BM23=\"\",\"\",IF($E$23=\"\",\"\",$E$23*BM23/100))","v":""},null,{"$f":"IF(BM23=\"\",\"\",IF($G$23=\"\",\"\",$G$23*BM23/100))","v":""},{"$f":"IF(BM23=\"\",\"\",IF($H$23=\"\",\"\",$H$23*BM23/100))","v":""},null,{"$f":"IF(BM23=\"\",\"\",IF($I$23=\"\",\"\",$I$23*BM23/100))","v":""},null,{"$f":"IF(BN23=\"\",0,BN23*$F$23/100)","v":0}]
[null,null,null,null,{"$f":"IF(D24=0,\"\",VLOOKUP(C24,Feeds!$B$9:$AB$109,23,FALSE)*D24/1000)","v":""},{"$f":"IF(D24=0,\"\",VLOOKUP(C24,Feeds!$B$9:$AB$109,24,FALSE))","v":""},{"$f":"IF(D24=0,\"\",VLOOKUP(C24,Feeds!$B$9:$AB$109,25,FALSE)*D24/1000)","v":""},{"$f":"IF(D24=0,\"\",VLOOKUP(C24,Feeds!$B$9:$AB$109,26,FALSE)*D24/1000)","v":""},{"$f":"IF(D24=0,\"\",VLOOKUP(C24,Feeds!$B$9:$AB$109,27,FALSE)*D24/1000)","v":""},0,null,{"$f":"IF(O24+Y24+AI24+AS24+BC24+BM24 <=100,O24+Y24+AI24+AS24+BC24+BM24,\"ERROR, SUM>100%\")","v":0},null,null,null,"",null,"",{"$f":"IF(O24=\"\",\"\",IF(H24=\"\",\"\",H24*O24/100))","v":""},null,{"$f":"IF(O24=\"\",\"\",IF(I24=\"\",\"\",I24*O24/100))","v":""},null,0,null,null,{"$f":"IF(Y24=\"\",\"\",IF($E$24=\"\",\"\",$E$24*Y24/100))","v":""},null,{"$f":"IF(Y24=\"\",\"\",IF($G$24=\"\",\"\",$G$24*Y24/100))","v":""},{"$f":"IF(Y24=\"\",\"\",IF($H$24=\"\",\"\",$H$24*Y24/100))","v":""},null,{"$f":"IF(Y24=\"\",\"\",IF($I$24=\"\",\"\",$I$24*Y24/100))","v":""},null,{"$f":"IF(Z24=\"\",0,Z24*$F$24/100)","v":0},null,null,{"$f":"IF(AI24=\"\",\"\",IF($E$24=\"\",\"\",$E$24*AI24/100))","v":""},null,{"$f":"IF(AI24=\"\",\"\",IF($G$24=\"\",\"\",$G$24*AI24/100))","v":""},{"$f":"IF(AI24=\"\",\"\",IF($H$24=\"\",\"\",$H$24*AI24/100))","v":""},null,{"$f":"IF(AI24=\"\",\"\",IF($I$24=\"\",\"\",$I$24*AI24/100))","v":""},null,{"$f":"IF(AJ24=\"\",0,AJ24*$F$24/100)","v":0},null,null,{"$f":"IF(AS24=\"\",\"\",IF($E$24=\"\",\"\",$E$24*AS24/100))","v":""},null,{"$f":"IF(AS24=\"\",\"\",IF($G$24=\"\",\"\",$G$24*AS24/100))","v":""},{"$f":"IF(AS24=\"\",\"\",IF($H$24=\"\",\"\",$H$24*AS24/100))","v":""},null,{"$f":"IF(AS24=\"\",\"\",IF($I$24=\"\",\"\",$I$24*AS24/100))","v":""},null,{"$f":"IF(AT24=\"\",0,AT24*$F$24/100)","v":0},null,null,{"$f":"IF(BC24=\"\",\"\",IF($E$24=\"\",\"\",$E$24*BC24/100))","v":""},null,{"$f":"IF(BC24=\"\",\"\",IF($G$24=\"\",\"\",$G$24*BC24/100))","v":""},{"$f":"IF(BC24=\"\",\"\",IF($H$24=\"\",\"\",$H$24*BC24/100))","v":""},null,{"$f":"IF(BC24=\"\",\"\",IF($I$24=\"\",\"\",$I$24*BC24/100))","v":""},null,{"$f":"IF(BD24=\"\",0,BD24*$F$24/100)","v":0},null,null,{"$f":"IF(BM24=\"\",\"\",IF($E$24=\"\",\"\",$E$24*BM24/100))","v":""},null,{"$f":"IF(BM24=\"\",\"\",IF($G$24=\"\",\"\",$G$24*BM24/100))","v":""},{"$f":"IF(BM24=\"\",\"\",IF($H$24=\"\",\"\",$H$24*BM24/100))","v":""},null,{"$f":"IF(BM24=\"\",\"\",IF($I$24=\"\",\"\",$I$24*BM24/100))","v":""},null,{"$f":"IF(BN24=\"\",0,BN24*$F$24/100)","v":0}]
[null,null,null,null,{"$f":"IF(D25=0,\"\",VLOOKUP(C25,Feeds!$B$9:$AB$109,23,FALSE)*D25/1000)","v":""},{"$f":"IF(D25=0,\"\",VLOOKUP(C25,Feeds!$B$9:$AB$109,24,FALSE))","v":""},{"$f":"IF(D25=0,\"\",VLOOKUP(C25,Feeds!$B$9:$AB$109,25,FALSE)*D25/1000)","v":""},{"$f":"IF(D25=0,\"\",VLOOKUP(C25,Feeds!$B$9:$AB$109,26,FALSE)*D25/1000)","v":""},{"$f":"IF(D25=0,\"\",VLOOKUP(C25,Feeds!$B$9:$AB$109,27,FALSE)*D25/1000)","v":""},0,null,0,null,null,null,"",null,"",{"$f":"IF(O25=\"\",\"\",IF(H25=\"\",\"\",H25*O25/100))","v":""},null,"",null,{"$f":"IF(P25=\"\",0,P25*F25/100)","v":0},null,null,{"$f":"IF(Y25=\"\",\"\",IF($E$25=\"\",\"\",$E$25*Y25/100))","v":""},null,{"$f":"IF(Y25=\"\",\"\",IF($G$25=\"\",\"\",$G$25*Y25/100))","v":""},{"$f":"IF(Y25=\"\",\"\",IF($H$25=\"\",\"\",$H$25*Y25/100))","v":""},null,{"$f":"IF(Y25=\"\",\"\",IF($I$25=\"\",\"\",$I$25*Y25/100))","v":""},null,{"$f":"IF(Z25=\"\",0,Z25*$F$25/100)","v":0},null,null,{"$f":"IF(AI25=\"\",\"\",IF($E$25=\"\",\"\",$E$25*AI25/100))","v":""},null,{"$f":"IF(AI25=\"\",\"\",IF($G$25=\"\",\"\",$G$25*AI25/100))","v":""},{"$f":"IF(AI25=\"\",\"\",IF($H$25=\"\",\"\",$H$25*AI25/100))","v":""},null,{"$f":"IF(AI25=\"\",\"\",IF($I$25=\"\",\"\",$I$25*AI25/100))","v":""},null,{"$f":"IF(AJ25=\"\",0,AJ25*$F$25/100)","v":0},null,null,{"$f":"IF(AS25=\"\",\"\",IF($E$25=\"\",\"\",$E$25*AS25/100))","v":""},null,{"$f":"IF(AS25=\"\",\"\",IF($G$25=\"\",\"\",$G$25*AS25/100))","v":""},{"$f":"IF(AS25=\"\",\"\",IF($H$25=\"\",\"\",$H$25*AS25/100))","v":""},null,{"$f":"IF(AS25=\"\",\"\",IF($I$25=\"\",\"\",$I$25*AS25/100))","v":""},null,{"$f":"IF(AT25=\"\",0,AT25*$F$25/100)","v":0},null,null,{"$f":"IF(BC25=\"\",\"\",IF($E$25=\"\",\"\",$E$25*BC25/100))","v":""},null,{"$f":"IF(BC25=\"\",\"\",IF($G$25=\"\",\"\",$G$25*BC25/100))","v":""},{"$f":"IF(BC25=\"\",\"\",IF($H$25=\"\",\"\",$H$25*BC25/100))","v":""},null,{"$f":"IF(BC25=\"\",\"\",IF($I$25=\"\",\"\",$I$25*BC25/100))","v":""},null,{"$f":"IF(BD25=\"\",0,BD25*$F$25/100)","v":0},null,null,{"$f":"IF(BM25=\"\",\"\",IF($E$25=\"\",\"\",$E$25*BM25/100))","v":""},null,{"$f":"IF(BM25=\"\",\"\",IF($G$25=\"\",\"\",$G$25*BM25/100))","v":""},{"$f":"IF(BM25=\"\",\"\",IF($H$25=\"\",\"\",$H$25*BM25/100))","v":""},null,{"$f":"IF(BM25=\"\",\"\",IF($I$25=\"\",\"\",$I$25*BM25/100))","v":""},null,{"$f":"IF(BN25=\"\",0,BN25*$F$25/100)","v":0}]
[null,null,null,null,{"$f":"IF(D26=0,\"\",VLOOKUP(C26,Feeds!$B$9:$AB$109,23,FALSE)*D26/1000)","v":""},{"$f":"IF(D26=0,\"\",VLOOKUP(C26,Feeds!$B$9:$AB$109,24,FALSE))","v":""},{"$f":"IF(D26=0,\"\",VLOOKUP(C26,Feeds!$B$9:$AB$109,25,FALSE)*D26/1000)","v":""},{"$f":"IF(D26=0,\"\",VLOOKUP(C26,Feeds!$B$9:$AB$109,26,FALSE)*D26/1000)","v":""},{"$f":"IF(D26=0,\"\",VLOOKUP(C26,Feeds!$B$9:$AB$109,27,FALSE)*D26/1000)","v":""},0,null,0,null,null,null,"",null,"","",null,"",null,{"$f":"IF(P26=\"\",0,P26*F26/100)","v":0},null,null,{"$f":"IF(Y26=\"\",\"\",IF($E$26=\"\",\"\",$E$26*Y26/100))","v":""},null,{"$f":"IF(Y26=\"\",\"\",IF($G$26=\"\",\"\",$G$26*Y26/100))","v":""},{"$f":"IF(Y26=\"\",\"\",IF($H$26=\"\",\"\",$H$26*Y26/100))","v":""},null,{"$f":"IF(Y26=\"\",\"\",IF($I$26=\"\",\"\",$I$26*Y26/100))","v":""},null,{"$f":"IF(Z26=\"\",0,Z26*$F$26/100)","v":0},null,null,{"$f":"IF(AI26=\"\",\"\",IF($E$26=\"\",\"\",$E$26*AI26/100))","v":""},null,{"$f":"IF(AI26=\"\",\"\",IF($G$26=\"\",\"\",$G$26*AI26/100))","v":""},{"$f":"IF(AI26=\"\",\"\",IF($H$26=\"\",\"\",$H$26*AI26/100))","v":""},null,{"$f":"IF(AI26=\"\",\"\",IF($I$26=\"\",\"\",$I$26*AI26/100))","v":""},null,{"$f":"IF(AJ26=\"\",0,AJ26*$F$26/100)","v":0},null,null,{"$f":"IF(AS26=\"\",\"\",IF($E$26=\"\",\"\",$E$26*AS26/100))","v":""},null,{"$f":"IF(AS26=\"\",\"\",IF($G$26=\"\",\"\",$G$26*AS26/100))","v":""},{"$f":"IF(AS26=\"\",\"\",IF($H$26=\"\",\"\",$H$26*AS26/100))","v":""},null,{"$f":"IF(AS26=\"\",\"\",IF($I$26=\"\",\"\",$I$26*AS26/100))","v":""},null,{"$f":"IF(AT26=\"\",0,AT26*$F$26/100)","v":0},null,null,{"$f":"IF(BC26=\"\",\"\",IF($E$26=\"\",\"\",$E$26*BC26/100))","v":""},null,{"$f":"IF(BC26=\"\",\"\",IF($G$26=\"\",\"\",$G$26*BC26/100))","v":""},{"$f":"IF(BC26=\"\",\"\",IF($H$26=\"\",\"\",$H$26*BC26/100))","v":""},null,{"$f":"IF(BC26=\"\",\"\",IF($I$26=\"\",\"\",$I$26*BC26/100))","v":""},null,{"$f":"IF(BD26=\"\",0,BD26*$F$26/100)","v":0},null,null,{"$f":"IF(BM26=\"\",\"\",IF($E$26=\"\",\"\",$E$26*BM26/100))","v":""},null,{"$f":"IF(BM26=\"\",\"\",IF($G$26=\"\",\"\",$G$26*BM26/100))","v":""},{"$f":"IF(BM26=\"\",\"\",IF($H$26=\"\",\"\",$H$26*BM26/100))","v":""},null,{"$f":"IF(BM26=\"\",\"\",IF($I$26=\"\",\"\",$I$26*BM26/100))","v":""},null,{"$f":"IF(BN26=\"\",0,BN26*$F$26/100)","v":0}]
[null,null,null,null,{"$f":"IF(D27=0,\"\",VLOOKUP(C27,Feeds!$B$9:$AB$109,23,FALSE)*D27/1000)","v":""},{"$f":"IF(D27=0,\"\",VLOOKUP(C27,Feeds!$B$9:$AB$109,24,FALSE))","v":""},{"$f":"IF(D27=0,\"\",VLOOKUP(C27,Feeds!$B$9:$AB$109,25,FALSE)*D27/1000)","v":""},{"$f":"IF(D27=0,\"\",VLOOKUP(C27,Feeds!$B$9:$AB$109,26,FALSE)*D27/1000)","v":""},{"$f":"IF(D27=0,\"\",VLOOKUP(C27,Feeds!$B$9:$AB$109,27,FALSE)*D27/1000)","v":""},0,null,0,null,null,null,"",null,"","",null,"",null,0,null,null,{"$f":"IF(Y27=\"\",\"\",IF(E27=\"\",\"\",E27*Y27/100))","v":""},null,{"$f":"IF(Y27=\"\",\"\",IF(G27=\"\",\"\",G27*Y27/100))","v":""},{"$f":"IF(Y27=\"\",\"\",IF(H27=\"\",\"\",H27*Y27/100))","v":""},null,{"$f":"IF(Y27=\"\",\"\",IF(I27=\"\",\"\",I27*Y27/100))","v":""},null,{"$f":"IF(Z27=\"\",0,Z27*$F$27/100)","v":0},null,null,{"$f":"IF(AI27=\"\",\"\",IF(E27=\"\",\"\",E27*AI27/100))","v":""},null,{"$f":"IF(AI27=\"\",\"\",IF(G27=\"\",\"\",G27*AI27/100))","v":""},{"$f":"IF(AI27=\"\",\"\",IF(H27=\"\",\"\",H27*AI27/100))","v":""},null,{"$f":"IF(AI27=\"\",\"\",IF(I27=\"\",\"\",I27*AI27/100))","v":""},null,{"$f":"IF(AJ27=\"\",0,AJ27*$F$27/100)","v":0},null,null,{"$f":"IF(AS27=\"\",\"\",IF(E27=\"\",\"\",E27*AS27/100))","v":""},null,{"$f":"IF(AS27=\"\",\"\",IF(G27=\"\",\"\",G27*AS27/100))","v":""},{"$f":"IF(AS27=\"\",\"\",IF(H27=\"\",\"\",H27*AS27/100))","v":""},null,{"$f":"IF(AS27=\"\",\"\",IF(I27=\"\",\"\",I27*AS27/100))","v":""},null,{"$f":"IF(AT27=\"\",0,AT27*$F$27/100)","v":0},null,null,{"$f":"IF(BC27=\"\",\"\",IF(E27=\"\",\"\",E27*BC27/100))","v":""},null,{"$f":"IF(BC27=\"\",\"\",IF(G27=\"\",\"\",G27*BC27/100))","v":""},{"$f":"IF(BC27=\"\",\"\",IF(H27=\"\",\"\",H27*BC27/100))","v":""},null,{"$f":"IF(BC27=\"\",\"\",IF(I27=\"\",\"\",I27*BC27/100))","v":""},null,{"$f":"IF(BD27=\"\",0,BD27*$F$27/100)","v":0},null,null,{"$f":"IF(BM27=\"\",\"\",IF(E27=\"\",\"\",E27*BM27/100))","v":""},null,{"$f":"IF(BM27=\"\",\"\",IF(G27=\"\",\"\",G27*BM27/100))","v":""},{"$f":"IF(BM27=\"\",\"\",IF(H27=\"\",\"\",H27*BM27/100))","v":""},null,{"$f":"IF(BM27=\"\",\"\",IF(I27=\"\",\"\",I27*BM27/100))","v":""},null,{"$f":"IF(BN27=\"\",0,BN27*$F$27/100)","v":0}]
[null,null,null,null,{"$f":"IF(D28=0,\"\",VLOOKUP(C28,Feeds!$B$9:$AB$109,23,FALSE)*D28/1000)","v":""},{"$f":"IF(D28=0,\"\",VLOOKUP(C28,Feeds!$B$9:$AB$109,24,FALSE))","v":""},{"$f":"IF(D28=0,\"\",VLOOKUP(C28,Feeds!$B$9:$AB$109,25,FALSE)*D28/1000)","v":""},{"$f":"IF(D28=0,\"\",VLOOKUP(C28,Feeds!$B$9:$AB$109,26,FALSE)*D28/1000)","v":""},{"$f":"IF(D28=0,\"\",VLOOKUP(C28,Feeds!$B$9:$AB$109,27,FALSE)*D28/1000)","v":""},0,null,0,null,null,null,{"$f":"IF(O28=\"\",\"\",IF(E28=\"\",\"\",E28*O28/100))","v":""},null,{"$f":"IF(O28=\"\",\"\",IF(G28=\"\",\"\",G28*O28/100))","v":""},{"$f":"IF(O28=\"\",\"\",IF(H28=\"\",\"\",H28*O28/100))","v":""},null,{"$f":"IF(O28=\"\",\"\",IF(I28=\"\",\"\",I28*O28/100))","v":""},null,0,null,null,{"$f":"IF(Y28=\"\",\"\",IF(E28=\"\",\"\",E28*Y28/100))","v":""},null,{"$f":"IF(Y28=\"\",\"\",IF(G28=\"\",\"\",G28*Y28/100))","v":""},{"$f":"IF(Y28=\"\",\"\",IF(H28=\"\",\"\",H28*Y28/100))","v":""},null,{"$f":"IF(Y28=\"\",\"\",IF(I28=\"\",\"\",I28*Y28/100))","v":""},null,{"$f":"IF(Z28=\"\",0,Z28*F28/100)","v":0},null,null,{"$f":"IF(AI28=\"\",\"\",IF(E28=\"\",\"\",E28*AI28/100))","v":""},null,{"$f":"IF(AI28=\"\",\"\",IF(G28=\"\",\"\",G28*AI28/100))","v":""},{"$f":"IF(AI28=\"\",\"\",IF(H28=\"\",\"\",H28*AI28/100))","v":""},null,{"$f":"IF(AI28=\"\",\"\",IF(I28=\"\",\"\",I28*AI28/100))","v":""},null,{"$f":"IF(AJ28=\"\",0,AJ28*F28/100)","v":0},null,null,{"$f":"IF(AS28=\"\",\"\",IF(E28=\"\",\"\",E28*AS28/100))","v":""},null,{"$f":"IF(AS28=\"\",\"\",IF(G28=\"\",\"\",G28*AS28/100))","v":""},{"$f":"IF(AS28=\"\",\"\",IF(H28=\"\",\"\",H28*AS28/100))","v":""},null,{"$f":"IF(AS28=\"\",\"\",IF(I28=\"\",\"\",I28*AS28/100))","v":""},null,{"$f":"IF(AT28=\"\",0,AT28*F28/100)","v":0},null,null,{"$f":"IF(BC28=\"\",\"\",IF(E28=\"\",\"\",E28*BC28/100))","v":""},null,{"$f":"IF(BC28=\"\",\"\",IF(G28=\"\",\"\",G28*BC28/100))","v":""},{"$f":"IF(BC28=\"\",\"\",IF(H28=\"\",\"\",H28*BC28/100))","v":""},null,{"$f":"IF(BC28=\"\",\"\",IF(I28=\"\",\"\",I28*BC28/100))","v":""},null,{"$f":"IF(BD28=\"\",0,BD28*F28/100)","v":0},null,null,{"$f":"IF(BM28=\"\",\"\",IF(E28=\"\",\"\",E28*BM28/100))","v":""},null,{"$f":"IF(BM28=\"\",\"\",IF(G28=\"\",\"\",G28*BM28/100))","v":""},{"$f":"IF(BM28=\"\",\"\",IF(H28=\"\",\"\",H28*BM28/100))","v":""},null,{"$f":"IF(BM28=\"\",\"\",IF(I28=\"\",\"\",I28*BM28/100))","v":""},null,{"$f":"IF(BN28=\"\",0,BN28*F28/100)","v":0}]
[null,null,null,null,{"$f":"IF(D29=0,\"\",VLOOKUP(C29,Feeds!$B$9:$AB$109,23,FALSE)*D29/1000)","v":""},{"$f":"IF(D29=0,\"\",VLOOKUP(C29,Feeds!$B$9:$AB$109,24,FALSE))","v":""},{"$f":"IF(D29=0,\"\",VLOOKUP(C29,Feeds!$B$9:$AB$109,25,FALSE)*D29/1000)","v":""},{"$f":"IF(D29=0,\"\",VLOOKUP(C29,Feeds!$B$9:$AB$109,26,FALSE)*D29/1000)","v":""},{"$f":"IF(D29=0,\"\",VLOOKUP(C29,Feeds!$B$9:$AB$109,27,FALSE)*D29/1000)","v":""},null,null,{"$f":"IF(O29+Y29+AI29+AS29+BC29+BM29 <=100,O29+Y29+AI29+AS29+BC29+BM29,\"ERROR, SUM>100%\")","v":0},null,null,null,{"$f":"IF(O29=\"\",\"\",IF(E29=\"\",\"\",E29*O29/100))","v":""},null,"","",null,"",null,0,null,null,"",null,"","",null,"",null,{"$f":"IF(Z29=\"\",0,Z29*F29/100)","v":0},null,null,"",null,"","",null,"",null,{"$f":"IF(AJ29=\"\",0,AJ29*F29/100)","v":0},null,null,"",null,"","",null,"",null,{"$f":"IF(AT29=\"\",0,AT29*F29/100)","v":0},null,null,"",null,"","",null,"",null,{"$f":"IF(BD29=\"\",0,BD29*F29/100)","v":0},null,null,"",null,"","",null,"",null,{"$f":"IF(BN29=\"\",0,BN29*F29/100)","v":0}]
[null,null,null,null,{"$f":"IF(D30=0,\"\",VLOOKUP(C30,Feeds!$B$9:$AB$109,23,FALSE)*D30/1000)","v":""},{"$f":"IF(D30=0,\"\",VLOOKUP(C30,Feeds!$B$9:$AB$109,24,FALSE))","v":""},{"$f":"IF(D30=0,\"\",VLOOKUP(C30,Feeds!$B$9:$AB$109,25,FALSE)*D30/1000)","v":""},{"$f":"IF(D30=0,\"\",VLOOKUP(C30,Feeds!$B$9:$AB$109,26,FALSE)*D30/1000)","v":""},{"$f":"IF(D30=0,\"\",VLOOKUP(C30,Feeds!$B$9:$AB$109,27,FALSE)*D30/1000)","v":""},null,null,0,null,null,null,"",null,"","",null,"",null,0,null,null,"",null,"","",null,"",null,0,null,null,"",null,"","",null,"",null,0,null,null,"",null,"","",null,"",null,0,null,null,"",null,"","",null,"",null,0,null,null,"",null,"","",null,"",null,0]
[null,null,null,null,{"$f":"IF(D31=0,\"\",VLOOKUP(C31,Feeds!$B$9:$AB$109,23,FALSE)*D31/1000)","v":""},{"$f":"IF(D31=0,\"\",VLOOKUP(C31,Feeds!$B$9:$AB$109,24,FALSE))","v":""},{"$f":"IF(D31=0,\"\",VLOOKUP(C31,Feeds!$B$9:$AB$109,25,FALSE)*D31/1000)","v":""},{"$f":"IF(D31=0,\"\",VLOOKUP(C31,Feeds!$B$9:$AB$109,26,FALSE)*D31/1000)","v":""},{"$f":"IF(D31=0,\"\",VLOOKUP(C31,Feeds!$B$9:$AB$109,27,FALSE)*D31/1000)","v":""},null,null,0,null,null,null,"",null,"","",null,"",null,0,null,null,"",null,"","",null,"",null,0,null,null,"",null,"","",null,"",null,0,null,null,"",null,"","",null,"",null,0,null,null,"",null,"","",null,"",null,0,null,null,"",null,"","",null,"",null,0]
[null,null,null,null,{"$f":"IF(D32=0,\"\",VLOOKUP(C32,Feeds!$B$9:$AB$109,23,FALSE)*D32/1000)","v":""},{"$f":"IF(D32=0,\"\",VLOOKUP(C32,Feeds!$B$9:$AB$109,24,FALSE))","v":""},{"$f":"IF(D32=0,\"\",VLOOKUP(C32,Feeds!$B$9:$AB$109,25,FALSE)*D32/1000)","v":""},{"$f":"IF(D32=0,\"\",VLOOKUP(C32,Feeds!$B$9:$AB$109,26,FALSE)*D32/1000)","v":""},{"$f":"IF(D32=0,\"\",VLOOKUP(C32,Feeds!$B$9:$AB$109,27,FALSE)*D32/1000)","v":""},null,null,0,null,null,null,"",null,"","",null,"",null,0,null,null,"",null,"","",null,"",null,0,null,null,"",null,"","",null,"",null,0,null,null,"",null,"","",null,"",null,0,null,null,"",null,"","",null,"",null,0,null,null,"",null,"","",null,"",null,0]
[null,null,null,null,{"$f":"IF(D33=0,\"\",VLOOKUP(C33,Feeds!$B$9:$AB$109,23,FALSE)*D33/1000)","v":""},{"$f":"IF(D33=0,\"\",VLOOKUP(C33,Feeds!$B$9:$AB$109,24,FALSE))","v":""},{"$f":"IF(D33=0,\"\",VLOOKUP(C33,Feeds!$B$9:$AB$109,25,FALSE)*D33/1000)","v":""},{"$f":"IF(D33=0,\"\",VLOOKUP(C33,Feeds!$B$9:$AB$109,26,FALSE)*D33/1000)","v":""},{"$f":"IF(D33=0,\"\",VLOOKUP(C33,Feeds!$B$9:$AB$109,27,FALSE)*D33/1000)","v":""},null,null,0,null,null,null,"",null,"","",null,"",null,0,null,null,"",null,"","",null,"",null,0,null,null,"",null,"","",null,"",null,0,null,null,"",null,"","",null,"",null,0,null,null,"",null,"","",null,"",null,0,null,null,"",null,"","",null,"",null,0]
[null,null,null,null,{"$f":"IF(D34=0,\"\",VLOOKUP(C34,Feeds!$B$9:$AB$109,23,FALSE)*D34/1000)","v":""},{"$f":"IF(D34=0,\"\",VLOOKUP(C34,Feeds!$B$9:$AB$109,24,FALSE))","v":""},{"$f":"IF(D34=0,\"\",VLOOKUP(C34,Feeds!$B$9:$AB$109,25,FALSE)*D34/1000)","v":""},{"$f":"IF(D34=0,\"\",VLOOKUP(C34,Feeds!$B$9:$AB$109,26,FALSE)*D34/1000)","v":""},{"$f":"IF(D34=0,\"\",VLOOKUP(C34,Feeds!$B$9:$AB$109,27,FALSE)*D34/1000)","v":""},null,null,0,null,null,null,"",null,"","",null,"",null,0,null,null,"",null,"","",null,"",null,0,null,null,"",null,"","",null,"",null,0,null,null,"",null,"","",null,"",null,0,null,null,"",null,"","",null,"",null,0,null,null,"",null,"","",null,"",null,0]
[null,null,null,null,{"$f":"IF(D35=0,\"\",VLOOKUP(C35,Feeds!$B$9:$AB$109,23,FALSE)*D35/1000)","v":""},{"$f":"IF(D35=0,\"\",VLOOKUP(C35,Feeds!$B$9:$AB$109,24,FALSE))","v":""},{"$f":"IF(D35=0,\"\",VLOOKUP(C35,Feeds!$B$9:$AB$109,25,FALSE)*D35/1000)","v":""},{"$f":"IF(D35=0,\"\",VLOOKUP(C35,Feeds!$B$9:$AB$109,26,FALSE)*D35/1000)","v":""},{"$f":"IF(D35=0,\"\",VLOOKUP(C35,Feeds!$B$9:$AB$109,27,FALSE)*D35/1000)","v":""},null,null,0,null,null,null,"",null,"","",null,"",null,0,null,null,"",null,"","",null,"",null,0,null,null,"",null,"","",null,"",null,0,null,null,"",null,"","",null,"",null,0,null,null,"",null,"","",null,"",null,0,null,null,"",null,"","",null,"",null,0]
[null,null,null,null,{"$f":"IF(D36=0,\"\",VLOOKUP(C36,Feeds!$B$9:$AB$109,23,FALSE)*D36/1000)","v":""},{"$f":"IF(D36=0,\"\",VLOOKUP(C36,Feeds!$B$9:$AB$109,24,FALSE))","v":""},{"$f":"IF(D36=0,\"\",VLOOKUP(C36,Feeds!$B$9:$AB$109,25,FALSE)*D36/1000)","v":""},{"$f":"IF(D36=0,\"\",VLOOKUP(C36,Feeds!$B$9:$AB$109,26,FALSE)*D36/1000)","v":""},{"$f":"IF(D36=0,\"\",VLOOKUP(C36,Feeds!$B$9:$AB$109,27,FALSE)*D36/1000)","v":""},null,null,0,null,null,null,"",null,"","",null,"",null,0,null,null,"",null,"","",null,"",null,0,null,null,"",null,"","",null,"",null,0,null,null,"",null,"","",null,"",null,0,null,null,"",null,"","",null,"",null,0,null,null,"",null,"","",null,"",null,0]
[null,null,null,null,{"$f":"IF(D37=0,\"\",VLOOKUP(C37,Feeds!$B$9:$AB$109,23,FALSE)*D37/1000)","v":""},{"$f":"IF(D37=0,\"\",VLOOKUP(C37,Feeds!$B$9:$AB$109,24,FALSE))","v":""},{"$f":"IF(D37=0,\"\",VLOOKUP(C37,Feeds!$B$9:$AB$109,25,FALSE)*D37/1000)","v":""},{"$f":"IF(D37=0,\"\",VLOOKUP(C37,Feeds!$B$9:$AB$109,26,FALSE)*D37/1000)","v":""},{"$f":"IF(D37=0,\"\",VLOOKUP(C37,Feeds!$B$9:$AB$109,27,FALSE)*D37/1000)","v":""},null,null,0,null,null,null,{"$f":"IF(O37=\"\",\"\",IF(E37=\"\",\"\",E37*O37/100))","v":""},null,"","",null,"",null,0,null,null,"",null,"","",null,"",null,0,null,null,"",null,"","",null,"",null,0,null,null,"",null,"","",null,"",null,0,null,null,"",null,"","",null,{"$f":"IF(BC37=\"\",\"\",IF(I37=\"\",\"\",I37*BC37/100))","v":""},null,0,null,null,"",null,"","",null,"",null,{"$f":"IF(BN37=\"\",0,BN37*F37/100)","v":0}]
[null,null,null,null,{"$f":"IF(D38=0,\"\",VLOOKUP(C38,Feeds!$B$9:$AB$109,23,FALSE)*D38/1000)","v":""},{"$f":"IF(D38=0,\"\",VLOOKUP(C38,Feeds!$B$9:$AB$109,24,FALSE))","v":""},{"$f":"IF(D38=0,\"\",VLOOKUP(C38,Feeds!$B$9:$AB$109,25,FALSE)*D38/1000)","v":""},{"$f":"IF(D38=0,\"\",VLOOKUP(C38,Feeds!$B$9:$AB$109,26,FALSE)*D38/1000)","v":""},{"$f":"IF(D38=0,\"\",VLOOKUP(C38,Feeds!$B$9:$AB$109,27,FALSE)*D38/1000)","v":""},null,null,0,null,null,null,"",null,"","",null,"",null,0,null,null,"",null,"","",null,"",null,0,null,null,"",null,"","",null,"",null,0,null,null,"",null,"","",null,"",null,0,null,null,"",null,"","",null,"",null,0,null,null,"",null,"","",null,"",null,0]
[null,null,null,null,{"$f":"IF(D39=0,\"\",VLOOKUP(C39,Feeds!$B$9:$AB$109,23,FALSE)*D39/1000)","v":""},{"$f":"IF(D39=0,\"\",VLOOKUP(C39,Feeds!$B$9:$AB$109,24,FALSE))","v":""},{"$f":"IF(D39=0,\"\",VLOOKUP(C39,Feeds!$B$9:$AB$109,25,FALSE)*D39/1000)","v":""},{"$f":"IF(D39=0,\"\",VLOOKUP(C39,Feeds!$B$9:$AB$109,26,FALSE)*D39/1000)","v":""},{"$f":"IF(D39=0,\"\",VLOOKUP(C39,Feeds!$B$9:$AB$109,27,FALSE)*D39/1000)","v":""},0,null,0,null,null,null,"",null,"","",null,"",null,0,null,null,"",null,"","",null,"",null,{"$f":"IF(Z39=\"\",0,Z39*$F$39/100)","v":0},null,null,"",null,"","",null,"",null,{"$f":"IF(AJ39=\"\",0,AJ39*$F$39/100)","v":0},null,null,"",null,"","",null,"",null,{"$f":"IF(AT39=\"\",0,AT39*$F$39/100)","v":0},null,null,"",null,"","",null,"",null,{"$f":"IF(BD39=\"\",0,BD39*$F$39/100)","v":0},null,null,"",null,"","",null,"",null,{"$f":"IF(BN39=\"\",0,BN39*$F$39/100)","v":0}]
[null,null,null,null,{"$f":"IF(D40=0,\"\",VLOOKUP(C40,Feeds!$B$9:$AB$109,23,FALSE)*D40/1000)","v":""},{"$f":"IF(D40=0,\"\",VLOOKUP(C40,Feeds!$B$9:$AB$109,24,FALSE))","v":""},{"$f":"IF(D40=0,\"\",VLOOKUP(C40,Feeds!$B$9:$AB$109,25,FALSE)*D40/1000)","v":""},{"$f":"IF(D40=0,\"\",VLOOKUP(C40,Feeds!$B$9:$AB$109,26,FALSE)*D40/1000)","v":""},{"$f":"IF(D40=0,\"\",VLOOKUP(C40,Feeds!$B$9:$AB$109,27,FALSE)*D40/1000)","v":""},0,null,0,null,null,null,"",null,"","",null,"",null,0,null,null,"",null,"","",null,"",null,{"$f":"IF(Z40=\"\",0,Z40*$F$40/100)","v":0},null,null,"",null,"","",null,"",null,{"$f":"IF(AJ40=\"\",0,AJ40*$F$40/100)","v":0},null,null,"",null,"","",null,"",null,{"$f":"IF(AT40=\"\",0,AT40*$F$40/100)","v":0},null,null,"",null,"","",null,"",null,{"$f":"IF(BD40=\"\",0,BD40*$F$40/100)","v":0},null,null,"",null,"","",null,{"$f":"IF(BM40=\"\",\"\",IF(I40=\"\",\"\",I40*BM40/100))","v":""},null,{"$f":"IF(BN40=\"\",0,BN40*$F$40/100)","v":0}]
[null,null,null,null,{"$f":"IF(D41=0,\"\",VLOOKUP(C41,Feeds!$B$9:$AB$109,23,FALSE)*D41/1000)","v":""},{"$f":"IF(D41=0,\"\",VLOOKUP(C41,Feeds!$B$9:$AB$109,24,FALSE))","v":""},{"$f":"IF(D41=0,\"\",VLOOKUP(C41,Feeds!$B$9:$AB$109,25,FALSE)*D41/1000)","v":""},{"$f":"IF(D41=0,\"\",VLOOKUP(C41,Feeds!$B$9:$AB$109,26,FALSE)*D41/1000)","v":""},{"$f":"IF(D41=0,\"\",VLOOKUP(C41,Feeds!$B$9:$AB$109,27,FALSE)*D41/1000)","v":""},0,null,0,null,null,null,"",null,"","",null,"",null,0,null,null,"",null,"","",null,"",null,{"$f":"IF(Z41=\"\",0,Z41*$F$41/100)","v":0},null,null,"",null,"","",null,"",null,{"$f":"IF(AJ41=\"\",0,AJ41*$F$41/100)","v":0},null,null,"",null,"","",null,"",null,{"$f":"IF(AT41=\"\",0,AT41*$F$41/100)","v":0},null,null,"",null,"","",null,"",null,{"$f":"IF(BD41=\"\",0,BD41*$F$41/100)","v":0},null,null,"",null,"","",null,"",null,{"$f":"IF(BN41=\"\",0,BN41*$F$41/100)","v":0}]
[null,null,null,null,{"$f":"IF(D42=0,\"\",VLOOKUP(C42,Feeds!$B$9:$AB$109,23,FALSE)*D42/1000)","v":""},{"$f":"IF(D42=0,\"\",VLOOKUP(C42,Feeds!$B$9:$AB$109,24,FALSE))","v":""},{"$f":"IF(D42=0,\"\",VLOOKUP(C42,Feeds!$B$9:$AB$109,25,FALSE)*D42/1000)","v":""},{"$f":"IF(D42=0,\"\",VLOOKUP(C42,Feeds!$B$9:$AB$109,26,FALSE)*D42/1000)","v":""},{"$f":"IF(D42=0,\"\",VLOOKUP(C42,Feeds!$B$9:$AB$109,27,FALSE)*D42/1000)","v":""},0,null,0,null,null,null,"",null,"",{"$f":"IF(O42=\"\",\"\",IF(H42=\"\",\"\",H42*O42/100))","v":""},null,"",null,0,null,null,{"$f":"IF(Y42=\"\",\"\",IF($E$42=\"\",\"\",$E$42*Y42/100))","v":""},null,{"$f":"IF(Y42=\"\",\"\",IF($G$42=\"\",\"\",$G$42*Y42/100))","v":""},{"$f":"IF(Y42=\"\",\"\",IF($H$42=\"\",\"\",$H$42*Y42/100))","v":""},null,{"$f":"IF(Y42=\"\",\"\",IF($I$42=\"\",\"\",$I$42*Y42/100))","v":""},null,{"$f":"IF(Z42=\"\",0,Z42*$F$42/100)","v":0},null,null,"",null,"","",null,"",null,{"$f":"IF(AJ42=\"\",0,AJ42*$F$42/100)","v":0},null,null,"",null,"","",null,"",null,{"$f":"IF(AT42=\"\",0,AT42*$F$42/100)","v":0},null,null,"",null,"","",null,"",null,{"$f":"IF(BD42=\"\",0,BD42*$F$42/100)","v":0},null,null,"",null,"","",null,"",null,{"$f":"IF(BN42=\"\",0,BN42*$F$42/100)","v":0}]
[null,null,null,null,{"$f":"IF(D43=0,\"\",VLOOKUP(C43,Feeds!$B$9:$AB$109,23,FALSE)*D43/1000)","v":""},{"$f":"IF(D43=0,\"\",VLOOKUP(C43,Feeds!$B$9:$AB$109,24,FALSE))","v":""},{"$f":"IF(D43=0,\"\",VLOOKUP(C43,Feeds!$B$9:$AB$109,25,FALSE)*D43/1000)","v":""},{"$f":"IF(D43=0,\"\",VLOOKUP(C43,Feeds!$B$9:$AB$109,26,FALSE)*D43/1000)","v":""},{"$f":"IF(D43=0,\"\",VLOOKUP(C43,Feeds!$B$9:$AB$109,27,FALSE)*D43/1000)","v":""},0,null,0,null,null,null,"",null,"","",null,"",null,0,null,null,{"$f":"IF(Y43=\"\",\"\",IF($E$43=\"\",\"\",$E$43*Y43/100))","v":""},null,{"$f":"IF(Y43=\"\",\"\",IF($G$43=\"\",\"\",$G$43*Y43/100))","v":""},{"$f":"IF(Y43=\"\",\"\",IF($H$43=\"\",\"\",$H$43*Y43/100))","v":""},null,{"$f":"IF(Y43=\"\",\"\",IF($I$43=\"\",\"\",$I$43*Y43/100))","v":""},null,{"$f":"IF(Z43=\"\",0,Z43*$F$43/100)","v":0},null,null,{"$f":"IF(AI43=\"\",\"\",IF($E$43=\"\",\"\",$E$43*AI43/100))","v":""},null,{"$f":"IF(AI43=\"\",\"\",IF($G$43=\"\",\"\",$G$43*AI43/100))","v":""},{"$f":"IF(AI43=\"\",\"\",IF($H$43=\"\",\"\",$H$43*AI43/100))","v":""},null,{"$f":"IF(AI43=\"\",\"\",IF($I$43=\"\",\"\",$I$43*AI43/100))","v":""},null,{"$f":"IF(AJ43=\"\",0,AJ43*$F$43/100)","v":0},null,null,{"$f":"IF(AS43=\"\",\"\",IF($E$43=\"\",\"\",$E$43*AS43/100))","v":""},null,{"$f":"IF(AS43=\"\",\"\",IF($G$43=\"\",\"\",$G$43*AS43/100))","v":""},{"$f":"IF(AS43=\"\",\"\",IF($H$43=\"\",\"\",$H$43*AS43/100))","v":""},null,{"$f":"IF(AS43=\"\",\"\",IF($I$43=\"\",\"\",$I$43*AS43/100))","v":""},null,{"$f":"IF(AT43=\"\",0,AT43*$F$43/100)","v":0},null,null,"",null,"","",null,"",null,{"$f":"IF(BD43=\"\",0,BD43*$F$43/100)","v":0},null,null,"",null,"","",null,"",null,{"$f":"IF(BN43=\"\",0,BN43*$F$43/100)","v":0}]
[null,null,null,null,{"$f":"IF(D44=0,\"\",VLOOKUP(C44,Feeds!$B$9:$AB$109,23,FALSE)*D44/1000)","v":""},{"$f":"IF(D44=0,\"\",VLOOKUP(C44,Feeds!$B$9:$AB$109,24,FALSE))","v":""},{"$f":"IF(D44=0,\"\",VLOOKUP(C44,Feeds!$B$9:$AB$109,25,FALSE)*D44/1000)","v":""},{"$f":"IF(D44=0,\"\",VLOOKUP(C44,Feeds!$B$9:$AB$109,26,FALSE)*D44/1000)","v":""},{"$f":"IF(D44=0,\"\",VLOOKUP(C44,Feeds!$B$9:$AB$109,27,FALSE)*D44/1000)","v":""},0,null,0,null,null,null,{"$f":"IF(O44=\"\",\"\",IF(E44=\"\",\"\",E44*O44/100))","v":""},null,"","",null,"",null,0,null,null,{"$f":"IF(Y44=\"\",\"\",IF($E$44=\"\",\"\",$E$44*Y44/100))","v":""},null,{"$f":"IF(Y44=\"\",\"\",IF($G$44=\"\",\"\",$G$44*Y44/100))","v":""},{"$f":"IF(Y44=\"\",\"\",IF($H$44=\"\",\"\",$H$44*Y44/100))","v":""},null,{"$f":"IF(Y44=\"\",\"\",IF($I$44=\"\",\"\",$I$44*Y44/100))","v":""},null,{"$f":"IF(Z44=\"\",0,Z44*$F$44/100)","v":0},null,null,{"$f":"IF(AI44=\"\",\"\",IF($E$44=\"\",\"\",$E$44*AI44/100))","v":""},null,{"$f":"IF(AI44=\"\",\"\",IF($G$44=\"\",\"\",$G$44*AI44/100))","v":""},{"$f":"IF(AI44=\"\",\"\",IF($H$44=\"\",\"\",$H$44*AI44/100))","v":""},null,{"$f":"IF(AI44=\"\",\"\",IF($I$44=\"\",\"\",$I$44*AI44/100))","v":""},null,{"$f":"IF(AJ44=\"\",0,AJ44*$F$44/100)","v":0},null,null,{"$f":"IF(AS44=\"\",\"\",IF($E$44=\"\",\"\",$E$44*AS44/100))","v":""},null,{"$f":"IF(AS44=\"\",\"\",IF($G$44=\"\",\"\",$G$44*AS44/100))","v":""},{"$f":"IF(AS44=\"\",\"\",IF($H$44=\"\",\"\",$H$44*AS44/100))","v":""},null,{"$f":"IF(AS44=\"\",\"\",IF($I$44=\"\",\"\",$I$44*AS44/100))","v":""},null,{"$f":"IF(AT44=\"\",0,AT44*$F$44/100)","v":0},null,null,"",null,"","",null,"",null,{"$f":"IF(BD44=\"\",0,BD44*$F$44/100)","v":0},null,null,{"$f":"IF(BM44=\"\",\"\",IF($E$44=\"\",\"\",$E$44*BM44/100))","v":""},null,{"$f":"IF(BM44=\"\",\"\",IF($G$44=\"\",\"\",$G$44*BM44/100))","v":""},{"$f":"IF(BM44=\"\",\"\",IF($H$44=\"\",\"\",$H$44*BM44/100))","v":""},null,"",null,{"$f":"IF(BN44=\"\",0,BN44*$F$44/100)","v":0}]
[null,null,null,null,{"$f":"IF(D45=0,\"\",VLOOKUP(C45,Feeds!$B$9:$AB$109,23,FALSE)*D45/1000)","v":""},{"$f":"IF(D45=0,\"\",VLOOKUP(C45,Feeds!$B$9:$AB$109,24,FALSE))","v":""},{"$f":"IF(D45=0,\"\",VLOOKUP(C45,Feeds!$B$9:$AB$109,25,FALSE)*D45/1000)","v":""},{"$f":"IF(D45=0,\"\",VLOOKUP(C45,Feeds!$B$9:$AB$109,26,FALSE)*D45/1000)","v":""},{"$f":"IF(D45=0,\"\",VLOOKUP(C45,Feeds!$B$9:$AB$109,27,FALSE)*D45/1000)","v":""},0,null,0,null,null,null,"",null,"","",null,"",null,0,null,null,{"$f":"IF(Y45=\"\",\"\",IF($E$45=\"\",\"\",$E$45*Y45/100))","v":""},null,{"$f":"IF(Y45=\"\",\"\",IF($G$45=\"\",\"\",$G$45*Y45/100))","v":""},{"$f":"IF(Y45=\"\",\"\",IF($H$45=\"\",\"\",$H$45*Y45/100))","v":""},null,{"$f":"IF(Y45=\"\",\"\",IF($I$45=\"\",\"\",$I$45*Y45/100))","v":""},null,{"$f":"IF(Z45=\"\",0,Z45*$F$45/100)","v":0},null,null,{"$f":"IF(AI45=\"\",\"\",IF($E$45=\"\",\"\",$E$45*AI45/100))","v":""},null,{"$f":"IF(AI45=\"\",\"\",IF($G$45=\"\",\"\",$G$45*AI45/100))","v":""},{"$f":"IF(AI45=\"\",\"\",IF($H$45=\"\",\"\",$H$45*AI45/100))","v":""},null,{"$f":"IF(AI45=\"\",\"\",IF($I$45=\"\",\"\",$I$45*AI45/100))","v":""},null,{"$f":"IF(AJ45=\"\",0,AJ45*$F$45/100)","v":0},null,null,{"$f":"IF(AS45=\"\",\"\",IF($E$45=\"\",\"\",$E$45*AS45/100))","v":""},null,{"$f":"IF(AS45=\"\",\"\",IF($G$45=\"\",\"\",$G$45*AS45/100))","v":""},{"$f":"IF(AS45=\"\",\"\",IF($H$45=\"\",\"\",$H$45*AS45/100))","v":""},null,{"$f":"IF(AS45=\"\",\"\",IF($I$45=\"\",\"\",$I$45*AS45/100))","v":""},null,{"$f":"IF(AT45=\"\",0,AT45*$F$45/100)","v":0},null,null,{"$f":"IF(BC45=\"\",\"\",IF($E$45=\"\",\"\",$E$45*BC45/100))","v":""},null,{"$f":"IF(BC45=\"\",\"\",IF($G$45=\"\",\"\",$G$45*BC45/100))","v":""},{"$f":"IF(BC45=\"\",\"\",IF($H$45=\"\",\"\",$H$45*BC45/100))","v":""},null,{"$f":"IF(BC45=\"\",\"\",IF($I$45=\"\",\"\",$I$45*BC45/100))","v":""},null,{"$f":"IF(BD45=\"\",0,BD45*$F$45/100)","v":0},null,null,{"$f":"IF(BM45=\"\",\"\",IF($E$45=\"\",\"\",$E$45*BM45/100))","v":""},null,{"$f":"IF(BM45=\"\",\"\",IF($G$45=\"\",\"\",$G$45*BM45/100))","v":""},{"$f":"IF(BM45=\"\",\"\",IF($H$45=\"\",\"\",$H$45*BM45/100))","v":""},null,"",null,{"$f":"IF(BN45=\"\",0,BN45*$F$45/100)","v":0}]
[null,null,null,null,{"$f":"IF(D46=0,\"\",VLOOKUP(C46,Feeds!$B$9:$AB$109,23,FALSE)*D46/1000)","v":""},{"$f":"IF(D46=0,\"\",VLOOKUP(C46,Feeds!$B$9:$AB$109,24,FALSE))","v":""},{"$f":"IF(D46=0,\"\",VLOOKUP(C46,Feeds!$B$9:$AB$109,25,FALSE)*D46/1000)","v":""},{"$f":"IF(D46=0,\"\",VLOOKUP(C46,Feeds!$B$9:$AB$109,26,FALSE)*D46/1000)","v":""},{"$f":"IF(D46=0,\"\",VLOOKUP(C46,Feeds!$B$9:$AB$109,27,FALSE)*D46/1000)","v":""},0,null,0,null,null,null,{"$f":"IF(O46=\"\",\"\",IF(E46=\"\",\"\",E46*O46/100))","v":""},null,"","",null,"",null,0,null,null,{"$f":"IF(Y46=\"\",\"\",IF($E$46=\"\",\"\",$E$46*Y46/100))","v":""},null,{"$f":"IF(Y46=\"\",\"\",IF($G$46=\"\",\"\",$G$46*Y46/100))","v":""},{"$f":"IF(Y46=\"\",\"\",IF($H$46=\"\",\"\",$H$46*Y46/100))","v":""},null,{"$f":"IF(Y46=\"\",\"\",IF($I$46=\"\",\"\",$I$46*Y46/100))","v":""},null,{"$f":"IF(Z46=\"\",0,Z46*$F$46/100)","v":0},null,null,{"$f":"IF(AI46=\"\",\"\",IF($E$46=\"\",\"\",$E$46*AI46/100))","v":""},null,{"$f":"IF(AI46=\"\",\"\",IF($G$46=\"\",\"\",$G$46*AI46/100))","v":""},{"$f":"IF(AI46=\"\",\"\",IF($H$46=\"\",\"\",$H$46*AI46/100))","v":""},null,{"$f":"IF(AI46=\"\",\"\",IF($I$46=\"\",\"\",$I$46*AI46/100))","v":""},null,{"$f":"IF(AJ46=\"\",0,AJ46*$F$46/100)","v":0},null,null,{"$f":"IF(AS46=\"\",\"\",IF($E$46=\"\",\"\",$E$46*AS46/100))","v":""},null,{"$f":"IF(AS46=\"\",\"\",IF($G$46=\"\",\"\",$G$46*AS46/100))","v":""},{"$f":"IF(AS46=\"\",\"\",IF($H$46=\"\",\"\",$H$46*AS46/100))","v":""},null,{"$f":"IF(AS46=\"\",\"\",IF($I$46=\"\",\"\",$I$46*AS46/100))","v":""},null,{"$f":"IF(AT46=\"\",0,AT46*$F$46/100)","v":0},null,null,{"$f":"IF(BC46=\"\",\"\",IF($E$46=\"\",\"\",$E$46*BC46/100))","v":""},null,{"$f":"IF(BC46=\"\",\"\",IF($G$46=\"\",\"\",$G$46*BC46/100))","v":""},{"$f":"IF(BC46=\"\",\"\",IF($H$46=\"\",\"\",$H$46*BC46/100))","v":""},null,{"$f":"IF(BC46=\"\",\"\",IF($I$46=\"\",\"\",$I$46*BC46/100))","v":""},null,{"$f":"IF(BD46=\"\",0,BD46*$F$46/100)","v":0},null,null,{"$f":"IF(BM46=\"\",\"\",IF($E$46=\"\",\"\",$E$46*BM46/100))","v":""},null,{"$f":"IF(BM46=\"\",\"\",IF($G$46=\"\",\"\",$G$46*BM46/100))","v":""},{"$f":"IF(BM46=\"\",\"\",IF($H$46=\"\",\"\",$H$46*BM46/100))","v":""},null,{"$f":"IF(BM46=\"\",\"\",IF($I$46=\"\",\"\",$I$46*BM46/100))","v":""},null,{"$f":"IF(BN46=\"\",0,BN46*$F$46/100)","v":0}]
[null,null,null,null,{"$f":"IF(D47=0,\"\",VLOOKUP(C47,Feeds!$B$9:$AB$109,23,FALSE)*D47/1000)","v":""},{"$f":"IF(D47=0,\"\",VLOOKUP(C47,Feeds!$B$9:$AB$109,24,FALSE))","v":""},{"$f":"IF(D47=0,\"\",VLOOKUP(C47,Feeds!$B$9:$AB$109,25,FALSE)*D47/1000)","v":""},{"$f":"IF(D47=0,\"\",VLOOKUP(C47,Feeds!$B$9:$AB$109,26,FALSE)*D47/1000)","v":""},{"$f":"IF(D47=0,\"\",VLOOKUP(C47,Feeds!$B$9:$AB$109,27,FALSE)*D47/1000)","v":""},0,null,0,null,null,null,"",null,"","",null,"",null,0,null,null,{"$f":"IF(Y47=\"\",\"\",IF($E$47=\"\",\"\",$E$47*Y47/100))","v":""},null,{"$f":"IF(Y47=\"\",\"\",IF($G$47=\"\",\"\",$G$47*Y47/100))","v":""},{"$f":"IF(Y47=\"\",\"\",IF($H$47=\"\",\"\",$H$47*Y47/100))","v":""},null,{"$f":"IF(Y47=\"\",\"\",IF($I$47=\"\",\"\",$I$47*Y47/100))","v":""},null,{"$f":"IF(Z47=\"\",0,Z47*$F$47/100)","v":0},null,null,{"$f":"IF(AI47=\"\",\"\",IF($E$47=\"\",\"\",$E$47*AI47/100))","v":""},null,{"$f":"IF(AI47=\"\",\"\",IF($G$47=\"\",\"\",$G$47*AI47/100))","v":""},{"$f":"IF(AI47=\"\",\"\",IF($H$47=\"\",\"\",$H$47*AI47/100))","v":""},null,{"$f":"IF(AI47=\"\",\"\",IF($I$47=\"\",\"\",$I$47*AI47/100))","v":""},null,{"$f":"IF(AJ47=\"\",0,AJ47*$F$47/100)","v":0},null,null,{"$f":"IF(AS47=\"\",\"\",IF($E$47=\"\",\"\",$E$47*AS47/100))","v":""},null,{"$f":"IF(AS47=\"\",\"\",IF($G$47=\"\",\"\",$G$47*AS47/100))","v":""},{"$f":"IF(AS47=\"\",\"\",IF($H$47=\"\",\"\",$H$47*AS47/100))","v":""},null,{"$f":"IF(AS47=\"\",\"\",IF($I$47=\"\",\"\",$I$47*AS47/100))","v":""},null,{"$f":"IF(AT47=\"\",0,AT47*$F$47/100)","v":0},null,null,{"$f":"IF(BC47=\"\",\"\",IF($E$47=\"\",\"\",$E$47*BC47/100))","v":""},null,{"$f":"IF(BC47=\"\",\"\",IF($G$47=\"\",\"\",$G$47*BC47/100))","v":""},{"$f":"IF(BC47=\"\",\"\",IF($H$47=\"\",\"\",$H$47*BC47/100))","v":""},null,{"$f":"IF(BC47=\"\",\"\",IF($I$47=\"\",\"\",$I$47*BC47/100))","v":""},null,{"$f":"IF(BD47=\"\",0,BD47*$F$47/100)","v":0},null,null,{"$f":"IF(BM47=\"\",\"\",IF($E$47=\"\",\"\",$E$47*BM47/100))","v":""},null,{"$f":"IF(BM47=\"\",\"\",IF($G$47=\"\",\"\",$G$47*BM47/100))","v":""},{"$f":"IF(BM47=\"\",\"\",IF($H$47=\"\",\"\",$H$47*BM47/100))","v":""},null,{"$f":"IF(BM47=\"\",\"\",IF($I$47=\"\",\"\",$I$47*BM47/100))","v":""},null,{"$f":"IF(BN47=\"\",0,BN47*$F$47/100)","v":0}]
[null,null,null,null,{"$f":"IF(D48=0,\"\",VLOOKUP(C48,Feeds!$B$9:$AB$109,23,FALSE)*D48/1000)","v":""},{"$f":"IF(D48=0,\"\",VLOOKUP(C48,Feeds!$B$9:$AB$109,24,FALSE))","v":""},{"$f":"IF(D48=0,\"\",VLOOKUP(C48,Feeds!$B$9:$AB$109,25,FALSE)*D48/1000)","v":""},{"$f":"IF(D48=0,\"\",VLOOKUP(C48,Feeds!$B$9:$AB$109,26,FALSE)*D48/1000)","v":""},{"$f":"IF(D48=0,\"\",VLOOKUP(C48,Feeds!$B$9:$AB$109,27,FALSE)*D48/1000)","v":""},0,null,0,null,null,null,"",null,"","",null,"",null,0,null,null,{"$f":"IF(Y48=\"\",\"\",IF($E$48=\"\",\"\",$E$48*Y48/100))","v":""},null,{"$f":"IF(Y48=\"\",\"\",IF($G$48=\"\",\"\",$G$48*Y48/100))","v":""},{"$f":"IF(Y48=\"\",\"\",IF($H$48=\"\",\"\",$H$48*Y48/100))","v":""},null,{"$f":"IF(Y48=\"\",\"\",IF($I$48=\"\",\"\",$I$48*Y48/100))","v":""},null,{"$f":"IF(Z48=\"\",0,Z48*$F$48/100)","v":0},null,null,{"$f":"IF(AI48=\"\",\"\",IF($E$48=\"\",\"\",$E$48*AI48/100))","v":""},null,{"$f":"IF(AI48=\"\",\"\",IF($G$48=\"\",\"\",$G$48*AI48/100))","v":""},{"$f":"IF(AI48=\"\",\"\",IF($H$48=\"\",\"\",$H$48*AI48/100))","v":""},null,{"$f":"IF(AI48=\"\",\"\",IF($I$48=\"\",\"\",$I$48*AI48/100))","v":""},null,{"$f":"IF(AJ48=\"\",0,AJ48*$F$48/100)","v":0},null,null,{"$f":"IF(AS48=\"\",\"\",IF($E$48=\"\",\"\",$E$48*AS48/100))","v":""},null,{"$f":"IF(AS48=\"\",\"\",IF($G$48=\"\",\"\",$G$48*AS48/100))","v":""},{"$f":"IF(AS48=\"\",\"\",IF($H$48=\"\",\"\",$H$48*AS48/100))","v":""},null,{"$f":"IF(AS48=\"\",\"\",IF($I$48=\"\",\"\",$I$48*AS48/100))","v":""},null,{"$f":"IF(AT48=\"\",0,AT48*$F$48/100)","v":0},null,null,{"$f":"IF(BC48=\"\",\"\",IF($E$48=\"\",\"\",$E$48*BC48/100))","v":""},null,{"$f":"IF(BC48=\"\",\"\",IF($G$48=\"\",\"\",$G$48*BC48/100))","v":""},{"$f":"IF(BC48=\"\",\"\",IF($H$48=\"\",\"\",$H$48*BC48/100))","v":""},null,{"$f":"IF(BC48=\"\",\"\",IF($I$48=\"\",\"\",$I$48*BC48/100))","v":""},null,{"$f":"IF(BD48=\"\",0,BD48*$F$48/100)","v":0},null,null,{"$f":"IF(BM48=\"\",\"\",IF($E$48=\"\",\"\",$E$48*BM48/100))","v":""},null,{"$f":"IF(BM48=\"\",\"\",IF($G$48=\"\",\"\",$G$48*BM48/100))","v":""},{"$f":"IF(BM48=\"\",\"\",IF($H$48=\"\",\"\",$H$48*BM48/100))","v":""},null,{"$f":"IF(BM48=\"\",\"\",IF($I$48=\"\",\"\",$I$48*BM48/100))","v":""},null,{"$f":"IF(BN48=\"\",0,BN48*$F$48/100)","v":0}]
[null,null,null,null,{"$f":"IF(D49=0,\"\",VLOOKUP(C49,Feeds!$B$9:$AB$109,23,FALSE)*D49/1000)","v":""},{"$f":"IF(D49=0,\"\",VLOOKUP(C49,Feeds!$B$9:$AB$109,24,FALSE))","v":""},{"$f":"IF(D49=0,\"\",VLOOKUP(C49,Feeds!$B$9:$AB$109,25,FALSE)*D49/1000)","v":""},{"$f":"IF(D49=0,\"\",VLOOKUP(C49,Feeds!$B$9:$AB$109,26,FALSE)*D49/1000)","v":""},{"$f":"IF(D49=0,\"\",VLOOKUP(C49,Feeds!$B$9:$AB$109,27,FALSE)*D49/1000)","v":""},0,null,0,null,null,null,"",null,"","",null,"",null,0,null,null,{"$f":"IF(Y49=\"\",\"\",IF($E$49=\"\",\"\",$E$49*Y49/100))","v":""},null,{"$f":"IF(Y49=\"\",\"\",IF($G$49=\"\",\"\",$G$49*Y49/100))","v":""},{"$f":"IF(Y49=\"\",\"\",IF($H$49=\"\",\"\",$H$49*Y49/100))","v":""},null,{"$f":"IF(Y49=\"\",\"\",IF($I$49=\"\",\"\",$I$49*Y49/100))","v":""},null,{"$f":"IF(Z49=\"\",0,Z49*$F$49/100)","v":0},null,null,{"$f":"IF(AI49=\"\",\"\",IF($E$49=\"\",\"\",$E$49*AI49/100))","v":""},null,{"$f":"IF(AI49=\"\",\"\",IF($G$49=\"\",\"\",$G$49*AI49/100))","v":""},{"$f":"IF(AI49=\"\",\"\",IF($H$49=\"\",\"\",$H$49*AI49/100))","v":""},null,{"$f":"IF(AI49=\"\",\"\",IF($I$49=\"\",\"\",$I$49*AI49/100))","v":""},null,{"$f":"IF(AJ49=\"\",0,AJ49*$F$49/100)","v":0},null,null,{"$f":"IF(AS49=\"\",\"\",IF($E$49=\"\",\"\",$E$49*AS49/100))","v":""},null,{"$f":"IF(AS49=\"\",\"\",IF($G$49=\"\",\"\",$G$49*AS49/100))","v":""},{"$f":"IF(AS49=\"\",\"\",IF($H$49=\"\",\"\",$H$49*AS49/100))","v":""},null,{"$f":"IF(AS49=\"\",\"\",IF($I$49=\"\",\"\",$I$49*AS49/100))","v":""},null,{"$f":"IF(AT49=\"\",0,AT49*$F$49/100)","v":0},null,null,{"$f":"IF(BC49=\"\",\"\",IF($E$49=\"\",\"\",$E$49*BC49/100))","v":""},null,{"$f":"IF(BC49=\"\",\"\",IF($G$49=\"\",\"\",$G$49*BC49/100))","v":""},{"$f":"IF(BC49=\"\",\"\",IF($H$49=\"\",\"\",$H$49*BC49/100))","v":""},null,{"$f":"IF(BC49=\"\",\"\",IF($I$49=\"\",\"\",$I$49*BC49/100))","v":""},null,{"$f":"IF(BD49=\"\",0,BD49*$F$49/100)","v":0},null,null,{"$f":"IF(BM49=\"\",\"\",IF($E$49=\"\",\"\",$E$49*BM49/100))","v":""},null,{"$f":"IF(BM49=\"\",\"\",IF($G$49=\"\",\"\",$G$49*BM49/100))","v":""},{"$f":"IF(BM49=\"\",\"\",IF($H$49=\"\",\"\",$H$49*BM49/100))","v":""},null,{"$f":"IF(BM49=\"\",\"\",IF($I$49=\"\",\"\",$I$49*BM49/100))","v":""},null,{"$f":"IF(BN49=\"\",0,BN49*$F$49/100)","v":0}]
[null,null,null,null,{"$f":"IF(D50=0,\"\",VLOOKUP(C50,Feeds!$B$9:$AB$109,23,FALSE)*D50/1000)","v":""},{"$f":"IF(D50=0,\"\",VLOOKUP(C50,Feeds!$B$9:$AB$109,24,FALSE))","v":""},{"$f":"IF(D50=0,\"\",VLOOKUP(C50,Feeds!$B$9:$AB$109,25,FALSE)*D50/1000)","v":""},{"$f":"IF(D50=0,\"\",VLOOKUP(C50,Feeds!$B$9:$AB$109,26,FALSE)*D50/1000)","v":""},{"$f":"IF(D50=0,\"\",VLOOKUP(C50,Feeds!$B$9:$AB$109,27,FALSE)*D50/1000)","v":""},0,null,0,null,null,null,"",null,"","",null,"",null,0,null,null,{"$f":"IF(Y50=\"\",\"\",IF($E$50=\"\",\"\",$E$50*Y50/100))","v":""},null,{"$f":"IF(Y50=\"\",\"\",IF($G$50=\"\",\"\",$G$50*Y50/100))","v":""},{"$f":"IF(Y50=\"\",\"\",IF($H$50=\"\",\"\",$H$50*Y50/100))","v":""},null,{"$f":"IF(Y50=\"\",\"\",IF($I$50=\"\",\"\",$I$50*Y50/100))","v":""},null,{"$f":"IF(Z50=\"\",0,Z50*$F$50/100)","v":0},null,null,{"$f":"IF(AI50=\"\",\"\",IF($E$50=\"\",\"\",$E$50*AI50/100))","v":""},null,{"$f":"IF(AI50=\"\",\"\",IF($G$50=\"\",\"\",$G$50*AI50/100))","v":""},{"$f":"IF(AI50=\"\",\"\",IF($H$50=\"\",\"\",$H$50*AI50/100))","v":""},null,{"$f":"IF(AI50=\"\",\"\",IF($I$50=\"\",\"\",$I$50*AI50/100))","v":""},null,{"$f":"IF(AJ50=\"\",0,AJ50*$F$50/100)","v":0},null,null,{"$f":"IF(AS50=\"\",\"\",IF($E$50=\"\",\"\",$E$50*AS50/100))","v":""},null,{"$f":"IF(AS50=\"\",\"\",IF($G$50=\"\",\"\",$G$50*AS50/100))","v":""},{"$f":"IF(AS50=\"\",\"\",IF($H$50=\"\",\"\",$H$50*AS50/100))","v":""},null,{"$f":"IF(AS50=\"\",\"\",IF($I$50=\"\",\"\",$I$50*AS50/100))","v":""},null,{"$f":"IF(AT50=\"\",0,AT50*$F$50/100)","v":0},null,null,{"$f":"IF(BC50=\"\",\"\",IF($E$50=\"\",\"\",$E$50*BC50/100))","v":""},null,{"$f":"IF(BC50=\"\",\"\",IF($G$50=\"\",\"\",$G$50*BC50/100))","v":""},{"$f":"IF(BC50=\"\",\"\",IF($H$50=\"\",\"\",$H$50*BC50/100))","v":""},null,{"$f":"IF(BC50=\"\",\"\",IF($I$50=\"\",\"\",$I$50*BC50/100))","v":""},null,{"$f":"IF(BD50=\"\",0,BD50*$F$50/100)","v":0},null,null,{"$f":"IF(BM50=\"\",\"\",IF($E$50=\"\",\"\",$E$50*BM50/100))","v":""},null,{"$f":"IF(BM50=\"\",\"\",IF($G$50=\"\",\"\",$G$50*BM50/100))","v":""},{"$f":"IF(BM50=\"\",\"\",IF($H$50=\"\",\"\",$H$50*BM50/100))","v":""},null,{"$f":"IF(BM50=\"\",\"\",IF($I$50=\"\",\"\",$I$50*BM50/100))","v":""},null,{"$f":"IF(BN50=\"\",0,BN50*$F$50/100)","v":0}]
[null,null,null,null,{"$f":"IF(D51=0,\"\",VLOOKUP(C51,Feeds!$B$9:$AB$109,23,FALSE)*D51/1000)","v":""},{"$f":"IF(D51=0,\"\",VLOOKUP(C51,Feeds!$B$9:$AB$109,24,FALSE))","v":""},{"$f":"IF(D51=0,\"\",VLOOKUP(C51,Feeds!$B$9:$AB$109,25,FALSE)*D51/1000)","v":""},{"$f":"IF(D51=0,\"\",VLOOKUP(C51,Feeds!$B$9:$AB$109,26,FALSE)*D51/1000)","v":""},{"$f":"IF(D51=0,\"\",VLOOKUP(C51,Feeds!$B$9:$AB$109,27,FALSE)*D51/1000)","v":""},0,null,0,null,null,null,"",null,"","",null,"",null,{"$f":"IF(P51=\"\",0,P51*F51/100)","v":0},null,null,{"$f":"IF(Y51=\"\",\"\",IF($E$51=\"\",\"\",$E$51*Y51/100))","v":""},null,{"$f":"IF(Y51=\"\",\"\",IF($G$51=\"\",\"\",$G$51*Y51/100))","v":""},{"$f":"IF(Y51=\"\",\"\",IF($H$51=\"\",\"\",$H$51*Y51/100))","v":""},null,{"$f":"IF(Y51=\"\",\"\",IF($I$51=\"\",\"\",$I$51*Y51/100))","v":""},null,{"$f":"IF(Z51=\"\",0,Z51*$F$51/100)","v":0},null,null,{"$f":"IF(AI51=\"\",\"\",IF($E$51=\"\",\"\",$E$51*AI51/100))","v":""},null,{"$f":"IF(AI51=\"\",\"\",IF($G$51=\"\",\"\",$G$51*AI51/100))","v":""},{"$f":"IF(AI51=\"\",\"\",IF($H$51=\"\",\"\",$H$51*AI51/100))","v":""},null,{"$f":"IF(AI51=\"\",\"\",IF($I$51=\"\",\"\",$I$51*AI51/100))","v":""},null,{"$f":"IF(AJ51=\"\",0,AJ51*$F$51/100)","v":0},null,null,{"$f":"IF(AS51=\"\",\"\",IF($E$51=\"\",\"\",$E$51*AS51/100))","v":""},null,{"$f":"IF(AS51=\"\",\"\",IF($G$51=\"\",\"\",$G$51*AS51/100))","v":""},{"$f":"IF(AS51=\"\",\"\",IF($H$51=\"\",\"\",$H$51*AS51/100))","v":""},null,{"$f":"IF(AS51=\"\",\"\",IF($I$51=\"\",\"\",$I$51*AS51/100))","v":""},null,{"$f":"IF(AT51=\"\",0,AT51*$F$51/100)","v":0},null,null,{"$f":"IF(BC51=\"\",\"\",IF($E$51=\"\",\"\",$E$51*BC51/100))","v":""},null,{"$f":"IF(BC51=\"\",\"\",IF($G$51=\"\",\"\",$G$51*BC51/100))","v":""},{"$f":"IF(BC51=\"\",\"\",IF($H$51=\"\",\"\",$H$51*BC51/100))","v":""},null,{"$f":"IF(BC51=\"\",\"\",IF($I$51=\"\",\"\",$I$51*BC51/100))","v":""},null,{"$f":"IF(BD51=\"\",0,BD51*$F$51/100)","v":0},null,null,{"$f":"IF(BM51=\"\",\"\",IF($E$51=\"\",\"\",$E$51*BM51/100))","v":""},null,{"$f":"IF(BM51=\"\",\"\",IF($G$51=\"\",\"\",$G$51*BM51/100))","v":""},{"$f":"IF(BM51=\"\",\"\",IF($H$51=\"\",\"\",$H$51*BM51/100))","v":""},null,{"$f":"IF(BM51=\"\",\"\",IF($I$51=\"\",\"\",$I$51*BM51/100))","v":""},null,{"$f":"IF(BN51=\"\",0,BN51*$F$51/100)","v":0}]
[]
[null,null,null,null,null,null,null,null,null,null,null,null,null,null,"Lehma kohta aastas","KA","KA seeduvus","TP","P",null,"K",null,null,null,"Mullika kohta aastas","KA","KA seeduvus","TP","P",null,"K",null,null,null,"Looma kohta aastas","KA","KA seeduvus","TP","P",null,"K",null,null,null,"Vasika kohta aastas","KA","KA seeduvus","TP","P",null,"K",null,null,null,"Vasika kohta aastas","KA","KA seeduvus","TP","P",null,"K",null,null,null,"Ammlehma kohta aastas","KA","KA seeduvus","TP","P",null,"K"]
[null,null,null,null,null,null,null,null,null,null,null,null,null,null,null,"kg","%","g/kg KA",null,null,null,null,null,null,null,"kg","%","g/kg KA",null,null,null,null,null,null,null,"kg","%","g/kg KA",null,null,null,null,null,null,null,"kg","%","g/kg KA",null,null,null,null,null,null,null,"kg","%","g/kg KA",null,null,null,null,null,null,null,"kg","%","g/kg KA"]
[null,null,null,null,null,null,null,null,null,null,null,null,null,null,null,{"$f":"IF(S12=0,0,SUM(P21:P51)*1000/S12)","v":0},{"$f":"IF(S12=0,0,W55/P55*100)","v":{"$error":"#DIV/0!"}},{"$f":"IF(S12=0,0,SUM(R21:R51)/S12*1000*1000/P55)","v":{"$error":"#DIV/0!"}},{"$f":"IF(S12=0,0,SUM(S21:S51)/S12*1000*1000/P55)","v":{"$error":"#DIV/0!"}},null,{"$f":"IF(S12=0,0,SUM(U21:U51)/S12*1000*1000/P55)","v":{"$error":"#DIV/0!"}},null,{"$f":"IF(S12=0,0,SUM(W21:W54)*1000/S12)","v":0},null,null,{"$f":"IF(AC12=0,0,SUM(Z21:Z51)*1000/AC12)","v":0},{"$f":"IF(AC12=0,0,AG55/Z55*100)","v":0},{"$f":"IF(AC12=0,0,SUM(AB21:AB51)/AC12*1000*1000/Z55)","v":0},{"$f":"IF(AC12=0,0,SUM(AC21:AC51)/AC12*1000*1000/Z55)","v":0},null,{"$f":"IF(AC12=0,0,SUM(AE21:AE51)/AC12*1000*1000/Z55)","v":0},null,{"$f":"IF(AC12=0,0,SUM(AG21:AG54)*1000/AC12)","v":0},null,null,{"$f":"IF(AM12=0,0,SUM(AJ21:AJ51)*1000/AM12)","v":0},{"$f":"IF(AM12=0,0,AQ55/AJ55*100)","v":0},{"$f":"IF(AM12=0,0,SUM(AL21:AL51)/AM12*1000*1000/AJ55)","v":0},{"$f":"IF(AM12=0,0,SUM(AM21:AM51)/AM12*1000*1000/AJ55)","v":0},null,{"$f":"IF(AM12=0,0,SUM(AO21:AO51)/AM12*1000*1000/AJ55)","v":0},null,{"$f":"IF(AM12=0,0,SUM(AQ21:AQ54)*1000/AM12)","v":0},null,null,{"$f":"IF(AW12=0,0,SUM(AT21:AT51)*1000/AW12)","v":0},{"$f":"IF(AW12=0,0,BA55/AT55*100)","v":0},{"$f":"IF(AW12=0,0,SUM(AV21:AV51)/AW12*1000*1000/AT55)","v":0},{"$f":"IF(AW12=0,0,SUM(AW21:AW51)/AW12*1000*1000/AT55)","v":0},null,{"$f":"IF(AW12=0,0,SUM(AY21:AY51)/AW12*1000*1000/AT55)","v":0},null,{"$f":"IF(AW12=0,0,SUM(BA21:BA54)*1000/AW12)","v":0},null,null,{"$f":"IF(BG12=0,0,SUM(BD21:BD51)*1000/BG12)","v":0},{"$f":"IF(BG12=0,0,BK55/BD55*100)","v":0},{"$f":"IF(BG12=0,0,SUM(BF21:BF51)/BG12*1000*1000/BD55)","v":0},{"$f":"IF(BG12=0,0,SUM(BG21:BG51)/BG12*1000*1000/BD55)","v":0},null,{"$f":"IF(BG12=0,0,SUM(BI21:BI51)/BG12*1000*1000/BD55)","v":0},null,{"$f":"IF(BG12=0,0,SUM(BK21:BK54)*1000/BG12)","v":0},null,null,{"$f":"IF(BQ12=0,0,SUM(BN21:BN51)*1000/BQ12)","v":0},{"$f":"IF(BQ12=0,0,BU55/BN55*100)","v":0},{"$f":"IF(BQ12=0,0,SUM(BP21:BP51)/BQ12*1000*1000/BN55)","v":0},{"$f":"IF(BQ12=0,0,SUM(BQ21:BQ51)/BQ12*1000*1000/BN55)","v":0},null,{"$f":"IF(BQ12=0,0,SUM(BS21:BS51)/BQ12*1000*1000/BN55)","v":0},null,{"$f":"IF(BQ12=0,0,SUM(BU21:BU54)*1000/BQ12)","v":0}]
[]
[null,null,null,null,null,null,null,null,null,null,null,null,null,null,null,null,null,null,null,null,null,null,null,null,null,null,null,null,null,null,null,null,null,null,null,null,null,null,null,null,null,null,{"$f":"IF(AJ57=\"\",0,AJ57*F57/100)","v":0}]
[null,null,null,null,null,null,null,null,null,null,null,null,null,null,null,null,"Kinnisperioodi pikkus, päeva",null,60]

{"sheet":"FeedIn pigs (Intensive)","index":3,"n_rows":113,"n_cols":34,"rows_kept":113,"cut":false,"hidden":false,"merged":[[1,7,1,12],[2,2,3,11],[48,33,49,33],[67,33,68,33],[86,33,87,33],[48,28,49,28],[48,11,49,11],[10,33,11,33],[29,11,30,11],[29,22,30,22],[29,33,30,33],[29,28,30,28],[5,4,5,5],[5,6,5,11],[6,6,6,11],[5,15,5,16],[5,26,5,27],[111,24,111,25],[112,24,112,25],[5,2,8,3],[8,4,8,5],[8,6,8,11],[7,6,7,11],[10,6,11,6],[10,17,11,17],[86,6,87,6],[86,17,87,17],[29,6,30,6],[29,17,30,17],[48,6,49,6],[48,17,49,17],[10,11,11,11],[105,2,107,2],[105,13,107,13],[105,24,107,24],[106,3,106,4],[106,6,106,8],[106,14,106,15],[106,17,106,19],[1,2,1,6],[6,28,6,33],[48,30,49,30],[5,28,5,33],[5,13,8,14],[7,28,8,33],[5,17,5,22],[5,24,8,25],[6,17,6,22],[7,26,8,27],[8,15,8,16],[8,17,8,22],[7,15,7,16],[7,17,7,22],[48,22,49,22],[10,22,11,22],[106,25,106,26],[106,28,106,30],[86,28,87,28],[10,28,11,28],[67,6,68,6],[67,17,68,17],[67,28,68,28],[67,11,68,11],[67,22,68,22],[86,22,87,22],[86,11,87,11]]}
[]
[null,null,"Sigade söötmine",null,null,null,null,"Intensiivne"]
[]
[]
[null,123456789]
[null,null,"Nuumsead",null,"Nuumikute arv, toodetud loomi",null,null,null,null,null,null,null,null,"Võõrdepõrsad",null,"Võõrdepõrsaste arv, toodetud loomi",null,null,null,null,null,null,null,null,"Emised                                           Free and gestation period",null,"Emiste arv, aastaemiseid"]
[null,null,null,null,"Kehamass perioodi alguses, kg",null,null,null,null,null,null,null,null,null,null,"Kehamass perioodi alguses, kg",null,null,null,null,null,null,null,null,null,null,"Põrsaste arv, aastaemis"]
[null,null,null,null,"Kehamass perioodi lõpus, kg",null,null,null,null,null,null,null,null,null,null,"Kehamass perioodi lõpus, kg",null,null,null,null,null,null,null,null,null,null,"Põrsa kehmass võõrutamisel, kg"]
[null,null,null,null,"Vanus perioodi alguses, päeva",null,null,null,null,null,null,null,null,null,null,"Vanus perioodi alguses, päeva"]
[]
[null,null,"Faas 1 ",null,null,null,"Vanus päeva ","alates",{"$f":"G9","v":0},null,null,"Päevi grupis",null,"Faas 1 ",null,null,null,"Vanus päeva ","alates",{"$f":"R9","v":0},null,null,"Päevi grupis",null,"Vaba- ja tiinusperiood",null,null,null,null,null,null,null,null,"Päevi grupis"]
[null,null,null,null,null,null,null,"kuni",null,null,null,null,null,null,null,null,null,null,"kuni",null,null,null,null,null,"Faas 1 "]
[null,null,"Söödad (s.h. mineraalsöödad)","Kogus g/päev","KA g/päev","KA seeduvus   %","TP     g/päev","P   g/päev","K   g/päev",null,null,{"$f":"I12-I11","v":0},null,"Söödad (s.h. mineraalsöödad)","Kogus g/päev","KA g/päev","KA seeduvus   %","TP     g/päev","P   g/päev","K   g/päev",null,null,{"$f":"T12-T11","v":0},null,"Söödad (s.h. mineraalsöödad)","Kogus g/päev","KA g/päev","KA seeduvus   %","TP     g/päev","P   g/päev","K   g/päev"]
[null,null,null,null,{"$f":"IF(D14=0,\"\",VLOOKUP(C14,Feeds!$B$9:$AB$109,23,FALSE)*D14/1000)","v":""},{"$f":"IF(D14=0,\"\",VLOOKUP(C14,Feeds!$B$9:$AB$109,24,FALSE))","v":""},{"$f":"IF(D14=\"\",\"\",D14*(VLOOKUP(C14,Feeds!$B$9:$AB$109,25,FALSE)/1000))","v":""},{"$f":"IF(D14=\"\",\"\",D14*VLOOKUP(C14,Feeds!$B$9:$AB$109,26,FALSE)/1000)","v":""},{"$f":"IF(D14=\"\",\"\",D14*VLOOKUP(C14,Feeds!$B$9:$AB$109,27,FALSE)/1000)","v":""},{"$f":"IF(D14=\"\",0,E14*F14/100)","v":0},null,null,null,null,null,{"$f":"IF(O14=0,\"\",VLOOKUP(N14,Feeds!$B$9:$AB$109,23,FALSE)*O14/1000)","v":""},{"$f":"IF(O14=0,\"\",VLOOKUP(N14,Feeds!$B$9:$AB$109,24,FALSE))","v":""},{"$f":"IF(O14=\"\",\"\",O14*(VLOOKUP(N14,Feeds!$B$9:$AB$109,25,FALSE)/1000))","v":""},{"$f":"IF(O14=\"\",\"\",O14*VLOOKUP(N14,Feeds!$B$9:$AB$109,26,FALSE)/1000)","v":""},{"$f":"IF(O14=\"\",\"\",O14*VLOOKUP(N14,Feeds!$B$9:$AB$109,27,FALSE)/1000)","v":""},{"$f":"IF(O14=\"\",0,P14*Q14/100)","v":0},null,null,null,null,null,{"$f":"IF(Z14=0,\"\",VLOOKUP(Y14,Feeds!$B$9:$AB$109,23,FALSE)*Z14/1000)","v":""},{"$f":"IF(Z14=0,\"\",VLOOKUP(Y14,Feeds!$B$9:$AB$109,24,FALSE))","v":""},{"$f":"IF(Z14=\"\",\"\",Z14*(VLOOKUP(Y14,Feeds!$B$9:$AB$109,25,FALSE)/1000))","v":""},{"$f":"IF(Z14=\"\",\"\",Z14*VLOOKUP(Y14,Feeds!$B$9:$AB$109,26,FALSE)/1000)","v":""},{"$f":"IF(Z14=\"\",\"\",Z14*VLOOKUP(Y14,Feeds!$B$9:$AB$109,27,FALSE)/1000)","v":""},{"$f":"IF(Z14=\"\",0,AA14*AB14/100)","v":0}]
[null,null,null,null,{"$f":"IF(D15=0,\"\",VLOOKUP(C15,Feeds!$B$9:$AB$109,23,FALSE)*D15/1000)","v":""},{"$f":"IF(D15=0,\"\",VLOOKUP(C15,Feeds!$B$9:$AB$109,24,FALSE))","v":""},{"$f":"IF(D15=\"\",\"\",D15*(VLOOKUP(C15,Feeds!$B$9:$AB$109,25,FALSE)/1000))","v":""},{"$f":"IF(D15=\"\",\"\",D15*VLOOKUP(C15,Feeds!$B$9:$AB$109,26,FALSE)/1000)","v":""},{"$f":"IF(D15=\"\",\"\",D15*VLOOKUP(C15,Feeds!$B$9:$AB$109,27,FALSE)/1000)","v":""},{"$f":"IF(D15=\"\",0,E15*F15/100)","v":0},null,null,null,null,null,{"$f":"IF(O15=0,\"\",VLOOKUP(N15,Feeds!$B$9:$AB$109,23,FALSE)*O15/1000)","v":""},{"$f":"IF(O15=0,\"\",VLOOKUP(N15,Feeds!$B$9:$AB$109,24,FALSE))","v":""},{"$f":"IF(O15=\"\",\"\",O15*(VLOOKUP(N15,Feeds!$B$9:$AB$109,25,FALSE)/1000))","v":""},{"$f":"IF(O15=\"\",\"\",O15*VLOOKUP(N15,Feeds!$B$9:$AB$109,26,FALSE)/1000)","v":""},{"$f":"IF(O15=\"\",\"\",O15*VLOOKUP(N15,Feeds!$B$9:$AB$109,27,FALSE)/1000)","v":""},0,null,null,null,null,null,{"$f":"IF(Z15=0,\"\",VLOOKUP(Y15,Feeds!$B$9:$AB$109,23,FALSE)*Z15/1000)","v":""},{"$f":"IF(Z15=0,\"\",VLOOKUP(Y15,Feeds!$B$9:$AB$109,24,FALSE))","v":""},{"$f":"IF(Z15=\"\",\"\",Z15*(VLOOKUP(Y15,Feeds!$B$9:$AB$109,25,FALSE)/1000))","v":""},{"$f":"IF(Z15=\"\",\"\",Z15*VLOOKUP(Y15,Feeds!$B$9:$AB$109,26,FALSE)/1000)","v":""},{"$f":"IF(Z15=\"\",\"\",Z15*VLOOKUP(Y15,Feeds!$B$9:$AB$109,27,FALSE)/1000)","v":""},0]
[null,null,null,null,{"$f":"IF(D16=0,\"\",VLOOKUP(C16,Feeds!$B$9:$AB$109,23,FALSE)*D16/1000)","v":""},{"$f":"IF(D16=0,\"\",VLOOKUP(C16,Feeds!$B$9:$AB$109,24,FALSE))","v":""},{"$f":"IF(D16=\"\",\"\",D16*(VLOOKUP(C16,Feeds!$B$9:$AB$109,25,FALSE)/1000))","v":""},{"$f":"IF(D16=\"\",\"\",D16*VLOOKUP(C16,Feeds!$B$9:$AB$109,26,FALSE)/1000)","v":""},{"$f":"IF(D16=\"\",\"\",D16*VLOOKUP(C16,Feeds!$B$9:$AB$109,27,FALSE)/1000)","v":""},{"$f":"IF(D16=\"\",0,E16*F16/100)","v":0},null,null,null,null,null,{"$f":"IF(O16=0,\"\",VLOOKUP(N16,Feeds!$B$9:$AB$109,23,FALSE)*O16/1000)","v":""},{"$f":"IF(O16=0,\"\",VLOOKUP(N16,Feeds!$B$9:$AB$109,24,FALSE))","v":""},{"$f":"IF(O16=\"\",\"\",O16*(VLOOKUP(N16,Feeds!$B$9:$AB$109,25,FALSE)/1000))","v":""},{"$f":"IF(O16=\"\",\"\",O16*VLOOKUP(N16,Feeds!$B$9:$AB$109,26,FALSE)/1000)","v":""},{"$f":"IF(O16=\"\",\"\",O16*VLOOKUP(N16,Feeds!$B$9:$AB$109,27,FALSE)/1000)","v":""},0,null,null,null,null,null,{"$f":"IF(Z16=0,\"\",VLOOKUP(Y16,Feeds!$B$9:$AB$109,23,FALSE)*Z16/1000)","v":""},{"$f":"IF(Z16=0,\"\",VLOOKUP(Y16,Feeds!$B$9:$AB$109,24,FALSE))","v":""},{"$f":"IF(Z16=\"\",\"\",Z16*(VLOOKUP(Y16,Feeds!$B$9:$AB$109,25,FALSE)/1000))","v":""},{"$f":"IF(Z16=\"\",\"\",Z16*VLOOKUP(Y16,Feeds!$B$9:$AB$109,26,FALSE)/1000)","v":""},{"$f":"IF(Z16=\"\",\"\",Z16*VLOOKUP(Y16,Feeds!$B$9:$AB$109,27,FALSE)/1000)","v":""},0]
[null,null,null,null,{"$f":"IF(D17=0,\"\",VLOOKUP(C17,Feeds!$B$9:$AB$109,23,FALSE)*D17/1000)","v":""},{"$f":"IF(D17=0,\"\",VLOOKUP(C17,Feeds!$B$9:$AB$109,24,FALSE))","v":""},{"$f":"IF(D17=\"\",\"\",D17*(VLOOKUP(C17,Feeds!$B$9:$AB$109,25,FALSE)/1000))","v":""},{"$f":"IF(D17=\"\",\"\",D17*VLOOKUP(C17,Feeds!$B$9:$AB$109,26,FALSE)/1000)","v":""},{"$f":"IF(D17=\"\",\"\",D17*VLOOKUP(C17,Feeds!$B$9:$AB$109,27,FALSE)/1000)","v":""},0,null,null,null,null,null,{"$f":"IF(O17=0,\"\",VLOOKUP(N17,Feeds!$B$9:$AB$109,23,FALSE)*O17/1000)","v":""},{"$f":"IF(O17=0,\"\",VLOOKUP(N17,Feeds!$B$9:$AB$109,24,FALSE))","v":""},{"$f":"IF(O17=\"\",\"\",O17*(VLOOKUP(N17,Feeds!$B$9:$AB$109,25,FALSE)/1000))","v":""},{"$f":"IF(O17=\"\",\"\",O17*VLOOKUP(N17,Feeds!$B$9:$AB$109,26,FALSE)/1000)","v":""},{"$f":"IF(O17=\"\",\"\",O17*VLOOKUP(N17,Feeds!$B$9:$AB$109,27,FALSE)/1000)","v":""},0,null,null,null,null,null,{"$f":"IF(Z17=0,\"\",VLOOKUP(Y17,Feeds!$B$9:$AB$109,23,FALSE)*Z17/1000)","v":""},{"$f":"IF(Z17=0,\"\",VLOOKUP(Y17,Feeds!$B$9:$AB$109,24,FALSE))","v":""},{"$f":"IF(Z17=\"\",\"\",Z17*(VLOOKUP(Y17,Feeds!$B$9:$AB$109,25,FALSE)/1000))","v":""},{"$f":"IF(Z17=\"\",\"\",Z17*VLOOKUP(Y17,Feeds!$B$9:$AB$109,26,FALSE)/1000)","v":""},{"$f":"IF(Z17=\"\",\"\",Z17*VLOOKUP(Y17,Feeds!$B$9:$AB$109,27,FALSE)/1000)","v":""},0]
[null,null,null,null,{"$f":"IF(D18=0,\"\",VLOOKUP(C18,Feeds!$B$9:$AB$109,23,FALSE)*D18/1000)","v":""},{"$f":"IF(D18=0,\"\",VLOOKUP(C18,Feeds!$B$9:$AB$109,24,FALSE))","v":""},{"$f":"IF(D18=\"\",\"\",D18*(VLOOKUP(C18,Feeds!$B$9:$AB$109,25,FALSE)/1000))","v":""},{"$f":"IF(D18=\"\",\"\",D18*VLOOKUP(C18,Feeds!$B$9:$AB$109,26,FALSE)/1000)","v":""},{"$f":"IF(D18=\"\",\"\",D18*VLOOKUP(C18,Feeds!$B$9:$AB$109,27,FALSE)/1000)","v":""},0,null,null,null,null,null,{"$f":"IF(O18=0,\"\",VLOOKUP(N18,Feeds!$B$9:$AB$109,23,FALSE)*O18/1000)","v":""},{"$f":"IF(O18=0,\"\",VLOOKUP(N18,Feeds!$B$9:$AB$109,24,FALSE))","v":""},{"$f":"IF(O18=\"\",\"\",O18*(VLOOKUP(N18,Feeds!$B$9:$AB$109,25,FALSE)/1000))","v":""},{"$f":"IF(O18=\"\",\"\",O18*VLOOKUP(N18,Feeds!$B$9:$AB$109,26,FALSE)/1000)","v":""},{"$f":"IF(O18=\"\",\"\",O18*VLOOKUP(N18,Feeds!$B$9:$AB$109,27,FALSE)/1000)","v":""},{"$f":"IF(O18=\"\",0,P18*Q18/100)","v":0},null,null,null,null,null,{"$f":"IF(Z18=0,\"\",VLOOKUP(Y18,Feeds!$B$9:$AB$109,23,FALSE)*Z18/1000)","v":""},{"$f":"IF(Z18=0,\"\",VLOOKUP(Y18,Feeds!$B$9:$AB$109,24,FALSE))","v":""},{"$f":"IF(Z18=\"\",\"\",Z18*(VLOOKUP(Y18,Feeds!$B$9:$AB$109,25,FALSE)/1000))","v":""},{"$f":"IF(Z18=\"\",\"\",Z18*VLOOKUP(Y18,Feeds!$B$9:$AB$109,26,FALSE)/1000)","v":""},{"$f":"IF(Z18=\"\",\"\",Z18*VLOOKUP(Y18,Feeds!$B$9:$AB$109,27,FALSE)/1000)","v":""},{"$f":"IF(Z18=\"\",0,AA18*AB18/100)","v":0}]
[null,null,null,null,{"$f":"IF(D19=0,\"\",VLOOKUP(C19,Feeds!$B$9:$AB$109,23,FALSE)*D19/1000)","v":""},{"$f":"IF(D19=0,\"\",VLOOKUP(C19,Feeds!$B$9:$AB$109,24,FALSE))","v":""},{"$f":"IF(D19=\"\",\"\",D19*(VLOOKUP(C19,Feeds!$B$9:$AB$109,25,FALSE)/1000))","v":""},{"$f":"IF(D19=\"\",\"\",D19*VLOOKUP(C19,Feeds!$B$9:$AB$109,26,FALSE)/1000)","v":""},{"$f":"IF(D19=\"\",\"\",D19*VLOOKUP(C19,Feeds!$B$9:$AB$109,27,FALSE)/1000)","v":""},0,null,null,null,null,null,{"$f":"IF(O19=0,\"\",VLOOKUP(N19,Feeds!$B$9:$AB$109,23,FALSE)*O19/1000)","v":""},{"$f":"IF(O19=0,\"\",VLOOKUP(N19,Feeds!$B$9:$AB$109,24,FALSE))","v":""},{"$f":"IF(O19=\"\",\"\",O19*(VLOOKUP(N19,Feeds!$B$9:$AB$109,25,FALSE)/1000))","v":""},{"$f":"IF(O19=\"\",\"\",O19*VLOOKUP(N19,Feeds!$B$9:$AB$109,26,FALSE)/1000)","v":""},{"$f":"IF(O19=\"\",\"\",O19*VLOOKUP(N19,Feeds!$B$9:$AB$109,27,FALSE)/1000)","v":""},0,null,null,null,null,null,{"$f":"IF(Z19=0,\"\",VLOOKUP(Y19,Feeds!$B$9:$AB$109,23,FALSE)*Z19/1000)","v":""},{"$f":"IF(Z19=0,\"\",VLOOKUP(Y19,Feeds!$B$9:$AB$109,24,FALSE))","v":""},{"$f":"IF(Z19=\"\",\"\",Z19*(VLOOKUP(Y19,Feeds!$B$9:$AB$109,25,FALSE)/1000))","v":""},{"$f":"IF(Z19=\"\",\"\",Z19*VLOOKUP(Y19,Feeds!$B$9:$AB$109,26,FALSE)/1000)","v":""},{"$f":"IF(Z19=\"\",\"\",Z19*VLOOKUP(Y19,Feeds!$B$9:$AB$109,27,FALSE)/1000)","v":""},0]
[null,null,null,null,{"$f":"IF(D20=0,\"\",VLOOKUP(C20,Feeds!$B$9:$AB$109,23,FALSE)*D20/1000)","v":""},{"$f":"IF(D20=0,\"\",VLOOKUP(C20,Feeds!$B$9:$AB$109,24,FALSE))","v":""},{"$f":"IF(D20=\"\",\"\",D20*(VLOOKUP(C20,Feeds!$B$9:$AB$109,25,FALSE)/1000))","v":""},{"$f":"IF(D20=\"\",\"\",D20*VLOOKUP(C20,Feeds!$B$9:$AB$109,26,FALSE)/1000)","v":""},{"$f":"IF(D20=\"\",\"\",D20*VLOOKUP(C20,Feeds!$B$9:$AB$109,27,FALSE)/1000)","v":""},0,null,null,null,null,null,{"$f":"IF(O20=0,\"\",VLOOKUP(N20,Feeds!$B$9:$AB$109,23,FALSE)*O20/1000)","v":""},{"$f":"IF(O20=0,\"\",VLOOKUP(N20,Feeds!$B$9:$AB$109,24,FALSE))","v":""},{"$f":"IF(O20=\"\",\"\",O20*(VLOOKUP(N20,Feeds!$B$9:$AB$109,25,FALSE)/1000))","v":""},{"$f":"IF(O20=\"\",\"\",O20*VLOOKUP(N20,Feeds!$B$9:$AB$109,26,FALSE)/1000)","v":""},{"$f":"IF(O20=\"\",\"\",O20*VLOOKUP(N20,Feeds!$B$9:$AB$109,27,FALSE)/1000)","v":""},0,null,null,null,null,null,{"$f":"IF(Z20=0,\"\",VLOOKUP(Y20,Feeds!$B$9:$AB$109,23,FALSE)*Z20/1000)","v":""},{"$f":"IF(Z20=0,\"\",VLOOKUP(Y20,Feeds!$B$9:$AB$109,24,FALSE))","v":""},{"$f":"IF(Z20=\"\",\"\",Z20*(VLOOKUP(Y20,Feeds!$B$9:$AB$109,25,FALSE)/1000))","v":""},{"$f":"IF(Z20=\"\",\"\",Z20*VLOOKUP(Y20,Feeds!$B$9:$AB$109,26,FALSE)/1000)","v":""},{"$f":"IF(Z20=\"\",\"\",Z20*VLOOKUP(Y20,Feeds!$B$9:$AB$109,27,FALSE)/1000)","v":""},0]
[null,null,null,null,{"$f":"IF(D21=0,\"\",VLOOKUP(C21,Feeds!$B$9:$AB$109,23,FALSE)*D21/1000)","v":""},{"$f":"IF(D21=0,\"\",VLOOKUP(C21,Feeds!$B$9:$AB$109,24,FALSE))","v":""},{"$f":"IF(D21=\"\",\"\",D21*(VLOOKUP(C21,Feeds!$B$9:$AB$109,25,FALSE)/1000))","v":""},{"$f":"IF(D21=\"\",\"\",D21*VLOOKUP(C21,Feeds!$B$9:$AB$109,26,FALSE)/1000)","v":""},{"$f":"IF(D21=\"\",\"\",D21*VLOOKUP(C21,Feeds!$B$9:$AB$109,27,FALSE)/1000)","v":""},0,null,null,null,null,null,{"$f":"IF(O21=0,\"\",VLOOKUP(N21,Feeds!$B$9:$AB$109,23,FALSE)*O21/1000)","v":""},{"$f":"IF(O21=0,\"\",VLOOKUP(N21,Feeds!$B$9:$AB$109,24,FALSE))","v":""},{"$f":"IF(O21=\"\",\"\",O21*(VLOOKUP(N21,Feeds!$B$9:$AB$109,25,FALSE)/1000))","v":""},{"$f":"IF(O21=\"\",\"\",O21*VLOOKUP(N21,Feeds!$B$9:$AB$109,26,FALSE)/1000)","v":""},{"$f":"IF(O21=\"\",\"\",O21*VLOOKUP(N21,Feeds!$B$9:$AB$109,27,FALSE)/1000)","v":""},0,null,null,null,null,null,{"$f":"IF(Z21=0,\"\",VLOOKUP(Y21,Feeds!$B$9:$AB$109,23,FALSE)*Z21/1000)","v":""},{"$f":"IF(Z21=0,\"\",VLOOKUP(Y21,Feeds!$B$9:$AB$109,24,FALSE))","v":""},{"$f":"IF(Z21=\"\",\"\",Z21*(VLOOKUP(Y21,Feeds!$B$9:$AB$109,25,FALSE)/1000))","v":""},{"$f":"IF(Z21=\"\",\"\",Z21*VLOOKUP(Y21,Feeds!$B$9:$AB$109,26,FALSE)/1000)","v":""},{"$f":"IF(Z21=\"\",\"\",Z21*VLOOKUP(Y21,Feeds!$B$9:$AB$109,27,FALSE)/1000)","v":""},0]
[null,null,null,null,{"$f":"IF(D22=0,\"\",VLOOKUP(C22,Feeds!$B$9:$AB$109,23,FALSE)*D22/1000)","v":""},{"$f":"IF(D22=0,\"\",VLOOKUP(C22,Feeds!$B$9:$AB$109,24,FALSE))","v":""},{"$f":"IF(D22=\"\",\"\",D22*(VLOOKUP(C22,Feeds!$B$9:$AB$109,25,FALSE)/1000))","v":""},{"$f":"IF(D22=\"\",\"\",D22*VLOOKUP(C22,Feeds!$B$9:$AB$109,26,FALSE)/1000)","v":""},{"$f":"IF(D22=\"\",\"\",D22*VLOOKUP(C22,Feeds!$B$9:$AB$109,27,FALSE)/1000)","v":""},0,null,null,null,null,null,{"$f":"IF(O22=0,\"\",VLOOKUP(N22,Feeds!$B$9:$AB$109,23,FALSE)*O22/1000)","v":""},{"$f":"IF(O22=0,\"\",VLOOKUP(N22,Feeds!$B$9:$AB$109,24,FALSE))","v":""},{"$f":"IF(O22=\"\",\"\",O22*(VLOOKUP(N22,Feeds!$B$9:$AB$109,25,FALSE)/1000))","v":""},{"$f":"IF(O22=\"\",\"\",O22*VLOOKUP(N22,Feeds!$B$9:$AB$109,26,FALSE)/1000)","v":""},{"$f":"IF(O22=\"\",\"\",O22*VLOOKUP(N22,Feeds!$B$9:$AB$109,27,FALSE)/1000)","v":""},0,null,null,null,null,null,{"$f":"IF(Z22=0,\"\",VLOOKUP(Y22,Feeds!$B$9:$AB$109,23,FALSE)*Z22/1000)","v":""},{"$f":"IF(Z22=0,\"\",VLOOKUP(Y22,Feeds!$B$9:$AB$109,24,FALSE))","v":""},{"$f":"IF(Z22=\"\",\"\",Z22*(VLOOKUP(Y22,Feeds!$B$9:$AB$109,25,FALSE)/1000))","v":""},{"$f":"IF(Z22=\"\",\"\",Z22*VLOOKUP(Y22,Feeds!$B$9:$AB$109,26,FALSE)/1000)","v":""},{"$f":"IF(Z22=\"\",\"\",Z22*VLOOKUP(Y22,Feeds!$B$9:$AB$109,27,FALSE)/1000)","v":""},0]
[null,null,null,null,{"$f":"IF(D23=0,\"\",VLOOKUP(C23,Feeds!$B$9:$AB$109,23,FALSE)*D23/1000)","v":""},{"$f":"IF(D23=0,\"\",VLOOKUP(C23,Feeds!$B$9:$AB$109,24,FALSE))","v":""},{"$f":"IF(D23=\"\",\"\",D23*(VLOOKUP(C23,Feeds!$B$9:$AB$109,25,FALSE)/1000))","v":""},{"$f":"IF(D23=\"\",\"\",D23*VLOOKUP(C23,Feeds!$B$9:$AB$109,26,FALSE)/1000)","v":""},{"$f":"IF(D23=\"\",\"\",D23*VLOOKUP(C23,Feeds!$B$9:$AB$109,27,FALSE)/1000)","v":""},0,null,null,null,null,null,{"$f":"IF(O23=0,\"\",VLOOKUP(N23,Feeds!$B$9:$AB$109,23,FALSE)*O23/1000)","v":""},{"$f":"IF(O23=0,\"\",VLOOKUP(N23,Feeds!$B$9:$AB$109,24,FALSE))","v":""},{"$f":"IF(O23=\"\",\"\",O23*(VLOOKUP(N23,Feeds!$B$9:$AB$109,25,FALSE)/1000))","v":""},{"$f":"IF(O23=\"\",\"\",O23*VLOOKUP(N23,Feeds!$B$9:$AB$109,26,FALSE)/1000)","v":""},{"$f":"IF(O23=\"\",\"\",O23*VLOOKUP(N23,Feeds!$B$9:$AB$109,27,FALSE)/1000)","v":""},0,null,null,null,null,null,{"$f":"IF(Z23=0,\"\",VLOOKUP(Y23,Feeds!$B$9:$AB$109,23,FALSE)*Z23/1000)","v":""},{"$f":"IF(Z23=0,\"\",VLOOKUP(Y23,Feeds!$B$9:$AB$109,24,FALSE))","v":""},{"$f":"IF(Z23=\"\",\"\",Z23*(VLOOKUP(Y23,Feeds!$B$9:$AB$109,25,FALSE)/1000))","v":""},{"$f":"IF(Z23=\"\",\"\",Z23*VLOOKUP(Y23,Feeds!$B$9:$AB$109,26,FALSE)/1000)","v":""},{"$f":"IF(Z23=\"\",\"\",Z23*VLOOKUP(Y23,Feeds!$B$9:$AB$109,27,FALSE)/1000)","v":""},0]
[null,null,null,null,{"$f":"IF(D24=0,\"\",VLOOKUP(C24,Feeds!$B$9:$AB$109,23,FALSE)*D24/1000)","v":""},{"$f":"IF(D24=0,\"\",VLOOKUP(C24,Feeds!$B$9:$AB$109,24,FALSE))","v":""},{"$f":"IF(D24=\"\",\"\",D24*(VLOOKUP(C24,Feeds!$B$9:$AB$109,25,FALSE)/1000))","v":""},{"$f":"IF(D24=\"\",\"\",D24*VLOOKUP(C24,Feeds!$B$9:$AB$109,26,FALSE)/1000)","v":""},{"$f":"IF(D24=\"\",\"\",D24*VLOOKUP(C24,Feeds!$B$9:$AB$109,27,FALSE)/1000)","v":""},0,null,null,null,null,null,{"$f":"IF(O24=0,\"\",VLOOKUP(N24,Feeds!$B$9:$AB$109,23,FALSE)*O24/1000)","v":""},{"$f":"IF(O24=0,\"\",VLOOKUP(N24,Feeds!$B$9:$AB$109,24,FALSE))","v":""},{"$f":"IF(O24=\"\",\"\",O24*(VLOOKUP(N24,Feeds!$B$9:$AB$109,25,FALSE)/1000))","v":""},{"$f":"IF(O24=\"\",\"\",O24*VLOOKUP(N24,Feeds!$B$9:$AB$109,26,FALSE)/1000)","v":""},{"$f":"IF(O24=\"\",\"\",O24*VLOOKUP(N24,Feeds!$B$9:$AB$109,27,FALSE)/1000)","v":""},0,null,null,null,null,null,{"$f":"IF(Z24=0,\"\",VLOOKUP(Y24,Feeds!$B$9:$AB$109,23,FALSE)*Z24/1000)","v":""},{"$f":"IF(Z24=0,\"\",VLOOKUP(Y24,Feeds!$B$9:$AB$109,24,FALSE))","v":""},{"$f":"IF(Z24=\"\",\"\",Z24*(VLOOKUP(Y24,Feeds!$B$9:$AB$109,25,FALSE)/1000))","v":""},{"$f":"IF(Z24=\"\",\"\",Z24*VLOOKUP(Y24,Feeds!$B$9:$AB$109,26,FALSE)/1000)","v":""},{"$f":"IF(Z24=\"\",\"\",Z24*VLOOKUP(Y24,Feeds!$B$9:$AB$109,27,FALSE)/1000)","v":""},{"$f":"IF(Z24=\"\",0,AA24*AB24/100)","v":0}]
[null,null,null,null,{"$f":"IF(D25=0,\"\",VLOOKUP(C25,Feeds!$B$9:$AB$109,23,FALSE)*D25/1000)","v":""},{"$f":"IF(D25=0,\"\",VLOOKUP(C25,Feeds!$B$9:$AB$109,24,FALSE))","v":""},{"$f":"IF(D25=\"\",\"\",D25*(VLOOKUP(C25,Feeds!$B$9:$AB$109,25,FALSE)/1000))","v":""},{"$f":"IF(D25=\"\",\"\",D25*VLOOKUP(C25,Feeds!$B$9:$AB$109,26,FALSE)/1000)","v":""},{"$f":"IF(D25=\"\",\"\",D25*VLOOKUP(C25,Feeds!$B$9:$AB$109,27,FALSE)/1000)","v":""},0,null,null,null,null,null,{"$f":"IF(O25=0,\"\",VLOOKUP(N25,Feeds!$B$9:$AB$109,23,FALSE)*O25/1000)","v":""},{"$f":"IF(O25=0,\"\",VLOOKUP(N25,Feeds!$B$9:$AB$109,24,FALSE))","v":""},{"$f":"IF(O25=\"\",\"\",O25*(VLOOKUP(N25,Feeds!$B$9:$AB$109,25,FALSE)/1000))","v":""},{"$f":"IF(O25=\"\",\"\",O25*VLOOKUP(N25,Feeds!$B$9:$AB$109,26,FALSE)/1000)","v":""},{"$f":"IF(O25=\"\",\"\",O25*VLOOKUP(N25,Feeds!$B$9:$AB$109,27,FALSE)/1000)","v":""},{"$f":"IF(O25=\"\",0,P25*Q25/100)","v":0},null,null,null,null,null,{"$f":"IF(Z25=0,\"\",VLOOKUP(Y25,Feeds!$B$9:$AB$109,23,FALSE)*Z25/1000)","v":""},{"$f":"IF(Z25=0,\"\",VLOOKUP(Y25,Feeds!$B$9:$AB$109,24,FALSE))","v":""},{"$f":"IF(Z25=\"\",\"\",Z25*(VLOOKUP(Y25,Feeds!$B$9:$AB$109,25,FALSE)/1000))","v":""},{"$f":"IF(Z25=\"\",\"\",Z25*VLOOKUP(Y25,Feeds!$B$9:$AB$109,26,FALSE)/1000)","v":""},{"$f":"IF(Z25=\"\",\"\",Z25*VLOOKUP(Y25,Feeds!$B$9:$AB$109,27,FALSE)/1000)","v":""},0]
[null,null,null,null,{"$f":"IF(D26=0,\"\",VLOOKUP(C26,Feeds!$B$9:$AB$109,23,FALSE)*D26/1000)","v":""},{"$f":"IF(D26=0,\"\",VLOOKUP(C26,Feeds!$B$9:$AB$109,24,FALSE))","v":""},{"$f":"IF(D26=\"\",\"\",D26*(VLOOKUP(C26,Feeds!$B$9:$AB$109,25,FALSE)/1000))","v":""},{"$f":"IF(D26=\"\",\"\",D26*VLOOKUP(C26,Feeds!$B$9:$AB$109,26,FALSE)/1000)","v":""},{"$f":"IF(D26=\"\",\"\",D26*VLOOKUP(C26,Feeds!$B$9:$AB$109,27,FALSE)/1000)","v":""},{"$f":"IF(D26=\"\",0,E26*F26/100)","v":0},null,null,null,null,null,{"$f":"IF(O26=0,\"\",VLOOKUP(N26,Feeds!$B$9:$AB$109,23,FALSE)*O26/1000)","v":""},{"$f":"IF(O26=0,\"\",VLOOKUP(N26,Feeds!$B$9:$AB$109,24,FALSE))","v":""},{"$f":"IF(O26=\"\",\"\",O26*(VLOOKUP(N26,Feeds!$B$9:$AB$109,25,FALSE)/1000))","v":""},{"$f":"IF(O26=\"\",\"\",O26*VLOOKUP(N26,Feeds!$B$9:$AB$109,26,FALSE)/1000)","v":""},{"$f":"IF(O26=\"\",\"\",O26*VLOOKUP(N26,Feeds!$B$9:$AB$109,27,FALSE)/1000)","v":""},0,null,null,null,null,null,{"$f":"IF(Z26=0,\"\",VLOOKUP(Y26,Feeds!$B$9:$AB$109,23,FALSE)*Z26/1000)","v":""},{"$f":"IF(Z26=0,\"\",VLOOKUP(Y26,Feeds!$B$9:$AB$109,24,FALSE))","v":""},{"$f":"IF(Z26=\"\",\"\",Z26*(VLOOKUP(Y26,Feeds!$B$9:$AB$109,25,FALSE)/1000))","v":""},{"$f":"IF(Z26=\"\",\"\",Z26*VLOOKUP(Y26,Feeds!$B$9:$AB$109,26,FALSE)/1000)","v":""},{"$f":"IF(Z26=\"\",\"\",Z26*VLOOKUP(Y26,Feeds!$B$9:$AB$109,27,FALSE)/1000)","v":""},0]
[null,null,"Kokku päevas",{"$f":"SUM(D14:D26)","v":0},{"$f":"SUM(E14:E26)","v":0},null,{"$f":"SUM(G14:G26)","v":0},{"$f":"SUM(H14:H26)","v":0},{"$f":"SUM(I14:I26)","v":0},{"$f":"SUM(J14:J26)","v":0},null,null,null,"Kokku päevas",{"$f":"SUM(O14:O26)","v":0},{"$f":"SUM(P14:P26)","v":0},null,{"$f":"SUM(R14:R26)","v":0},{"$f":"SUM(S14:S26)","v":0},{"$f":"SUM(T14:T26)","v":0},{"$f":"SUM(U14:U26)","v":0},null,null,null,"Kokku päevas",{"$f":"SUM(Z14:Z26)","v":0},{"$f":"SUM(AA14:AA26)","v":0},null,{"$f":"SUM(AC14:AC26)","v":0},{"$f":"SUM(AD14:AD26)","v":0},{"$f":"SUM(AE14:AE26)","v":0},{"$f":"SUM(AF14:AF26)","v":0}]
[null,null,"Kokku perioodis",{"$f":"D27*L13","v":0},{"$f":"E27*L13","v":0},{"$f":"IF(D28=0,0,J28*100/E28)","v":0},{"$f":"G27*L13","v":0},{"$f":"H27*L13","v":0},{"$f":"I27*L13","v":0},{"$f":"J27*L13","v":0},null,null,null,"Kokku perioodis",{"$f":"O27*W13","v":0},{"$f":"P27*W13","v":0},{"$f":"IF(O28=0,0,U28*100/P28)","v":0},{"$f":"R27*W13","v":0},{"$f":"S27*W13","v":0},{"$f":"T27*W13","v":0},{"$f":"U27*W13","v":0},null,null,null,"Kokku perioodis",{"$f":"Z27*AH13","v":0},{"$f":"AA27*AH13","v":0},{"$f":"IF(Z28=0,0,AF28*100/AA28)","v":0},{"$f":"AC27*AH13","v":0},{"$f":"AD27*AH13","v":0},{"$f":"AE27*AH13","v":0},{"$f":"AF27*AH13","v":0}]
[]
[null,null,"Faas 2 ",null,null,null,"Vanus päeva ","alates",{"$f":"I12","v":0},null,null,"Päevi grupis",null,"Faas 2 ",null,null,null,"Vanus päeva ","alates",{"$f":"T12","v":0},null,null,"Päevi grupis",null,"Vaba- ja tiinusperiood",null,null,null,null,null,null,null,null,"Päevi grupis"]
[null,null,null,null,null,null,null,"kuni",null,null,null,null,null,null,null,null,null,null,"kuni",null,null,null,null,null,"Faas 2 "]
[null,null,"Söödad (s.h. mineraalsöödad)","Kogus g/päev","KA g/päev","KA seeduvus   %","TP     g/päev","P   g/päev","K   g/päev",null,null,{"$f":"IF(I31=0,0,I31-I30)","v":0},null,"Söödad (s.h. mineraalsöödad)","Kogus g/päev","KA g/päev","KA seeduvus   %","TP     g/päev","P   g/päev","K   g/päev",null,null,{"$f":"IF(T31=0,0,T31-T30)","v":0},null,"Söödad (s.h. mineraalsöödad)","Kogus g/päev","KA g/päev","KA seeduvus   %","TP     g/päev","P   g/päev","K   g/päev"]
[null,null,null,null,{"$f":"IF(D33=0,\"\",VLOOKUP(C33,Feeds!$B$9:$AB$109,23,FALSE)*D33/1000)","v":""},{"$f":"IF(D33=0,\"\",VLOOKUP(C33,Feeds!$B$9:$AB$109,24,FALSE))","v":""},{"$f":"IF(D33=\"\",\"\",D33*(VLOOKUP(C33,Feeds!$B$9:$AB$109,25,FALSE)/1000))","v":""},{"$f":"IF(D33=\"\",\"\",D33*VLOOKUP(C33,Feeds!$B$9:$AB$109,26,FALSE)/1000)","v":""},{"$f":"IF(D33=\"\",\"\",D33*VLOOKUP(C33,Feeds!$B$9:$AB$109,27,FALSE)/1000)","v":""},{"$f":"IF(D33=\"\",0,E33*F33/100)","v":0},null,null,null,null,null,{"$f":"IF(O33=0,\"\",VLOOKUP(N33,Feeds!$B$9:$AB$109,23,FALSE)*O33/1000)","v":""},{"$f":"IF(O33=0,\"\",VLOOKUP(N33,Feeds!$B$9:$AB$109,24,FALSE))","v":""},{"$f":"IF(O33=\"\",\"\",O33*(VLOOKUP(N33,Feeds!$B$9:$AB$109,25,FALSE)/1000))","v":""},{"$f":"IF(O33=\"\",\"\",O33*VLOOKUP(N33,Feeds!$B$9:$AB$109,26,FALSE)/1000)","v":""},{"$f":"IF(O33=\"\",\"\",O33*VLOOKUP(N33,Feeds!$B$9:$AB$109,27,FALSE)/1000)","v":""},{"$f":"IF(O33=\"\",0,P33*Q33/100)","v":0},null,null,null,null,null,{"$f":"IF(Z33=0,\"\",VLOOKUP(Y33,Feeds!$B$9:$AB$109,23,FALSE)*Z33/1000)","v":""},{"$f":"IF(Z33=0,\"\",VLOOKUP(Y33,Feeds!$B$9:$AB$109,24,FALSE))","v":""},{"$f":"IF(Z33=\"\",\"\",Z33*(VLOOKUP(Y33,Feeds!$B$9:$AB$109,25,FALSE)/1000))","v":""},{"$f":"IF(Z33=\"\",\"\",Z33*VLOOKUP(Y33,Feeds!$B$9:$AB$109,26,FALSE)/1000)","v":""},{"$f":"IF(Z33=\"\",\"\",Z33*VLOOKUP(Y33,Feeds!$B$9:$AB$109,27,FALSE)/1000)","v":""},{"$f":"IF(Z33=\"\",0,AA33*AB33/100)","v":0}]
[null,null,null,null,{"$f":"IF(D34=0,\"\",VLOOKUP(C34,Feeds!$B$9:$AB$109,23,FALSE)*D34/1000)","v":""},{"$f":"IF(D34=0,\"\",VLOOKUP(C34,Feeds!$B$9:$AB$109,24,FALSE))","v":""},{"$f":"IF(D34=\"\",\"\",D34*(VLOOKUP(C34,Feeds!$B$9:$AB$109,25,FALSE)/1000))","v":""},{"$f":"IF(D34=\"\",\"\",D34*VLOOKUP(C34,Feeds!$B$9:$AB$109,26,FALSE)/1000)","v":""},{"$f":"IF(D34=\"\",\"\",D34*VLOOKUP(C34,Feeds!$B$9:$AB$109,27,FALSE)/1000)","v":""},0,null,null,null,null,null,{"$f":"IF(O34=0,\"\",VLOOKUP(N34,Feeds!$B$9:$AB$109,23,FALSE)*O34/1000)","v":""},{"$f":"IF(O34=0,\"\",VLOOKUP(N34,Feeds!$B$9:$AB$109,24,FALSE))","v":""},{"$f":"IF(O34=\"\",\"\",O34*(VLOOKUP(N34,Feeds!$B$9:$AB$109,25,FALSE)/1000))","v":""},{"$f":"IF(O34=\"\",\"\",O34*VLOOKUP(N34,Feeds!$B$9:$AB$109,26,FALSE)/1000)","v":""},{"$f":"IF(O34=\"\",\"\",O34*VLOOKUP(N34,Feeds!$B$9:$AB$109,27,FALSE)/1000)","v":""},0,null,null,null,null,null,{"$f":"IF(Z34=0,\"\",VLOOKUP(Y34,Feeds!$B$9:$AB$109,23,FALSE)*Z34/1000)","v":""},{"$f":"IF(Z34=0,\"\",VLOOKUP(Y34,Feeds!$B$9:$AB$109,24,FALSE))","v":""},{"$f":"IF(Z34=\"\",\"\",Z34*(VLOOKUP(Y34,Feeds!$B$9:$AB$109,25,FALSE)/1000))","v":""},{"$f":"IF(Z34=\"\",\"\",Z34*VLOOKUP(Y34,Feeds!$B$9:$AB$109,26,FALSE)/1000)","v":""},{"$f":"IF(Z34=\"\",\"\",Z34*VLOOKUP(Y34,Feeds!$B$9:$AB$109,27,FALSE)/1000)","v":""},0]
[null,null,null,null,{"$f":"IF(D35=0,\"\",VLOOKUP(C35,Feeds!$B$9:$AB$109,23,FALSE)*D35/1000)","v":""},{"$f":"IF(D35=0,\"\",VLOOKUP(C35,Feeds!$B$9:$AB$109,24,FALSE))","v":""},{"$f":"IF(D35=\"\",\"\",D35*(VLOOKUP(C35,Feeds!$B$9:$AB$109,25,FALSE)/1000))","v":""},{"$f":"IF(D35=\"\",\"\",D35*VLOOKUP(C35,Feeds!$B$9:$AB$109,26,FALSE)/1000)","v":""},{"$f":"IF(D35=\"\",\"\",D35*VLOOKUP(C35,Feeds!$B$9:$AB$109,27,FALSE)/1000)","v":""},0,null,null,null,null,null,{"$f":"IF(O35=0,\"\",VLOOKUP(N35,Feeds!$B$9:$AB$109,23,FALSE)*O35/1000)","v":""},{"$f":"IF(O35=0,\"\",VLOOKUP(N35,Feeds!$B$9:$AB$109,24,FALSE))","v":""},{"$f":"IF(O35=\"\",\"\",O35*(VLOOKUP(N35,Feeds!$B$9:$AB$109,25,FALSE)/1000))","v":""},{"$f":"IF(O35=\"\",\"\",O35*VLOOKUP(N35,Feeds!$B$9:$AB$109,26,FALSE)/1000)","v":""},{"$f":"IF(O35=\"\",\"\",O35*VLOOKUP(N35,Feeds!$B$9:$AB$109,27,FALSE)/1000)","v":""},0,null,null,null,null,null,{"$f":"IF(Z35=0,\"\",VLOOKUP(Y35,Feeds!$B$9:$AB$109,23,FALSE)*Z35/1000)","v":""},{"$f":"IF(Z35=0,\"\",VLOOKUP(Y35,Feeds!$B$9:$AB$109,24,FALSE))","v":""},{"$f":"IF(Z35=\"\",\"\",Z35*(VLOOKUP(Y35,Feeds!$B$9:$AB$109,25,FALSE)/1000))","v":""},{"$f":"IF(Z35=\"\",\"\",Z35*VLOOKUP(Y35,Feeds!$B$9:$AB$109,26,FALSE)/1000)","v":""},{"$f":"IF(Z35=\"\",\"\",Z35*VLOOKUP(Y35,Feeds!$B$9:$AB$109,27,FALSE)/1000)","v":""},0]
[null,null,null,null,{"$f":"IF(D36=0,\"\",VLOOKUP(C36,Feeds!$B$9:$AB$109,23,FALSE)*D36/1000)","v":""},{"$f":"IF(D36=0,\"\",VLOOKUP(C36,Feeds!$B$9:$AB$109,24,FALSE))","v":""},{"$f":"IF(D36=\"\",\"\",D36*(VLOOKUP(C36,Feeds!$B$9:$AB$109,25,FALSE)/1000))","v":""},{"$f":"IF(D36=\"\",\"\",D36*VLOOKUP(C36,Feeds!$B$9:$AB$109,26,FALSE)/1000)","v":""},{"$f":"IF(D36=\"\",\"\",D36*VLOOKUP(C36,Feeds!$B$9:$AB$109,27,FALSE)/1000)","v":""},0,null,null,null,null,null,{"$f":"IF(O36=0,\"\",VLOOKUP(N36,Feeds!$B$9:$AB$109,23,FALSE)*O36/1000)","v":""},{"$f":"IF(O36=0,\"\",VLOOKUP(N36,Feeds!$B$9:$AB$109,24,FALSE))","v":""},{"$f":"IF(O36=\"\",\"\",O36*(VLOOKUP(N36,Feeds!$B$9:$AB$109,25,FALSE)/1000))","v":""},{"$f":"IF(O36=\"\",\"\",O36*VLOOKUP(N36,Feeds!$B$9:$AB$109,26,FALSE)/1000)","v":""},{"$f":"IF(O36=\"\",\"\",O36*VLOOKUP(N36,Feeds!$B$9:$AB$109,27,FALSE)/1000)","v":""},0,null,null,null,null,null,{"$f":"IF(Z36=0,\"\",VLOOKUP(Y36,Feeds!$B$9:$AB$109,23,FALSE)*Z36/1000)","v":""},{"$f":"IF(Z36=0,\"\",VLOOKUP(Y36,Feeds!$B$9:$AB$109,24,FALSE))","v":""},{"$f":"IF(Z36=\"\",\"\",Z36*(VLOOKUP(Y36,Feeds!$B$9:$AB$109,25,FALSE)/1000))","v":""},{"$f":"IF(Z36=\"\",\"\",Z36*VLOOKUP(Y36,Feeds!$B$9:$AB$109,26,FALSE)/1000)","v":""},{"$f":"IF(Z36=\"\",\"\",Z36*VLOOKUP(Y36,Feeds!$B$9:$AB$109,27,FALSE)/1000)","v":""},0]
[null,null,null,null,{"$f":"IF(D37=0,\"\",VLOOKUP(C37,Feeds!$B$9:$AB$109,23,FALSE)*D37/1000)","v":""},{"$f":"IF(D37=0,\"\",VLOOKUP(C37,Feeds!$B$9:$AB$109,24,FALSE))","v":""},{"$f":"IF(D37=\"\",\"\",D37*(VLOOKUP(C37,Feeds!$B$9:$AB$109,25,FALSE)/1000))","v":""},{"$f":"IF(D37=\"\",\"\",D37*VLOOKUP(C37,Feeds!$B$9:$AB$109,26,FALSE)/1000)","v":""},{"$f":"IF(D37=\"\",\"\",D37*VLOOKUP(C37,Feeds!$B$9:$AB$109,27,FALSE)/1000)","v":""},0,null,null,null,null,null,{"$f":"IF(O37=0,\"\",VLOOKUP(N37,Feeds!$B$9:$AB$109,23,FALSE)*O37/1000)","v":""},{"$f":"IF(O37=0,\"\",VLOOKUP(N37,Feeds!$B$9:$AB$109,24,FALSE))","v":""},{"$f":"IF(O37=\"\",\"\",O37*(VLOOKUP(N37,Feeds!$B$9:$AB$109,25,FALSE)/1000))","v":""},{"$f":"IF(O37=\"\",\"\",O37*VLOOKUP(N37,Feeds!$B$9:$AB$109,26,FALSE)/1000)","v":""},{"$f":"IF(O37=\"\",\"\",O37*VLOOKUP(N37,Feeds!$B$9:$AB$109,27,FALSE)/1000)","v":""},0,null,null,null,null,null,{"$f":"IF(Z37=0,\"\",VLOOKUP(Y37,Feeds!$B$9:$AB$109,23,FALSE)*Z37/1000)","v":""},{"$f":"IF(Z37=0,\"\",VLOOKUP(Y37,Feeds!$B$9:$AB$109,24,FALSE))","v":""},{"$f":"IF(Z37=\"\",\"\",Z37*(VLOOKUP(Y37,Feeds!$B$9:$AB$109,25,FALSE)/1000))","v":""},{"$f":"IF(Z37=\"\",\"\",Z37*VLOOKUP(Y37,Feeds!$B$9:$AB$109,26,FALSE)/1000)","v":""},{"$f":"IF(Z37=\"\",\"\",Z37*VLOOKUP(Y37,Feeds!$B$9:$AB$109,27,FALSE)/1000)","v":""},0]
[null,null,null,null,{"$f":"IF(D38=0,\"\",VLOOKUP(C38,Feeds!$B$9:$AB$109,23,FALSE)*D38/1000)","v":""},{"$f":"IF(D38=0,\"\",VLOOKUP(C38,Feeds!$B$9:$AB$109,24,FALSE))","v":""},{"$f":"IF(D38=\"\",\"\",D38*(VLOOKUP(C38,Feeds!$B$9:$AB$109,25,FALSE)/1000))","v":""},{"$f":"IF(D38=\"\",\"\",D38*VLOOKUP(C38,Feeds!$B$9:$AB$109,26,FALSE)/1000)","v":""},{"$f":"IF(D38=\"\",\"\",D38*VLOOKUP(C38,Feeds!$B$9:$AB$109,27,FALSE)/1000)","v":""},0,null,null,null,null,null,{"$f":"IF(O38=0,\"\",VLOOKUP(N38,Feeds!$B$9:$AB$109,23,FALSE)*O38/1000)","v":""},{"$f":"IF(O38=0,\"\",VLOOKUP(N38,Feeds!$B$9:$AB$109,24,FALSE))","v":""},{"$f":"IF(O38=\"\",\"\",O38*(VLOOKUP(N38,Feeds!$B$9:$AB$109,25,FALSE)/1000))","v":""},{"$f":"IF(O38=\"\",\"\",O38*VLOOKUP(N38,Feeds!$B$9:$AB$109,26,FALSE)/1000)","v":""},{"$f":"IF(O38=\"\",\"\",O38*VLOOKUP(N38,Feeds!$B$9:$AB$109,27,FALSE)/1000)","v":""},0,null,null,null,null,null,{"$f":"IF(Z38=0,\"\",VLOOKUP(Y38,Feeds!$B$9:$AB$109,23,FALSE)*Z38/1000)","v":""},{"$f":"IF(Z38=0,\"\",VLOOKUP(Y38,Feeds!$B$9:$AB$109,24,FALSE))","v":""},{"$f":"IF(Z38=\"\",\"\",Z38*(VLOOKUP(Y38,Feeds!$B$9:$AB$109,25,FALSE)/1000))","v":""},{"$f":"IF(Z38=\"\",\"\",Z38*VLOOKUP(Y38,Feeds!$B$9:$AB$109,26,FALSE)/1000)","v":""},{"$f":"IF(Z38=\"\",\"\",Z38*VLOOKUP(Y38,Feeds!$B$9:$AB$109,27,FALSE)/1000)","v":""},0]
[null,null,null,null,{"$f":"IF(D39=0,\"\",VLOOKUP(C39,Feeds!$B$9:$AB$109,23,FALSE)*D39/1000)","v":""},{"$f":"IF(D39=0,\"\",VLOOKUP(C39,Feeds!$B$9:$AB$109,24,FALSE))","v":""},{"$f":"IF(D39=\"\",\"\",D39*(VLOOKUP(C39,Feeds!$B$9:$AB$109,25,FALSE)/1000))","v":""},{"$f":"IF(D39=\"\",\"\",D39*VLOOKUP(C39,Feeds!$B$9:$AB$109,26,FALSE)/1000)","v":""},{"$f":"IF(D39=\"\",\"\",D39*VLOOKUP(C39,Feeds!$B$9:$AB$109,27,FALSE)/1000)","v":""},0,null,null,null,null,null,{"$f":"IF(O39=0,\"\",VLOOKUP(N39,Feeds!$B$9:$AB$109,23,FALSE)*O39/1000)","v":""},{"$f":"IF(O39=0,\"\",VLOOKUP(N39,Feeds!$B$9:$AB$109,24,FALSE))","v":""},{"$f":"IF(O39=\"\",\"\",O39*(VLOOKUP(N39,Feeds!$B$9:$AB$109,25,FALSE)/1000))","v":""},{"$f":"IF(O39=\"\",\"\",O39*VLOOKUP(N39,Feeds!$B$9:$AB$109,26,FALSE)/1000)","v":""},{"$f":"IF(O39=\"\",\"\",O39*VLOOKUP(N39,Feeds!$B$9:$AB$109,27,FALSE)/1000)","v":""},0,null,null,null,null,null,{"$f":"IF(Z39=0,\"\",VLOOKUP(Y39,Feeds!$B$9:$AB$109,23,FALSE)*Z39/1000)","v":""},{"$f":"IF(Z39=0,\"\",VLOOKUP(Y39,Feeds!$B$9:$AB$109,24,FALSE))","v":""},{"$f":"IF(Z39=\"\",\"\",Z39*(VLOOKUP(Y39,Feeds!$B$9:$AB$109,25,FALSE)/1000))","v":""},{"$f":"IF(Z39=\"\",\"\",Z39*VLOOKUP(Y39,Feeds!$B$9:$AB$109,26,FALSE)/1000)","v":""},{"$f":"IF(Z39=\"\",\"\",Z39*VLOOKUP(Y39,Feeds!$B$9:$AB$109,27,FALSE)/1000)","v":""},0]
[null,null,null,null,{"$f":"IF(D40=0,\"\",VLOOKUP(C40,Feeds!$B$9:$AB$109,23,FALSE)*D40/1000)","v":""},{"$f":"IF(D40=0,\"\",VLOOKUP(C40,Feeds!$B$9:$AB$109,24,FALSE))","v":""},{"$f":"IF(D40=\"\",\"\",D40*(VLOOKUP(C40,Feeds!$B$9:$AB$109,25,FALSE)/1000))","v":""},{"$f":"IF(D40=\"\",\"\",D40*VLOOKUP(C40,Feeds!$B$9:$AB$109,26,FALSE)/1000)","v":""},{"$f":"IF(D40=\"\",\"\",D40*VLOOKUP(C40,Feeds!$B$9:$AB$109,27,FALSE)/1000)","v":""},0,null,null,null,null,null,{"$f":"IF(O40=0,\"\",VLOOKUP(N40,Feeds!$B$9:$AB$109,23,FALSE)*O40/1000)","v":""},{"$f":"IF(O40=0,\"\",VLOOKUP(N40,Feeds!$B$9:$AB$109,24,FALSE))","v":""},{"$f":"IF(O40=\"\",\"\",O40*(VLOOKUP(N40,Feeds!$B$9:$AB$109,25,FALSE)/1000))","v":""},{"$f":"IF(O40=\"\",\"\",O40*VLOOKUP(N40,Feeds!$B$9:$AB$109,26,FALSE)/1000)","v":""},{"$f":"IF(O40=\"\",\"\",O40*VLOOKUP(N40,Feeds!$B$9:$AB$109,27,FALSE)/1000)","v":""},0,null,null,null,null,null,{"$f":"IF(Z40=0,\"\",VLOOKUP(Y40,Feeds!$B$9:$AB$109,23,FALSE)*Z40/1000)","v":""},{"$f":"IF(Z40=0,\"\",VLOOKUP(Y40,Feeds!$B$9:$AB$109,24,FALSE))","v":""},{"$f":"IF(Z40=\"\",\"\",Z40*(VLOOKUP(Y40,Feeds!$B$9:$AB$109,25,FALSE)/1000))","v":""},{"$f":"IF(Z40=\"\",\"\",Z40*VLOOKUP(Y40,Feeds!$B$9:$AB$109,26,FALSE)/1000)","v":""},{"$f":"IF(Z40=\"\",\"\",Z40*VLOOKUP(Y40,Feeds!$B$9:$AB$109,27,FALSE)/1000)","v":""},0]
[null,null,null,null,{"$f":"IF(D41=0,\"\",VLOOKUP(C41,Feeds!$B$9:$AB$109,23,FALSE)*D41/1000)","v":""},{"$f":"IF(D41=0,\"\",VLOOKUP(C41,Feeds!$B$9:$AB$109,24,FALSE))","v":""},{"$f":"IF(D41=\"\",\"\",D41*(VLOOKUP(C41,Feeds!$B$9:$AB$109,25,FALSE)/1000))","v":""},{"$f":"IF(D41=\"\",\"\",D41*VLOOKUP(C41,Feeds!$B$9:$AB$109,26,FALSE)/1000)","v":""},{"$f":"IF(D41=\"\",\"\",D41*VLOOKUP(C41,Feeds!$B$9:$AB$109,27,FALSE)/1000)","v":""},0,null,null,null,null,null,{"$f":"IF(O41=0,\"\",VLOOKUP(N41,Feeds!$B$9:$AB$109,23,FALSE)*O41/1000)","v":""},{"$f":"IF(O41=0,\"\",VLOOKUP(N41,Feeds!$B$9:$AB$109,24,FALSE))","v":""},{"$f":"IF(O41=\"\",\"\",O41*(VLOOKUP(N41,Feeds!$B$9:$AB$109,25,FALSE)/1000))","v":""},{"$f":"IF(O41=\"\",\"\",O41*VLOOKUP(N41,Feeds!$B$9:$AB$109,26,FALSE)/1000)","v":""},{"$f":"IF(O41=\"\",\"\",O41*VLOOKUP(N41,Feeds!$B$9:$AB$109,27,FALSE)/1000)","v":""},0,null,null,null,null,null,{"$f":"IF(Z41=0,\"\",VLOOKUP(Y41,Feeds!$B$9:$AB$109,23,FALSE)*Z41/1000)","v":""},{"$f":"IF(Z41=0,\"\",VLOOKUP(Y41,Feeds!$B$9:$AB$109,24,FALSE))","v":""},{"$f":"IF(Z41=\"\",\"\",Z41*(VLOOKUP(Y41,Feeds!$B$9:$AB$109,25,FALSE)/1000))","v":""},{"$f":"IF(Z41=\"\",\"\",Z41*VLOOKUP(Y41,Feeds!$B$9:$AB$109,26,FALSE)/1000)","v":""},{"$f":"IF(Z41=\"\",\"\",Z41*VLOOKUP(Y41,Feeds!$B$9:$AB$109,27,FALSE)/1000)","v":""},0]
[null,null,null,null,{"$f":"IF(D42=0,\"\",VLOOKUP(C42,Feeds!$B$9:$AB$109,23,FALSE)*D42/1000)","v":""},{"$f":"IF(D42=0,\"\",VLOOKUP(C42,Feeds!$B$9:$AB$109,24,FALSE))","v":""},{"$f":"IF(D42=\"\",\"\",D42*(VLOOKUP(C42,Feeds!$B$9:$AB$109,25,FALSE)/1000))","v":""},{"$f":"IF(D42=\"\",\"\",D42*VLOOKUP(C42,Feeds!$B$9:$AB$109,26,FALSE)/1000)","v":""},{"$f":"IF(D42=\"\",\"\",D42*VLOOKUP(C42,Feeds!$B$9:$AB$109,27,FALSE)/1000)","v":""},{"$f":"IF(D42=\"\",0,E42*F42/100)","v":0},null,null,null,null,null,{"$f":"IF(O42=0,\"\",VLOOKUP(N42,Feeds!$B$9:$AB$109,23,FALSE)*O42/1000)","v":""},{"$f":"IF(O42=0,\"\",VLOOKUP(N42,Feeds!$B$9:$AB$109,24,FALSE))","v":""},{"$f":"IF(O42=\"\",\"\",O42*(VLOOKUP(N42,Feeds!$B$9:$AB$109,25,FALSE)/1000))","v":""},{"$f":"IF(O42=\"\",\"\",O42*VLOOKUP(N42,Feeds!$B$9:$AB$109,26,FALSE)/1000)","v":""},{"$f":"IF(O42=\"\",\"\",O42*VLOOKUP(N42,Feeds!$B$9:$AB$109,27,FALSE)/1000)","v":""},{"$f":"IF(O42=\"\",0,P42*Q42/100)","v":0},null,null,null,null,null,{"$f":"IF(Z42=0,\"\",VLOOKUP(Y42,Feeds!$B$9:$AB$109,23,FALSE)*Z42/1000)","v":""},{"$f":"IF(Z42=0,\"\",VLOOKUP(Y42,Feeds!$B$9:$AB$109,24,FALSE))","v":""},{"$f":"IF(Z42=\"\",\"\",Z42*(VLOOKUP(Y42,Feeds!$B$9:$AB$109,25,FALSE)/1000))","v":""},{"$f":"IF(Z42=\"\",\"\",Z42*VLOOKUP(Y42,Feeds!$B$9:$AB$109,26,FALSE)/1000)","v":""},{"$f":"IF(Z42=\"\",\"\",Z42*VLOOKUP(Y42,Feeds!$B$9:$AB$109,27,FALSE)/1000)","v":""},{"$f":"IF(Z42=\"\",0,AA42*AB42/100)","v":0}]
[null,null,null,null,{"$f":"IF(D43=0,\"\",VLOOKUP(C43,Feeds!$B$9:$AB$109,23,FALSE)*D43/1000)","v":""},{"$f":"IF(D43=0,\"\",VLOOKUP(C43,Feeds!$B$9:$AB$109,24,FALSE))","v":""},{"$f":"IF(D43=\"\",\"\",D43*(VLOOKUP(C43,Feeds!$B$9:$AB$109,25,FALSE)/1000))","v":""},{"$f":"IF(D43=\"\",\"\",D43*VLOOKUP(C43,Feeds!$B$9:$AB$109,26,FALSE)/1000)","v":""},{"$f":"IF(D43=\"\",\"\",D43*VLOOKUP(C43,Feeds!$B$9:$AB$109,27,FALSE)/1000)","v":""},0,null,null,null,null,null,{"$f":"IF(O43=0,\"\",VLOOKUP(N43,Feeds!$B$9:$AB$109,23,FALSE)*O43/1000)","v":""},{"$f":"IF(O43=0,\"\",VLOOKUP(N43,Feeds!$B$9:$AB$109,24,FALSE))","v":""},{"$f":"IF(O43=\"\",\"\",O43*(VLOOKUP(N43,Feeds!$B$9:$AB$109,25,FALSE)/1000))","v":""},{"$f":"IF(O43=\"\",\"\",O43*VLOOKUP(N43,Feeds!$B$9:$AB$109,26,FALSE)/1000)","v":""},{"$f":"IF(O43=\"\",\"\",O43*VLOOKUP(N43,Feeds!$B$9:$AB$109,27,FALSE)/1000)","v":""},0,null,null,null,null,null,{"$f":"IF(Z43=0,\"\",VLOOKUP(Y43,Feeds!$B$9:$AB$109,23,FALSE)*Z43/1000)","v":""},{"$f":"IF(Z43=0,\"\",VLOOKUP(Y43,Feeds!$B$9:$AB$109,24,FALSE))","v":""},{"$f":"IF(Z43=\"\",\"\",Z43*(VLOOKUP(Y43,Feeds!$B$9:$AB$109,25,FALSE)/1000))","v":""},{"$f":"IF(Z43=\"\",\"\",Z43*VLOOKUP(Y43,Feeds!$B$9:$AB$109,26,FALSE)/1000)","v":""},{"$f":"IF(Z43=\"\",\"\",Z43*VLOOKUP(Y43,Feeds!$B$9:$AB$109,27,FALSE)/1000)","v":""},0]
[null,null,null,null,{"$f":"IF(D44=0,\"\",VLOOKUP(C44,Feeds!$B$9:$AB$109,23,FALSE)*D44/1000)","v":""},{"$f":"IF(D44=0,\"\",VLOOKUP(C44,Feeds!$B$9:$AB$109,24,FALSE))","v":""},{"$f":"IF(D44=\"\",\"\",D44*(VLOOKUP(C44,Feeds!$B$9:$AB$109,25,FALSE)/1000))","v":""},{"$f":"IF(D44=\"\",\"\",D44*VLOOKUP(C44,Feeds!$B$9:$AB$109,26,FALSE)/1000)","v":""},{"$f":"IF(D44=\"\",\"\",D44*VLOOKUP(C44,Feeds!$B$9:$AB$109,27,FALSE)/1000)","v":""},0,null,null,null,null,null,{"$f":"IF(O44=0,\"\",VLOOKUP(N44,Feeds!$B$9:$AB$109,23,FALSE)*O44/1000)","v":""},{"$f":"IF(O44=0,\"\",VLOOKUP(N44,Feeds!$B$9:$AB$109,24,FALSE))","v":""},{"$f":"IF(O44=\"\",\"\",O44*(VLOOKUP(N44,Feeds!$B$9:$AB$109,25,FALSE)/1000))","v":""},{"$f":"IF(O44=\"\",\"\",O44*VLOOKUP(N44,Feeds!$B$9:$AB$109,26,FALSE)/1000)","v":""},{"$f":"IF(O44=\"\",\"\",O44*VLOOKUP(N44,Feeds!$B$9:$AB$109,27,FALSE)/1000)","v":""},0,null,null,null,null,null,{"$f":"IF(Z44=0,\"\",VLOOKUP(Y44,Feeds!$B$9:$AB$109,23,FALSE)*Z44/1000)","v":""},{"$f":"IF(Z44=0,\"\",VLOOKUP(Y44,Feeds!$B$9:$AB$109,24,FALSE))","v":""},{"$f":"IF(Z44=\"\",\"\",Z44*(VLOOKUP(Y44,Feeds!$B$9:$AB$109,25,FALSE)/1000))","v":""},{"$f":"IF(Z44=\"\",\"\",Z44*VLOOKUP(Y44,Feeds!$B$9:$AB$109,26,FALSE)/1000)","v":""},{"$f":"IF(Z44=\"\",\"\",Z44*VLOOKUP(Y44,Feeds!$B$9:$AB$109,27,FALSE)/1000)","v":""},0]
[null,null,null,null,{"$f":"IF(D45=0,\"\",VLOOKUP(C45,Feeds!$B$9:$AB$109,23,FALSE)*D45/1000)","v":""},{"$f":"IF(D45=0,\"\",VLOOKUP(C45,Feeds!$B$9:$AB$109,24,FALSE))","v":""},{"$f":"IF(D45=\"\",\"\",D45*(VLOOKUP(C45,Feeds!$B$9:$AB$109,25,FALSE)/1000))","v":""},{"$f":"IF(D45=\"\",\"\",D45*VLOOKUP(C45,Feeds!$B$9:$AB$109,26,FALSE)/1000)","v":""},{"$f":"IF(D45=\"\",\"\",D45*VLOOKUP(C45,Feeds!$B$9:$AB$109,27,FALSE)/1000)","v":""},0,null,null,null,null,null,{"$f":"IF(O45=0,\"\",VLOOKUP(N45,Feeds!$B$9:$AB$109,23,FALSE)*O45/1000)","v":""},{"$f":"IF(O45=0,\"\",VLOOKUP(N45,Feeds!$B$9:$AB$109,24,FALSE))","v":""},{"$f":"IF(O45=\"\",\"\",O45*(VLOOKUP(N45,Feeds!$B$9:$AB$109,25,FALSE)/1000))","v":""},{"$f":"IF(O45=\"\",\"\",O45*VLOOKUP(N45,Feeds!$B$9:$AB$109,26,FALSE)/1000)","v":""},{"$f":"IF(O45=\"\",\"\",O45*VLOOKUP(N45,Feeds!$B$9:$AB$109,27,FALSE)/1000)","v":""},0,null,null,null,null,null,{"$f":"IF(Z45=0,\"\",VLOOKUP(Y45,Feeds!$B$9:$AB$109,23,FALSE)*Z45/1000)","v":""},{"$f":"IF(Z45=0,\"\",VLOOKUP(Y45,Feeds!$B$9:$AB$109,24,FALSE))","v":""},{"$f":"IF(Z45=\"\",\"\",Z45*(VLOOKUP(Y45,Feeds!$B$9:$AB$109,25,FALSE)/1000))","v":""},{"$f":"IF(Z45=\"\",\"\",Z45*VLOOKUP(Y45,Feeds!$B$9:$AB$109,26,FALSE)/1000)","v":""},{"$f":"IF(Z45=\"\",\"\",Z45*VLOOKUP(Y45,Feeds!$B$9:$AB$109,27,FALSE)/1000)","v":""},0]
[null,null,"Kokku päevas",{"$f":"SUM(D33:D45)","v":0},{"$f":"SUM(E33:E45)","v":0},null,{"$f":"SUM(G33:G45)","v":0},{"$f":"SUM(H33:H45)","v":0},{"$f":"SUM(I33:I45)","v":0},{"$f":"SUM(J33:J45)","v":0},null,null,null,"Kokku päevas",{"$f":"SUM(O33:O45)","v":0},{"$f":"SUM(P33:P45)","v":0},null,{"$f":"SUM(R33:R45)","v":0},{"$f":"SUM(S33:S45)","v":0},{"$f":"SUM(T33:T45)","v":0},{"$f":"SUM(U33:U45)","v":0},null,null,null,"Kokku päevas",{"$f":"SUM(Z33:Z45)","v":0},{"$f":"SUM(AA33:AA45)","v":0},null,{"$f":"SUM(AC33:AC45)","v":0},{"$f":"SUM(AD33:AD45)","v":0},{"$f":"SUM(AE33:AE45)","v":0},{"$f":"SUM(AF33:AF45)","v":0}]
[null,null,"Kokku perioodis",{"$f":"D46*L32","v":0},{"$f":"E46*L32","v":0},{"$f":"IF(D47=0,0,J47*100/E47)","v":0},{"$f":"G46*L32","v":0},{"$f":"H46*L32","v":0},{"$f":"I46*L32","v":0},{"$f":"J46*L32","v":0},null,null,null,"Kokku perioodis",{"$f":"O46*W32","v":0},{"$f":"P46*W32","v":0},{"$f":"IF(O47=0,0,U47*100/P47)","v":0},{"$f":"R46*W32","v":0},{"$f":"S46*W32","v":0},{"$f":"T46*W32","v":0},{"$f":"U46*W32","v":0},null,null,null,"Kokku perioodis",{"$f":"Z46*AH32","v":0},{"$f":"AA46*AH32","v":0},{"$f":"IF(Z47=0,0,AF47*100/AA47)","v":0},{"$f":"AC46*AH32","v":0},{"$f":"AD46*AH32","v":0},{"$f":"AE46*AH32","v":0},{"$f":"AF46*AH32","v":0}]
[]
[null,null,"Faas 3 ",null,null,null,"Vanus päeva ","alates",{"$f":"I31","v":0},null,null,"Päevi grupis",null,"Faas 3",null,null,null,"Vanus päeva ","alates",{"$f":"T31","v":0},null,null,"Päevi grupis",null,"Vaba- ja tiinusperiood",null,null,null,null,null,null,null,null,"Päevi grupis"]
[null,null,null,null,null,null,null,"kuni",null,null,null,null,null,null,null,null,null,null,"kuni",null,null,null,null,null,"Faas 3"]
[null,null,"Söödad (s.h. mineraalsöödad)","Kogus g/päev","KA g/päev","KA seeduvus   %","TP     g/päev","P   g/päev","K   g/päev",null,null,{"$f":"IF(I50=0,0,I50-I49)","v":0},null,"Söödad (s.h. mineraalsöödad)","Kogus g/päev","KA g/päev","KA seeduvus   %","TP     g/päev","P   g/päev","K   g/päev",null,null,{"$f":"IF(T50=0,0,T50-T49)","v":0},null,"Söödad (s.h. mineraalsöödad)","Kogus g/päev","KA g/päev","KA seeduvus   %","TP     g/päev","P   g/päev","K   g/päev"]
[null,null,null,null,{"$f":"IF(D52=0,\"\",VLOOKUP(C52,Feeds!$B$9:$AB$109,23,FALSE)*D52/1000)","v":""},{"$f":"IF(D52=0,\"\",VLOOKUP(C52,Feeds!$B$9:$AB$109,24,FALSE))","v":""},{"$f":"IF(D52=\"\",\"\",D52*(VLOOKUP(C52,Feeds!$B$9:$AB$109,25,FALSE)/1000))","v":""},{"$f":"IF(D52=\"\",\"\",D52*VLOOKUP(C52,Feeds!$B$9:$AB$109,26,FALSE)/1000)","v":""},{"$f":"IF(D52=\"\",\"\",D52*VLOOKUP(C52,Feeds!$B$9:$AB$109,27,FALSE)/1000)","v":""},{"$f":"IF(D52=\"\",0,E52*F52/100)","v":0},null,null,null,null,null,{"$f":"IF(O52=0,\"\",VLOOKUP(N52,Feeds!$B$9:$AB$109,23,FALSE)*O52/1000)","v":""},{"$f":"IF(O52=0,\"\",VLOOKUP(N52,Feeds!$B$9:$AB$109,24,FALSE))","v":""},{"$f":"IF(O52=\"\",\"\",O52*(VLOOKUP(N52,Feeds!$B$9:$AB$109,25,FALSE)/1000))","v":""},{"$f":"IF(O52=\"\",\"\",O52*VLOOKUP(N52,Feeds!$B$9:$AB$109,26,FALSE)/1000)","v":""},{"$f":"IF(O52=\"\",\"\",O52*VLOOKUP(N52,Feeds!$B$9:$AB$109,27,FALSE)/1000)","v":""},{"$f":"IF(O52=\"\",0,P52*Q52/100)","v":0},null,null,null,null,null,{"$f":"IF(Z52=0,\"\",VLOOKUP(Y52,Feeds!$B$9:$AB$109,23,FALSE)*Z52/1000)","v":""},{"$f":"IF(Z52=0,\"\",VLOOKUP(Y52,Feeds!$B$9:$AB$109,24,FALSE))","v":""},{"$f":"IF(Z52=\"\",\"\",Z52*(VLOOKUP(Y52,Feeds!$B$9:$AB$109,25,FALSE)/1000))","v":""},{"$f":"IF(Z52=\"\",\"\",Z52*VLOOKUP(Y52,Feeds!$B$9:$AB$109,26,FALSE)/1000)","v":""},{"$f":"IF(Z52=\"\",\"\",Z52*VLOOKUP(Y52,Feeds!$B$9:$AB$109,27,FALSE)/1000)","v":""},{"$f":"IF(Z52=\"\",0,AA52*AB52/100)","v":0}]
[null,null,null,null,{"$f":"IF(D53=0,\"\",VLOOKUP(C53,Feeds!$B$9:$AB$109,23,FALSE)*D53/1000)","v":""},{"$f":"IF(D53=0,\"\",VLOOKUP(C53,Feeds!$B$9:$AB$109,24,FALSE))","v":""},{"$f":"IF(D53=\"\",\"\",D53*(VLOOKUP(C53,Feeds!$B$9:$AB$109,25,FALSE)/1000))","v":""},{"$f":"IF(D53=\"\",\"\",D53*VLOOKUP(C53,Feeds!$B$9:$AB$109,26,FALSE)/1000)","v":""},{"$f":"IF(D53=\"\",\"\",D53*VLOOKUP(C53,Feeds!$B$9:$AB$109,27,FALSE)/1000)","v":""},0,null,null,null,null,null,{"$f":"IF(O53=0,\"\",VLOOKUP(N53,Feeds!$B$9:$AB$109,23,FALSE)*O53/1000)","v":""},{"$f":"IF(O53=0,\"\",VLOOKUP(N53,Feeds!$B$9:$AB$109,24,FALSE))","v":""},{"$f":"IF(O53=\"\",\"\",O53*(VLOOKUP(N53,Feeds!$B$9:$AB$109,25,FALSE)/1000))","v":""},{"$f":"IF(O53=\"\",\"\",O53*VLOOKUP(N53,Feeds!$B$9:$AB$109,26,FALSE)/1000)","v":""},{"$f":"IF(O53=\"\",\"\",O53*VLOOKUP(N53,Feeds!$B$9:$AB$109,27,FALSE)/1000)","v":""},0,null,null,null,null,null,{"$f":"IF(Z53=0,\"\",VLOOKUP(Y53,Feeds!$B$9:$AB$109,23,FALSE)*Z53/1000)","v":""},{"$f":"IF(Z53=0,\"\",VLOOKUP(Y53,Feeds!$B$9:$AB$109,24,FALSE))","v":""},{"$f":"IF(Z53=\"\",\"\",Z53*(VLOOKUP(Y53,Feeds!$B$9:$AB$109,25,FALSE)/1000))","v":""},{"$f":"IF(Z53=\"\",\"\",Z53*VLOOKUP(Y53,Feeds!$B$9:$AB$109,26,FALSE)/1000)","v":""},{"$f":"IF(Z53=\"\",\"\",Z53*VLOOKUP(Y53,Feeds!$B$9:$AB$109,27,FALSE)/1000)","v":""},0]
[null,null,null,null,{"$f":"IF(D54=0,\"\",VLOOKUP(C54,Feeds!$B$9:$AB$109,23,FALSE)*D54/1000)","v":""},{"$f":"IF(D54=0,\"\",VLOOKUP(C54,Feeds!$B$9:$AB$109,24,FALSE))","v":""},{"$f":"IF(D54=\"\",\"\",D54*(VLOOKUP(C54,Feeds!$B$9:$AB$109,25,FALSE)/1000))","v":""},{"$f":"IF(D54=\"\",\"\",D54*VLOOKUP(C54,Feeds!$B$9:$AB$109,26,FALSE)/1000)","v":""},{"$f":"IF(D54=\"\",\"\",D54*VLOOKUP(C54,Feeds!$B$9:$AB$109,27,FALSE)/1000)","v":""},0,null,null,null,null,null,{"$f":"IF(O54=0,\"\",VLOOKUP(N54,Feeds!$B$9:$AB$109,23,FALSE)*O54/1000)","v":""},{"$f":"IF(O54=0,\"\",VLOOKUP(N54,Feeds!$B$9:$AB$109,24,FALSE))","v":""},{"$f":"IF(O54=\"\",\"\",O54*(VLOOKUP(N54,Feeds!$B$9:$AB$109,25,FALSE)/1000))","v":""},{"$f":"IF(O54=\"\",\"\",O54*VLOOKUP(N54,Feeds!$B$9:$AB$109,26,FALSE)/1000)","v":""},{"$f":"IF(O54=\"\",\"\",O54*VLOOKUP(N54,Feeds!$B$9:$AB$109,27,FALSE)/1000)","v":""},0,null,null,null,null,null,{"$f":"IF(Z54=0,\"\",VLOOKUP(Y54,Feeds!$B$9:$AB$109,23,FALSE)*Z54/1000)","v":""},{"$f":"IF(Z54=0,\"\",VLOOKUP(Y54,Feeds!$B$9:$AB$109,24,FALSE))","v":""},{"$f":"IF(Z54=\"\",\"\",Z54*(VLOOKUP(Y54,Feeds!$B$9:$AB$109,25,FALSE)/1000))","v":""},{"$f":"IF(Z54=\"\",\"\",Z54*VLOOKUP(Y54,Feeds!$B$9:$AB$109,26,FALSE)/1000)","v":""},{"$f":"IF(Z54=\"\",\"\",Z54*VLOOKUP(Y54,Feeds!$B$9:$AB$109,27,FALSE)/1000)","v":""},0]
[null,null,null,null,{"$f":"IF(D55=0,\"\",VLOOKUP(C55,Feeds!$B$9:$AB$109,23,FALSE)*D55/1000)","v":""},{"$f":"IF(D55=0,\"\",VLOOKUP(C55,Feeds!$B$9:$AB$109,24,FALSE))","v":""},{"$f":"IF(D55=\"\",\"\",D55*(VLOOKUP(C55,Feeds!$B$9:$AB$109,25,FALSE)/1000))","v":""},{"$f":"IF(D55=\"\",\"\",D55*VLOOKUP(C55,Feeds!$B$9:$AB$109,26,FALSE)/1000)","v":""},{"$f":"IF(D55=\"\",\"\",D55*VLOOKUP(C55,Feeds!$B$9:$AB$109,27,FALSE)/1000)","v":""},0,null,null,null,null,null,{"$f":"IF(O55=0,\"\",VLOOKUP(N55,Feeds!$B$9:$AB$109,23,FALSE)*O55/1000)","v":""},{"$f":"IF(O55=0,\"\",VLOOKUP(N55,Feeds!$B$9:$AB$109,24,FALSE))","v":""},{"$f":"IF(O55=\"\",\"\",O55*(VLOOKUP(N55,Feeds!$B$9:$AB$109,25,FALSE)/1000))","v":""},{"$f":"IF(O55=\"\",\"\",O55*VLOOKUP(N55,Feeds!$B$9:$AB$109,26,FALSE)/1000)","v":""},{"$f":"IF(O55=\"\",\"\",O55*VLOOKUP(N55,Feeds!$B$9:$AB$109,27,FALSE)/1000)","v":""},0,null,null,null,null,null,{"$f":"IF(Z55=0,\"\",VLOOKUP(Y55,Feeds!$B$9:$AB$109,23,FALSE)*Z55/1000)","v":""},{"$f":"IF(Z55=0,\"\",VLOOKUP(Y55,Feeds!$B$9:$AB$109,24,FALSE))","v":""},{"$f":"IF(Z55=\"\",\"\",Z55*(VLOOKUP(Y55,Feeds!$B$9:$AB$109,25,FALSE)/1000))","v":""},{"$f":"IF(Z55=\"\",\"\",Z55*VLOOKUP(Y55,Feeds!$B$9:$AB$109,26,FALSE)/1000)","v":""},{"$f":"IF(Z55=\"\",\"\",Z55*VLOOKUP(Y55,Feeds!$B$9:$AB$109,27,FALSE)/1000)","v":""},0]
[null,null,null,null,{"$f":"IF(D56=0,\"\",VLOOKUP(C56,Feeds!$B$9:$AB$109,23,FALSE)*D56/1000)","v":""},{"$f":"IF(D56=0,\"\",VLOOKUP(C56,Feeds!$B$9:$AB$109,24,FALSE))","v":""},{"$f":"IF(D56=\"\",\"\",D56*(VLOOKUP(C56,Feeds!$B$9:$AB$109,25,FALSE)/1000))","v":""},{"$f":"IF(D56=\"\",\"\",D56*VLOOKUP(C56,Feeds!$B$9:$AB$109,26,FALSE)/1000)","v":""},{"$f":"IF(D56=\"\",\"\",D56*VLOOKUP(C56,Feeds!$B$9:$AB$109,27,FALSE)/1000)","v":""},0,null,null,null,null,null,{"$f":"IF(O56=0,\"\",VLOOKUP(N56,Feeds!$B$9:$AB$109,23,FALSE)*O56/1000)","v":""},{"$f":"IF(O56=0,\"\",VLOOKUP(N56,Feeds!$B$9:$AB$109,24,FALSE))","v":""},{"$f":"IF(O56=\"\",\"\",O56*(VLOOKUP(N56,Feeds!$B$9:$AB$109,25,FALSE)/1000))","v":""},{"$f":"IF(O56=\"\",\"\",O56*VLOOKUP(N56,Feeds!$B$9:$AB$109,26,FALSE)/1000)","v":""},{"$f":"IF(O56=\"\",\"\",O56*VLOOKUP(N56,Feeds!$B$9:$AB$109,27,FALSE)/1000)","v":""},0,null,null,null,null,null,{"$f":"IF(Z56=0,\"\",VLOOKUP(Y56,Feeds!$B$9:$AB$109,23,FALSE)*Z56/1000)","v":""},{"$f":"IF(Z56=0,\"\",VLOOKUP(Y56,Feeds!$B$9:$AB$109,24,FALSE))","v":""},{"$f":"IF(Z56=\"\",\"\",Z56*(VLOOKUP(Y56,Feeds!$B$9:$AB$109,25,FALSE)/1000))","v":""},{"$f":"IF(Z56=\"\",\"\",Z56*VLOOKUP(Y56,Feeds!$B$9:$AB$109,26,FALSE)/1000)","v":""},{"$f":"IF(Z56=\"\",\"\",Z56*VLOOKUP(Y56,Feeds!$B$9:$AB$109,27,FALSE)/1000)","v":""},0]
[null,null,null,null,{"$f":"IF(D57=0,\"\",VLOOKUP(C57,Feeds!$B$9:$AB$109,23,FALSE)*D57/1000)","v":""},{"$f":"IF(D57=0,\"\",VLOOKUP(C57,Feeds!$B$9:$AB$109,24,FALSE))","v":""},{"$f":"IF(D57=\"\",\"\",D57*(VLOOKUP(C57,Feeds!$B$9:$AB$109,25,FALSE)/1000))","v":""},{"$f":"IF(D57=\"\",\"\",D57*VLOOKUP(C57,Feeds!$B$9:$AB$109,26,FALSE)/1000)","v":""},{"$f":"IF(D57=\"\",\"\",D57*VLOOKUP(C57,Feeds!$B$9:$AB$109,27,FALSE)/1000)","v":""},0,null,null,null,null,null,{"$f":"IF(O57=0,\"\",VLOOKUP(N57,Feeds!$B$9:$AB$109,23,FALSE)*O57/1000)","v":""},{"$f":"IF(O57=0,\"\",VLOOKUP(N57,Feeds!$B$9:$AB$109,24,FALSE))","v":""},{"$f":"IF(O57=\"\",\"\",O57*(VLOOKUP(N57,Feeds!$B$9:$AB$109,25,FALSE)/1000))","v":""},{"$f":"IF(O57=\"\",\"\",O57*VLOOKUP(N57,Feeds!$B$9:$AB$109,26,FALSE)/1000)","v":""},{"$f":"IF(O57=\"\",\"\",O57*VLOOKUP(N57,Feeds!$B$9:$AB$109,27,FALSE)/1000)","v":""},0,null,null,null,null,null,{"$f":"IF(Z57=0,\"\",VLOOKUP(Y57,Feeds!$B$9:$AB$109,23,FALSE)*Z57/1000)","v":""},{"$f":"IF(Z57=0,\"\",VLOOKUP(Y57,Feeds!$B$9:$AB$109,24,FALSE))","v":""},{"$f":"IF(Z57=\"\",\"\",Z57*(VLOOKUP(Y57,Feeds!$B$9:$AB$109,25,FALSE)/1000))","v":""},{"$f":"IF(Z57=\"\",\"\",Z57*VLOOKUP(Y57,Feeds!$B$9:$AB$109,26,FALSE)/1000)","v":""},{"$f":"IF(Z57=\"\",\"\",Z57*VLOOKUP(Y57,Feeds!$B$9:$AB$109,27,FALSE)/1000)","v":""},0]
[null,null,null,null,{"$f":"IF(D58=0,\"\",VLOOKUP(C58,Feeds!$B$9:$AB$109,23,FALSE)*D58/1000)","v":""},{"$f":"IF(D58=0,\"\",VLOOKUP(C58,Feeds!$B$9:$AB$109,24,FALSE))","v":""},{"$f":"IF(D58=\"\",\"\",D58*(VLOOKUP(C58,Feeds!$B$9:$AB$109,25,FALSE)/1000))","v":""},{"$f":"IF(D58=\"\",\"\",D58*VLOOKUP(C58,Feeds!$B$9:$AB$109,26,FALSE)/1000)","v":""},{"$f":"IF(D58=\"\",\"\",D58*VLOOKUP(C58,Feeds!$B$9:$AB$109,27,FALSE)/1000)","v":""},0,null,null,null,null,null,{"$f":"IF(O58=0,\"\",VLOOKUP(N58,Feeds!$B$9:$AB$109,23,FALSE)*O58/1000)","v":""},{"$f":"IF(O58=0,\"\",VLOOKUP(N58,Feeds!$B$9:$AB$109,24,FALSE))","v":""},{"$f":"IF(O58=\"\",\"\",O58*(VLOOKUP(N58,Feeds!$B$9:$AB$109,25,FALSE)/1000))","v":""},{"$f":"IF(O58=\"\",\"\",O58*VLOOKUP(N58,Feeds!$B$9:$AB$109,26,FALSE)/1000)","v":""},{"$f":"IF(O58=\"\",\"\",O58*VLOOKUP(N58,Feeds!$B$9:$AB$109,27,FALSE)/1000)","v":""},0,null,null,null,null,null,{"$f":"IF(Z58=0,\"\",VLOOKUP(Y58,Feeds!$B$9:$AB$109,23,FALSE)*Z58/1000)","v":""},{"$f":"IF(Z58=0,\"\",VLOOKUP(Y58,Feeds!$B$9:$AB$109,24,FALSE))","v":""},{"$f":"IF(Z58=\"\",\"\",Z58*(VLOOKUP(Y58,Feeds!$B$9:$AB$109,25,FALSE)/1000))","v":""},{"$f":"IF(Z58=\"\",\"\",Z58*VLOOKUP(Y58,Feeds!$B$9:$AB$109,26,FALSE)/1000)","v":""},{"$f":"IF(Z58=\"\",\"\",Z58*VLOOKUP(Y58,Feeds!$B$9:$AB$109,27,FALSE)/1000)","v":""},0]
[null,null,null,null,{"$f":"IF(D59=0,\"\",VLOOKUP(C59,Feeds!$B$9:$AB$109,23,FALSE)*D59/1000)","v":""},{"$f":"IF(D59=0,\"\",VLOOKUP(C59,Feeds!$B$9:$AB$109,24,FALSE))","v":""},{"$f":"IF(D59=\"\",\"\",D59*(VLOOKUP(C59,Feeds!$B$9:$AB$109,25,FALSE)/1000))","v":""},{"$f":"IF(D59=\"\",\"\",D59*VLOOKUP(C59,Feeds!$B$9:$AB$109,26,FALSE)/1000)","v":""},{"$f":"IF(D59=\"\",\"\",D59*VLOOKUP(C59,Feeds!$B$9:$AB$109,27,FALSE)/1000)","v":""},0,null,null,null,null,null,{"$f":"IF(O59=0,\"\",VLOOKUP(N59,Feeds!$B$9:$AB$109,23,FALSE)*O59/1000)","v":""},{"$f":"IF(O59=0,\"\",VLOOKUP(N59,Feeds!$B$9:$AB$109,24,FALSE))","v":""},{"$f":"IF(O59=\"\",\"\",O59*(VLOOKUP(N59,Feeds!$B$9:$AB$109,25,FALSE)/1000))","v":""},{"$f":"IF(O59=\"\",\"\",O59*VLOOKUP(N59,Feeds!$B$9:$AB$109,26,FALSE)/1000)","v":""},{"$f":"IF(O59=\"\",\"\",O59*VLOOKUP(N59,Feeds!$B$9:$AB$109,27,FALSE)/1000)","v":""},0,null,null,null,null,null,{"$f":"IF(Z59=0,\"\",VLOOKUP(Y59,Feeds!$B$9:$AB$109,23,FALSE)*Z59/1000)","v":""},{"$f":"IF(Z59=0,\"\",VLOOKUP(Y59,Feeds!$B$9:$AB$109,24,FALSE))","v":""},{"$f":"IF(Z59=\"\",\"\",Z59*(VLOOKUP(Y59,Feeds!$B$9:$AB$109,25,FALSE)/1000))","v":""},{"$f":"IF(Z59=\"\",\"\",Z59*VLOOKUP(Y59,Feeds!$B$9:$AB$109,26,FALSE)/1000)","v":""},{"$f":"IF(Z59=\"\",\"\",Z59*VLOOKUP(Y59,Feeds!$B$9:$AB$109,27,FALSE)/1000)","v":""},0]
[null,null,null,null,{"$f":"IF(D60=0,\"\",VLOOKUP(C60,Feeds!$B$9:$AB$109,23,FALSE)*D60/1000)","v":""},{"$f":"IF(D60=0,\"\",VLOOKUP(C60,Feeds!$B$9:$AB$109,24,FALSE))","v":""},{"$f":"IF(D60=\"\",\"\",D60*(VLOOKUP(C60,Feeds!$B$9:$AB$109,25,FALSE)/1000))","v":""},{"$f":"IF(D60=\"\",\"\",D60*VLOOKUP(C60,Feeds!$B$9:$AB$109,26,FALSE)/1000)","v":""},{"$f":"IF(D60=\"\",\"\",D60*VLOOKUP(C60,Feeds!$B$9:$AB$109,27,FALSE)/1000)","v":""},0,null,null,null,null,null,{"$f":"IF(O60=0,\"\",VLOOKUP(N60,Feeds!$B$9:$AB$109,23,FALSE)*O60/1000)","v":""},{"$f":"IF(O60=0,\"\",VLOOKUP(N60,Feeds!$B$9:$AB$109,24,FALSE))","v":""},{"$f":"IF(O60=\"\",\"\",O60*(VLOOKUP(N60,Feeds!$B$9:$AB$109,25,FALSE)/1000))","v":""},{"$f":"IF(O60=\"\",\"\",O60*VLOOKUP(N60,Feeds!$B$9:$AB$109,26,FALSE)/1000)","v":""},{"$f":"IF(O60=\"\",\"\",O60*VLOOKUP(N60,Feeds!$B$9:$AB$109,27,FALSE)/1000)","v":""},0,null,null,null,null,null,{"$f":"IF(Z60=0,\"\",VLOOKUP(Y60,Feeds!$B$9:$AB$109,23,FALSE)*Z60/1000)","v":""},{"$f":"IF(Z60=0,\"\",VLOOKUP(Y60,Feeds!$B$9:$AB$109,24,FALSE))","v":""},{"$f":"IF(Z60=\"\",\"\",Z60*(VLOOKUP(Y60,Feeds!$B$9:$AB$109,25,FALSE)/1000))","v":""},{"$f":"IF(Z60=\"\",\"\",Z60*VLOOKUP(Y60,Feeds!$B$9:$AB$109,26,FALSE)/1000)","v":""},{"$f":"IF(Z60=\"\",\"\",Z60*VLOOKUP(Y60,Feeds!$B$9:$AB$109,27,FALSE)/1000)","v":""},0]
[null,null,null,null,{"$f":"IF(D61=0,\"\",VLOOKUP(C61,Feeds!$B$9:$AB$109,23,FALSE)*D61/1000)","v":""},{"$f":"IF(D61=0,\"\",VLOOKUP(C61,Feeds!$B$9:$AB$109,24,FALSE))","v":""},{"$f":"IF(D61=\"\",\"\",D61*(VLOOKUP(C61,Feeds!$B$9:$AB$109,25,FALSE)/1000))","v":""},{"$f":"IF(D61=\"\",\"\",D61*VLOOKUP(C61,Feeds!$B$9:$AB$109,26,FALSE)/1000)","v":""},{"$f":"IF(D61=\"\",\"\",D61*VLOOKUP(C61,Feeds!$B$9:$AB$109,27,FALSE)/1000)","v":""},0,null,null,null,null,null,{"$f":"IF(O61=0,\"\",VLOOKUP(N61,Feeds!$B$9:$AB$109,23,FALSE)*O61/1000)","v":""},{"$f":"IF(O61=0,\"\",VLOOKUP(N61,Feeds!$B$9:$AB$109,24,FALSE))","v":""},{"$f":"IF(O61=\"\",\"\",O61*(VLOOKUP(N61,Feeds!$B$9:$AB$109,25,FALSE)/1000))","v":""},{"$f":"IF(O61=\"\",\"\",O61*VLOOKUP(N61,Feeds!$B$9:$AB$109,26,FALSE)/1000)","v":""},{"$f":"IF(O61=\"\",\"\",O61*VLOOKUP(N61,Feeds!$B$9:$AB$109,27,FALSE)/1000)","v":""},0,null,null,null,null,null,{"$f":"IF(Z61=0,\"\",VLOOKUP(Y61,Feeds!$B$9:$AB$109,23,FALSE)*Z61/1000)","v":""},{"$f":"IF(Z61=0,\"\",VLOOKUP(Y61,Feeds!$B$9:$AB$109,24,FALSE))","v":""},{"$f":"IF(Z61=\"\",\"\",Z61*(VLOOKUP(Y61,Feeds!$B$9:$AB$109,25,FALSE)/1000))","v":""},{"$f":"IF(Z61=\"\",\"\",Z61*VLOOKUP(Y61,Feeds!$B$9:$AB$109,26,FALSE)/1000)","v":""},{"$f":"IF(Z61=\"\",\"\",Z61*VLOOKUP(Y61,Feeds!$B$9:$AB$109,27,FALSE)/1000)","v":""},0]
[null,null,null,null,{"$f":"IF(D62=0,\"\",VLOOKUP(C62,Feeds!$B$9:$AB$109,23,FALSE)*D62/1000)","v":""},{"$f":"IF(D62=0,\"\",VLOOKUP(C62,Feeds!$B$9:$AB$109,24,FALSE))","v":""},{"$f":"IF(D62=\"\",\"\",D62*(VLOOKUP(C62,Feeds!$B$9:$AB$109,25,FALSE)/1000))","v":""},{"$f":"IF(D62=\"\",\"\",D62*VLOOKUP(C62,Feeds!$B$9:$AB$109,26,FALSE)/1000)","v":""},{"$f":"IF(D62=\"\",\"\",D62*VLOOKUP(C62,Feeds!$B$9:$AB$109,27,FALSE)/1000)","v":""},{"$f":"IF(D62=\"\",0,E62*F62/100)","v":0},null,null,null,null,null,{"$f":"IF(O62=0,\"\",VLOOKUP(N62,Feeds!$B$9:$AB$109,23,FALSE)*O62/1000)","v":""},{"$f":"IF(O62=0,\"\",VLOOKUP(N62,Feeds!$B$9:$AB$109,24,FALSE))","v":""},{"$f":"IF(O62=\"\",\"\",O62*(VLOOKUP(N62,Feeds!$B$9:$AB$109,25,FALSE)/1000))","v":""},{"$f":"IF(O62=\"\",\"\",O62*VLOOKUP(N62,Feeds!$B$9:$AB$109,26,FALSE)/1000)","v":""},{"$f":"IF(O62=\"\",\"\",O62*VLOOKUP(N62,Feeds!$B$9:$AB$109,27,FALSE)/1000)","v":""},0,null,null,null,null,null,{"$f":"IF(Z62=0,\"\",VLOOKUP(Y62,Feeds!$B$9:$AB$109,23,FALSE)*Z62/1000)","v":""},{"$f":"IF(Z62=0,\"\",VLOOKUP(Y62,Feeds!$B$9:$AB$109,24,FALSE))","v":""},{"$f":"IF(Z62=\"\",\"\",Z62*(VLOOKUP(Y62,Feeds!$B$9:$AB$109,25,FALSE)/1000))","v":""},{"$f":"IF(Z62=\"\",\"\",Z62*VLOOKUP(Y62,Feeds!$B$9:$AB$109,26,FALSE)/1000)","v":""},{"$f":"IF(Z62=\"\",\"\",Z62*VLOOKUP(Y62,Feeds!$B$9:$AB$109,27,FALSE)/1000)","v":""},0]
[null,null,null,null,{"$f":"IF(D63=0,\"\",VLOOKUP(C63,Feeds!$B$9:$AB$109,23,FALSE)*D63/1000)","v":""},{"$f":"IF(D63=0,\"\",VLOOKUP(C63,Feeds!$B$9:$AB$109,24,FALSE))","v":""},{"$f":"IF(D63=\"\",\"\",D63*(VLOOKUP(C63,Feeds!$B$9:$AB$109,25,FALSE)/1000))","v":""},{"$f":"IF(D63=\"\",\"\",D63*VLOOKUP(C63,Feeds!$B$9:$AB$109,26,FALSE)/1000)","v":""},{"$f":"IF(D63=\"\",\"\",D63*VLOOKUP(C63,Feeds!$B$9:$AB$109,27,FALSE)/1000)","v":""},0,null,null,null,null,null,{"$f":"IF(O63=0,\"\",VLOOKUP(N63,Feeds!$B$9:$AB$109,23,FALSE)*O63/1000)","v":""},{"$f":"IF(O63=0,\"\",VLOOKUP(N63,Feeds!$B$9:$AB$109,24,FALSE))","v":""},{"$f":"IF(O63=\"\",\"\",O63*(VLOOKUP(N63,Feeds!$B$9:$AB$109,25,FALSE)/1000))","v":""},{"$f":"IF(O63=\"\",\"\",O63*VLOOKUP(N63,Feeds!$B$9:$AB$109,26,FALSE)/1000)","v":""},{"$f":"IF(O63=\"\",\"\",O63*VLOOKUP(N63,Feeds!$B$9:$AB$109,27,FALSE)/1000)","v":""},0,null,null,null,null,null,{"$f":"IF(Z63=0,\"\",VLOOKUP(Y63,Feeds!$B$9:$AB$109,23,FALSE)*Z63/1000)","v":""},{"$f":"IF(Z63=0,\"\",VLOOKUP(Y63,Feeds!$B$9:$AB$109,24,FALSE))","v":""},{"$f":"IF(Z63=\"\",\"\",Z63*(VLOOKUP(Y63,Feeds!$B$9:$AB$109,25,FALSE)/1000))","v":""},{"$f":"IF(Z63=\"\",\"\",Z63*VLOOKUP(Y63,Feeds!$B$9:$AB$109,26,FALSE)/1000)","v":""},{"$f":"IF(Z63=\"\",\"\",Z63*VLOOKUP(Y63,Feeds!$B$9:$AB$109,27,FALSE)/1000)","v":""},0]
[null,null,null,null,{"$f":"IF(D64=0,\"\",VLOOKUP(C64,Feeds!$B$9:$AB$109,23,FALSE)*D64/1000)","v":""},{"$f":"IF(D64=0,\"\",VLOOKUP(C64,Feeds!$B$9:$AB$109,24,FALSE))","v":""},{"$f":"IF(D64=\"\",\"\",D64*(VLOOKUP(C64,Feeds!$B$9:$AB$109,25,FALSE)/1000))","v":""},{"$f":"IF(D64=\"\",\"\",D64*VLOOKUP(C64,Feeds!$B$9:$AB$109,26,FALSE)/1000)","v":""},{"$f":"IF(D64=\"\",\"\",D64*VLOOKUP(C64,Feeds!$B$9:$AB$109,27,FALSE)/1000)","v":""},0,null,null,null,null,null,{"$f":"IF(O64=0,\"\",VLOOKUP(N64,Feeds!$B$9:$AB$109,23,FALSE)*O64/1000)","v":""},{"$f":"IF(O64=0,\"\",VLOOKUP(N64,Feeds!$B$9:$AB$109,24,FALSE))","v":""},{"$f":"IF(O64=\"\",\"\",O64*(VLOOKUP(N64,Feeds!$B$9:$AB$109,25,FALSE)/1000))","v":""},{"$f":"IF(O64=\"\",\"\",O64*VLOOKUP(N64,Feeds!$B$9:$AB$109,26,FALSE)/1000)","v":""},{"$f":"IF(O64=\"\",\"\",O64*VLOOKUP(N64,Feeds!$B$9:$AB$109,27,FALSE)/1000)","v":""},0,null,null,null,null,null,{"$f":"IF(Z64=0,\"\",VLOOKUP(Y64,Feeds!$B$9:$AB$109,23,FALSE)*Z64/1000)","v":""},{"$f":"IF(Z64=0,\"\",VLOOKUP(Y64,Feeds!$B$9:$AB$109,24,FALSE))","v":""},{"$f":"IF(Z64=\"\",\"\",Z64*(VLOOKUP(Y64,Feeds!$B$9:$AB$109,25,FALSE)/1000))","v":""},{"$f":"IF(Z64=\"\",\"\",Z64*VLOOKUP(Y64,Feeds!$B$9:$AB$109,26,FALSE)/1000)","v":""},{"$f":"IF(Z64=\"\",\"\",Z64*VLOOKUP(Y64,Feeds!$B$9:$AB$109,27,FALSE)/1000)","v":""},0]
[null,null,"Kokku päevas",{"$f":"SUM(D52:D64)","v":0},{"$f":"SUM(E52:E64)","v":0},null,{"$f":"SUM(G52:G64)","v":0},{"$f":"SUM(H52:H64)","v":0},{"$f":"SUM(I52:I64)","v":0},{"$f":"SUM(J52:J64)","v":0},null,null,null,"Kokku päevas",{"$f":"SUM(O52:O64)","v":0},{"$f":"SUM(P52:P64)","v":0},null,{"$f":"SUM(R52:R64)","v":0},{"$f":"SUM(S52:S64)","v":0},{"$f":"SUM(T52:T64)","v":0},{"$f":"SUM(U52:U64)","v":0},null,null,null,"Kokku päevas",{"$f":"SUM(Z52:Z64)","v":0},{"$f":"SUM(AA52:AA64)","v":0},null,{"$f":"SUM(AC52:AC64)","v":0},{"$f":"SUM(AD52:AD64)","v":0},{"$f":"SUM(AE52:AE64)","v":0},{"$f":"SUM(AF52:AF64)","v":0}]
[null,null,"Kokku perioodis",{"$f":"D65*L51","v":0},{"$f":"E65*L51","v":0},{"$f":"IF(D66=0,0,J66*100/E66)","v":0},{"$f":"G65*L51","v":0},{"$f":"H65*L51","v":0},{"$f":"I65*L51","v":0},{"$f":"J65*L51","v":0},null,null,null,"Kokku perioodis",{"$f":"O65*W51","v":0},{"$f":"P65*W51","v":0},{"$f":"IF(O66=0,0,U66*100/P66)","v":0},{"$f":"R65*W51","v":0},{"$f":"S65*W51","v":0},{"$f":"T65*W51","v":0},{"$f":"U65*W51","v":0},null,null,null,"Kokku perioodis",{"$f":"Z65*AH51","v":0},{"$f":"AA65*AH51","v":0},{"$f":"IF(Z66=0,0,AF66*100/AA66)","v":0},{"$f":"AC65*AH51","v":0},{"$f":"AD65*AH51","v":0},{"$f":"AE65*AH51","v":0},{"$f":"AF65*AH51","v":0}]
[]
[null,null,"Faas 4 ",null,null,null,"Vanus päeva ","alates",{"$f":"I50","v":0},null,null,"Päevi grupis",null,"Faas 4 ",null,null,null,"Vanus päeva ","alates",{"$f":"T50","v":0},null,null,"Päevi grupis",null,"Imetamisperiood",null,null,null,null,null,null,null,null,"Päevi grupis"]
[null,null,null,null,null,null,null,"kuni",null,null,null,null,null,null,null,null,null,null,"kuni",null,null,null,null,null,"Faas 1"]
[null,null,"Söödad (s.h. mineraalsöödad)","Kogus g/päev","KA g/päev","KA seeduvus   %","TP     g/päev","P   g/päev","K   g/päev",null,null,{"$f":"IF(I69=0,0,I69-I68)","v":0},null,"Söödad (s.h. mineraalsöödad)","Kogus g/päev","KA g/päev","KA seeduvus   %","TP     g/päev","P   g/päev","K   g/päev",null,null,{"$f":"IF(T69=0,0,T69-T68)","v":0},null,"Söödad (s.h. mineraalsöödad)","Kogus g/päev","KA g/päev","KA seeduvus   %","TP     g/päev","P   g/päev","K   g/päev",null,null,95]
[null,null,null,null,{"$f":"IF(D71=0,\"\",VLOOKUP(C71,Feeds!$B$9:$AB$109,23,FALSE)*D71/1000)","v":""},{"$f":"IF(D71=0,\"\",VLOOKUP(C71,Feeds!$B$9:$AB$109,24,FALSE))","v":""},{"$f":"IF(D71=\"\",\"\",D71*(VLOOKUP(C71,Feeds!$B$9:$AB$109,25,FALSE)/1000))","v":""},{"$f":"IF(D71=\"\",\"\",D71*VLOOKUP(C71,Feeds!$B$9:$AB$109,26,FALSE)/1000)","v":""},{"$f":"IF(D71=\"\",\"\",D71*VLOOKUP(C71,Feeds!$B$9:$AB$109,27,FALSE)/1000)","v":""},{"$f":"IF(D71=\"\",0,E71*F71/100)","v":0},null,null,null,null,null,{"$f":"IF(O71=0,\"\",VLOOKUP(N71,Feeds!$B$9:$AB$109,23,FALSE)*O71/1000)","v":""},{"$f":"IF(O71=0,\"\",VLOOKUP(N71,Feeds!$B$9:$AB$109,24,FALSE))","v":""},{"$f":"IF(O71=\"\",\"\",O71*(VLOOKUP(N71,Feeds!$B$9:$AB$109,25,FALSE)/1000))","v":""},{"$f":"IF(O71=\"\",\"\",O71*VLOOKUP(N71,Feeds!$B$9:$AB$109,26,FALSE)/1000)","v":""},{"$f":"IF(O71=\"\",\"\",O71*VLOOKUP(N71,Feeds!$B$9:$AB$109,27,FALSE)/1000)","v":""},{"$f":"IF(O71=\"\",0,P71*Q71/100)","v":0},null,null,null,"bbb",7000,{"$f":"IF(Z71=0,\"\",VLOOKUP(Y71,Feeds!$B$9:$AB$109,23,FALSE)*Z71/1000)","v":{"$error":"#N/A"}},{"$f":"IF(Z71=0,\"\",VLOOKUP(Y71,Feeds!$B$9:$AB$109,24,FALSE))","v":{"$error":"#N/A"}},{"$f":"IF(Z71=\"\",\"\",Z71*(VLOOKUP(Y71,Feeds!$B$9:$AB$109,25,FALSE)/1000))","v":{"$error":"#N/A"}},{"$f":"IF(Z71=\"\",\"\",Z71*VLOOKUP(Y71,Feeds!$B$9:$AB$109,26,FALSE)/1000)","v":{"$error":"#N/A"}},{"$f":"IF(Z71=\"\",\"\",Z71*VLOOKUP(Y71,Feeds!$B$9:$AB$109,27,FALSE)/1000)","v":{"$error":"#N/A"}},{"$f":"IF(Z71=\"\",0,AA71*AB71/100)","v":{"$error":"#N/A"}}]
[null,null,null,null,{"$f":"IF(D72=0,\"\",VLOOKUP(C72,Feeds!$B$9:$AB$109,23,FALSE)*D72/1000)","v":""},{"$f":"IF(D72=0,\"\",VLOOKUP(C72,Feeds!$B$9:$AB$109,24,FALSE))","v":""},{"$f":"IF(D72=\"\",\"\",D72*(VLOOKUP(C72,Feeds!$B$9:$AB$109,25,FALSE)/1000))","v":""},{"$f":"IF(D72=\"\",\"\",D72*VLOOKUP(C72,Feeds!$B$9:$AB$109,26,FALSE)/1000)","v":""},{"$f":"IF(D72=\"\",\"\",D72*VLOOKUP(C72,Feeds!$B$9:$AB$109,27,FALSE)/1000)","v":""},0,null,null,null,null,null,{"$f":"IF(O72=0,\"\",VLOOKUP(N72,Feeds!$B$9:$AB$109,23,FALSE)*O72/1000)","v":""},{"$f":"IF(O72=0,\"\",VLOOKUP(N72,Feeds!$B$9:$AB$109,24,FALSE))","v":""},{"$f":"IF(O72=\"\",\"\",O72*(VLOOKUP(N72,Feeds!$B$9:$AB$109,25,FALSE)/1000))","v":""},{"$f":"IF(O72=\"\",\"\",O72*VLOOKUP(N72,Feeds!$B$9:$AB$109,26,FALSE)/1000)","v":""},{"$f":"IF(O72=\"\",\"\",O72*VLOOKUP(N72,Feeds!$B$9:$AB$109,27,FALSE)/1000)","v":""},0,null,null,null,null,null,{"$f":"IF(Z72=0,\"\",VLOOKUP(Y72,Feeds!$B$9:$AB$109,23,FALSE)*Z72/1000)","v":""},{"$f":"IF(Z72=0,\"\",VLOOKUP(Y72,Feeds!$B$9:$AB$109,24,FALSE))","v":""},{"$f":"IF(Z72=\"\",\"\",Z72*(VLOOKUP(Y72,Feeds!$B$9:$AB$109,25,FALSE)/1000))","v":""},{"$f":"IF(Z72=\"\",\"\",Z72*VLOOKUP(Y72,Feeds!$B$9:$AB$109,26,FALSE)/1000)","v":""},{"$f":"IF(Z72=\"\",\"\",Z72*VLOOKUP(Y72,Feeds!$B$9:$AB$109,27,FALSE)/1000)","v":""},0]
[null,null,null,null,{"$f":"IF(D73=0,\"\",VLOOKUP(C73,Feeds!$B$9:$AB$109,23,FALSE)*D73/1000)","v":""},{"$f":"IF(D73=0,\"\",VLOOKUP(C73,Feeds!$B$9:$AB$109,24,FALSE))","v":""},{"$f":"IF(D73=\"\",\"\",D73*(VLOOKUP(C73,Feeds!$B$9:$AB$109,25,FALSE)/1000))","v":""},{"$f":"IF(D73=\"\",\"\",D73*VLOOKUP(C73,Feeds!$B$9:$AB$109,26,FALSE)/1000)","v":""},{"$f":"IF(D73=\"\",\"\",D73*VLOOKUP(C73,Feeds!$B$9:$AB$109,27,FALSE)/1000)","v":""},0,null,null,null,null,null,{"$f":"IF(O73=0,\"\",VLOOKUP(N73,Feeds!$B$9:$AB$109,23,FALSE)*O73/1000)","v":""},{"$f":"IF(O73=0,\"\",VLOOKUP(N73,Feeds!$B$9:$AB$109,24,FALSE))","v":""},{"$f":"IF(O73=\"\",\"\",O73*(VLOOKUP(N73,Feeds!$B$9:$AB$109,25,FALSE)/1000))","v":""},{"$f":"IF(O73=\"\",\"\",O73*VLOOKUP(N73,Feeds!$B$9:$AB$109,26,FALSE)/1000)","v":""},{"$f":"IF(O73=\"\",\"\",O73*VLOOKUP(N73,Feeds!$B$9:$AB$109,27,FALSE)/1000)","v":""},0,null,null,null,null,null,{"$f":"IF(Z73=0,\"\",VLOOKUP(Y73,Feeds!$B$9:$AB$109,23,FALSE)*Z73/1000)","v":""},{"$f":"IF(Z73=0,\"\",VLOOKUP(Y73,Feeds!$B$9:$AB$109,24,FALSE))","v":""},{"$f":"IF(Z73=\"\",\"\",Z73*(VLOOKUP(Y73,Feeds!$B$9:$AB$109,25,FALSE)/1000))","v":""},{"$f":"IF(Z73=\"\",\"\",Z73*VLOOKUP(Y73,Feeds!$B$9:$AB$109,26,FALSE)/1000)","v":""},{"$f":"IF(Z73=\"\",\"\",Z73*VLOOKUP(Y73,Feeds!$B$9:$AB$109,27,FALSE)/1000)","v":""},0]
[null,null,null,null,{"$f":"IF(D74=0,\"\",VLOOKUP(C74,Feeds!$B$9:$AB$109,23,FALSE)*D74/1000)","v":""},{"$f":"IF(D74=0,\"\",VLOOKUP(C74,Feeds!$B$9:$AB$109,24,FALSE))","v":""},{"$f":"IF(D74=\"\",\"\",D74*(VLOOKUP(C74,Feeds!$B$9:$AB$109,25,FALSE)/1000))","v":""},{"$f":"IF(D74=\"\",\"\",D74*VLOOKUP(C74,Feeds!$B$9:$AB$109,26,FALSE)/1000)","v":""},{"$f":"IF(D74=\"\",\"\",D74*VLOOKUP(C74,Feeds!$B$9:$AB$109,27,FALSE)/1000)","v":""},0,null,null,null,null,null,{"$f":"IF(O74=0,\"\",VLOOKUP(N74,Feeds!$B$9:$AB$109,23,FALSE)*O74/1000)","v":""},{"$f":"IF(O74=0,\"\",VLOOKUP(N74,Feeds!$B$9:$AB$109,24,FALSE))","v":""},{"$f":"IF(O74=\"\",\"\",O74*(VLOOKUP(N74,Feeds!$B$9:$AB$109,25,FALSE)/1000))","v":""},{"$f":"IF(O74=\"\",\"\",O74*VLOOKUP(N74,Feeds!$B$9:$AB$109,26,FALSE)/1000)","v":""},{"$f":"IF(O74=\"\",\"\",O74*VLOOKUP(N74,Feeds!$B$9:$AB$109,27,FALSE)/1000)","v":""},0,null,null,null,null,null,{"$f":"IF(Z74=0,\"\",VLOOKUP(Y74,Feeds!$B$9:$AB$109,23,FALSE)*Z74/1000)","v":""},{"$f":"IF(Z74=0,\"\",VLOOKUP(Y74,Feeds!$B$9:$AB$109,24,FALSE))","v":""},{"$f":"IF(Z74=\"\",\"\",Z74*(VLOOKUP(Y74,Feeds!$B$9:$AB$109,25,FALSE)/1000))","v":""},{"$f":"IF(Z74=\"\",\"\",Z74*VLOOKUP(Y74,Feeds!$B$9:$AB$109,26,FALSE)/1000)","v":""},{"$f":"IF(Z74=\"\",\"\",Z74*VLOOKUP(Y74,Feeds!$B$9:$AB$109,27,FALSE)/1000)","v":""},0]
[null,null,null,null,{"$f":"IF(D75=0,\"\",VLOOKUP(C75,Feeds!$B$9:$AB$109,23,FALSE)*D75/1000)","v":""},{"$f":"IF(D75=0,\"\",VLOOKUP(C75,Feeds!$B$9:$AB$109,24,FALSE))","v":""},{"$f":"IF(D75=\"\",\"\",D75*(VLOOKUP(C75,Feeds!$B$9:$AB$109,25,FALSE)/1000))","v":""},{"$f":"IF(D75=\"\",\"\",D75*VLOOKUP(C75,Feeds!$B$9:$AB$109,26,FALSE)/1000)","v":""},{"$f":"IF(D75=\"\",\"\",D75*VLOOKUP(C75,Feeds!$B$9:$AB$109,27,FALSE)/1000)","v":""},0,null,null,null,null,null,{"$f":"IF(O75=0,\"\",VLOOKUP(N75,Feeds!$B$9:$AB$109,23,FALSE)*O75/1000)","v":""},{"$f":"IF(O75=0,\"\",VLOOKUP(N75,Feeds!$B$9:$AB$109,24,FALSE))","v":""},{"$f":"IF(O75=\"\",\"\",O75*(VLOOKUP(N75,Feeds!$B$9:$AB$109,25,FALSE)/1000))","v":""},{"$f":"IF(O75=\"\",\"\",O75*VLOOKUP(N75,Feeds!$B$9:$AB$109,26,FALSE)/1000)","v":""},{"$f":"IF(O75=\"\",\"\",O75*VLOOKUP(N75,Feeds!$B$9:$AB$109,27,FALSE)/1000)","v":""},0,null,null,null,null,null,{"$f":"IF(Z75=0,\"\",VLOOKUP(Y75,Feeds!$B$9:$AB$109,23,FALSE)*Z75/1000)","v":""},{"$f":"IF(Z75=0,\"\",VLOOKUP(Y75,Feeds!$B$9:$AB$109,24,FALSE))","v":""},{"$f":"IF(Z75=\"\",\"\",Z75*(VLOOKUP(Y75,Feeds!$B$9:$AB$109,25,FALSE)/1000))","v":""},{"$f":"IF(Z75=\"\",\"\",Z75*VLOOKUP(Y75,Feeds!$B$9:$AB$109,26,FALSE)/1000)","v":""},{"$f":"IF(Z75=\"\",\"\",Z75*VLOOKUP(Y75,Feeds!$B$9:$AB$109,27,FALSE)/1000)","v":""},0]
[null,null,null,null,{"$f":"IF(D76=0,\"\",VLOOKUP(C76,Feeds!$B$9:$AB$109,23,FALSE)*D76/1000)","v":""},{"$f":"IF(D76=0,\"\",VLOOKUP(C76,Feeds!$B$9:$AB$109,24,FALSE))","v":""},{"$f":"IF(D76=\"\",\"\",D76*(VLOOKUP(C76,Feeds!$B$9:$AB$109,25,FALSE)/1000))","v":""},{"$f":"IF(D76=\"\",\"\",D76*VLOOKUP(C76,Feeds!$B$9:$AB$109,26,FALSE)/1000)","v":""},{"$f":"IF(D76=\"\",\"\",D76*VLOOKUP(C76,Feeds!$B$9:$AB$109,27,FALSE)/1000)","v":""},0,null,null,null,null,null,{"$f":"IF(O76=0,\"\",VLOOKUP(N76,Feeds!$B$9:$AB$109,23,FALSE)*O76/1000)","v":""},{"$f":"IF(O76=0,\"\",VLOOKUP(N76,Feeds!$B$9:$AB$109,24,FALSE))","v":""},{"$f":"IF(O76=\"\",\"\",O76*(VLOOKUP(N76,Feeds!$B$9:$AB$109,25,FALSE)/1000))","v":""},{"$f":"IF(O76=\"\",\"\",O76*VLOOKUP(N76,Feeds!$B$9:$AB$109,26,FALSE)/1000)","v":""},{"$f":"IF(O76=\"\",\"\",O76*VLOOKUP(N76,Feeds!$B$9:$AB$109,27,FALSE)/1000)","v":""},0,null,null,null,null,null,{"$f":"IF(Z76=0,\"\",VLOOKUP(Y76,Feeds!$B$9:$AB$109,23,FALSE)*Z76/1000)","v":""},{"$f":"IF(Z76=0,\"\",VLOOKUP(Y76,Feeds!$B$9:$AB$109,24,FALSE))","v":""},{"$f":"IF(Z76=\"\",\"\",Z76*(VLOOKUP(Y76,Feeds!$B$9:$AB$109,25,FALSE)/1000))","v":""},{"$f":"IF(Z76=\"\",\"\",Z76*VLOOKUP(Y76,Feeds!$B$9:$AB$109,26,FALSE)/1000)","v":""},{"$f":"IF(Z76=\"\",\"\",Z76*VLOOKUP(Y76,Feeds!$B$9:$AB$109,27,FALSE)/1000)","v":""},0]
[null,null,null,null,{"$f":"IF(D77=0,\"\",VLOOKUP(C77,Feeds!$B$9:$AB$109,23,FALSE)*D77/1000)","v":""},{"$f":"IF(D77=0,\"\",VLOOKUP(C77,Feeds!$B$9:$AB$109,24,FALSE))","v":""},{"$f":"IF(D77=\"\",\"\",D77*(VLOOKUP(C77,Feeds!$B$9:$AB$109,25,FALSE)/1000))","v":""},{"$f":"IF(D77=\"\",\"\",D77*VLOOKUP(C77,Feeds!$B$9:$AB$109,26,FALSE)/1000)","v":""},{"$f":"IF(D77=\"\",\"\",D77*VLOOKUP(C77,Feeds!$B$9:$AB$109,27,FALSE)/1000)","v":""},0,null,null,null,null,null,{"$f":"IF(O77=0,\"\",VLOOKUP(N77,Feeds!$B$9:$AB$109,23,FALSE)*O77/1000)","v":""},{"$f":"IF(O77=0,\"\",VLOOKUP(N77,Feeds!$B$9:$AB$109,24,FALSE))","v":""},{"$f":"IF(O77=\"\",\"\",O77*(VLOOKUP(N77,Feeds!$B$9:$AB$109,25,FALSE)/1000))","v":""},{"$f":"IF(O77=\"\",\"\",O77*VLOOKUP(N77,Feeds!$B$9:$AB$109,26,FALSE)/1000)","v":""},{"$f":"IF(O77=\"\",\"\",O77*VLOOKUP(N77,Feeds!$B$9:$AB$109,27,FALSE)/1000)","v":""},0,null,null,null,null,null,{"$f":"IF(Z77=0,\"\",VLOOKUP(Y77,Feeds!$B$9:$AB$109,23,FALSE)*Z77/1000)","v":""},{"$f":"IF(Z77=0,\"\",VLOOKUP(Y77,Feeds!$B$9:$AB$109,24,FALSE))","v":""},{"$f":"IF(Z77=\"\",\"\",Z77*(VLOOKUP(Y77,Feeds!$B$9:$AB$109,25,FALSE)/1000))","v":""},{"$f":"IF(Z77=\"\",\"\",Z77*VLOOKUP(Y77,Feeds!$B$9:$AB$109,26,FALSE)/1000)","v":""},{"$f":"IF(Z77=\"\",\"\",Z77*VLOOKUP(Y77,Feeds!$B$9:$AB$109,27,FALSE)/1000)","v":""},0]
[null,null,null,null,{"$f":"IF(D78=0,\"\",VLOOKUP(C78,Feeds!$B$9:$AB$109,23,FALSE)*D78/1000)","v":""},{"$f":"IF(D78=0,\"\",VLOOKUP(C78,Feeds!$B$9:$AB$109,24,FALSE))","v":""},{"$f":"IF(D78=\"\",\"\",D78*(VLOOKUP(C78,Feeds!$B$9:$AB$109,25,FALSE)/1000))","v":""},{"$f":"IF(D78=\"\",\"\",D78*VLOOKUP(C78,Feeds!$B$9:$AB$109,26,FALSE)/1000)","v":""},{"$f":"IF(D78=\"\",\"\",D78*VLOOKUP(C78,Feeds!$B$9:$AB$109,27,FALSE)/1000)","v":""},0,null,null,null,null,null,{"$f":"IF(O78=0,\"\",VLOOKUP(N78,Feeds!$B$9:$AB$109,23,FALSE)*O78/1000)","v":""},{"$f":"IF(O78=0,\"\",VLOOKUP(N78,Feeds!$B$9:$AB$109,24,FALSE))","v":""},{"$f":"IF(O78=\"\",\"\",O78*(VLOOKUP(N78,Feeds!$B$9:$AB$109,25,FALSE)/1000))","v":""},{"$f":"IF(O78=\"\",\"\",O78*VLOOKUP(N78,Feeds!$B$9:$AB$109,26,FALSE)/1000)","v":""},{"$f":"IF(O78=\"\",\"\",O78*VLOOKUP(N78,Feeds!$B$9:$AB$109,27,FALSE)/1000)","v":""},0,null,null,null,null,null,{"$f":"IF(Z78=0,\"\",VLOOKUP(Y78,Feeds!$B$9:$AB$109,23,FALSE)*Z78/1000)","v":""},{"$f":"IF(Z78=0,\"\",VLOOKUP(Y78,Feeds!$B$9:$AB$109,24,FALSE))","v":""},{"$f":"IF(Z78=\"\",\"\",Z78*(VLOOKUP(Y78,Feeds!$B$9:$AB$109,25,FALSE)/1000))","v":""},{"$f":"IF(Z78=\"\",\"\",Z78*VLOOKUP(Y78,Feeds!$B$9:$AB$109,26,FALSE)/1000)","v":""},{"$f":"IF(Z78=\"\",\"\",Z78*VLOOKUP(Y78,Feeds!$B$9:$AB$109,27,FALSE)/1000)","v":""},{"$f":"IF(Z78=\"\",0,AA78*AB78/100)","v":0}]
[null,null,null,null,{"$f":"IF(D79=0,\"\",VLOOKUP(C79,Feeds!$B$9:$AB$109,23,FALSE)*D79/1000)","v":""},{"$f":"IF(D79=0,\"\",VLOOKUP(C79,Feeds!$B$9:$AB$109,24,FALSE))","v":""},{"$f":"IF(D79=\"\",\"\",D79*(VLOOKUP(C79,Feeds!$B$9:$AB$109,25,FALSE)/1000))","v":""},{"$f":"IF(D79=\"\",\"\",D79*VLOOKUP(C79,Feeds!$B$9:$AB$109,26,FALSE)/1000)","v":""},{"$f":"IF(D79=\"\",\"\",D79*VLOOKUP(C79,Feeds!$B$9:$AB$109,27,FALSE)/1000)","v":""},0,null,null,null,null,null,{"$f":"IF(O79=0,\"\",VLOOKUP(N79,Feeds!$B$9:$AB$109,23,FALSE)*O79/1000)","v":""},{"$f":"IF(O79=0,\"\",VLOOKUP(N79,Feeds!$B$9:$AB$109,24,FALSE))","v":""},{"$f":"IF(O79=\"\",\"\",O79*(VLOOKUP(N79,Feeds!$B$9:$AB$109,25,FALSE)/1000))","v":""},{"$f":"IF(O79=\"\",\"\",O79*VLOOKUP(N79,Feeds!$B$9:$AB$109,26,FALSE)/1000)","v":""},{"$f":"IF(O79=\"\",\"\",O79*VLOOKUP(N79,Feeds!$B$9:$AB$109,27,FALSE)/1000)","v":""},0,null,null,null,null,null,{"$f":"IF(Z79=0,\"\",VLOOKUP(Y79,Feeds!$B$9:$AB$109,23,FALSE)*Z79/1000)","v":""},{"$f":"IF(Z79=0,\"\",VLOOKUP(Y79,Feeds!$B$9:$AB$109,24,FALSE))","v":""},{"$f":"IF(Z79=\"\",\"\",Z79*(VLOOKUP(Y79,Feeds!$B$9:$AB$109,25,FALSE)/1000))","v":""},{"$f":"IF(Z79=\"\",\"\",Z79*VLOOKUP(Y79,Feeds!$B$9:$AB$109,26,FALSE)/1000)","v":""},{"$f":"IF(Z79=\"\",\"\",Z79*VLOOKUP(Y79,Feeds!$B$9:$AB$109,27,FALSE)/1000)","v":""},0]
[null,null,null,null,{"$f":"IF(D80=0,\"\",VLOOKUP(C80,Feeds!$B$9:$AB$109,23,FALSE)*D80/1000)","v":""},{"$f":"IF(D80=0,\"\",VLOOKUP(C80,Feeds!$B$9:$AB$109,24,FALSE))","v":""},{"$f":"IF(D80=\"\",\"\",D80*(VLOOKUP(C80,Feeds!$B$9:$AB$109,25,FALSE)/1000))","v":""},{"$f":"IF(D80=\"\",\"\",D80*VLOOKUP(C80,Feeds!$B$9:$AB$109,26,FALSE)/1000)","v":""},{"$f":"IF(D80=\"\",\"\",D80*VLOOKUP(C80,Feeds!$B$9:$AB$109,27,FALSE)/1000)","v":""},{"$f":"IF(D80=\"\",0,E80*F80/100)","v":0},null,null,null,null,null,{"$f":"IF(O80=0,\"\",VLOOKUP(N80,Feeds!$B$9:$AB$109,23,FALSE)*O80/1000)","v":""},{"$f":"IF(O80=0,\"\",VLOOKUP(N80,Feeds!$B$9:$AB$109,24,FALSE))","v":""},{"$f":"IF(O80=\"\",\"\",O80*(VLOOKUP(N80,Feeds!$B$9:$AB$109,25,FALSE)/1000))","v":""},{"$f":"IF(O80=\"\",\"\",O80*VLOOKUP(N80,Feeds!$B$9:$AB$109,26,FALSE)/1000)","v":""},{"$f":"IF(O80=\"\",\"\",O80*VLOOKUP(N80,Feeds!$B$9:$AB$109,27,FALSE)/1000)","v":""},0,null,null,null,null,null,{"$f":"IF(Z80=0,\"\",VLOOKUP(Y80,Feeds!$B$9:$AB$109,23,FALSE)*Z80/1000)","v":""},{"$f":"IF(Z80=0,\"\",VLOOKUP(Y80,Feeds!$B$9:$AB$109,24,FALSE))","v":""},{"$f":"IF(Z80=\"\",\"\",Z80*(VLOOKUP(Y80,Feeds!$B$9:$AB$109,25,FALSE)/1000))","v":""},{"$f":"IF(Z80=\"\",\"\",Z80*VLOOKUP(Y80,Feeds!$B$9:$AB$109,26,FALSE)/1000)","v":""},{"$f":"IF(Z80=\"\",\"\",Z80*VLOOKUP(Y80,Feeds!$B$9:$AB$109,27,FALSE)/1000)","v":""},0]
[null,null,null,null,{"$f":"IF(D81=0,\"\",VLOOKUP(C81,Feeds!$B$9:$AB$109,23,FALSE)*D81/1000)","v":""},{"$f":"IF(D81=0,\"\",VLOOKUP(C81,Feeds!$B$9:$AB$109,24,FALSE))","v":""},{"$f":"IF(D81=\"\",\"\",D81*(VLOOKUP(C81,Feeds!$B$9:$AB$109,25,FALSE)/1000))","v":""},{"$f":"IF(D81=\"\",\"\",D81*VLOOKUP(C81,Feeds!$B$9:$AB$109,26,FALSE)/1000)","v":""},{"$f":"IF(D81=\"\",\"\",D81*VLOOKUP(C81,Feeds!$B$9:$AB$109,27,FALSE)/1000)","v":""},0,null,null,null,null,null,{"$f":"IF(O81=0,\"\",VLOOKUP(N81,Feeds!$B$9:$AB$109,23,FALSE)*O81/1000)","v":""},{"$f":"IF(O81=0,\"\",VLOOKUP(N81,Feeds!$B$9:$AB$109,24,FALSE))","v":""},{"$f":"IF(O81=\"\",\"\",O81*(VLOOKUP(N81,Feeds!$B$9:$AB$109,25,FALSE)/1000))","v":""},{"$f":"IF(O81=\"\",\"\",O81*VLOOKUP(N81,Feeds!$B$9:$AB$109,26,FALSE)/1000)","v":""},{"$f":"IF(O81=\"\",\"\",O81*VLOOKUP(N81,Feeds!$B$9:$AB$109,27,FALSE)/1000)","v":""},0,null,null,null,null,null,{"$f":"IF(Z81=0,\"\",VLOOKUP(Y81,Feeds!$B$9:$AB$109,23,FALSE)*Z81/1000)","v":""},{"$f":"IF(Z81=0,\"\",VLOOKUP(Y81,Feeds!$B$9:$AB$109,24,FALSE))","v":""},{"$f":"IF(Z81=\"\",\"\",Z81*(VLOOKUP(Y81,Feeds!$B$9:$AB$109,25,FALSE)/1000))","v":""},{"$f":"IF(Z81=\"\",\"\",Z81*VLOOKUP(Y81,Feeds!$B$9:$AB$109,26,FALSE)/1000)","v":""},{"$f":"IF(Z81=\"\",\"\",Z81*VLOOKUP(Y81,Feeds!$B$9:$AB$109,27,FALSE)/1000)","v":""},0]
[null,null,null,null,{"$f":"IF(D82=0,\"\",VLOOKUP(C82,Feeds!$B$9:$AB$109,23,FALSE)*D82/1000)","v":""},{"$f":"IF(D82=0,\"\",VLOOKUP(C82,Feeds!$B$9:$AB$109,24,FALSE))","v":""},{"$f":"IF(D82=\"\",\"\",D82*(VLOOKUP(C82,Feeds!$B$9:$AB$109,25,FALSE)/1000))","v":""},{"$f":"IF(D82=\"\",\"\",D82*VLOOKUP(C82,Feeds!$B$9:$AB$109,26,FALSE)/1000)","v":""},{"$f":"IF(D82=\"\",\"\",D82*VLOOKUP(C82,Feeds!$B$9:$AB$109,27,FALSE)/1000)","v":""},0,null,null,null,null,null,{"$f":"IF(O82=0,\"\",VLOOKUP(N82,Feeds!$B$9:$AB$109,23,FALSE)*O82/1000)","v":""},{"$f":"IF(O82=0,\"\",VLOOKUP(N82,Feeds!$B$9:$AB$109,24,FALSE))","v":""},{"$f":"IF(O82=\"\",\"\",O82*(VLOOKUP(N82,Feeds!$B$9:$AB$109,25,FALSE)/1000))","v":""},{"$f":"IF(O82=\"\",\"\",O82*VLOOKUP(N82,Feeds!$B$9:$AB$109,26,FALSE)/1000)","v":""},{"$f":"IF(O82=\"\",\"\",O82*VLOOKUP(N82,Feeds!$B$9:$AB$109,27,FALSE)/1000)","v":""},{"$f":"IF(O82=\"\",0,P82*Q82/100)","v":0},null,null,null,null,null,{"$f":"IF(Z82=0,\"\",VLOOKUP(Y82,Feeds!$B$9:$AB$109,23,FALSE)*Z82/1000)","v":""},{"$f":"IF(Z82=0,\"\",VLOOKUP(Y82,Feeds!$B$9:$AB$109,24,FALSE))","v":""},{"$f":"IF(Z82=\"\",\"\",Z82*(VLOOKUP(Y82,Feeds!$B$9:$AB$109,25,FALSE)/1000))","v":""},{"$f":"IF(Z82=\"\",\"\",Z82*VLOOKUP(Y82,Feeds!$B$9:$AB$109,26,FALSE)/1000)","v":""},{"$f":"IF(Z82=\"\",\"\",Z82*VLOOKUP(Y82,Feeds!$B$9:$AB$109,27,FALSE)/1000)","v":""},0]
[null,null,null,null,{"$f":"IF(D83=0,\"\",VLOOKUP(C83,Feeds!$B$9:$AB$109,23,FALSE)*D83/1000)","v":""},{"$f":"IF(D83=0,\"\",VLOOKUP(C83,Feeds!$B$9:$AB$109,24,FALSE))","v":""},{"$f":"IF(D83=\"\",\"\",D83*(VLOOKUP(C83,Feeds!$B$9:$AB$109,25,FALSE)/1000))","v":""},{"$f":"IF(D83=\"\",\"\",D83*VLOOKUP(C83,Feeds!$B$9:$AB$109,26,FALSE)/1000)","v":""},{"$f":"IF(D83=\"\",\"\",D83*VLOOKUP(C83,Feeds!$B$9:$AB$109,27,FALSE)/1000)","v":""},0,null,null,null,null,null,{"$f":"IF(O83=0,\"\",VLOOKUP(N83,Feeds!$B$9:$AB$109,23,FALSE)*O83/1000)","v":""},{"$f":"IF(O83=0,\"\",VLOOKUP(N83,Feeds!$B$9:$AB$109,24,FALSE))","v":""},{"$f":"IF(O83=\"\",\"\",O83*(VLOOKUP(N83,Feeds!$B$9:$AB$109,25,FALSE)/1000))","v":""},{"$f":"IF(O83=\"\",\"\",O83*VLOOKUP(N83,Feeds!$B$9:$AB$109,26,FALSE)/1000)","v":""},{"$f":"IF(O83=\"\",\"\",O83*VLOOKUP(N83,Feeds!$B$9:$AB$109,27,FALSE)/1000)","v":""},0,null,null,null,null,null,{"$f":"IF(Z83=0,\"\",VLOOKUP(Y83,Feeds!$B$9:$AB$109,23,FALSE)*Z83/1000)","v":""},{"$f":"IF(Z83=0,\"\",VLOOKUP(Y83,Feeds!$B$9:$AB$109,24,FALSE))","v":""},{"$f":"IF(Z83=\"\",\"\",Z83*(VLOOKUP(Y83,Feeds!$B$9:$AB$109,25,FALSE)/1000))","v":""},{"$f":"IF(Z83=\"\",\"\",Z83*VLOOKUP(Y83,Feeds!$B$9:$AB$109,26,FALSE)/1000)","v":""},{"$f":"IF(Z83=\"\",\"\",Z83*VLOOKUP(Y83,Feeds!$B$9:$AB$109,27,FALSE)/1000)","v":""},0]
[null,null,"Kokku päevas",{"$f":"SUM(D71:D83)","v":0},{"$f":"SUM(E71:E83)","v":0},null,{"$f":"SUM(G71:G83)","v":0},{"$f":"SUM(H71:H83)","v":0},{"$f":"SUM(I71:I83)","v":0},{"$f":"SUM(J71:J83)","v":0},null,null,null,"Kokku päevas",{"$f":"SUM(O71:O83)","v":0},{"$f":"SUM(P71:P83)","v":0},null,{"$f":"SUM(R71:R83)","v":0},{"$f":"SUM(S71:S83)","v":0},{"$f":"SUM(T71:T83)","v":0},{"$f":"SUM(U71:U83)","v":0},null,null,null,"Kokku päevas",{"$f":"SUM(Z71:Z83)","v":7000},{"$f":"SUM(AA71:AA83)","v":{"$error":"#N/A"}},null,{"$f":"SUM(AC71:AC83)","v":{"$error":"#N/A"}},{"$f":"SUM(AD71:AD83)","v":{"$error":"#N/A"}},{"$f":"SUM(AE71:AE83)","v":{"$error":"#N/A"}},{"$f":"SUM(AF71:AF83)","v":{"$error":"#N/A"}}]
[null,null,"Kokku perioodis",{"$f":"D84*L70","v":0},{"$f":"E84*L70","v":0},{"$f":"IF(D85=0,0,J85*100/E85)","v":0},{"$f":"G84*L70","v":0},{"$f":"H84*L70","v":0},{"$f":"I84*L70","v":0},{"$f":"J84*L70","v":0},null,null,null,"Kokku perioodis",{"$f":"O84*W70","v":0},{"$f":"P84*W70","v":0},{"$f":"IF(O85=0,0,U85*100/P85)","v":0},{"$f":"R84*W70","v":0},{"$f":"S84*W70","v":0},{"$f":"T84*W70","v":0},{"$f":"U84*W70","v":0},null,null,null,"Kokku perioodis",{"$f":"Z84*AH70","v":665000},{"$f":"AA84*AH70","v":{"$error":"#N/A"}},{"$f":"IF(Z85=0,0,AF85*100/AA85)","v":{"$error":"#N/A"}},{"$f":"AC84*AH70","v":{"$error":"#N/A"}},{"$f":"AD84*AH70","v":{"$error":"#N/A"}},{"$f":"AE84*AH70","v":{"$error":"#N/A"}},{"$f":"AF84*AH70","v":{"$error":"#N/A"}}]
[]
[null,null,"Faas 5 ",null,null,null,"Vanus päeva ","alates",{"$f":"I69","v":0},null,null,"Päevi grupis",null,"Faas 5",null,null,null,"Vanus päeva ","alates",{"$f":"T69","v":0},null,null,"Päevi grupis",null,"Imetamisperiood",null,null,null,null,null,null,null,null,"Päevi grupis"]
[null,null,null,null,null,null,null,"kuni",null,null,null,null,null,null,null,null,null,null,"kuni",null,null,null,null,null,"Faas 2"]
[null,null,"Söödad (s.h. mineraalsöödad)","Kogus g/päev","KA g/päev","KA seeduvus   %","CP     g/day","P   g/päev","K   g/päev",null,null,{"$f":"IF(I88=0,0,I88-I87)","v":0},null,"Söödad (s.h. mineraalsöödad)","Kogus g/päev","KA g/päev","KA seeduvus   %","TP     g/päev","P   g/päev","K   g/päev",null,null,{"$f":"IF(T88=0,0,T88-T87)","v":0},null,"Söödad (s.h. mineraalsöödad)","Kogus g/päev","KA g/päev","KA seeduvus   %","TP     g/päev","P   g/päev","K   g/päev"]
[null,null,null,null,{"$f":"IF(D90=0,\"\",VLOOKUP(C90,Feeds!$B$9:$AB$109,23,FALSE)*D90/1000)","v":""},{"$f":"IF(D90=0,\"\",VLOOKUP(C90,Feeds!$B$9:$AB$109,24,FALSE))","v":""},{"$f":"IF(D90=\"\",\"\",D90*(VLOOKUP(C90,Feeds!$B$9:$AB$109,25,FALSE)/1000))","v":""},{"$f":"IF(D90=\"\",\"\",D90*VLOOKUP(C90,Feeds!$B$9:$AB$109,26,FALSE)/1000)","v":""},{"$f":"IF(D90=\"\",\"\",D90*VLOOKUP(C90,Feeds!$B$9:$AB$109,27,FALSE)/1000)","v":""},{"$f":"IF(D90=\"\",0,E90*F90/100)","v":0},null,null,null,null,null,{"$f":"IF(O90=0,\"\",VLOOKUP(N90,Feeds!$B$9:$AB$109,23,FALSE)*O90/1000)","v":""},{"$f":"IF(O90=0,\"\",VLOOKUP(N90,Feeds!$B$9:$AB$109,24,FALSE))","v":""},{"$f":"IF(O90=\"\",\"\",O90*(VLOOKUP(N90,Feeds!$B$9:$AB$109,25,FALSE)/1000))","v":""},{"$f":"IF(O90=\"\",\"\",O90*VLOOKUP(N90,Feeds!$B$9:$AB$109,26,FALSE)/1000)","v":""},{"$f":"IF(O90=\"\",\"\",O90*VLOOKUP(N90,Feeds!$B$9:$AB$109,27,FALSE)/1000)","v":""},{"$f":"IF(O90=\"\",0,P90*Q90/100)","v":0},null,null,null,null,null,{"$f":"IF(Z90=0,\"\",VLOOKUP(Y90,Feeds!$B$9:$AB$109,23,FALSE)*Z90/1000)","v":""},{"$f":"IF(Z90=0,\"\",VLOOKUP(Y90,Feeds!$B$9:$AB$109,24,FALSE))","v":""},{"$f":"IF(Z90=\"\",\"\",Z90*(VLOOKUP(Y90,Feeds!$B$9:$AB$109,25,FALSE)/1000))","v":""},{"$f":"IF(Z90=\"\",\"\",Z90*VLOOKUP(Y90,Feeds!$B$9:$AB$109,26,FALSE)/1000)","v":""},{"$f":"IF(Z90=\"\",\"\",Z90*VLOOKUP(Y90,Feeds!$B$9:$AB$109,27,FALSE)/1000)","v":""},{"$f":"IF(Z90=\"\",0,AA90*AB90/100)","v":0}]
[null,null,null,null,{"$f":"IF(D91=0,\"\",VLOOKUP(C91,Feeds!$B$9:$AB$109,23,FALSE)*D91/1000)","v":""},{"$f":"IF(D91=0,\"\",VLOOKUP(C91,Feeds!$B$9:$AB$109,24,FALSE))","v":""},{"$f":"IF(D91=\"\",\"\",D91*(VLOOKUP(C91,Feeds!$B$9:$AB$109,25,FALSE)/1000))","v":""},{"$f":"IF(D91=\"\",\"\",D91*VLOOKUP(C91,Feeds!$B$9:$AB$109,26,FALSE)/1000)","v":""},{"$f":"IF(D91=\"\",\"\",D91*VLOOKUP(C91,Feeds!$B$9:$AB$109,27,FALSE)/1000)","v":""},0,null,null,null,null,null,{"$f":"IF(O91=0,\"\",VLOOKUP(N91,Feeds!$B$9:$AB$109,23,FALSE)*O91/1000)","v":""},{"$f":"IF(O91=0,\"\",VLOOKUP(N91,Feeds!$B$9:$AB$109,24,FALSE))","v":""},{"$f":"IF(O91=\"\",\"\",O91*(VLOOKUP(N91,Feeds!$B$9:$AB$109,25,FALSE)/1000))","v":""},{"$f":"IF(O91=\"\",\"\",O91*VLOOKUP(N91,Feeds!$B$9:$AB$109,26,FALSE)/1000)","v":""},{"$f":"IF(O91=\"\",\"\",O91*VLOOKUP(N91,Feeds!$B$9:$AB$109,27,FALSE)/1000)","v":""},0,null,null,null,null,null,{"$f":"IF(Z91=0,\"\",VLOOKUP(Y91,Feeds!$B$9:$AB$109,23,FALSE)*Z91/1000)","v":""},{"$f":"IF(Z91=0,\"\",VLOOKUP(Y91,Feeds!$B$9:$AB$109,24,FALSE))","v":""},{"$f":"IF(Z91=\"\",\"\",Z91*(VLOOKUP(Y91,Feeds!$B$9:$AB$109,25,FALSE)/1000))","v":""},{"$f":"IF(Z91=\"\",\"\",Z91*VLOOKUP(Y91,Feeds!$B$9:$AB$109,26,FALSE)/1000)","v":""},{"$f":"IF(Z91=\"\",\"\",Z91*VLOOKUP(Y91,Feeds!$B$9:$AB$109,27,FALSE)/1000)","v":""},0]
[null,null,null,null,{"$f":"IF(D92=0,\"\",VLOOKUP(C92,Feeds!$B$9:$AB$109,23,FALSE)*D92/1000)","v":""},{"$f":"IF(D92=0,\"\",VLOOKUP(C92,Feeds!$B$9:$AB$109,24,FALSE))","v":""},{"$f":"IF(D92=\"\",\"\",D92*(VLOOKUP(C92,Feeds!$B$9:$AB$109,25,FALSE)/1000))","v":""},{"$f":"IF(D92=\"\",\"\",D92*VLOOKUP(C92,Feeds!$B$9:$AB$109,26,FALSE)/1000)","v":""},{"$f":"IF(D92=\"\",\"\",D92*VLOOKUP(C92,Feeds!$B$9:$AB$109,27,FALSE)/1000)","v":""},{"$f":"IF(D92=\"\",0,E92*F92/100)","v":0},null,null,null,null,null,{"$f":"IF(O92=0,\"\",VLOOKUP(N92,Feeds!$B$9:$AB$109,23,FALSE)*O92/1000)","v":""},{"$f":"IF(O92=0,\"\",VLOOKUP(N92,Feeds!$B$9:$AB$109,24,FALSE))","v":""},{"$f":"IF(O92=\"\",\"\",O92*(VLOOKUP(N92,Feeds!$B$9:$AB$109,25,FALSE)/1000))","v":""},{"$f":"IF(O92=\"\",\"\",O92*VLOOKUP(N92,Feeds!$B$9:$AB$109,26,FALSE)/1000)","v":""},{"$f":"IF(O92=\"\",\"\",O92*VLOOKUP(N92,Feeds!$B$9:$AB$109,27,FALSE)/1000)","v":""},0,null,null,null,null,null,{"$f":"IF(Z92=0,\"\",VLOOKUP(Y92,Feeds!$B$9:$AB$109,23,FALSE)*Z92/1000)","v":""},{"$f":"IF(Z92=0,\"\",VLOOKUP(Y92,Feeds!$B$9:$AB$109,24,FALSE))","v":""},{"$f":"IF(Z92=\"\",\"\",Z92*(VLOOKUP(Y92,Feeds!$B$9:$AB$109,25,FALSE)/1000))","v":""},{"$f":"IF(Z92=\"\",\"\",Z92*VLOOKUP(Y92,Feeds!$B$9:$AB$109,26,FALSE)/1000)","v":""},{"$f":"IF(Z92=\"\",\"\",Z92*VLOOKUP(Y92,Feeds!$B$9:$AB$109,27,FALSE)/1000)","v":""},0]
[null,null,null,null,{"$f":"IF(D93=0,\"\",VLOOKUP(C93,Feeds!$B$9:$AB$109,23,FALSE)*D93/1000)","v":""},{"$f":"IF(D93=0,\"\",VLOOKUP(C93,Feeds!$B$9:$AB$109,24,FALSE))","v":""},{"$f":"IF(D93=\"\",\"\",D93*(VLOOKUP(C93,Feeds!$B$9:$AB$109,25,FALSE)/1000))","v":""},{"$f":"IF(D93=\"\",\"\",D93*VLOOKUP(C93,Feeds!$B$9:$AB$109,26,FALSE)/1000)","v":""},{"$f":"IF(D93=\"\",\"\",D93*VLOOKUP(C93,Feeds!$B$9:$AB$109,27,FALSE)/1000)","v":""},0,null,null,null,null,null,{"$f":"IF(O93=0,\"\",VLOOKUP(N93,Feeds!$B$9:$AB$109,23,FALSE)*O93/1000)","v":""},{"$f":"IF(O93=0,\"\",VLOOKUP(N93,Feeds!$B$9:$AB$109,24,FALSE))","v":""},{"$f":"IF(O93=\"\",\"\",O93*(VLOOKUP(N93,Feeds!$B$9:$AB$109,25,FALSE)/1000))","v":""},{"$f":"IF(O93=\"\",\"\",O93*VLOOKUP(N93,Feeds!$B$9:$AB$109,26,FALSE)/1000)","v":""},{"$f":"IF(O93=\"\",\"\",O93*VLOOKUP(N93,Feeds!$B$9:$AB$109,27,FALSE)/1000)","v":""},0,null,null,null,null,null,{"$f":"IF(Z93=0,\"\",VLOOKUP(Y93,Feeds!$B$9:$AB$109,23,FALSE)*Z93/1000)","v":""},{"$f":"IF(Z93=0,\"\",VLOOKUP(Y93,Feeds!$B$9:$AB$109,24,FALSE))","v":""},{"$f":"IF(Z93=\"\",\"\",Z93*(VLOOKUP(Y93,Feeds!$B$9:$AB$109,25,FALSE)/1000))","v":""},{"$f":"IF(Z93=\"\",\"\",Z93*VLOOKUP(Y93,Feeds!$B$9:$AB$109,26,FALSE)/1000)","v":""},{"$f":"IF(Z93=\"\",\"\",Z93*VLOOKUP(Y93,Feeds!$B$9:$AB$109,27,FALSE)/1000)","v":""},0]
[null,null,null,null,{"$f":"IF(D94=0,\"\",VLOOKUP(C94,Feeds!$B$9:$AB$109,23,FALSE)*D94/1000)","v":""},{"$f":"IF(D94=0,\"\",VLOOKUP(C94,Feeds!$B$9:$AB$109,24,FALSE))","v":""},{"$f":"IF(D94=\"\",\"\",D94*(VLOOKUP(C94,Feeds!$B$9:$AB$109,25,FALSE)/1000))","v":""},{"$f":"IF(D94=\"\",\"\",D94*VLOOKUP(C94,Feeds!$B$9:$AB$109,26,FALSE)/1000)","v":""},{"$f":"IF(D94=\"\",\"\",D94*VLOOKUP(C94,Feeds!$B$9:$AB$109,27,FALSE)/1000)","v":""},0,null,null,null,null,null,{"$f":"IF(O94=0,\"\",VLOOKUP(N94,Feeds!$B$9:$AB$109,23,FALSE)*O94/1000)","v":""},{"$f":"IF(O94=0,\"\",VLOOKUP(N94,Feeds!$B$9:$AB$109,24,FALSE))","v":""},{"$f":"IF(O94=\"\",\"\",O94*(VLOOKUP(N94,Feeds!$B$9:$AB$109,25,FALSE)/1000))","v":""},{"$f":"IF(O94=\"\",\"\",O94*VLOOKUP(N94,Feeds!$B$9:$AB$109,26,FALSE)/1000)","v":""},{"$f":"IF(O94=\"\",\"\",O94*VLOOKUP(N94,Feeds!$B$9:$AB$109,27,FALSE)/1000)","v":""},0,null,null,null,null,null,{"$f":"IF(Z94=0,\"\",VLOOKUP(Y94,Feeds!$B$9:$AB$109,23,FALSE)*Z94/1000)","v":""},{"$f":"IF(Z94=0,\"\",VLOOKUP(Y94,Feeds!$B$9:$AB$109,24,FALSE))","v":""},{"$f":"IF(Z94=\"\",\"\",Z94*(VLOOKUP(Y94,Feeds!$B$9:$AB$109,25,FALSE)/1000))","v":""},{"$f":"IF(Z94=\"\",\"\",Z94*VLOOKUP(Y94,Feeds!$B$9:$AB$109,26,FALSE)/1000)","v":""},{"$f":"IF(Z94=\"\",\"\",Z94*VLOOKUP(Y94,Feeds!$B$9:$AB$109,27,FALSE)/1000)","v":""},0]
[null,null,null,null,{"$f":"IF(D95=0,\"\",VLOOKUP(C95,Feeds!$B$9:$AB$109,23,FALSE)*D95/1000)","v":""},{"$f":"IF(D95=0,\"\",VLOOKUP(C95,Feeds!$B$9:$AB$109,24,FALSE))","v":""},{"$f":"IF(D95=\"\",\"\",D95*(VLOOKUP(C95,Feeds!$B$9:$AB$109,25,FALSE)/1000))","v":""},{"$f":"IF(D95=\"\",\"\",D95*VLOOKUP(C95,Feeds!$B$9:$AB$109,26,FALSE)/1000)","v":""},{"$f":"IF(D95=\"\",\"\",D95*VLOOKUP(C95,Feeds!$B$9:$AB$109,27,FALSE)/1000)","v":""},0,null,null,null,null,null,{"$f":"IF(O95=0,\"\",VLOOKUP(N95,Feeds!$B$9:$AB$109,23,FALSE)*O95/1000)","v":""},{"$f":"IF(O95=0,\"\",VLOOKUP(N95,Feeds!$B$9:$AB$109,24,FALSE))","v":""},{"$f":"IF(O95=\"\",\"\",O95*(VLOOKUP(N95,Feeds!$B$9:$AB$109,25,FALSE)/1000))","v":""},{"$f":"IF(O95=\"\",\"\",O95*VLOOKUP(N95,Feeds!$B$9:$AB$109,26,FALSE)/1000)","v":""},{"$f":"IF(O95=\"\",\"\",O95*VLOOKUP(N95,Feeds!$B$9:$AB$109,27,FALSE)/1000)","v":""},{"$f":"IF(O95=\"\",0,P95*Q95/100)","v":0},null,null,null,null,null,{"$f":"IF(Z95=0,\"\",VLOOKUP(Y95,Feeds!$B$9:$AB$109,23,FALSE)*Z95/1000)","v":""},{"$f":"IF(Z95=0,\"\",VLOOKUP(Y95,Feeds!$B$9:$AB$109,24,FALSE))","v":""},{"$f":"IF(Z95=\"\",\"\",Z95*(VLOOKUP(Y95,Feeds!$B$9:$AB$109,25,FALSE)/1000))","v":""},{"$f":"IF(Z95=\"\",\"\",Z95*VLOOKUP(Y95,Feeds!$B$9:$AB$109,26,FALSE)/1000)","v":""},{"$f":"IF(Z95=\"\",\"\",Z95*VLOOKUP(Y95,Feeds!$B$9:$AB$109,27,FALSE)/1000)","v":""},0]
[null,null,null,null,{"$f":"IF(D96=0,\"\",VLOOKUP(C96,Feeds!$B$9:$AB$109,23,FALSE)*D96/1000)","v":""},{"$f":"IF(D96=0,\"\",VLOOKUP(C96,Feeds!$B$9:$AB$109,24,FALSE))","v":""},{"$f":"IF(D96=\"\",\"\",D96*(VLOOKUP(C96,Feeds!$B$9:$AB$109,25,FALSE)/1000))","v":""},{"$f":"IF(D96=\"\",\"\",D96*VLOOKUP(C96,Feeds!$B$9:$AB$109,26,FALSE)/1000)","v":""},{"$f":"IF(D96=\"\",\"\",D96*VLOOKUP(C96,Feeds!$B$9:$AB$109,27,FALSE)/1000)","v":""},0,null,null,null,null,null,{"$f":"IF(O96=0,\"\",VLOOKUP(N96,Feeds!$B$9:$AB$109,23,FALSE)*O96/1000)","v":""},{"$f":"IF(O96=0,\"\",VLOOKUP(N96,Feeds!$B$9:$AB$109,24,FALSE))","v":""},{"$f":"IF(O96=\"\",\"\",O96*(VLOOKUP(N96,Feeds!$B$9:$AB$109,25,FALSE)/1000))","v":""},{"$f":"IF(O96=\"\",\"\",O96*VLOOKUP(N96,Feeds!$B$9:$AB$109,26,FALSE)/1000)","v":""},{"$f":"IF(O96=\"\",\"\",O96*VLOOKUP(N96,Feeds!$B$9:$AB$109,27,FALSE)/1000)","v":""},0,null,null,null,null,null,{"$f":"IF(Z96=0,\"\",VLOOKUP(Y96,Feeds!$B$9:$AB$109,23,FALSE)*Z96/1000)","v":""},{"$f":"IF(Z96=0,\"\",VLOOKUP(Y96,Feeds!$B$9:$AB$109,24,FALSE))","v":""},{"$f":"IF(Z96=\"\",\"\",Z96*(VLOOKUP(Y96,Feeds!$B$9:$AB$109,25,FALSE)/1000))","v":""},{"$f":"IF(Z96=\"\",\"\",Z96*VLOOKUP(Y96,Feeds!$B$9:$AB$109,26,FALSE)/1000)","v":""},{"$f":"IF(Z96=\"\",\"\",Z96*VLOOKUP(Y96,Feeds!$B$9:$AB$109,27,FALSE)/1000)","v":""},0]
[null,null,null,null,{"$f":"IF(D97=0,\"\",VLOOKUP(C97,Feeds!$B$9:$AB$109,23,FALSE)*D97/1000)","v":""},{"$f":"IF(D97=0,\"\",VLOOKUP(C97,Feeds!$B$9:$AB$109,24,FALSE))","v":""},{"$f":"IF(D97=\"\",\"\",D97*(VLOOKUP(C97,Feeds!$B$9:$AB$109,25,FALSE)/1000))","v":""},{"$f":"IF(D97=\"\",\"\",D97*VLOOKUP(C97,Feeds!$B$9:$AB$109,26,FALSE)/1000)","v":""},{"$f":"IF(D97=\"\",\"\",D97*VLOOKUP(C97,Feeds!$B$9:$AB$109,27,FALSE)/1000)","v":""},0,null,null,null,null,null,{"$f":"IF(O97=0,\"\",VLOOKUP(N97,Feeds!$B$9:$AB$109,23,FALSE)*O97/1000)","v":""},{"$f":"IF(O97=0,\"\",VLOOKUP(N97,Feeds!$B$9:$AB$109,24,FALSE))","v":""},{"$f":"IF(O97=\"\",\"\",O97*(VLOOKUP(N97,Feeds!$B$9:$AB$109,25,FALSE)/1000))","v":""},{"$f":"IF(O97=\"\",\"\",O97*VLOOKUP(N97,Feeds!$B$9:$AB$109,26,FALSE)/1000)","v":""},{"$f":"IF(O97=\"\",\"\",O97*VLOOKUP(N97,Feeds!$B$9:$AB$109,27,FALSE)/1000)","v":""},0,null,null,null,null,null,{"$f":"IF(Z97=0,\"\",VLOOKUP(Y97,Feeds!$B$9:$AB$109,23,FALSE)*Z97/1000)","v":""},{"$f":"IF(Z97=0,\"\",VLOOKUP(Y97,Feeds!$B$9:$AB$109,24,FALSE))","v":""},{"$f":"IF(Z97=\"\",\"\",Z97*(VLOOKUP(Y97,Feeds!$B$9:$AB$109,25,FALSE)/1000))","v":""},{"$f":"IF(Z97=\"\",\"\",Z97*VLOOKUP(Y97,Feeds!$B$9:$AB$109,26,FALSE)/1000)","v":""},{"$f":"IF(Z97=\"\",\"\",Z97*VLOOKUP(Y97,Feeds!$B$9:$AB$109,27,FALSE)/1000)","v":""},0]
[null,null,null,null,{"$f":"IF(D98=0,\"\",VLOOKUP(C98,Feeds!$B$9:$AB$109,23,FALSE)*D98/1000)","v":""},{"$f":"IF(D98=0,\"\",VLOOKUP(C98,Feeds!$B$9:$AB$109,24,FALSE))","v":""},{"$f":"IF(D98=\"\",\"\",D98*(VLOOKUP(C98,Feeds!$B$9:$AB$109,25,FALSE)/1000))","v":""},{"$f":"IF(D98=\"\",\"\",D98*VLOOKUP(C98,Feeds!$B$9:$AB$109,26,FALSE)/1000)","v":""},{"$f":"IF(D98=\"\",\"\",D98*VLOOKUP(C98,Feeds!$B$9:$AB$109,27,FALSE)/1000)","v":""},0,null,null,null,null,null,{"$f":"IF(O98=0,\"\",VLOOKUP(N98,Feeds!$B$9:$AB$109,23,FALSE)*O98/1000)","v":""},{"$f":"IF(O98=0,\"\",VLOOKUP(N98,Feeds!$B$9:$AB$109,24,FALSE))","v":""},{"$f":"IF(O98=\"\",\"\",O98*(VLOOKUP(N98,Feeds!$B$9:$AB$109,25,FALSE)/1000))","v":""},{"$f":"IF(O98=\"\",\"\",O98*VLOOKUP(N98,Feeds!$B$9:$AB$109,26,FALSE)/1000)","v":""},{"$f":"IF(O98=\"\",\"\",O98*VLOOKUP(N98,Feeds!$B$9:$AB$109,27,FALSE)/1000)","v":""},0,null,null,null,null,null,{"$f":"IF(Z98=0,\"\",VLOOKUP(Y98,Feeds!$B$9:$AB$109,23,FALSE)*Z98/1000)","v":""},{"$f":"IF(Z98=0,\"\",VLOOKUP(Y98,Feeds!$B$9:$AB$109,24,FALSE))","v":""},{"$f":"IF(Z98=\"\",\"\",Z98*(VLOOKUP(Y98,Feeds!$B$9:$AB$109,25,FALSE)/1000))","v":""},{"$f":"IF(Z98=\"\",\"\",Z98*VLOOKUP(Y98,Feeds!$B$9:$AB$109,26,FALSE)/1000)","v":""},{"$f":"IF(Z98=\"\",\"\",Z98*VLOOKUP(Y98,Feeds!$B$9:$AB$109,27,FALSE)/1000)","v":""},0]
[null,null,null,null,{"$f":"IF(D99=0,\"\",VLOOKUP(C99,Feeds!$B$9:$AB$109,23,FALSE)*D99/1000)","v":""},{"$f":"IF(D99=0,\"\",VLOOKUP(C99,Feeds!$B$9:$AB$109,24,FALSE))","v":""},{"$f":"IF(D99=\"\",\"\",D99*(VLOOKUP(C99,Feeds!$B$9:$AB$109,25,FALSE)/1000))","v":""},{"$f":"IF(D99=\"\",\"\",D99*VLOOKUP(C99,Feeds!$B$9:$AB$109,26,FALSE)/1000)","v":""},{"$f":"IF(D99=\"\",\"\",D99*VLOOKUP(C99,Feeds!$B$9:$AB$109,27,FALSE)/1000)","v":""},0,null,null,null,null,null,{"$f":"IF(O99=0,\"\",VLOOKUP(N99,Feeds!$B$9:$AB$109,23,FALSE)*O99/1000)","v":""},{"$f":"IF(O99=0,\"\",VLOOKUP(N99,Feeds!$B$9:$AB$109,24,FALSE))","v":""},{"$f":"IF(O99=\"\",\"\",O99*(VLOOKUP(N99,Feeds!$B$9:$AB$109,25,FALSE)/1000))","v":""},{"$f":"IF(O99=\"\",\"\",O99*VLOOKUP(N99,Feeds!$B$9:$AB$109,26,FALSE)/1000)","v":""},{"$f":"IF(O99=\"\",\"\",O99*VLOOKUP(N99,Feeds!$B$9:$AB$109,27,FALSE)/1000)","v":""},0,null,null,null,null,null,{"$f":"IF(Z99=0,\"\",VLOOKUP(Y99,Feeds!$B$9:$AB$109,23,FALSE)*Z99/1000)","v":""},{"$f":"IF(Z99=0,\"\",VLOOKUP(Y99,Feeds!$B$9:$AB$109,24,FALSE))","v":""},{"$f":"IF(Z99=\"\",\"\",Z99*(VLOOKUP(Y99,Feeds!$B$9:$AB$109,25,FALSE)/1000))","v":""},{"$f":"IF(Z99=\"\",\"\",Z99*VLOOKUP(Y99,Feeds!$B$9:$AB$109,26,FALSE)/1000)","v":""},{"$f":"IF(Z99=\"\",\"\",Z99*VLOOKUP(Y99,Feeds!$B$9:$AB$109,27,FALSE)/1000)","v":""},{"$f":"IF(Z99=\"\",0,AA99*AB99/100)","v":0}]
[null,null,null,null,{"$f":"IF(D100=0,\"\",VLOOKUP(C100,Feeds!$B$9:$AB$109,23,FALSE)*D100/1000)","v":""},{"$f":"IF(D100=0,\"\",VLOOKUP(C100,Feeds!$B$9:$AB$109,24,FALSE))","v":""},{"$f":"IF(D100=\"\",\"\",D100*(VLOOKUP(C100,Feeds!$B$9:$AB$109,25,FALSE)/1000))","v":""},{"$f":"IF(D100=\"\",\"\",D100*VLOOKUP(C100,Feeds!$B$9:$AB$109,26,FALSE)/1000)","v":""},{"$f":"IF(D100=\"\",\"\",D100*VLOOKUP(C100,Feeds!$B$9:$AB$109,27,FALSE)/1000)","v":""},0,null,null,null,null,null,{"$f":"IF(O100=0,\"\",VLOOKUP(N100,Feeds!$B$9:$AB$109,23,FALSE)*O100/1000)","v":""},{"$f":"IF(O100=0,\"\",VLOOKUP(N100,Feeds!$B$9:$AB$109,24,FALSE))","v":""},{"$f":"IF(O100=\"\",\"\",O100*(VLOOKUP(N100,Feeds!$B$9:$AB$109,25,FALSE)/1000))","v":""},{"$f":"IF(O100=\"\",\"\",O100*VLOOKUP(N100,Feeds!$B$9:$AB$109,26,FALSE)/1000)","v":""},{"$f":"IF(O100=\"\",\"\",O100*VLOOKUP(N100,Feeds!$B$9:$AB$109,27,FALSE)/1000)","v":""},0,null,null,null,null,null,{"$f":"IF(Z100=0,\"\",VLOOKUP(Y100,Feeds!$B$9:$AB$109,23,FALSE)*Z100/1000)","v":""},{"$f":"IF(Z100=0,\"\",VLOOKUP(Y100,Feeds!$B$9:$AB$109,24,FALSE))","v":""},{"$f":"IF(Z100=\"\",\"\",Z100*(VLOOKUP(Y100,Feeds!$B$9:$AB$109,25,FALSE)/1000))","v":""},{"$f":"IF(Z100=\"\",\"\",Z100*VLOOKUP(Y100,Feeds!$B$9:$AB$109,26,FALSE)/1000)","v":""},{"$f":"IF(Z100=\"\",\"\",Z100*VLOOKUP(Y100,Feeds!$B$9:$AB$109,27,FALSE)/1000)","v":""},0]
[null,null,null,null,{"$f":"IF(D101=0,\"\",VLOOKUP(C101,Feeds!$B$9:$AB$109,23,FALSE)*D101/1000)","v":""},{"$f":"IF(D101=0,\"\",VLOOKUP(C101,Feeds!$B$9:$AB$109,24,FALSE))","v":""},{"$f":"IF(D101=\"\",\"\",D101*(VLOOKUP(C101,Feeds!$B$9:$AB$109,25,FALSE)/1000))","v":""},{"$f":"IF(D101=\"\",\"\",D101*VLOOKUP(C101,Feeds!$B$9:$AB$109,26,FALSE)/1000)","v":""},{"$f":"IF(D101=\"\",\"\",D101*VLOOKUP(C101,Feeds!$B$9:$AB$109,27,FALSE)/1000)","v":""},0,null,null,null,null,null,{"$f":"IF(O101=0,\"\",VLOOKUP(N101,Feeds!$B$9:$AB$109,23,FALSE)*O101/1000)","v":""},{"$f":"IF(O101=0,\"\",VLOOKUP(N101,Feeds!$B$9:$AB$109,24,FALSE))","v":""},{"$f":"IF(O101=\"\",\"\",O101*(VLOOKUP(N101,Feeds!$B$9:$AB$109,25,FALSE)/1000))","v":""},{"$f":"IF(O101=\"\",\"\",O101*VLOOKUP(N101,Feeds!$B$9:$AB$109,26,FALSE)/1000)","v":""},{"$f":"IF(O101=\"\",\"\",O101*VLOOKUP(N101,Feeds!$B$9:$AB$109,27,FALSE)/1000)","v":""},0,null,null,null,null,null,{"$f":"IF(Z101=0,\"\",VLOOKUP(Y101,Feeds!$B$9:$AB$109,23,FALSE)*Z101/1000)","v":""},{"$f":"IF(Z101=0,\"\",VLOOKUP(Y101,Feeds!$B$9:$AB$109,24,FALSE))","v":""},{"$f":"IF(Z101=\"\",\"\",Z101*(VLOOKUP(Y101,Feeds!$B$9:$AB$109,25,FALSE)/1000))","v":""},{"$f":"IF(Z101=\"\",\"\",Z101*VLOOKUP(Y101,Feeds!$B$9:$AB$109,26,FALSE)/1000)","v":""},{"$f":"IF(Z101=\"\",\"\",Z101*VLOOKUP(Y101,Feeds!$B$9:$AB$109,27,FALSE)/1000)","v":""},0]
[null,null,null,null,{"$f":"IF(D102=0,\"\",VLOOKUP(C102,Feeds!$B$9:$AB$109,23,FALSE)*D102/1000)","v":""},{"$f":"IF(D102=0,\"\",VLOOKUP(C102,Feeds!$B$9:$AB$109,24,FALSE))","v":""},{"$f":"IF(D102=\"\",\"\",D102*(VLOOKUP(C102,Feeds!$B$9:$AB$109,25,FALSE)/1000))","v":""},{"$f":"IF(D102=\"\",\"\",D102*VLOOKUP(C102,Feeds!$B$9:$AB$109,26,FALSE)/1000)","v":""},{"$f":"IF(D102=\"\",\"\",D102*VLOOKUP(C102,Feeds!$B$9:$AB$109,27,FALSE)/1000)","v":""},0,null,null,null,null,null,{"$f":"IF(O102=0,\"\",VLOOKUP(N102,Feeds!$B$9:$AB$109,23,FALSE)*O102/1000)","v":""},{"$f":"IF(O102=0,\"\",VLOOKUP(N102,Feeds!$B$9:$AB$109,24,FALSE))","v":""},{"$f":"IF(O102=\"\",\"\",O102*(VLOOKUP(N102,Feeds!$B$9:$AB$109,25,FALSE)/1000))","v":""},{"$f":"IF(O102=\"\",\"\",O102*VLOOKUP(N102,Feeds!$B$9:$AB$109,26,FALSE)/1000)","v":""},{"$f":"IF(O102=\"\",\"\",O102*VLOOKUP(N102,Feeds!$B$9:$AB$109,27,FALSE)/1000)","v":""},0,null,null,null,null,null,{"$f":"IF(Z102=0,\"\",VLOOKUP(Y102,Feeds!$B$9:$AB$109,23,FALSE)*Z102/1000)","v":""},{"$f":"IF(Z102=0,\"\",VLOOKUP(Y102,Feeds!$B$9:$AB$109,24,FALSE))","v":""},{"$f":"IF(Z102=\"\",\"\",Z102*(VLOOKUP(Y102,Feeds!$B$9:$AB$109,25,FALSE)/1000))","v":""},{"$f":"IF(Z102=\"\",\"\",Z102*VLOOKUP(Y102,Feeds!$B$9:$AB$109,26,FALSE)/1000)","v":""},{"$f":"IF(Z102=\"\",\"\",Z102*VLOOKUP(Y102,Feeds!$B$9:$AB$109,27,FALSE)/1000)","v":""},0]
[null,null,"Kokku päevas",{"$f":"SUM(D90:D102)","v":0},{"$f":"SUM(E90:E102)","v":0},null,{"$f":"SUM(G90:G102)","v":0},{"$f":"SUM(H90:H102)","v":0},{"$f":"SUM(I90:I102)","v":0},{"$f":"SUM(J90:J102)","v":0},null,null,null,"Kokku päevas",{"$f":"SUM(O90:O102)","v":0},{"$f":"SUM(P90:P102)","v":0},null,{"$f":"SUM(R90:R102)","v":0},{"$f":"SUM(S90:S102)","v":0},{"$f":"SUM(T90:T102)","v":0},{"$f":"SUM(U90:U102)","v":0},null,null,null,"Kokku päevas",{"$f":"SUM(Z90:Z102)","v":0},{"$f":"SUM(AA90:AA102)","v":0},null,{"$f":"SUM(AC90:AC102)","v":0},{"$f":"SUM(AD90:AD102)","v":0},{"$f":"SUM(AE90:AE102)","v":0},{"$f":"SUM(AF90:AF102)","v":0}]
[null,null,"Kokku perioodis",{"$f":"D103*L89","v":0},{"$f":"E103*L89","v":0},{"$f":"IF(D104=0,0,J104*100/E104)","v":0},{"$f":"G103*L89","v":0},{"$f":"H103*L89","v":0},{"$f":"I103*L89","v":0},{"$f":"J103*L89","v":0},null,null,null,"Kokku perioodis",{"$f":"O103*W89","v":0},{"$f":"P103*W89","v":0},{"$f":"IF(O104=0,0,U104*100/P104)","v":0},{"$f":"R103*W89","v":0},{"$f":"S103*W89","v":0},{"$f":"T103*W89","v":0},{"$f":"U103*W89","v":0},null,null,null,"Kokku perioodis",{"$f":"Z103*AH89","v":0},{"$f":"AA103*AH89","v":0},{"$f":"IF(Z104=0,0,AF104*100/AA104)","v":0},{"$f":"AC103*AH89","v":0},{"$f":"AD103*AH89","v":0},{"$f":"AE103*AH89","v":0},{"$f":"AF103*AH89","v":0}]
[null,null,null,null,null,null,null,null,null,{"$f":"IF((L89+L70+L51+L32+L13)=0,0,(J104+J85+J66+J47+J28))","v":0},null,null,null,null,null,null,null,null,null,null,{"$f":"IF((W89+W70+W51+W32+W13)=0,0,(U104+U85+U66+U47+U28))","v":0},null,null,null,null,null,null,null,null,null,null,{"$f":"IF((AH89+AH70+AH51+AH32+AH13)=0,0,(AF104+AF85+AF66+AF47+AF28)/(AH89+AH70+AH51+AH32+AH13)*365)","v":{"$error":"#N/A"}}]
[null,null,"Nuumiku kohta aastas","Sööta","KA","KA seeduvus ","TP","P","K",null,null,"Üleskasvatamis periood",null,"Võõrdepõrsa kohta aastas","Sööta","KA","KA seeduvus   ","TP","P","K",null,null,"Üleskasvatamis periood",null,"Emise kohta aastas","Sööta","KA","KA seeduvus ","TP","P","K",null,null,"Kokku"]
[null,null,null,"kg",null,"%","g/kg sööt",null,null,null,null,"päeva",null,null,"kg",null,"%","g/kg sööt",null,null,null,null,"päeva",null,null,"kg",null,"%","g/kg sööt",null,null,null,null,"päeva"]
[null,null,null,{"$f":"(IF((L89+L70+L51+L32+L13)=0,0,(D11+D28+D47+D66+D85+D104)))/1000","v":0},{"$f":"(IF((L89+L70+L51+L32+L13)=0,0,(E11+E28+E47+E66+E85+E104)))/1000","v":0},{"$f":"(IF(J105=0,0,J105*100/E108))/1000","v":0},{"$f":"IF((L89+L70+L51+L32+L13)=0,0,((G28+G47+G66+G85+G104))/D108)","v":0},{"$f":"IF((L89+L70+L51+L32+L13)=0,0,((H28+H47+H66+H85+H104))/D108)","v":0},{"$f":"IF((L89+L70+L51+L32+L13)=0,0,((I28+I47+I66+I85+I104))/D108)","v":0},null,null,{"$f":"L89+L70+L32+L51+L13+K2","v":0},null,null,{"$f":"(IF((W89+W70+W51+W32+W13)=0,0,(O11+O28+O47+O66+O85+O104)))/1000","v":0},{"$f":"(IF((W89+W70+W51+W32+W13)=0,0,(P11+P28+P47+P66+P85+P104)))/1000","v":0},{"$f":"(IF(U105=0,0,U105*100/P108))/1000","v":0},{"$f":"IF((W89+W70+W51+W32+W13)=0,0,(R28+R47+R66+R85+R104)/O108)","v":0},{"$f":"IF((W89+W70+W51+W32+W13)=0,0,(S28+S47+S66+S85+S104)/O108)","v":0},{"$f":"IF((W89+W70+W51+W32+W13)=0,0,(T28+T47+T66+T85+T104)/O108)","v":0},null,null,{"$f":"W89+W70+W32+W51+W13+V2","v":0},null,null,{"$f":"(IF((AH89+AH70+AH51+AH32+AH13)=0,0,(Z11+Z28+Z47+Z66+Z85+Z104)/(AH89+AH70+AH51+AH32+AH13)*365))/1000","v":2555},{"$f":"(IF((AH89+AH70+AH51+AH32+AH13)=0,0,(AA11+AA28+AA47+AA66+AA85+AA104)/(AH89+AH70+AH51+AH32+AH13)*365))/1000","v":{"$error":"#N/A"}},{"$f":"(IF(AF105=0,0,AF105*100/AA108))/1000","v":{"$error":"#N/A"}},{"$f":"IF((AH89+AH70+AH51+AH32+AH13)=0,0,((AC28+AC47+AC66+AC85+AC104)/(AH89+AH70+AH51+AH32+AH13)*365)/Z108)","v":{"$error":"#N/A"}},{"$f":"IF((AH89+AH70+AH51+AH32+AH13)=0,0,(AD28+AD47+AD66+AD85+AD104)/(AH89+AH70+AH51+AH32+AH13)*365/Z108)","v":{"$error":"#N/A"}},{"$f":"IF((AH89+AH70+AH51+AH32+AH13)=0,0,(AE28+AE47+AE66+AE85+AE104)/(AH89+AH70+AH51+AH32+AH13)*365/Z108)","v":{"$error":"#N/A"}},null,null,{"$f":"AH89+AH70+AH32+AH51+AH13+AG2","v":95}]
[null,null,null,null,"%",null,null,null,null,null,null,null,null,null,null,"%",null,null,null,null,null,null,null,null,null,null,"%"]
[null,null,null,null,{"$f":"IF(D108=0,0,E108/D108*100)","v":0},null,null,null,null,null,null,null,null,null,null,{"$f":"IF(O108=0,0,P108/O108*100)","v":0},null,null,null,null,null,null,null,null,null,null,{"$f":"IF(Z108=0,0,AA108/Z108*100)","v":{"$error":"#N/A"}}]
[]
[null,null,null,null,null,null,null,null,null,null,null,null,null,null,null,null,null,null,null,null,null,null,null,null,"Vaba- ja tiinusperiood, % KA ",null,{"$f":"IF(AA28=0,0,(AA28+AA47+AA66)/(AA104+AA85+AA66+AA47+AA28)*100)","v":0}]
[null,null,null,null,null,null,null,null,null,null,null,null,null,null,null,null,null,null,null,null,null,null,null,null,"Imetamisperiood, % KA",null,{"$f":"IF(AA85=0,0,(AA85+AA104)/(AA85+AA66+AA47+AA28+AA104)*100)","v":{"$error":"#N/A"}}]

{"sheet":"Feedin pigs (AFC)","index":4,"n_rows":48,"n_cols":46,"rows_kept":48,"cut":false,"hidden":false,"merged":[[2,2,3,12],[41,39,41,40],[43,39,43,40],[46,39,46,40],[47,39,47,40],[46,37,47,38],[41,29,43,29],[41,30,43,30],[41,31,43,31],[41,32,43,32],[41,33,43,33],[28,32,28,33],[28,38,28,39],[30,38,30,39],[36,21,36,22],[36,30,36,31],[36,32,36,33],[32,32,32,33],[32,38,32,39],[28,27,28,28],[28,30,28,31],[41,41,43,41],[41,43,43,43],[41,19,43,19],[41,21,43,21],[41,20,43,20],[41,22,43,22],[41,18,43,18],[5,14,8,16],[5,17,5,18],[5,19,5,22],[6,19,6,22],[6,28,6,29],[6,30,6,33],[6,41,6,44],[7,19,7,22],[7,28,7,29],[7,30,7,33],[5,25,8,27],[5,36,8,38],[8,19,8,22],[8,30,8,33],[7,39,8,40],[41,37,43,38],[42,39,42,40],[7,41,8,44],[5,2,8,8],[5,28,5,29],[5,30,5,33],[5,39,5,40],[5,41,5,44],[10,2,11,2],[10,11,11,12],[10,14,11,14],[10,16,10,17],[10,19,10,20],[10,21,10,22],[10,25,11,25],[10,43,10,44],[11,3,11,4],[11,6,11,8],[11,15,11,22],[11,26,11,33],[11,37,11,44],[10,27,10,28],[10,30,10,31],[10,32,10,33],[10,36,11,36],[10,38,10,39],[10,41,10,42],[12,32,12,33],[12,38,12,39],[12,41,12,42],[12,43,12,44],[13,11,13,12],[13,16,13,17],[13,19,13,20],[13,21,13,22],[13,27,13,28],[13,30,13,31],[12,11,12,12],[12,16,12,17],[12,19,12,20],[12,21,12,22],[12,27,12,28],[12,30,12,31],[13,32,13,33],[13,38,13,39],[13,41,13,42],[13,43,13,44],[14,43,14,44],[15,11,15,12],[15,16,15,17],[15,19,15,20],[15,21,15,22],[15,27,15,28],[15,30,15,31],[15,32,15,33],[15,38,15,39],[15,41,15,42],[15,43,15,44],[14,11,14,12],[14,16,14,17],[14,19,14,20],[14,21,14,22],[14,27,14,28],[14,30,14,31],[14,32,14,33],[14,38,14,39],[14,41,14,42],[16,43,16,44],[17,11,17,12],[17,16,17,17],[17,19,17,20],[17,21,17,22],[17,27,17,28],[17,30,17,31],[17,32,17,33],[17,38,17,39],[17,41,17,42],[17,43,17,44],[16,11,16,12],[16,16,16,17],[16,19,16,20],[16,21,16,22],[16,27,16,28],[16,30,16,31],[16,32,16,33],[16,38,16,39],[16,41,16,42],[18,43,18,44],[19,11,19,12],[19,16,19,17],[19,19,19,20],[19,21,19,22],[19,27,19,28],[19,30,19,31],[19,32,19,33],[19,38,19,39],[19,41,19,42],[19,43,19,44],[18,11,18,12],[18,16,18,17],[18,19,18,20],[18,21,18,22],[18,27,18,28],[18,30,18,31],[18,32,18,33],[18,38,18,39],[18,41,18,42],[20,43,20,44],[21,11,21,12],[21,16,21,17],[21,19,21,20],[21,21,21,22],[21,27,21,28],[21,30,21,31],[21,32,21,33],[21,38,21,39],[21,41,21,42],[21,43,21,44],[20,11,20,12],[20,16,20,17],[20,19,20,20],[20,21,20,22],[20,27,20,28],[20,30,20,31],[20,32,20,33],[20,38,20,39],[20,41,20,42],[22,43,22,44],[23,11,23,12],[23,16,23,17],[23,19,23,20],[23,21,23,22],[23,27,23,28],[23,30,23,31],[23,32,23,33],[23,38,23,39],[23,41,23,42],[23,43,23,44],[22,11,22,12],[22,16,22,17],[22,19,22,20],[22,21,22,22],[22,27,22,28],[22,30,22,31],[22,32,22,33],[22,38,22,39],[22,41,22,42],[24,43,24,44],[25,11,25,12],[25,16,25,17],[25,19,25,20],[25,21,25,22],[25,27,25,28],[25,30,25,31],[25,32,25,33],[25,38,25,39],[25,41,25,42],[25,43,25,44],[24,11,24,12],[24,16,24,17],[24,19,24,20],[24,21,24,22],[24,27,24,28],[24,30,24,31],[24,32,24,33],[24,38,24,39],[24,41,24,42],[28,41,28,42],[26,43,26,44],[27,11,27,12],[27,16,27,17],[27,19,27,20],[27,21,27,22],[27,27,27,28],[27,30,27,31],[27,32,27,33],[27,38,27,39],[27,41,27,42],[27,43,27,44],[26,11,26,12],[26,16,26,17],[26,19,26,20],[26,21,26,22],[26,27,26,28],[26,30,26,31],[26,32,26,33],[26,38,26,39],[26,41,26,42],[28,16,28,17],[28,19,28,20],[28,21,28,22],[30,41,30,42],[32,41,32,42],[31,32,31,33],[31,38,31,39],[31,41,31,42],[28,43,28,44],[29,11,29,12],[29,16,29,17],[29,19,29,20],[29,21,29,22],[29,27,29,28],[29,30,29,31],[30,43,30,44],[31,11,31,12],[31,16,31,17],[31,19,31,20],[31,21,31,22],[31,27,31,28],[31,30,31,31],[29,32,29,33],[29,38,29,39],[29,41,29,42],[29,43,29,44],[31,43,31,44],[36,41,36,42],[36,43,36,44],[34,36,36,36],[34,41,34,42],[34,43,34,44],[35,18,35,22],[35,26,35,27],[35,29,35,33],[35,37,35,38],[35,40,35,44],[36,19,36,20],[32,43,32,44],[32,19,32,20],[32,21,32,22],[32,27,32,28],[32,30,32,31],[1,2,1,5],[1,6,1,12],[34,14,36,14],[34,19,34,20],[34,21,34,22],[34,25,36,25],[34,30,34,31],[34,32,34,33],[35,15,35,16],[32,11,32,12],[32,16,32,17],[30,32,30,33],[30,11,30,12],[30,16,30,17],[30,19,30,20],[30,21,30,22],[30,27,30,28],[30,30,30,31],[28,11,28,12]]}
[]
[null,null,"Sigade söötmine",null,null,null,"STA"]
[]
[]
[null,987654321]
[null,null,"Söötade tarbimine aastas",null,null,null,null,null,null,null,null,null,null,null,"Nuumsead",null,null,"Nuumikute arv, toodetud loomi",null,null,null,null,null,null,null,"Võõrdepõrsad",null,null,"Võõrdepõrsaste arv, toodetud loomi",null,null,null,null,null,null,null,"Emised                                           Free and gestation period",null,null,"Emiste arv, aastaemiseid"]
[null,null,null,null,null,null,null,null,null,null,null,null,null,null,null,null,null,"Kehamass perioodi alguses, kg",null,null,null,null,null,null,null,null,null,null,"Kehamass perioodi alguses, kg",null,null,null,null,null,null,null,null,null,null,"Põrsaste arv, aastaemis"]
[null,null,null,null,null,null,null,null,null,null,null,null,null,null,null,null,null,"Kehamass perioodi lõpus, kg",null,null,null,null,null,null,null,null,null,null,"Kehamass perioodi lõpus, kg",null,null,null,null,null,null,null,null,null,null,"Põrsa kehmass võõrutamisel, kg"]
[null,null,null,null,null,null,null,null,null,null,null,null,null,null,null,null,null,"Üleskasvatamisperiood, päeva",null,null,null,null,null,null,null,null,null,null,"Üleskasvatamisperiood, päeva"]
[]
[null,null,"Söödad ","Kogus","KA","KA seeduvus","TP","P","K",null,null,"Summa (max. 100%) ",null,null,"Osakaal, %","Kogus","KA",null,"TP","P",null,"K",null,null,null,"Osakaal, %","Kogus","KA",null,"TP","P",null,"K",null,null,null,"Osakaal, %","Kogus","KA",null,"TP","P",null,"K"]
[null,null,null,"t/aasta",null,"%","t/aasta",null,null,null,null,null,null,null,null,"t/aasta",null,null,null,null,null,null,null,null,null,null,"t/aasta",null,null,null,null,null,null,null,null,null,null,"t/aasta"]
[null,null,null,null,{"$f":"IF(D13=0,\"\",VLOOKUP(C13,Feeds!$B$9:$AB$109,23,FALSE)*D13/1000)","v":""},{"$f":"IF(D13=0,\"\",VLOOKUP(C13,Feeds!$B$9:$AB$109,24,FALSE))","v":""},{"$f":"IF(D13=0,\"\",VLOOKUP(C13,Feeds!$B$9:$AB$109,25,FALSE)*D13/1000)","v":""},{"$f":"IF(D13=0,\"\",VLOOKUP(C13,Feeds!$B$9:$AB$109,26,FALSE)*D13/1000)","v":""},{"$f":"IF(D13=0,\"\",VLOOKUP(C13,Feeds!$B$9:$AB$109,27,FALSE)*D13/1000)","v":""},{"$f":"O13+Z13+AK13+AV13+BF13+BP13","v":65},null,{"$f":"IF(O13+Z13+AK13+AV13+BF13+BP13 <=100,O13+Z13+AK13+AV13+BF13+BP13,\"ERROR, SUM>100%\")","v":65},null,null,null,{"$f":"IF(O13=\"\",\"\",IF(E13=\"\",\"\",D13*O13/100))","v":""},{"$f":"IF(O13=\"\",\"\",IF($E$13=\"\",\"\",$E$13*O13/100))","v":""},null,{"$f":"IF(O13=\"\",\"\",IF(G13=\"\",\"\",G13*O13/100))","v":""},{"$f":"IF(O13=\"\",\"\",IF(H13=\"\",\"\",H13*O13/100))","v":""},null,{"$f":"IF(O13=\"\",\"\",IF(I13=\"\",\"\",I13*O13/100))","v":""},null,{"$f":"IF(Q13=\"\",0,Q13*F13/100)","v":0},null,null,{"$f":"IF(Z13=\"\",\"\",IF(E13=\"\",\"\",D13*Z13/100))","v":""},{"$f":"IF(Z13=\"\",\"\",IF(E13=\"\",\"\",E13*Z13/100))","v":""},null,{"$f":"IF(Z13=\"\",\"\",IF(G13=\"\",\"\",G13*Z13/100))","v":""},{"$f":"IF(Z13=\"\",\"\",IF(H13=\"\",\"\",H13*Z13/100))","v":""},null,{"$f":"IF(Z13=\"\",\"\",IF(I13=\"\",\"\",I13*Z13/100))","v":""},null,{"$f":"IF(AB13=\"\",0,AB13*F13/100)","v":0},null,65,{"$f":"IF(AK13=\"\",\"\",IF(E13=\"\",\"\",D13*AK13/100))","v":""},{"$f":"IF(AK13=\"\",\"\",IF(E13=\"\",\"\",E13*AK13/100))","v":""},null,{"$f":"IF(AK13=\"\",\"\",IF(G13=\"\",\"\",G13*AK13/100))","v":""},{"$f":"IF(AK13=\"\",\"\",IF(H13=\"\",\"\",H13*AK13/100))","v":""},null,{"$f":"IF(AK13=\"\",\"\",IF(I13=\"\",\"\",I13*AK13/100))","v":""},null,{"$f":"IF(AM13=\"\",0,AM13*F13/100)","v":0}]
[null,null,null,null,{"$f":"IF(D14=0,\"\",VLOOKUP(C14,Feeds!$B$9:$AB$109,23,FALSE)*D14/1000)","v":""},{"$f":"IF(D14=0,\"\",VLOOKUP(C14,Feeds!$B$9:$AB$109,24,FALSE))","v":""},{"$f":"IF(D14=0,\"\",VLOOKUP(C14,Feeds!$B$9:$AB$109,25,FALSE)*D14/1000)","v":""},{"$f":"IF(D14=0,\"\",VLOOKUP(C14,Feeds!$B$9:$AB$109,26,FALSE)*D14/1000)","v":""},{"$f":"IF(D14=0,\"\",VLOOKUP(C14,Feeds!$B$9:$AB$109,27,FALSE)*D14/1000)","v":""},{"$f":"O14+Z14+AK14+AV14+BF14+BP14","v":0},null,{"$f":"IF(O14+Z14+AK14+AV14+BF14+BP14 <=100,O14+Z14+AK14+AV14+BF14+BP14,\"ERROR, SUM>100%\")","v":0},null,null,null,{"$f":"IF(O14=\"\",\"\",IF(E14=\"\",\"\",D14*O14/100))","v":""},{"$f":"IF(O14=\"\",\"\",IF(E14=\"\",\"\",E14*O14/100))","v":""},null,{"$f":"IF(O14=\"\",\"\",IF(G14=\"\",\"\",G14*O14/100))","v":""},{"$f":"IF(O14=\"\",\"\",IF(H14=\"\",\"\",H14*O14/100))","v":""},null,{"$f":"IF(O14=\"\",\"\",IF(I14=\"\",\"\",I14*O14/100))","v":""},null,{"$f":"IF(Q14=\"\",0,Q14*F14/100)","v":0},null,null,{"$f":"IF(Z14=\"\",\"\",IF(E14=\"\",\"\",D14*Z14/100))","v":""},{"$f":"IF(Z14=\"\",\"\",IF(E14=\"\",\"\",E14*Z14/100))","v":""},null,{"$f":"IF(Z14=\"\",\"\",IF(G14=\"\",\"\",G14*Z14/100))","v":""},{"$f":"IF(Z14=\"\",\"\",IF(H14=\"\",\"\",H14*Z14/100))","v":""},null,{"$f":"IF(Z14=\"\",\"\",IF(I14=\"\",\"\",I14*Z14/100))","v":""},null,{"$f":"IF(AB14=\"\",0,AB14*F14/100)","v":0},null,null,{"$f":"IF(AK14=\"\",\"\",IF(E14=\"\",\"\",D14*AK14/100))","v":""},{"$f":"IF(AK14=\"\",\"\",IF(E14=\"\",\"\",E14*AK14/100))","v":""},null,{"$f":"IF(AK14=\"\",\"\",IF(G14=\"\",\"\",G14*AK14/100))","v":""},{"$f":"IF(AK14=\"\",\"\",IF(H14=\"\",\"\",H14*AK14/100))","v":""},null,{"$f":"IF(AK14=\"\",\"\",IF(I14=\"\",\"\",I14*AK14/100))","v":""},null,{"$f":"IF(AM14=\"\",0,AM14*F14/100)","v":0}]
[null,null,null,null,{"$f":"IF(D15=0,\"\",VLOOKUP(C15,Feeds!$B$9:$AB$109,23,FALSE)*D15/1000)","v":""},{"$f":"IF(D15=0,\"\",VLOOKUP(C15,Feeds!$B$9:$AB$109,24,FALSE))","v":""},{"$f":"IF(D15=0,\"\",VLOOKUP(C15,Feeds!$B$9:$AB$109,25,FALSE)*D15/1000)","v":""},{"$f":"IF(D15=0,\"\",VLOOKUP(C15,Feeds!$B$9:$AB$109,26,FALSE)*D15/1000)","v":""},{"$f":"IF(D15=0,\"\",VLOOKUP(C15,Feeds!$B$9:$AB$109,27,FALSE)*D15/1000)","v":""},0,null,0,null,null,null,{"$f":"IF(O15=\"\",\"\",IF(E15=\"\",\"\",D15*O15/100))","v":""},{"$f":"IF(O15=\"\",\"\",IF(E15=\"\",\"\",E15*O15/100))","v":""},null,{"$f":"IF(O15=\"\",\"\",IF(G15=\"\",\"\",G15*O15/100))","v":""},"",null,{"$f":"IF(O15=\"\",\"\",IF(I15=\"\",\"\",I15*O15/100))","v":""},null,0,null,null,"",{"$f":"IF(Z15=\"\",\"\",IF(E15=\"\",\"\",E15*Z15/100))","v":""},null,"","",null,{"$f":"IF(Z15=\"\",\"\",IF(I15=\"\",\"\",I15*Z15/100))","v":""},null,0,null,null,"","",null,"","",null,"",null,0]
[null,null,null,null,{"$f":"IF(D16=0,\"\",VLOOKUP(C16,Feeds!$B$9:$AB$109,23,FALSE)*D16/1000)","v":""},{"$f":"IF(D16=0,\"\",VLOOKUP(C16,Feeds!$B$9:$AB$109,24,FALSE))","v":""},{"$f":"IF(D16=0,\"\",VLOOKUP(C16,Feeds!$B$9:$AB$109,25,FALSE)*D16/1000)","v":""},{"$f":"IF(D16=0,\"\",VLOOKUP(C16,Feeds!$B$9:$AB$109,26,FALSE)*D16/1000)","v":""},{"$f":"IF(D16=0,\"\",VLOOKUP(C16,Feeds!$B$9:$AB$109,27,FALSE)*D16/1000)","v":""},0,null,0,null,null,null,"","",null,"","",null,"",null,0,null,null,"","",null,"","",null,"",null,0,null,null,"","",null,"","",null,"",null,0]
[null,null,null,null,{"$f":"IF(D17=0,\"\",VLOOKUP(C17,Feeds!$B$9:$AB$109,23,FALSE)*D17/1000)","v":""},{"$f":"IF(D17=0,\"\",VLOOKUP(C17,Feeds!$B$9:$AB$109,24,FALSE))","v":""},{"$f":"IF(D17=0,\"\",VLOOKUP(C17,Feeds!$B$9:$AB$109,25,FALSE)*D17/1000)","v":""},{"$f":"IF(D17=0,\"\",VLOOKUP(C17,Feeds!$B$9:$AB$109,26,FALSE)*D17/1000)","v":""},{"$f":"IF(D17=0,\"\",VLOOKUP(C17,Feeds!$B$9:$AB$109,27,FALSE)*D17/1000)","v":""},0,null,0,null,null,null,"","",null,"","",null,"",null,0,null,null,"","",null,"","",null,"",null,0,null,null,"","",null,"","",null,"",null,0]
[null,null,null,null,{"$f":"IF(D18=0,\"\",VLOOKUP(C18,Feeds!$B$9:$AB$109,23,FALSE)*D18/1000)","v":""},{"$f":"IF(D18=0,\"\",VLOOKUP(C18,Feeds!$B$9:$AB$109,24,FALSE))","v":""},{"$f":"IF(D18=0,\"\",VLOOKUP(C18,Feeds!$B$9:$AB$109,25,FALSE)*D18/1000)","v":""},{"$f":"IF(D18=0,\"\",VLOOKUP(C18,Feeds!$B$9:$AB$109,26,FALSE)*D18/1000)","v":""},{"$f":"IF(D18=0,\"\",VLOOKUP(C18,Feeds!$B$9:$AB$109,27,FALSE)*D18/1000)","v":""},0,null,0,null,null,null,"","",null,"","",null,"",null,0,null,null,"","",null,"","",null,"",null,0,null,null,"","",null,"","",null,"",null,0]
[null,null,null,null,{"$f":"IF(D19=0,\"\",VLOOKUP(C19,Feeds!$B$9:$AB$109,23,FALSE)*D19/1000)","v":""},{"$f":"IF(D19=0,\"\",VLOOKUP(C19,Feeds!$B$9:$AB$109,24,FALSE))","v":""},{"$f":"IF(D19=0,\"\",VLOOKUP(C19,Feeds!$B$9:$AB$109,25,FALSE)*D19/1000)","v":""},{"$f":"IF(D19=0,\"\",VLOOKUP(C19,Feeds!$B$9:$AB$109,26,FALSE)*D19/1000)","v":""},{"$f":"IF(D19=0,\"\",VLOOKUP(C19,Feeds!$B$9:$AB$109,27,FALSE)*D19/1000)","v":""},0,null,0,null,null,null,"","",null,"","",null,"",null,0,null,null,"","",null,"","",null,"",null,0,null,null,"","",null,"","",null,"",null,0]
[null,null,null,null,{"$f":"IF(D20=0,\"\",VLOOKUP(C20,Feeds!$B$9:$AB$109,23,FALSE)*D20/1000)","v":""},{"$f":"IF(D20=0,\"\",VLOOKUP(C20,Feeds!$B$9:$AB$109,24,FALSE))","v":""},{"$f":"IF(D20=0,\"\",VLOOKUP(C20,Feeds!$B$9:$AB$109,25,FALSE)*D20/1000)","v":""},{"$f":"IF(D20=0,\"\",VLOOKUP(C20,Feeds!$B$9:$AB$109,26,FALSE)*D20/1000)","v":""},{"$f":"IF(D20=0,\"\",VLOOKUP(C20,Feeds!$B$9:$AB$109,27,FALSE)*D20/1000)","v":""},0,null,0,null,null,null,"","",null,"","",null,"",null,0,null,null,"","",null,"","",null,"",null,0,null,null,"","",null,"","",null,"",null,0]
[null,null,null,null,{"$f":"IF(D21=0,\"\",VLOOKUP(C21,Feeds!$B$9:$AB$109,23,FALSE)*D21/1000)","v":""},{"$f":"IF(D21=0,\"\",VLOOKUP(C21,Feeds!$B$9:$AB$109,24,FALSE))","v":""},{"$f":"IF(D21=0,\"\",VLOOKUP(C21,Feeds!$B$9:$AB$109,25,FALSE)*D21/1000)","v":""},{"$f":"IF(D21=0,\"\",VLOOKUP(C21,Feeds!$B$9:$AB$109,26,FALSE)*D21/1000)","v":""},{"$f":"IF(D21=0,\"\",VLOOKUP(C21,Feeds!$B$9:$AB$109,27,FALSE)*D21/1000)","v":""},0,null,0,null,null,null,"","",null,"","",null,"",null,0,null,null,"","",null,"","",null,"",null,0,null,null,"","",null,"","",null,"",null,0]
[null,null,null,null,{"$f":"IF(D22=0,\"\",VLOOKUP(C22,Feeds!$B$9:$AB$109,23,FALSE)*D22/1000)","v":""},{"$f":"IF(D22=0,\"\",VLOOKUP(C22,Feeds!$B$9:$AB$109,24,FALSE))","v":""},{"$f":"IF(D22=0,\"\",VLOOKUP(C22,Feeds!$B$9:$AB$109,25,FALSE)*D22/1000)","v":""},{"$f":"IF(D22=0,\"\",VLOOKUP(C22,Feeds!$B$9:$AB$109,26,FALSE)*D22/1000)","v":""},{"$f":"IF(D22=0,\"\",VLOOKUP(C22,Feeds!$B$9:$AB$109,27,FALSE)*D22/1000)","v":""},0,null,0,null,null,null,"","",null,"","",null,"",null,0,null,null,"","",null,"","",null,"",null,0,null,null,"","",null,"","",null,"",null,0]
[null,null,null,null,{"$f":"IF(D23=0,\"\",VLOOKUP(C23,Feeds!$B$9:$AB$109,23,FALSE)*D23/1000)","v":""},{"$f":"IF(D23=0,\"\",VLOOKUP(C23,Feeds!$B$9:$AB$109,24,FALSE))","v":""},{"$f":"IF(D23=0,\"\",VLOOKUP(C23,Feeds!$B$9:$AB$109,25,FALSE)*D23/1000)","v":""},{"$f":"IF(D23=0,\"\",VLOOKUP(C23,Feeds!$B$9:$AB$109,26,FALSE)*D23/1000)","v":""},{"$f":"IF(D23=0,\"\",VLOOKUP(C23,Feeds!$B$9:$AB$109,27,FALSE)*D23/1000)","v":""},0,null,0,null,null,null,"","",null,"","",null,"",null,0,null,null,"","",null,"","",null,"",null,0,null,null,"","",null,"","",null,"",null,0]
[null,null,null,null,{"$f":"IF(D24=0,\"\",VLOOKUP(C24,Feeds!$B$9:$AB$109,23,FALSE)*D24/1000)","v":""},{"$f":"IF(D24=0,\"\",VLOOKUP(C24,Feeds!$B$9:$AB$109,24,FALSE))","v":""},{"$f":"IF(D24=0,\"\",VLOOKUP(C24,Feeds!$B$9:$AB$109,25,FALSE)*D24/1000)","v":""},{"$f":"IF(D24=0,\"\",VLOOKUP(C24,Feeds!$B$9:$AB$109,26,FALSE)*D24/1000)","v":""},{"$f":"IF(D24=0,\"\",VLOOKUP(C24,Feeds!$B$9:$AB$109,27,FALSE)*D24/1000)","v":""},0,null,0,null,null,null,"","",null,"","",null,"",null,0,null,null,"","",null,"","",null,"",null,0,null,null,"","",null,"","",null,"",null,0]
[null,null,null,null,{"$f":"IF(D25=0,\"\",VLOOKUP(C25,Feeds!$B$9:$AB$109,23,FALSE)*D25/1000)","v":""},{"$f":"IF(D25=0,\"\",VLOOKUP(C25,Feeds!$B$9:$AB$109,24,FALSE))","v":""},{"$f":"IF(D25=0,\"\",VLOOKUP(C25,Feeds!$B$9:$AB$109,25,FALSE)*D25/1000)","v":""},{"$f":"IF(D25=0,\"\",VLOOKUP(C25,Feeds!$B$9:$AB$109,26,FALSE)*D25/1000)","v":""},{"$f":"IF(D25=0,\"\",VLOOKUP(C25,Feeds!$B$9:$AB$109,27,FALSE)*D25/1000)","v":""},0,null,0,null,null,null,"","",null,"","",null,"",null,0,null,null,"","",null,"","",null,"",null,0,null,null,"","",null,"","",null,"",null,0]
[null,null,null,null,{"$f":"IF(D26=0,\"\",VLOOKUP(C26,Feeds!$B$9:$AB$109,23,FALSE)*D26/1000)","v":""},{"$f":"IF(D26=0,\"\",VLOOKUP(C26,Feeds!$B$9:$AB$109,24,FALSE))","v":""},{"$f":"IF(D26=0,\"\",VLOOKUP(C26,Feeds!$B$9:$AB$109,25,FALSE)*D26/1000)","v":""},{"$f":"IF(D26=0,\"\",VLOOKUP(C26,Feeds!$B$9:$AB$109,26,FALSE)*D26/1000)","v":""},{"$f":"IF(D26=0,\"\",VLOOKUP(C26,Feeds!$B$9:$AB$109,27,FALSE)*D26/1000)","v":""},0,null,0,null,null,null,"","",null,"","",null,"",null,0,null,null,"","",null,"","",null,"",null,0,null,null,"","",null,"","",null,"",null,0]
[null,null,null,null,{"$f":"IF(D27=0,\"\",VLOOKUP(C27,Feeds!$B$9:$AB$109,23,FALSE)*D27/1000)","v":""},{"$f":"IF(D27=0,\"\",VLOOKUP(C27,Feeds!$B$9:$AB$109,24,FALSE))","v":""},{"$f":"IF(D27=0,\"\",VLOOKUP(C27,Feeds!$B$9:$AB$109,25,FALSE)*D27/1000)","v":""},{"$f":"IF(D27=0,\"\",VLOOKUP(C27,Feeds!$B$9:$AB$109,26,FALSE)*D27/1000)","v":""},{"$f":"IF(D27=0,\"\",VLOOKUP(C27,Feeds!$B$9:$AB$109,27,FALSE)*D27/1000)","v":""},0,null,0,null,null,null,"","",null,"","",null,"",null,0,null,null,"","",null,"","",null,"",null,0,null,null,"","",null,"","",null,"",null,0]
[null,null,null,null,{"$f":"IF(D28=0,\"\",VLOOKUP(C28,Feeds!$B$9:$AB$109,23,FALSE)*D28/1000)","v":""},{"$f":"IF(D28=0,\"\",VLOOKUP(C28,Feeds!$B$9:$AB$109,24,FALSE))","v":""},{"$f":"IF(D28=0,\"\",VLOOKUP(C28,Feeds!$B$9:$AB$109,25,FALSE)*D28/1000)","v":""},{"$f":"IF(D28=0,\"\",VLOOKUP(C28,Feeds!$B$9:$AB$109,26,FALSE)*D28/1000)","v":""},{"$f":"IF(D28=0,\"\",VLOOKUP(C28,Feeds!$B$9:$AB$109,27,FALSE)*D28/1000)","v":""},0,null,0,null,null,null,"","",null,"","",null,"",null,0,null,null,"","",null,"","",null,{"$f":"IF(Z28=\"\",\"\",IF(I28=\"\",\"\",I28*Z28/100))","v":""},null,0,null,null,"","",null,"","",null,"",null,0]
[null,null,null,null,{"$f":"IF(D29=0,\"\",VLOOKUP(C29,Feeds!$B$9:$AB$109,23,FALSE)*D29/1000)","v":""},{"$f":"IF(D29=0,\"\",VLOOKUP(C29,Feeds!$B$9:$AB$109,24,FALSE))","v":""},{"$f":"IF(D29=0,\"\",VLOOKUP(C29,Feeds!$B$9:$AB$109,25,FALSE)*D29/1000)","v":""},{"$f":"IF(D29=0,\"\",VLOOKUP(C29,Feeds!$B$9:$AB$109,26,FALSE)*D29/1000)","v":""},{"$f":"IF(D29=0,\"\",VLOOKUP(C29,Feeds!$B$9:$AB$109,27,FALSE)*D29/1000)","v":""},0,null,0,null,null,null,"","",null,"","",null,"",null,0,null,null,"","",null,"","",null,"",null,0,null,null,"","",null,"","",null,{"$f":"IF(AK29=\"\",\"\",IF(I29=\"\",\"\",I29*AK29/100))","v":""},null,0]
[null,null,null,null,{"$f":"IF(D30=0,\"\",VLOOKUP(C30,Feeds!$B$9:$AB$109,23,FALSE)*D30/1000)","v":""},{"$f":"IF(D30=0,\"\",VLOOKUP(C30,Feeds!$B$9:$AB$109,24,FALSE))","v":""},{"$f":"IF(D30=0,\"\",VLOOKUP(C30,Feeds!$B$9:$AB$109,25,FALSE)*D30/1000)","v":""},{"$f":"IF(D30=0,\"\",VLOOKUP(C30,Feeds!$B$9:$AB$109,26,FALSE)*D30/1000)","v":""},{"$f":"IF(D30=0,\"\",VLOOKUP(C30,Feeds!$B$9:$AB$109,27,FALSE)*D30/1000)","v":""},0,null,0,null,null,null,"","",null,"","",null,"",null,0,null,null,"","",null,"","",null,{"$f":"IF(Z30=\"\",\"\",IF(I30=\"\",\"\",I30*Z30/100))","v":""},null,0,null,null,"","",null,"","",null,{"$f":"IF(AK30=\"\",\"\",IF(I30=\"\",\"\",I30*AK30/100))","v":""},null,0]
[null,null,null,null,{"$f":"IF(D31=0,\"\",VLOOKUP(C31,Feeds!$B$9:$AB$109,23,FALSE)*D31/1000)","v":""},{"$f":"IF(D31=0,\"\",VLOOKUP(C31,Feeds!$B$9:$AB$109,24,FALSE))","v":""},{"$f":"IF(D31=0,\"\",VLOOKUP(C31,Feeds!$B$9:$AB$109,25,FALSE)*D31/1000)","v":""},{"$f":"IF(D31=0,\"\",VLOOKUP(C31,Feeds!$B$9:$AB$109,26,FALSE)*D31/1000)","v":""},{"$f":"IF(D31=0,\"\",VLOOKUP(C31,Feeds!$B$9:$AB$109,27,FALSE)*D31/1000)","v":""},0,null,0,null,null,null,"","",null,"","",null,"",null,0,null,null,"","",null,"","",null,"",null,0,null,null,"","",null,"","",null,"",null,0]
[null,null,null,null,{"$f":"IF(D32=0,\"\",VLOOKUP(C32,Feeds!$B$9:$AB$109,23,FALSE)*D32/1000)","v":""},{"$f":"IF(D32=0,\"\",VLOOKUP(C32,Feeds!$B$9:$AB$109,24,FALSE))","v":""},{"$f":"IF(D32=0,\"\",VLOOKUP(C32,Feeds!$B$9:$AB$109,25,FALSE)*D32/1000)","v":""},{"$f":"IF(D32=0,\"\",VLOOKUP(C32,Feeds!$B$9:$AB$109,26,FALSE)*D32/1000)","v":""},{"$f":"IF(D32=0,\"\",VLOOKUP(C32,Feeds!$B$9:$AB$109,27,FALSE)*D32/1000)","v":""},0,null,0,null,null,null,"","",null,"","",null,"",null,0,null,null,"","",null,"","",null,"",null,0,null,null,"","",null,"","",null,"",null,0]
[null,null,null,null,{"$f":"IF(D33=0,\"\",VLOOKUP(C33,Feeds!$B$9:$AB$109,23,FALSE)*D33/1000)","v":""},{"$f":"IF(D33=0,\"\",VLOOKUP(C33,Feeds!$B$9:$AB$109,24,FALSE))","v":""},{"$f":"IF(D33=0,\"\",VLOOKUP(C33,Feeds!$B$9:$AB$109,25,FALSE)*D33/1000)","v":""},{"$f":"IF(D33=0,\"\",VLOOKUP(C33,Feeds!$B$9:$AB$109,26,FALSE)*D33/1000)","v":""},{"$f":"IF(D33=0,\"\",VLOOKUP(C33,Feeds!$B$9:$AB$109,27,FALSE)*D33/1000)","v":""},0,null,0,null,null,null,{"$f":"IF(O33=\"\",\"\",IF(E33=\"\",\"\",D33*O33/100))","v":""},{"$f":"IF(O33=\"\",\"\",IF(E33=\"\",\"\",E33*O33/100))","v":""},null,"","",null,{"$f":"IF(O33=\"\",\"\",IF(I33=\"\",\"\",I33*O33/100))","v":""},null,0,null,null,{"$f":"IF(Z33=\"\",\"\",IF(E33=\"\",\"\",D33*Z33/100))","v":""},{"$f":"IF(Z33=\"\",\"\",IF(E33=\"\",\"\",E33*Z33/100))","v":""},null,"","",null,{"$f":"IF(Z33=\"\",\"\",IF(I33=\"\",\"\",I33*Z33/100))","v":""},null,0,null,null,"",{"$f":"IF(AK33=\"\",\"\",IF(E33=\"\",\"\",E33*AK33/100))","v":""},null,{"$f":"IF(AK33=\"\",\"\",IF(G33=\"\",\"\",G33*AK33/100))","v":""},{"$f":"IF(AK33=\"\",\"\",IF(H33=\"\",\"\",H33*AK33/100))","v":""},null,"",null,{"$f":"IF(AM33=\"\",0,AM33*F33/100)","v":0}]
[]
[null,null,null,null,null,null,null,null,null,null,null,null,null,null,"Nuumiku kohta aastas","Kogus","KA","KA seeduvus","TP","P",null,"K",null,null,null,"Võõrdepõrsa kohta aastas","Kogus","KA","KA seeduvus","TP","P",null,"K",null,null,null,"Emise kohta aastas","Kogus","KA","KA seeduvus","TP","P",null,"K"]
[null,null,null,null,null,null,null,null,null,null,null,null,null,null,null,"kg",null,"%","g/kg sööt",null,null,null,null,null,null,null,"kg",null,"%","g/kg sööt",null,null,null,null,null,null,null,"kg",null,"%","g/kg sööt"]
[null,null,null,null,null,null,null,null,null,null,null,null,null,null,null,{"$f":"IF(T6=0,0,SUM(P13:P33)*1000/T6)","v":0},{"$f":"IF(T6=0,0,SUM(Q13:Q33)*1000/T6)","v":0},{"$f":"IF(T6=0,0,X37/Q37*100)","v":0},{"$f":"IF(T6=0,0,SUM(S13:S33)/T6*1000*1000/P37)","v":0},{"$f":"IF(T6=0,0,SUM(T13:T33)/T6*1000*1000/P37)","v":0},null,{"$f":"IF(T6=0,0,SUM(V13:V33)/T6*1000*1000/P37)","v":0},null,{"$f":"IF(T6=0,0,SUM(X13:X36)*1000/T6)","v":0},null,null,{"$f":"IF(AE6=0,0,SUM(AA13:AA33)*1000/AE6)","v":0},{"$f":"IF(AE6=0,0,SUM(AB13:AB33)*1000/AE6)","v":0},{"$f":"IF(AE6=0,0,AI37/AB37*100)","v":0},{"$f":"IF(AE6=0,0,SUM(AD13:AD33)/AE6*1000*1000/AA37)","v":0},{"$f":"IF(AE6=0,0,SUM(AE13:AE33)/AE6*1000*1000/AA37)","v":0},null,{"$f":"IF(AE6=0,0,SUM(AG13:AG33)/AE6*1000*1000/AA37)","v":0},null,{"$f":"IF(AE6=0,0,SUM(AI13:AI36)*1000/AE6)","v":0},null,null,{"$f":"IF(AP6=0,0,SUM(AL13:AL33)*1000/AP6)","v":0},{"$f":"IF(AP6=0,0,SUM(AM13:AM33)*1000/AP6)","v":0},{"$f":"IF(AP6=0,0,AT37/AM37*100)","v":0},{"$f":"IF(AP6=0,0,SUM(AO13:AO33)/AP6*1000*1000/AL37)","v":0},{"$f":"IF(AP6=0,0,SUM(AP13:AP33)/AP6*1000*1000/AL37)","v":0},null,{"$f":"IF(AP6=0,0,SUM(AR13:AR33)/AP6*1000*1000/AL37)","v":0},null,{"$f":"IF(AP6=0,0,SUM(AT13:AT36)*1000/AP6)","v":0}]
[null,null,null,null,null,null,null,null,null,null,null,null,null,null,null,null,"%",null,null,null,null,null,null,null,null,null,null,"%",null,null,null,null,null,null,null,null,null,null,"%"]
[null,null,null,null,null,null,null,null,null,null,null,null,null,null,null,null,{"$f":"IF(P37=0,0,Q37/P37*100)","v":0},null,null,null,null,null,null,null,null,null,null,{"$f":"IF(AA37=0,0,AB37/AA37*100)","v":0},null,null,null,null,null,null,null,null,null,null,{"$f":"IF(AL37=0,0,AM37/AL37*100)","v":0}]
[]
[]
[null,null,null,null,null,null,null,null,null,null,null,null,null,null,null,null,null,null,"Pääs jalutusalale","Päevi aastas",null,"Tundi päevas",null,null,null,null,null,null,null,"Pääs jalutusalale","Päevi aastas",null,"Tundi päevas",null,null,null,null,"Pääs jalutusalale",null,"Vaba- ja tiinusperiood",null,"Päevi aastas",null,"Tundi päevas"]
[]
[null,null,null,null,null,null,null,null,null,null,null,null,null,null,null,null,null,null,null,null,null,null,null,null,null,null,null,null,null,null,null,null,null,null,null,null,null,null,null,"Imetamisperiood"]
[]
[]
[null,null,null,null,null,null,null,null,null,null,null,null,null,null,null,null,null,null,null,null,null,null,null,null,null,null,null,null,null,null,null,null,null,null,null,null,null,"Kuivaine söömuse jaotumine, % KA",null,"Vaba- ja tiinusperiood",null,65]
[null,null,null,null,null,null,null,null,null,null,null,null,null,null,null,null,null,null,null,null,null,null,null,null,null,null,null,null,null,null,null,null,null,null,null,null,null,null,null,"Imetamisperiood",null,35]

{"sheet":"FeedIn poultry (Intensive)","index":5,"n_rows":112,"n_cols":34,"rows_kept":112,"cut":false,"hidden":false,"merged":[[1,7,1,11],[2,2,3,11],[31,22,32,22],[50,22,51,22],[69,22,70,22],[31,6,32,6],[12,6,13,6],[50,6,51,6],[1,2,1,6],[10,4,10,5],[8,6,8,11],[10,15,10,16],[10,17,10,22],[108,28,108,30],[69,11,70,11],[88,11,89,11],[12,28,13,28],[31,28,32,28],[50,28,51,28],[31,17,32,17],[50,17,51,17],[107,2,109,2],[108,6,108,8],[69,33,70,33],[88,33,89,33],[69,28,70,28],[88,28,89,28],[107,13,109,13],[108,14,108,15],[108,17,108,19],[88,22,89,22],[69,17,70,17],[88,17,89,17],[107,24,109,24],[108,25,108,26],[69,6,70,6],[88,6,89,6],[12,33,13,33],[31,33,32,33],[50,33,51,33],[9,6,9,11],[10,6,10,11],[5,24,10,25],[8,28,8,33],[9,26,9,27],[9,28,9,33],[5,26,7,27],[5,28,7,33],[10,26,10,27],[10,28,10,33],[31,11,32,11],[50,11,51,11],[12,17,13,17],[108,3,108,4],[5,17,7,22],[5,15,7,16],[8,17,8,22],[9,15,9,16],[9,17,9,22],[12,11,13,11],[5,13,10,14],[12,22,13,22],[5,6,5,11],[6,6,6,11],[7,6,7,11],[5,2,10,3],[5,4,5,5],[6,4,6,5],[7,4,7,5]]}
[]
[null,null,"Lindude söötmine",null,null,null,null,"Intensiivne"]
[]
[]
[null,123456789]
[null,null,"Munakanad",null,"Pidamisviis",null,"Puurikanad",null,null,null,null,null,null,"Kanabroilerid",null,"Lindude arv, toodetud linde",null,null,null,null,null,null,null,null,"Noorlinnud",null,"Lindude arv, toodetud linde"]
[null,null,null,null,"Lindude arv, aastalindu"]
[null,null,null,null,"Munatoodang, kg/aastalind"]
[null,null,null,null,"Kehamass perioodi alguses, kg",null,null,null,null,null,null,null,null,null,null,"Kehamass perioodi alguses, kg",null,null,null,null,null,null,null,null,null,null,"Kehamass perioodi alguses, kg"]
[null,null,null,null,"Kehamass perioodi lõpus, kg",null,null,null,null,null,null,null,null,null,null,"Kehamass perioodi lõpus, kg",null,null,null,null,null,null,null,null,null,null,"Kehamass perioodi lõpus, kg"]
[null,null,null,null,"Vanus perioodi alguses, päeva",null,null,null,null,null,null,null,null,null,null,"Vanus perioodi alguses, päeva",null,null,null,null,null,null,null,null,null,null,"Vanus perioodi alguses, päeva"]
[]
[null,null,"Faas 1 (maksimaalne munatoodang)",null,null,null,"Vanus päeva ","alates",{"$f":"G11","v":0},null,null,"Päevi grupis",null,"Faas 1 ",null,null,null,"Vanus päeva ","alates",{"$f":"R11","v":0},null,null,"Päevi grupis",null,"Faas 1 ",null,null,null,"Vanus päeva ","alates",{"$f":"AC11","v":0},null,null,"Päevi grupis"]
[null,null,null,null,null,null,null,"kuni",null,null,null,null,null,null,null,null,null,null,"kuni",null,null,null,null,null,null,null,null,null,null,"kuni"]
[null,null,"Söödad (s.h. mineraalsöödad)","Kogus g/päev","KA g/päev","KA seeduvus   %","TP     g/päev","P   g/päev","K   g/päev",null,null,{"$f":"IF(I14=0,0,I14-I13)","v":0},null,"Söödad (s.h. mineraalsöödad)","Kogus g/päev","KA g/päev","KA seeduvus   %","TP     g/päev","P   g/päev","K   g/päev",null,null,{"$f":"IF(T14=0,0,T14-T13)","v":0},null,"Söödad (s.h. mineraalsöödad)","Kogus g/päev","KA g/päev","KA seeduvus   %","TP     g/päev","P   g/päev","K   g/päev",null,null,{"$f":"IF(AE14=0,0,AE14-AE13)","v":0}]
[null,null,null,null,{"$f":"IF(D16=0,\"\",VLOOKUP(C16,Feeds!$B$9:$AB$109,23,FALSE)*D16/1000)","v":""},{"$f":"IF(D16=0,\"\",VLOOKUP(C16,Feeds!$B$9:$AB$109,24,FALSE))","v":""},{"$f":"IF(D16=\"\",\"\",D16*(VLOOKUP(C16,Feeds!$B$9:$AB$109,25,FALSE)/1000))","v":""},{"$f":"IF(D16=\"\",\"\",D16*VLOOKUP(C16,Feeds!$B$9:$AB$109,26,FALSE)/1000)","v":""},{"$f":"IF(D16=\"\",\"\",D16*VLOOKUP(C16,Feeds!$B$9:$AB$109,27,FALSE)/1000)","v":""},{"$f":"IF(D16=\"\",0,E16*F16/100)","v":0},null,null,null,null,null,{"$f":"IF(O16=0,\"\",VLOOKUP(N16,Feeds!$B$9:$AB$109,23,FALSE)*O16/1000)","v":""},{"$f":"IF(O16=0,\"\",VLOOKUP(N16,Feeds!$B$9:$AB$109,24,FALSE))","v":""},{"$f":"IF(O16=\"\",\"\",O16*(VLOOKUP(N16,Feeds!$B$9:$AB$109,25,FALSE)/1000))","v":""},{"$f":"IF(O16=\"\",\"\",O16*VLOOKUP(N16,Feeds!$B$9:$AB$109,26,FALSE)/1000)","v":""},{"$f":"IF(O16=\"\",\"\",O16*VLOOKUP(N16,Feeds!$B$9:$AB$109,27,FALSE)/1000)","v":""},{"$f":"IF(O16=\"\",0,P16*Q16/100)","v":0},null,null,null,null,null,{"$f":"IF(Z16=0,\"\",VLOOKUP(Y16,Feeds!$B$9:$AB$109,23,FALSE)*Z16/1000)","v":""},{"$f":"IF(Z16=0,\"\",VLOOKUP(Y16,Feeds!$B$9:$AB$109,24,FALSE))","v":""},{"$f":"IF(Z16=\"\",\"\",Z16*(VLOOKUP(Y16,Feeds!$B$9:$AB$109,25,FALSE)/1000))","v":""},{"$f":"IF(Z16=\"\",\"\",Z16*VLOOKUP(Y16,Feeds!$B$9:$AB$109,26,FALSE)/1000)","v":""},{"$f":"IF(Z16=\"\",\"\",Z16*VLOOKUP(Y16,Feeds!$B$9:$AB$109,27,FALSE)/1000)","v":""},{"$f":"IF(Z16=\"\",0,AA16*AB16/100)","v":0}]
[null,null,null,null,{"$f":"IF(D17=0,\"\",VLOOKUP(C17,Feeds!$B$9:$AB$109,23,FALSE)*D17/1000)","v":""},{"$f":"IF(D17=0,\"\",VLOOKUP(C17,Feeds!$B$9:$AB$109,24,FALSE))","v":""},{"$f":"IF(D17=\"\",\"\",D17*(VLOOKUP(C17,Feeds!$B$9:$AB$109,25,FALSE)/1000))","v":""},{"$f":"IF(D17=\"\",\"\",D17*VLOOKUP(C17,Feeds!$B$9:$AB$109,26,FALSE)/1000)","v":""},{"$f":"IF(D17=\"\",\"\",D17*VLOOKUP(C17,Feeds!$B$9:$AB$109,27,FALSE)/1000)","v":""},{"$f":"IF(D17=\"\",0,E17*F17/100)","v":0},null,null,null,null,null,{"$f":"IF(O17=0,\"\",VLOOKUP(N17,Feeds!$B$9:$AB$109,23,FALSE)*O17/1000)","v":""},{"$f":"IF(O17=0,\"\",VLOOKUP(N17,Feeds!$B$9:$AB$109,24,FALSE))","v":""},{"$f":"IF(O17=\"\",\"\",O17*(VLOOKUP(N17,Feeds!$B$9:$AB$109,25,FALSE)/1000))","v":""},{"$f":"IF(O17=\"\",\"\",O17*VLOOKUP(N17,Feeds!$B$9:$AB$109,26,FALSE)/1000)","v":""},{"$f":"IF(O17=\"\",\"\",O17*VLOOKUP(N17,Feeds!$B$9:$AB$109,27,FALSE)/1000)","v":""},0,null,null,null,null,null,{"$f":"IF(Z17=0,\"\",VLOOKUP(Y17,Feeds!$B$9:$AB$109,23,FALSE)*Z17/1000)","v":""},{"$f":"IF(Z17=0,\"\",VLOOKUP(Y17,Feeds!$B$9:$AB$109,24,FALSE))","v":""},{"$f":"IF(Z17=\"\",\"\",Z17*(VLOOKUP(Y17,Feeds!$B$9:$AB$109,25,FALSE)/1000))","v":""},{"$f":"IF(Z17=\"\",\"\",Z17*VLOOKUP(Y17,Feeds!$B$9:$AB$109,26,FALSE)/1000)","v":""},{"$f":"IF(Z17=\"\",\"\",Z17*VLOOKUP(Y17,Feeds!$B$9:$AB$109,27,FALSE)/1000)","v":""},0]
[null,null,null,null,{"$f":"IF(D18=0,\"\",VLOOKUP(C18,Feeds!$B$9:$AB$109,23,FALSE)*D18/1000)","v":""},{"$f":"IF(D18=0,\"\",VLOOKUP(C18,Feeds!$B$9:$AB$109,24,FALSE))","v":""},{"$f":"IF(D18=\"\",\"\",D18*(VLOOKUP(C18,Feeds!$B$9:$AB$109,25,FALSE)/1000))","v":""},{"$f":"IF(D18=\"\",\"\",D18*VLOOKUP(C18,Feeds!$B$9:$AB$109,26,FALSE)/1000)","v":""},{"$f":"IF(D18=\"\",\"\",D18*VLOOKUP(C18,Feeds!$B$9:$AB$109,27,FALSE)/1000)","v":""},0,null,null,null,null,null,{"$f":"IF(O18=0,\"\",VLOOKUP(N18,Feeds!$B$9:$AB$109,23,FALSE)*O18/1000)","v":""},{"$f":"IF(O18=0,\"\",VLOOKUP(N18,Feeds!$B$9:$AB$109,24,FALSE))","v":""},{"$f":"IF(O18=\"\",\"\",O18*(VLOOKUP(N18,Feeds!$B$9:$AB$109,25,FALSE)/1000))","v":""},{"$f":"IF(O18=\"\",\"\",O18*VLOOKUP(N18,Feeds!$B$9:$AB$109,26,FALSE)/1000)","v":""},{"$f":"IF(O18=\"\",\"\",O18*VLOOKUP(N18,Feeds!$B$9:$AB$109,27,FALSE)/1000)","v":""},0,null,null,null,null,null,{"$f":"IF(Z18=0,\"\",VLOOKUP(Y18,Feeds!$B$9:$AB$109,23,FALSE)*Z18/1000)","v":""},{"$f":"IF(Z18=0,\"\",VLOOKUP(Y18,Feeds!$B$9:$AB$109,24,FALSE))","v":""},{"$f":"IF(Z18=\"\",\"\",Z18*(VLOOKUP(Y18,Feeds!$B$9:$AB$109,25,FALSE)/1000))","v":""},{"$f":"IF(Z18=\"\",\"\",Z18*VLOOKUP(Y18,Feeds!$B$9:$AB$109,26,FALSE)/1000)","v":""},{"$f":"IF(Z18=\"\",\"\",Z18*VLOOKUP(Y18,Feeds!$B$9:$AB$109,27,FALSE)/1000)","v":""},0]
[null,null,null,null,{"$f":"IF(D19=0,\"\",VLOOKUP(C19,Feeds!$B$9:$AB$109,23,FALSE)*D19/1000)","v":""},{"$f":"IF(D19=0,\"\",VLOOKUP(C19,Feeds!$B$9:$AB$109,24,FALSE))","v":""},{"$f":"IF(D19=\"\",\"\",D19*(VLOOKUP(C19,Feeds!$B$9:$AB$109,25,FALSE)/1000))","v":""},{"$f":"IF(D19=\"\",\"\",D19*VLOOKUP(C19,Feeds!$B$9:$AB$109,26,FALSE)/1000)","v":""},{"$f":"IF(D19=\"\",\"\",D19*VLOOKUP(C19,Feeds!$B$9:$AB$109,27,FALSE)/1000)","v":""},0,null,null,null,null,null,{"$f":"IF(O19=0,\"\",VLOOKUP(N19,Feeds!$B$9:$AB$109,23,FALSE)*O19/1000)","v":""},{"$f":"IF(O19=0,\"\",VLOOKUP(N19,Feeds!$B$9:$AB$109,24,FALSE))","v":""},{"$f":"IF(O19=\"\",\"\",O19*(VLOOKUP(N19,Feeds!$B$9:$AB$109,25,FALSE)/1000))","v":""},{"$f":"IF(O19=\"\",\"\",O19*VLOOKUP(N19,Feeds!$B$9:$AB$109,26,FALSE)/1000)","v":""},{"$f":"IF(O19=\"\",\"\",O19*VLOOKUP(N19,Feeds!$B$9:$AB$109,27,FALSE)/1000)","v":""},0,null,null,null,null,null,{"$f":"IF(Z19=0,\"\",VLOOKUP(Y19,Feeds!$B$9:$AB$109,23,FALSE)*Z19/1000)","v":""},{"$f":"IF(Z19=0,\"\",VLOOKUP(Y19,Feeds!$B$9:$AB$109,24,FALSE))","v":""},{"$f":"IF(Z19=\"\",\"\",Z19*(VLOOKUP(Y19,Feeds!$B$9:$AB$109,25,FALSE)/1000))","v":""},{"$f":"IF(Z19=\"\",\"\",Z19*VLOOKUP(Y19,Feeds!$B$9:$AB$109,26,FALSE)/1000)","v":""},{"$f":"IF(Z19=\"\",\"\",Z19*VLOOKUP(Y19,Feeds!$B$9:$AB$109,27,FALSE)/1000)","v":""},0]
[null,null,null,null,{"$f":"IF(D20=0,\"\",VLOOKUP(C20,Feeds!$B$9:$AB$109,23,FALSE)*D20/1000)","v":""},{"$f":"IF(D20=0,\"\",VLOOKUP(C20,Feeds!$B$9:$AB$109,24,FALSE))","v":""},{"$f":"IF(D20=\"\",\"\",D20*(VLOOKUP(C20,Feeds!$B$9:$AB$109,25,FALSE)/1000))","v":""},{"$f":"IF(D20=\"\",\"\",D20*VLOOKUP(C20,Feeds!$B$9:$AB$109,26,FALSE)/1000)","v":""},{"$f":"IF(D20=\"\",\"\",D20*VLOOKUP(C20,Feeds!$B$9:$AB$109,27,FALSE)/1000)","v":""},0,null,null,null,null,null,{"$f":"IF(O20=0,\"\",VLOOKUP(N20,Feeds!$B$9:$AB$109,23,FALSE)*O20/1000)","v":""},{"$f":"IF(O20=0,\"\",VLOOKUP(N20,Feeds!$B$9:$AB$109,24,FALSE))","v":""},{"$f":"IF(O20=\"\",\"\",O20*(VLOOKUP(N20,Feeds!$B$9:$AB$109,25,FALSE)/1000))","v":""},{"$f":"IF(O20=\"\",\"\",O20*VLOOKUP(N20,Feeds!$B$9:$AB$109,26,FALSE)/1000)","v":""},{"$f":"IF(O20=\"\",\"\",O20*VLOOKUP(N20,Feeds!$B$9:$AB$109,27,FALSE)/1000)","v":""},0,null,null,null,null,null,{"$f":"IF(Z20=0,\"\",VLOOKUP(Y20,Feeds!$B$9:$AB$109,23,FALSE)*Z20/1000)","v":""},{"$f":"IF(Z20=0,\"\",VLOOKUP(Y20,Feeds!$B$9:$AB$109,24,FALSE))","v":""},{"$f":"IF(Z20=\"\",\"\",Z20*(VLOOKUP(Y20,Feeds!$B$9:$AB$109,25,FALSE)/1000))","v":""},{"$f":"IF(Z20=\"\",\"\",Z20*VLOOKUP(Y20,Feeds!$B$9:$AB$109,26,FALSE)/1000)","v":""},{"$f":"IF(Z20=\"\",\"\",Z20*VLOOKUP(Y20,Feeds!$B$9:$AB$109,27,FALSE)/1000)","v":""},0]
[null,null,null,null,{"$f":"IF(D21=0,\"\",VLOOKUP(C21,Feeds!$B$9:$AB$109,23,FALSE)*D21/1000)","v":""},{"$f":"IF(D21=0,\"\",VLOOKUP(C21,Feeds!$B$9:$AB$109,24,FALSE))","v":""},{"$f":"IF(D21=\"\",\"\",D21*(VLOOKUP(C21,Feeds!$B$9:$AB$109,25,FALSE)/1000))","v":""},{"$f":"IF(D21=\"\",\"\",D21*VLOOKUP(C21,Feeds!$B$9:$AB$109,26,FALSE)/1000)","v":""},{"$f":"IF(D21=\"\",\"\",D21*VLOOKUP(C21,Feeds!$B$9:$AB$109,27,FALSE)/1000)","v":""},0,null,null,null,null,null,{"$f":"IF(O21=0,\"\",VLOOKUP(N21,Feeds!$B$9:$AB$109,23,FALSE)*O21/1000)","v":""},{"$f":"IF(O21=0,\"\",VLOOKUP(N21,Feeds!$B$9:$AB$109,24,FALSE))","v":""},{"$f":"IF(O21=\"\",\"\",O21*(VLOOKUP(N21,Feeds!$B$9:$AB$109,25,FALSE)/1000))","v":""},{"$f":"IF(O21=\"\",\"\",O21*VLOOKUP(N21,Feeds!$B$9:$AB$109,26,FALSE)/1000)","v":""},{"$f":"IF(O21=\"\",\"\",O21*VLOOKUP(N21,Feeds!$B$9:$AB$109,27,FALSE)/1000)","v":""},0,null,null,null,null,null,{"$f":"IF(Z21=0,\"\",VLOOKUP(Y21,Feeds!$B$9:$AB$109,23,FALSE)*Z21/1000)","v":""},{"$f":"IF(Z21=0,\"\",VLOOKUP(Y21,Feeds!$B$9:$AB$109,24,FALSE))","v":""},{"$f":"IF(Z21=\"\",\"\",Z21*(VLOOKUP(Y21,Feeds!$B$9:$AB$109,25,FALSE)/1000))","v":""},{"$f":"IF(Z21=\"\",\"\",Z21*VLOOKUP(Y21,Feeds!$B$9:$AB$109,26,FALSE)/1000)","v":""},{"$f":"IF(Z21=\"\",\"\",Z21*VLOOKUP(Y21,Feeds!$B$9:$AB$109,27,FALSE)/1000)","v":""},0]
[null,null,null,null,{"$f":"IF(D22=0,\"\",VLOOKUP(C22,Feeds!$B$9:$AB$109,23,FALSE)*D22/1000)","v":""},{"$f":"IF(D22=0,\"\",VLOOKUP(C22,Feeds!$B$9:$AB$109,24,FALSE))","v":""},{"$f":"IF(D22=\"\",\"\",D22*(VLOOKUP(C22,Feeds!$B$9:$AB$109,25,FALSE)/1000))","v":""},{"$f":"IF(D22=\"\",\"\",D22*VLOOKUP(C22,Feeds!$B$9:$AB$109,26,FALSE)/1000)","v":""},{"$f":"IF(D22=\"\",\"\",D22*VLOOKUP(C22,Feeds!$B$9:$AB$109,27,FALSE)/1000)","v":""},0,null,null,null,null,null,{"$f":"IF(O22=0,\"\",VLOOKUP(N22,Feeds!$B$9:$AB$109,23,FALSE)*O22/1000)","v":""},{"$f":"IF(O22=0,\"\",VLOOKUP(N22,Feeds!$B$9:$AB$109,24,FALSE))","v":""},{"$f":"IF(O22=\"\",\"\",O22*(VLOOKUP(N22,Feeds!$B$9:$AB$109,25,FALSE)/1000))","v":""},{"$f":"IF(O22=\"\",\"\",O22*VLOOKUP(N22,Feeds!$B$9:$AB$109,26,FALSE)/1000)","v":""},{"$f":"IF(O22=\"\",\"\",O22*VLOOKUP(N22,Feeds!$B$9:$AB$109,27,FALSE)/1000)","v":""},0,null,null,null,null,null,{"$f":"IF(Z22=0,\"\",VLOOKUP(Y22,Feeds!$B$9:$AB$109,23,FALSE)*Z22/1000)","v":""},{"$f":"IF(Z22=0,\"\",VLOOKUP(Y22,Feeds!$B$9:$AB$109,24,FALSE))","v":""},{"$f":"IF(Z22=\"\",\"\",Z22*(VLOOKUP(Y22,Feeds!$B$9:$AB$109,25,FALSE)/1000))","v":""},{"$f":"IF(Z22=\"\",\"\",Z22*VLOOKUP(Y22,Feeds!$B$9:$AB$109,26,FALSE)/1000)","v":""},{"$f":"IF(Z22=\"\",\"\",Z22*VLOOKUP(Y22,Feeds!$B$9:$AB$109,27,FALSE)/1000)","v":""},0]
[null,null,null,null,{"$f":"IF(D23=0,\"\",VLOOKUP(C23,Feeds!$B$9:$AB$109,23,FALSE)*D23/1000)","v":""},{"$f":"IF(D23=0,\"\",VLOOKUP(C23,Feeds!$B$9:$AB$109,24,FALSE))","v":""},{"$f":"IF(D23=\"\",\"\",D23*(VLOOKUP(C23,Feeds!$B$9:$AB$109,25,FALSE)/1000))","v":""},{"$f":"IF(D23=\"\",\"\",D23*VLOOKUP(C23,Feeds!$B$9:$AB$109,26,FALSE)/1000)","v":""},{"$f":"IF(D23=\"\",\"\",D23*VLOOKUP(C23,Feeds!$B$9:$AB$109,27,FALSE)/1000)","v":""},0,null,null,null,null,null,{"$f":"IF(O23=0,\"\",VLOOKUP(N23,Feeds!$B$9:$AB$109,23,FALSE)*O23/1000)","v":""},{"$f":"IF(O23=0,\"\",VLOOKUP(N23,Feeds!$B$9:$AB$109,24,FALSE))","v":""},{"$f":"IF(O23=\"\",\"\",O23*(VLOOKUP(N23,Feeds!$B$9:$AB$109,25,FALSE)/1000))","v":""},{"$f":"IF(O23=\"\",\"\",O23*VLOOKUP(N23,Feeds!$B$9:$AB$109,26,FALSE)/1000)","v":""},{"$f":"IF(O23=\"\",\"\",O23*VLOOKUP(N23,Feeds!$B$9:$AB$109,27,FALSE)/1000)","v":""},0,null,null,null,null,null,{"$f":"IF(Z23=0,\"\",VLOOKUP(Y23,Feeds!$B$9:$AB$109,23,FALSE)*Z23/1000)","v":""},{"$f":"IF(Z23=0,\"\",VLOOKUP(Y23,Feeds!$B$9:$AB$109,24,FALSE))","v":""},{"$f":"IF(Z23=\"\",\"\",Z23*(VLOOKUP(Y23,Feeds!$B$9:$AB$109,25,FALSE)/1000))","v":""},{"$f":"IF(Z23=\"\",\"\",Z23*VLOOKUP(Y23,Feeds!$B$9:$AB$109,26,FALSE)/1000)","v":""},{"$f":"IF(Z23=\"\",\"\",Z23*VLOOKUP(Y23,Feeds!$B$9:$AB$109,27,FALSE)/1000)","v":""},0]
[null,null,null,null,{"$f":"IF(D24=0,\"\",VLOOKUP(C24,Feeds!$B$9:$AB$109,23,FALSE)*D24/1000)","v":""},{"$f":"IF(D24=0,\"\",VLOOKUP(C24,Feeds!$B$9:$AB$109,24,FALSE))","v":""},{"$f":"IF(D24=\"\",\"\",D24*(VLOOKUP(C24,Feeds!$B$9:$AB$109,25,FALSE)/1000))","v":""},{"$f":"IF(D24=\"\",\"\",D24*VLOOKUP(C24,Feeds!$B$9:$AB$109,26,FALSE)/1000)","v":""},{"$f":"IF(D24=\"\",\"\",D24*VLOOKUP(C24,Feeds!$B$9:$AB$109,27,FALSE)/1000)","v":""},0,null,null,null,null,null,{"$f":"IF(O24=0,\"\",VLOOKUP(N24,Feeds!$B$9:$AB$109,23,FALSE)*O24/1000)","v":""},{"$f":"IF(O24=0,\"\",VLOOKUP(N24,Feeds!$B$9:$AB$109,24,FALSE))","v":""},{"$f":"IF(O24=\"\",\"\",O24*(VLOOKUP(N24,Feeds!$B$9:$AB$109,25,FALSE)/1000))","v":""},{"$f":"IF(O24=\"\",\"\",O24*VLOOKUP(N24,Feeds!$B$9:$AB$109,26,FALSE)/1000)","v":""},{"$f":"IF(O24=\"\",\"\",O24*VLOOKUP(N24,Feeds!$B$9:$AB$109,27,FALSE)/1000)","v":""},0,null,null,null,null,null,{"$f":"IF(Z24=0,\"\",VLOOKUP(Y24,Feeds!$B$9:$AB$109,23,FALSE)*Z24/1000)","v":""},{"$f":"IF(Z24=0,\"\",VLOOKUP(Y24,Feeds!$B$9:$AB$109,24,FALSE))","v":""},{"$f":"IF(Z24=\"\",\"\",Z24*(VLOOKUP(Y24,Feeds!$B$9:$AB$109,25,FALSE)/1000))","v":""},{"$f":"IF(Z24=\"\",\"\",Z24*VLOOKUP(Y24,Feeds!$B$9:$AB$109,26,FALSE)/1000)","v":""},{"$f":"IF(Z24=\"\",\"\",Z24*VLOOKUP(Y24,Feeds!$B$9:$AB$109,27,FALSE)/1000)","v":""},0]
[null,null,null,null,{"$f":"IF(D25=0,\"\",VLOOKUP(C25,Feeds!$B$9:$AB$109,23,FALSE)*D25/1000)","v":""},{"$f":"IF(D25=0,\"\",VLOOKUP(C25,Feeds!$B$9:$AB$109,24,FALSE))","v":""},{"$f":"IF(D25=\"\",\"\",D25*(VLOOKUP(C25,Feeds!$B$9:$AB$109,25,FALSE)/1000))","v":""},{"$f":"IF(D25=\"\",\"\",D25*VLOOKUP(C25,Feeds!$B$9:$AB$109,26,FALSE)/1000)","v":""},{"$f":"IF(D25=\"\",\"\",D25*VLOOKUP(C25,Feeds!$B$9:$AB$109,27,FALSE)/1000)","v":""},{"$f":"IF(D25=\"\",0,E25*F25/100)","v":0},null,null,null,null,null,{"$f":"IF(O25=0,\"\",VLOOKUP(N25,Feeds!$B$9:$AB$109,23,FALSE)*O25/1000)","v":""},{"$f":"IF(O25=0,\"\",VLOOKUP(N25,Feeds!$B$9:$AB$109,24,FALSE))","v":""},{"$f":"IF(O25=\"\",\"\",O25*(VLOOKUP(N25,Feeds!$B$9:$AB$109,25,FALSE)/1000))","v":""},{"$f":"IF(O25=\"\",\"\",O25*VLOOKUP(N25,Feeds!$B$9:$AB$109,26,FALSE)/1000)","v":""},{"$f":"IF(O25=\"\",\"\",O25*VLOOKUP(N25,Feeds!$B$9:$AB$109,27,FALSE)/1000)","v":""},0,null,null,null,null,null,{"$f":"IF(Z25=0,\"\",VLOOKUP(Y25,Feeds!$B$9:$AB$109,23,FALSE)*Z25/1000)","v":""},{"$f":"IF(Z25=0,\"\",VLOOKUP(Y25,Feeds!$B$9:$AB$109,24,FALSE))","v":""},{"$f":"IF(Z25=\"\",\"\",Z25*(VLOOKUP(Y25,Feeds!$B$9:$AB$109,25,FALSE)/1000))","v":""},{"$f":"IF(Z25=\"\",\"\",Z25*VLOOKUP(Y25,Feeds!$B$9:$AB$109,26,FALSE)/1000)","v":""},{"$f":"IF(Z25=\"\",\"\",Z25*VLOOKUP(Y25,Feeds!$B$9:$AB$109,27,FALSE)/1000)","v":""},0]
[null,null,null,null,{"$f":"IF(D26=0,\"\",VLOOKUP(C26,Feeds!$B$9:$AB$109,23,FALSE)*D26/1000)","v":""},{"$f":"IF(D26=0,\"\",VLOOKUP(C26,Feeds!$B$9:$AB$109,24,FALSE))","v":""},{"$f":"IF(D26=\"\",\"\",D26*(VLOOKUP(C26,Feeds!$B$9:$AB$109,25,FALSE)/1000))","v":""},{"$f":"IF(D26=\"\",\"\",D26*VLOOKUP(C26,Feeds!$B$9:$AB$109,26,FALSE)/1000)","v":""},{"$f":"IF(D26=\"\",\"\",D26*VLOOKUP(C26,Feeds!$B$9:$AB$109,27,FALSE)/1000)","v":""},0,null,null,null,null,null,{"$f":"IF(O26=0,\"\",VLOOKUP(N26,Feeds!$B$9:$AB$109,23,FALSE)*O26/1000)","v":""},{"$f":"IF(O26=0,\"\",VLOOKUP(N26,Feeds!$B$9:$AB$109,24,FALSE))","v":""},{"$f":"IF(O26=\"\",\"\",O26*(VLOOKUP(N26,Feeds!$B$9:$AB$109,25,FALSE)/1000))","v":""},{"$f":"IF(O26=\"\",\"\",O26*VLOOKUP(N26,Feeds!$B$9:$AB$109,26,FALSE)/1000)","v":""},{"$f":"IF(O26=\"\",\"\",O26*VLOOKUP(N26,Feeds!$B$9:$AB$109,27,FALSE)/1000)","v":""},0,null,null,null,null,null,{"$f":"IF(Z26=0,\"\",VLOOKUP(Y26,Feeds!$B$9:$AB$109,23,FALSE)*Z26/1000)","v":""},{"$f":"IF(Z26=0,\"\",VLOOKUP(Y26,Feeds!$B$9:$AB$109,24,FALSE))","v":""},{"$f":"IF(Z26=\"\",\"\",Z26*(VLOOKUP(Y26,Feeds!$B$9:$AB$109,25,FALSE)/1000))","v":""},{"$f":"IF(Z26=\"\",\"\",Z26*VLOOKUP(Y26,Feeds!$B$9:$AB$109,26,FALSE)/1000)","v":""},{"$f":"IF(Z26=\"\",\"\",Z26*VLOOKUP(Y26,Feeds!$B$9:$AB$109,27,FALSE)/1000)","v":""},0]
[null,null,null,null,{"$f":"IF(D27=0,\"\",VLOOKUP(C27,Feeds!$B$9:$AB$109,23,FALSE)*D27/1000)","v":""},{"$f":"IF(D27=0,\"\",VLOOKUP(C27,Feeds!$B$9:$AB$109,24,FALSE))","v":""},{"$f":"IF(D27=\"\",\"\",D27*(VLOOKUP(C27,Feeds!$B$9:$AB$109,25,FALSE)/1000))","v":""},{"$f":"IF(D27=\"\",\"\",D27*VLOOKUP(C27,Feeds!$B$9:$AB$109,26,FALSE)/1000)","v":""},{"$f":"IF(D27=\"\",\"\",D27*VLOOKUP(C27,Feeds!$B$9:$AB$109,27,FALSE)/1000)","v":""},0,null,null,null,null,null,{"$f":"IF(O27=0,\"\",VLOOKUP(N27,Feeds!$B$9:$AB$109,23,FALSE)*O27/1000)","v":""},{"$f":"IF(O27=0,\"\",VLOOKUP(N27,Feeds!$B$9:$AB$109,24,FALSE))","v":""},{"$f":"IF(O27=\"\",\"\",O27*(VLOOKUP(N27,Feeds!$B$9:$AB$109,25,FALSE)/1000))","v":""},{"$f":"IF(O27=\"\",\"\",O27*VLOOKUP(N27,Feeds!$B$9:$AB$109,26,FALSE)/1000)","v":""},{"$f":"IF(O27=\"\",\"\",O27*VLOOKUP(N27,Feeds!$B$9:$AB$109,27,FALSE)/1000)","v":""},{"$f":"IF(O27=\"\",0,P27*Q27/100)","v":0},null,null,null,null,null,{"$f":"IF(Z27=0,\"\",VLOOKUP(Y27,Feeds!$B$9:$AB$109,23,FALSE)*Z27/1000)","v":""},{"$f":"IF(Z27=0,\"\",VLOOKUP(Y27,Feeds!$B$9:$AB$109,24,FALSE))","v":""},{"$f":"IF(Z27=\"\",\"\",Z27*(VLOOKUP(Y27,Feeds!$B$9:$AB$109,25,FALSE)/1000))","v":""},{"$f":"IF(Z27=\"\",\"\",Z27*VLOOKUP(Y27,Feeds!$B$9:$AB$109,26,FALSE)/1000)","v":""},{"$f":"IF(Z27=\"\",\"\",Z27*VLOOKUP(Y27,Feeds!$B$9:$AB$109,27,FALSE)/1000)","v":""},0]
[null,null,null,null,{"$f":"IF(D28=0,\"\",VLOOKUP(C28,Feeds!$B$9:$AB$109,23,FALSE)*D28/1000)","v":""},{"$f":"IF(D28=0,\"\",VLOOKUP(C28,Feeds!$B$9:$AB$109,24,FALSE))","v":""},{"$f":"IF(D28=\"\",\"\",D28*(VLOOKUP(C28,Feeds!$B$9:$AB$109,25,FALSE)/1000))","v":""},{"$f":"IF(D28=\"\",\"\",D28*VLOOKUP(C28,Feeds!$B$9:$AB$109,26,FALSE)/1000)","v":""},{"$f":"IF(D28=\"\",\"\",D28*VLOOKUP(C28,Feeds!$B$9:$AB$109,27,FALSE)/1000)","v":""},0,null,null,null,null,null,{"$f":"IF(O28=0,\"\",VLOOKUP(N28,Feeds!$B$9:$AB$109,23,FALSE)*O28/1000)","v":""},{"$f":"IF(O28=0,\"\",VLOOKUP(N28,Feeds!$B$9:$AB$109,24,FALSE))","v":""},{"$f":"IF(O28=\"\",\"\",O28*(VLOOKUP(N28,Feeds!$B$9:$AB$109,25,FALSE)/1000))","v":""},{"$f":"IF(O28=\"\",\"\",O28*VLOOKUP(N28,Feeds!$B$9:$AB$109,26,FALSE)/1000)","v":""},{"$f":"IF(O28=\"\",\"\",O28*VLOOKUP(N28,Feeds!$B$9:$AB$109,27,FALSE)/1000)","v":""},0,null,null,null,null,null,{"$f":"IF(Z28=0,\"\",VLOOKUP(Y28,Feeds!$B$9:$AB$109,23,FALSE)*Z28/1000)","v":""},{"$f":"IF(Z28=0,\"\",VLOOKUP(Y28,Feeds!$B$9:$AB$109,24,FALSE))","v":""},{"$f":"IF(Z28=\"\",\"\",Z28*(VLOOKUP(Y28,Feeds!$B$9:$AB$109,25,FALSE)/1000))","v":""},{"$f":"IF(Z28=\"\",\"\",Z28*VLOOKUP(Y28,Feeds!$B$9:$AB$109,26,FALSE)/1000)","v":""},{"$f":"IF(Z28=\"\",\"\",Z28*VLOOKUP(Y28,Feeds!$B$9:$AB$109,27,FALSE)/1000)","v":""},{"$f":"IF(Z28=\"\",0,AA28*AB28/100)","v":0}]
[null,null,"Kokku päevas",{"$f":"SUM(D16:D28)","v":0},{"$f":"SUM(E16:E28)","v":0},null,{"$f":"SUM(G16:G28)","v":0},{"$f":"SUM(H16:H28)","v":0},{"$f":"SUM(I16:I28)","v":0},{"$f":"SUM(J16:J28)","v":0},null,null,null,"Kokku päevas",{"$f":"SUM(O16:O28)","v":0},{"$f":"SUM(P16:P28)","v":0},null,{"$f":"SUM(R16:R28)","v":0},{"$f":"SUM(S16:S28)","v":0},{"$f":"SUM(T16:T28)","v":0},{"$f":"SUM(U16:U28)","v":0},null,null,null,"Kokku päevas",{"$f":"SUM(Z16:Z28)","v":0},{"$f":"SUM(AA16:AA28)","v":0},null,{"$f":"SUM(AC16:AC28)","v":0},{"$f":"SUM(AD16:AD28)","v":0},{"$f":"SUM(AE16:AE28)","v":0},{"$f":"SUM(AF16:AF28)","v":0}]
[null,null,"Kokku perioodis",{"$f":"D29*L15","v":0},{"$f":"E29*L15","v":0},{"$f":"IF(D30=0,0,J30*100/E30)","v":0},{"$f":"G29*L15","v":0},{"$f":"H29*L15","v":0},{"$f":"I29*L15","v":0},{"$f":"J29*L15","v":0},null,null,null,"Kokku perioodis",{"$f":"O29*W15","v":0},{"$f":"P29*W15","v":0},{"$f":"IF(O30=0,0,U30*100/P30)","v":0},{"$f":"R29*W15","v":0},{"$f":"S29*W15","v":0},{"$f":"T29*W15","v":0},{"$f":"U29*W15","v":0},null,null,null,"Kokku perioodis",{"$f":"Z29*AH15","v":0},{"$f":"AA29*AH15","v":0},{"$f":"IF(Z30=0,0,AF30*100/AA30)","v":0},{"$f":"AC29*AH15","v":0},{"$f":"AD29*AH15","v":0},{"$f":"AE29*AH15","v":0},{"$f":"AF29*AH15","v":0}]
[]
[null,null,"Faas 2 (munatoodang: 90 - 100%)",null,null,null,"Vanus päeva ","alates",{"$f":"I14","v":0},null,null,"Päevi grupis",null,"Faas 2 ",null,null,null,"Vanus päeva ","alates",{"$f":"T14","v":0},null,null,"Päevi grupis",null,"Faas 2 ",null,null,null,"Vanus päeva ","alates",{"$f":"AE14","v":0},null,null,"Päevi grupis"]
[null,null,null,null,null,null,null,"kuni",null,null,null,null,null,null,null,null,null,null,"kuni",null,null,null,null,null,null,null,null,null,null,"kuni"]
[null,null,"Söödad (s.h. mineraalsöödad)","Kogus g/päev","KA g/päev","KA seeduvus   %","TP     g/päev","P   g/päev","K   g/päev",null,null,{"$f":"IF(I33=0,0,I33-I32)","v":0},null,"Söödad (s.h. mineraalsöödad)","Kogus g/päev","KA g/päev","KA seeduvus   %","TP     g/päev","P   g/päev","K   g/päev",null,null,{"$f":"IF(T33=0,0,T33-T32)","v":0},null,"Söödad (s.h. mineraalsöödad)","Kogus g/päev","KA g/päev","KA seeduvus   %","TP     g/päev","P   g/päev","K   g/päev",null,null,{"$f":"IF(AE33=0,0,AE33-AE32)","v":0}]
[null,null,null,null,{"$f":"IF(D35=0,\"\",VLOOKUP(C35,Feeds!$B$9:$AB$109,23,FALSE)*D35/1000)","v":""},{"$f":"IF(D35=0,\"\",VLOOKUP(C35,Feeds!$B$9:$AB$109,24,FALSE))","v":""},{"$f":"IF(D35=\"\",\"\",D35*(VLOOKUP(C35,Feeds!$B$9:$AB$109,25,FALSE)/1000))","v":""},{"$f":"IF(D35=\"\",\"\",D35*VLOOKUP(C35,Feeds!$B$9:$AB$109,26,FALSE)/1000)","v":""},{"$f":"IF(D35=\"\",\"\",D35*VLOOKUP(C35,Feeds!$B$9:$AB$109,27,FALSE)/1000)","v":""},{"$f":"IF(D35=\"\",0,E35*F35/100)","v":0},null,null,null,null,null,{"$f":"IF(O35=0,\"\",VLOOKUP(N35,Feeds!$B$9:$AB$109,23,FALSE)*O35/1000)","v":""},{"$f":"IF(O35=0,\"\",VLOOKUP(N35,Feeds!$B$9:$AB$109,24,FALSE))","v":""},{"$f":"IF(O35=\"\",\"\",O35*(VLOOKUP(N35,Feeds!$B$9:$AB$109,25,FALSE)/1000))","v":""},{"$f":"IF(O35=\"\",\"\",O35*VLOOKUP(N35,Feeds!$B$9:$AB$109,26,FALSE)/1000)","v":""},{"$f":"IF(O35=\"\",\"\",O35*VLOOKUP(N35,Feeds!$B$9:$AB$109,27,FALSE)/1000)","v":""},{"$f":"IF(O35=\"\",0,P35*Q35/100)","v":0},null,null,null,null,null,{"$f":"IF(Z35=0,\"\",VLOOKUP(Y35,Feeds!$B$9:$AB$109,23,FALSE)*Z35/1000)","v":""},{"$f":"IF(Z35=0,\"\",VLOOKUP(Y35,Feeds!$B$9:$AB$109,24,FALSE))","v":""},{"$f":"IF(Z35=\"\",\"\",Z35*(VLOOKUP(Y35,Feeds!$B$9:$AB$109,25,FALSE)/1000))","v":""},{"$f":"IF(Z35=\"\",\"\",Z35*VLOOKUP(Y35,Feeds!$B$9:$AB$109,26,FALSE)/1000)","v":""},{"$f":"IF(Z35=\"\",\"\",Z35*VLOOKUP(Y35,Feeds!$B$9:$AB$109,27,FALSE)/1000)","v":""},{"$f":"IF(Z35=\"\",0,AA35*AB35/100)","v":0}]
[null,null,null,null,{"$f":"IF(D36=0,\"\",VLOOKUP(C36,Feeds!$B$9:$AB$109,23,FALSE)*D36/1000)","v":""},{"$f":"IF(D36=0,\"\",VLOOKUP(C36,Feeds!$B$9:$AB$109,24,FALSE))","v":""},{"$f":"IF(D36=\"\",\"\",D36*(VLOOKUP(C36,Feeds!$B$9:$AB$109,25,FALSE)/1000))","v":""},{"$f":"IF(D36=\"\",\"\",D36*VLOOKUP(C36,Feeds!$B$9:$AB$109,26,FALSE)/1000)","v":""},{"$f":"IF(D36=\"\",\"\",D36*VLOOKUP(C36,Feeds!$B$9:$AB$109,27,FALSE)/1000)","v":""},0,null,null,null,null,null,{"$f":"IF(O36=0,\"\",VLOOKUP(N36,Feeds!$B$9:$AB$109,23,FALSE)*O36/1000)","v":""},{"$f":"IF(O36=0,\"\",VLOOKUP(N36,Feeds!$B$9:$AB$109,24,FALSE))","v":""},{"$f":"IF(O36=\"\",\"\",O36*(VLOOKUP(N36,Feeds!$B$9:$AB$109,25,FALSE)/1000))","v":""},{"$f":"IF(O36=\"\",\"\",O36*VLOOKUP(N36,Feeds!$B$9:$AB$109,26,FALSE)/1000)","v":""},{"$f":"IF(O36=\"\",\"\",O36*VLOOKUP(N36,Feeds!$B$9:$AB$109,27,FALSE)/1000)","v":""},0,null,null,null,null,null,{"$f":"IF(Z36=0,\"\",VLOOKUP(Y36,Feeds!$B$9:$AB$109,23,FALSE)*Z36/1000)","v":""},{"$f":"IF(Z36=0,\"\",VLOOKUP(Y36,Feeds!$B$9:$AB$109,24,FALSE))","v":""},{"$f":"IF(Z36=\"\",\"\",Z36*(VLOOKUP(Y36,Feeds!$B$9:$AB$109,25,FALSE)/1000))","v":""},{"$f":"IF(Z36=\"\",\"\",Z36*VLOOKUP(Y36,Feeds!$B$9:$AB$109,26,FALSE)/1000)","v":""},{"$f":"IF(Z36=\"\",\"\",Z36*VLOOKUP(Y36,Feeds!$B$9:$AB$109,27,FALSE)/1000)","v":""},0]
[null,null,null,null,{"$f":"IF(D37=0,\"\",VLOOKUP(C37,Feeds!$B$9:$AB$109,23,FALSE)*D37/1000)","v":""},{"$f":"IF(D37=0,\"\",VLOOKUP(C37,Feeds!$B$9:$AB$109,24,FALSE))","v":""},{"$f":"IF(D37=\"\",\"\",D37*(VLOOKUP(C37,Feeds!$B$9:$AB$109,25,FALSE)/1000))","v":""},{"$f":"IF(D37=\"\",\"\",D37*VLOOKUP(C37,Feeds!$B$9:$AB$109,26,FALSE)/1000)","v":""},{"$f":"IF(D37=\"\",\"\",D37*VLOOKUP(C37,Feeds!$B$9:$AB$109,27,FALSE)/1000)","v":""},0,null,null,null,null,null,{"$f":"IF(O37=0,\"\",VLOOKUP(N37,Feeds!$B$9:$AB$109,23,FALSE)*O37/1000)","v":""},{"$f":"IF(O37=0,\"\",VLOOKUP(N37,Feeds!$B$9:$AB$109,24,FALSE))","v":""},{"$f":"IF(O37=\"\",\"\",O37*(VLOOKUP(N37,Feeds!$B$9:$AB$109,25,FALSE)/1000))","v":""},{"$f":"IF(O37=\"\",\"\",O37*VLOOKUP(N37,Feeds!$B$9:$AB$109,26,FALSE)/1000)","v":""},{"$f":"IF(O37=\"\",\"\",O37*VLOOKUP(N37,Feeds!$B$9:$AB$109,27,FALSE)/1000)","v":""},0,null,null,null,null,null,{"$f":"IF(Z37=0,\"\",VLOOKUP(Y37,Feeds!$B$9:$AB$109,23,FALSE)*Z37/1000)","v":""},{"$f":"IF(Z37=0,\"\",VLOOKUP(Y37,Feeds!$B$9:$AB$109,24,FALSE))","v":""},{"$f":"IF(Z37=\"\",\"\",Z37*(VLOOKUP(Y37,Feeds!$B$9:$AB$109,25,FALSE)/1000))","v":""},{"$f":"IF(Z37=\"\",\"\",Z37*VLOOKUP(Y37,Feeds!$B$9:$AB$109,26,FALSE)/1000)","v":""},{"$f":"IF(Z37=\"\",\"\",Z37*VLOOKUP(Y37,Feeds!$B$9:$AB$109,27,FALSE)/1000)","v":""},0]
[null,null,null,null,{"$f":"IF(D38=0,\"\",VLOOKUP(C38,Feeds!$B$9:$AB$109,23,FALSE)*D38/1000)","v":""},{"$f":"IF(D38=0,\"\",VLOOKUP(C38,Feeds!$B$9:$AB$109,24,FALSE))","v":""},{"$f":"IF(D38=\"\",\"\",D38*(VLOOKUP(C38,Feeds!$B$9:$AB$109,25,FALSE)/1000))","v":""},{"$f":"IF(D38=\"\",\"\",D38*VLOOKUP(C38,Feeds!$B$9:$AB$109,26,FALSE)/1000)","v":""},{"$f":"IF(D38=\"\",\"\",D38*VLOOKUP(C38,Feeds!$B$9:$AB$109,27,FALSE)/1000)","v":""},0,null,null,null,null,null,{"$f":"IF(O38=0,\"\",VLOOKUP(N38,Feeds!$B$9:$AB$109,23,FALSE)*O38/1000)","v":""},{"$f":"IF(O38=0,\"\",VLOOKUP(N38,Feeds!$B$9:$AB$109,24,FALSE))","v":""},{"$f":"IF(O38=\"\",\"\",O38*(VLOOKUP(N38,Feeds!$B$9:$AB$109,25,FALSE)/1000))","v":""},{"$f":"IF(O38=\"\",\"\",O38*VLOOKUP(N38,Feeds!$B$9:$AB$109,26,FALSE)/1000)","v":""},{"$f":"IF(O38=\"\",\"\",O38*VLOOKUP(N38,Feeds!$B$9:$AB$109,27,FALSE)/1000)","v":""},0,null,null,null,null,null,{"$f":"IF(Z38=0,\"\",VLOOKUP(Y38,Feeds!$B$9:$AB$109,23,FALSE)*Z38/1000)","v":""},{"$f":"IF(Z38=0,\"\",VLOOKUP(Y38,Feeds!$B$9:$AB$109,24,FALSE))","v":""},{"$f":"IF(Z38=\"\",\"\",Z38*(VLOOKUP(Y38,Feeds!$B$9:$AB$109,25,FALSE)/1000))","v":""},{"$f":"IF(Z38=\"\",\"\",Z38*VLOOKUP(Y38,Feeds!$B$9:$AB$109,26,FALSE)/1000)","v":""},{"$f":"IF(Z38=\"\",\"\",Z38*VLOOKUP(Y38,Feeds!$B$9:$AB$109,27,FALSE)/1000)","v":""},0]
[null,null,null,null,{"$f":"IF(D39=0,\"\",VLOOKUP(C39,Feeds!$B$9:$AB$109,23,FALSE)*D39/1000)","v":""},{"$f":"IF(D39=0,\"\",VLOOKUP(C39,Feeds!$B$9:$AB$109,24,FALSE))","v":""},{"$f":"IF(D39=\"\",\"\",D39*(VLOOKUP(C39,Feeds!$B$9:$AB$109,25,FALSE)/1000))","v":""},{"$f":"IF(D39=\"\",\"\",D39*VLOOKUP(C39,Feeds!$B$9:$AB$109,26,FALSE)/1000)","v":""},{"$f":"IF(D39=\"\",\"\",D39*VLOOKUP(C39,Feeds!$B$9:$AB$109,27,FALSE)/1000)","v":""},0,null,null,null,null,null,{"$f":"IF(O39=0,\"\",VLOOKUP(N39,Feeds!$B$9:$AB$109,23,FALSE)*O39/1000)","v":""},{"$f":"IF(O39=0,\"\",VLOOKUP(N39,Feeds!$B$9:$AB$109,24,FALSE))","v":""},{"$f":"IF(O39=\"\",\"\",O39*(VLOOKUP(N39,Feeds!$B$9:$AB$109,25,FALSE)/1000))","v":""},{"$f":"IF(O39=\"\",\"\",O39*VLOOKUP(N39,Feeds!$B$9:$AB$109,26,FALSE)/1000)","v":""},{"$f":"IF(O39=\"\",\"\",O39*VLOOKUP(N39,Feeds!$B$9:$AB$109,27,FALSE)/1000)","v":""},0,null,null,null,null,null,{"$f":"IF(Z39=0,\"\",VLOOKUP(Y39,Feeds!$B$9:$AB$109,23,FALSE)*Z39/1000)","v":""},{"$f":"IF(Z39=0,\"\",VLOOKUP(Y39,Feeds!$B$9:$AB$109,24,FALSE))","v":""},{"$f":"IF(Z39=\"\",\"\",Z39*(VLOOKUP(Y39,Feeds!$B$9:$AB$109,25,FALSE)/1000))","v":""},{"$f":"IF(Z39=\"\",\"\",Z39*VLOOKUP(Y39,Feeds!$B$9:$AB$109,26,FALSE)/1000)","v":""},{"$f":"IF(Z39=\"\",\"\",Z39*VLOOKUP(Y39,Feeds!$B$9:$AB$109,27,FALSE)/1000)","v":""},0]
[null,null,null,null,{"$f":"IF(D40=0,\"\",VLOOKUP(C40,Feeds!$B$9:$AB$109,23,FALSE)*D40/1000)","v":""},{"$f":"IF(D40=0,\"\",VLOOKUP(C40,Feeds!$B$9:$AB$109,24,FALSE))","v":""},{"$f":"IF(D40=\"\",\"\",D40*(VLOOKUP(C40,Feeds!$B$9:$AB$109,25,FALSE)/1000))","v":""},{"$f":"IF(D40=\"\",\"\",D40*VLOOKUP(C40,Feeds!$B$9:$AB$109,26,FALSE)/1000)","v":""},{"$f":"IF(D40=\"\",\"\",D40*VLOOKUP(C40,Feeds!$B$9:$AB$109,27,FALSE)/1000)","v":""},0,null,null,null,null,null,{"$f":"IF(O40=0,\"\",VLOOKUP(N40,Feeds!$B$9:$AB$109,23,FALSE)*O40/1000)","v":""},{"$f":"IF(O40=0,\"\",VLOOKUP(N40,Feeds!$B$9:$AB$109,24,FALSE))","v":""},{"$f":"IF(O40=\"\",\"\",O40*(VLOOKUP(N40,Feeds!$B$9:$AB$109,25,FALSE)/1000))","v":""},{"$f":"IF(O40=\"\",\"\",O40*VLOOKUP(N40,Feeds!$B$9:$AB$109,26,FALSE)/1000)","v":""},{"$f":"IF(O40=\"\",\"\",O40*VLOOKUP(N40,Feeds!$B$9:$AB$109,27,FALSE)/1000)","v":""},0,null,null,null,null,null,{"$f":"IF(Z40=0,\"\",VLOOKUP(Y40,Feeds!$B$9:$AB$109,23,FALSE)*Z40/1000)","v":""},{"$f":"IF(Z40=0,\"\",VLOOKUP(Y40,Feeds!$B$9:$AB$109,24,FALSE))","v":""},{"$f":"IF(Z40=\"\",\"\",Z40*(VLOOKUP(Y40,Feeds!$B$9:$AB$109,25,FALSE)/1000))","v":""},{"$f":"IF(Z40=\"\",\"\",Z40*VLOOKUP(Y40,Feeds!$B$9:$AB$109,26,FALSE)/1000)","v":""},{"$f":"IF(Z40=\"\",\"\",Z40*VLOOKUP(Y40,Feeds!$B$9:$AB$109,27,FALSE)/1000)","v":""},0]
[null,null,null,null,{"$f":"IF(D41=0,\"\",VLOOKUP(C41,Feeds!$B$9:$AB$109,23,FALSE)*D41/1000)","v":""},{"$f":"IF(D41=0,\"\",VLOOKUP(C41,Feeds!$B$9:$AB$109,24,FALSE))","v":""},{"$f":"IF(D41=\"\",\"\",D41*(VLOOKUP(C41,Feeds!$B$9:$AB$109,25,FALSE)/1000))","v":""},{"$f":"IF(D41=\"\",\"\",D41*VLOOKUP(C41,Feeds!$B$9:$AB$109,26,FALSE)/1000)","v":""},{"$f":"IF(D41=\"\",\"\",D41*VLOOKUP(C41,Feeds!$B$9:$AB$109,27,FALSE)/1000)","v":""},0,null,null,null,null,null,{"$f":"IF(O41=0,\"\",VLOOKUP(N41,Feeds!$B$9:$AB$109,23,FALSE)*O41/1000)","v":""},{"$f":"IF(O41=0,\"\",VLOOKUP(N41,Feeds!$B$9:$AB$109,24,FALSE))","v":""},{"$f":"IF(O41=\"\",\"\",O41*(VLOOKUP(N41,Feeds!$B$9:$AB$109,25,FALSE)/1000))","v":""},{"$f":"IF(O41=\"\",\"\",O41*VLOOKUP(N41,Feeds!$B$9:$AB$109,26,FALSE)/1000)","v":""},{"$f":"IF(O41=\"\",\"\",O41*VLOOKUP(N41,Feeds!$B$9:$AB$109,27,FALSE)/1000)","v":""},0,null,null,null,null,null,{"$f":"IF(Z41=0,\"\",VLOOKUP(Y41,Feeds!$B$9:$AB$109,23,FALSE)*Z41/1000)","v":""},{"$f":"IF(Z41=0,\"\",VLOOKUP(Y41,Feeds!$B$9:$AB$109,24,FALSE))","v":""},{"$f":"IF(Z41=\"\",\"\",Z41*(VLOOKUP(Y41,Feeds!$B$9:$AB$109,25,FALSE)/1000))","v":""},{"$f":"IF(Z41=\"\",\"\",Z41*VLOOKUP(Y41,Feeds!$B$9:$AB$109,26,FALSE)/1000)","v":""},{"$f":"IF(Z41=\"\",\"\",Z41*VLOOKUP(Y41,Feeds!$B$9:$AB$109,27,FALSE)/1000)","v":""},0]
[null,null,null,null,{"$f":"IF(D42=0,\"\",VLOOKUP(C42,Feeds!$B$9:$AB$109,23,FALSE)*D42/1000)","v":""},{"$f":"IF(D42=0,\"\",VLOOKUP(C42,Feeds!$B$9:$AB$109,24,FALSE))","v":""},{"$f":"IF(D42=\"\",\"\",D42*(VLOOKUP(C42,Feeds!$B$9:$AB$109,25,FALSE)/1000))","v":""},{"$f":"IF(D42=\"\",\"\",D42*VLOOKUP(C42,Feeds!$B$9:$AB$109,26,FALSE)/1000)","v":""},{"$f":"IF(D42=\"\",\"\",D42*VLOOKUP(C42,Feeds!$B$9:$AB$109,27,FALSE)/1000)","v":""},0,null,null,null,null,null,{"$f":"IF(O42=0,\"\",VLOOKUP(N42,Feeds!$B$9:$AB$109,23,FALSE)*O42/1000)","v":""},{"$f":"IF(O42=0,\"\",VLOOKUP(N42,Feeds!$B$9:$AB$109,24,FALSE))","v":""},{"$f":"IF(O42=\"\",\"\",O42*(VLOOKUP(N42,Feeds!$B$9:$AB$109,25,FALSE)/1000))","v":""},{"$f":"IF(O42=\"\",\"\",O42*VLOOKUP(N42,Feeds!$B$9:$AB$109,26,FALSE)/1000)","v":""},{"$f":"IF(O42=\"\",\"\",O42*VLOOKUP(N42,Feeds!$B$9:$AB$109,27,FALSE)/1000)","v":""},0,null,null,null,null,null,{"$f":"IF(Z42=0,\"\",VLOOKUP(Y42,Feeds!$B$9:$AB$109,23,FALSE)*Z42/1000)","v":""},{"$f":"IF(Z42=0,\"\",VLOOKUP(Y42,Feeds!$B$9:$AB$109,24,FALSE))","v":""},{"$f":"IF(Z42=\"\",\"\",Z42*(VLOOKUP(Y42,Feeds!$B$9:$AB$109,25,FALSE)/1000))","v":""},{"$f":"IF(Z42=\"\",\"\",Z42*VLOOKUP(Y42,Feeds!$B$9:$AB$109,26,FALSE)/1000)","v":""},{"$f":"IF(Z42=\"\",\"\",Z42*VLOOKUP(Y42,Feeds!$B$9:$AB$109,27,FALSE)/1000)","v":""},0]
[null,null,null,null,{"$f":"IF(D43=0,\"\",VLOOKUP(C43,Feeds!$B$9:$AB$109,23,FALSE)*D43/1000)","v":""},{"$f":"IF(D43=0,\"\",VLOOKUP(C43,Feeds!$B$9:$AB$109,24,FALSE))","v":""},{"$f":"IF(D43=\"\",\"\",D43*(VLOOKUP(C43,Feeds!$B$9:$AB$109,25,FALSE)/1000))","v":""},{"$f":"IF(D43=\"\",\"\",D43*VLOOKUP(C43,Feeds!$B$9:$AB$109,26,FALSE)/1000)","v":""},{"$f":"IF(D43=\"\",\"\",D43*VLOOKUP(C43,Feeds!$B$9:$AB$109,27,FALSE)/1000)","v":""},0,null,null,null,null,null,{"$f":"IF(O43=0,\"\",VLOOKUP(N43,Feeds!$B$9:$AB$109,23,FALSE)*O43/1000)","v":""},{"$f":"IF(O43=0,\"\",VLOOKUP(N43,Feeds!$B$9:$AB$109,24,FALSE))","v":""},{"$f":"IF(O43=\"\",\"\",O43*(VLOOKUP(N43,Feeds!$B$9:$AB$109,25,FALSE)/1000))","v":""},{"$f":"IF(O43=\"\",\"\",O43*VLOOKUP(N43,Feeds!$B$9:$AB$109,26,FALSE)/1000)","v":""},{"$f":"IF(O43=\"\",\"\",O43*VLOOKUP(N43,Feeds!$B$9:$AB$109,27,FALSE)/1000)","v":""},0,null,null,null,null,null,{"$f":"IF(Z43=0,\"\",VLOOKUP(Y43,Feeds!$B$9:$AB$109,23,FALSE)*Z43/1000)","v":""},{"$f":"IF(Z43=0,\"\",VLOOKUP(Y43,Feeds!$B$9:$AB$109,24,FALSE))","v":""},{"$f":"IF(Z43=\"\",\"\",Z43*(VLOOKUP(Y43,Feeds!$B$9:$AB$109,25,FALSE)/1000))","v":""},{"$f":"IF(Z43=\"\",\"\",Z43*VLOOKUP(Y43,Feeds!$B$9:$AB$109,26,FALSE)/1000)","v":""},{"$f":"IF(Z43=\"\",\"\",Z43*VLOOKUP(Y43,Feeds!$B$9:$AB$109,27,FALSE)/1000)","v":""},0]
[null,null,null,null,{"$f":"IF(D44=0,\"\",VLOOKUP(C44,Feeds!$B$9:$AB$109,23,FALSE)*D44/1000)","v":""},{"$f":"IF(D44=0,\"\",VLOOKUP(C44,Feeds!$B$9:$AB$109,24,FALSE))","v":""},{"$f":"IF(D44=\"\",\"\",D44*(VLOOKUP(C44,Feeds!$B$9:$AB$109,25,FALSE)/1000))","v":""},{"$f":"IF(D44=\"\",\"\",D44*VLOOKUP(C44,Feeds!$B$9:$AB$109,26,FALSE)/1000)","v":""},{"$f":"IF(D44=\"\",\"\",D44*VLOOKUP(C44,Feeds!$B$9:$AB$109,27,FALSE)/1000)","v":""},0,null,null,null,null,null,{"$f":"IF(O44=0,\"\",VLOOKUP(N44,Feeds!$B$9:$AB$109,23,FALSE)*O44/1000)","v":""},{"$f":"IF(O44=0,\"\",VLOOKUP(N44,Feeds!$B$9:$AB$109,24,FALSE))","v":""},{"$f":"IF(O44=\"\",\"\",O44*(VLOOKUP(N44,Feeds!$B$9:$AB$109,25,FALSE)/1000))","v":""},{"$f":"IF(O44=\"\",\"\",O44*VLOOKUP(N44,Feeds!$B$9:$AB$109,26,FALSE)/1000)","v":""},{"$f":"IF(O44=\"\",\"\",O44*VLOOKUP(N44,Feeds!$B$9:$AB$109,27,FALSE)/1000)","v":""},0,null,null,null,null,null,{"$f":"IF(Z44=0,\"\",VLOOKUP(Y44,Feeds!$B$9:$AB$109,23,FALSE)*Z44/1000)","v":""},{"$f":"IF(Z44=0,\"\",VLOOKUP(Y44,Feeds!$B$9:$AB$109,24,FALSE))","v":""},{"$f":"IF(Z44=\"\",\"\",Z44*(VLOOKUP(Y44,Feeds!$B$9:$AB$109,25,FALSE)/1000))","v":""},{"$f":"IF(Z44=\"\",\"\",Z44*VLOOKUP(Y44,Feeds!$B$9:$AB$109,26,FALSE)/1000)","v":""},{"$f":"IF(Z44=\"\",\"\",Z44*VLOOKUP(Y44,Feeds!$B$9:$AB$109,27,FALSE)/1000)","v":""},0]
[null,null,null,null,{"$f":"IF(D45=0,\"\",VLOOKUP(C45,Feeds!$B$9:$AB$109,23,FALSE)*D45/1000)","v":""},{"$f":"IF(D45=0,\"\",VLOOKUP(C45,Feeds!$B$9:$AB$109,24,FALSE))","v":""},{"$f":"IF(D45=\"\",\"\",D45*(VLOOKUP(C45,Feeds!$B$9:$AB$109,25,FALSE)/1000))","v":""},{"$f":"IF(D45=\"\",\"\",D45*VLOOKUP(C45,Feeds!$B$9:$AB$109,26,FALSE)/1000)","v":""},{"$f":"IF(D45=\"\",\"\",D45*VLOOKUP(C45,Feeds!$B$9:$AB$109,27,FALSE)/1000)","v":""},0,null,null,null,null,null,{"$f":"IF(O45=0,\"\",VLOOKUP(N45,Feeds!$B$9:$AB$109,23,FALSE)*O45/1000)","v":""},{"$f":"IF(O45=0,\"\",VLOOKUP(N45,Feeds!$B$9:$AB$109,24,FALSE))","v":""},{"$f":"IF(O45=\"\",\"\",O45*(VLOOKUP(N45,Feeds!$B$9:$AB$109,25,FALSE)/1000))","v":""},{"$f":"IF(O45=\"\",\"\",O45*VLOOKUP(N45,Feeds!$B$9:$AB$109,26,FALSE)/1000)","v":""},{"$f":"IF(O45=\"\",\"\",O45*VLOOKUP(N45,Feeds!$B$9:$AB$109,27,FALSE)/1000)","v":""},0,null,null,null,null,null,{"$f":"IF(Z45=0,\"\",VLOOKUP(Y45,Feeds!$B$9:$AB$109,23,FALSE)*Z45/1000)","v":""},{"$f":"IF(Z45=0,\"\",VLOOKUP(Y45,Feeds!$B$9:$AB$109,24,FALSE))","v":""},{"$f":"IF(Z45=\"\",\"\",Z45*(VLOOKUP(Y45,Feeds!$B$9:$AB$109,25,FALSE)/1000))","v":""},{"$f":"IF(Z45=\"\",\"\",Z45*VLOOKUP(Y45,Feeds!$B$9:$AB$109,26,FALSE)/1000)","v":""},{"$f":"IF(Z45=\"\",\"\",Z45*VLOOKUP(Y45,Feeds!$B$9:$AB$109,27,FALSE)/1000)","v":""},0]
[null,null,null,null,{"$f":"IF(D46=0,\"\",VLOOKUP(C46,Feeds!$B$9:$AB$109,23,FALSE)*D46/1000)","v":""},{"$f":"IF(D46=0,\"\",VLOOKUP(C46,Feeds!$B$9:$AB$109,24,FALSE))","v":""},{"$f":"IF(D46=\"\",\"\",D46*(VLOOKUP(C46,Feeds!$B$9:$AB$109,25,FALSE)/1000))","v":""},{"$f":"IF(D46=\"\",\"\",D46*VLOOKUP(C46,Feeds!$B$9:$AB$109,26,FALSE)/1000)","v":""},{"$f":"IF(D46=\"\",\"\",D46*VLOOKUP(C46,Feeds!$B$9:$AB$109,27,FALSE)/1000)","v":""},0,null,null,null,null,null,{"$f":"IF(O46=0,\"\",VLOOKUP(N46,Feeds!$B$9:$AB$109,23,FALSE)*O46/1000)","v":""},{"$f":"IF(O46=0,\"\",VLOOKUP(N46,Feeds!$B$9:$AB$109,24,FALSE))","v":""},{"$f":"IF(O46=\"\",\"\",O46*(VLOOKUP(N46,Feeds!$B$9:$AB$109,25,FALSE)/1000))","v":""},{"$f":"IF(O46=\"\",\"\",O46*VLOOKUP(N46,Feeds!$B$9:$AB$109,26,FALSE)/1000)","v":""},{"$f":"IF(O46=\"\",\"\",O46*VLOOKUP(N46,Feeds!$B$9:$AB$109,27,FALSE)/1000)","v":""},0,null,null,null,null,null,{"$f":"IF(Z46=0,\"\",VLOOKUP(Y46,Feeds!$B$9:$AB$109,23,FALSE)*Z46/1000)","v":""},{"$f":"IF(Z46=0,\"\",VLOOKUP(Y46,Feeds!$B$9:$AB$109,24,FALSE))","v":""},{"$f":"IF(Z46=\"\",\"\",Z46*(VLOOKUP(Y46,Feeds!$B$9:$AB$109,25,FALSE)/1000))","v":""},{"$f":"IF(Z46=\"\",\"\",Z46*VLOOKUP(Y46,Feeds!$B$9:$AB$109,26,FALSE)/1000)","v":""},{"$f":"IF(Z46=\"\",\"\",Z46*VLOOKUP(Y46,Feeds!$B$9:$AB$109,27,FALSE)/1000)","v":""},0]
[null,null,null,null,{"$f":"IF(D47=0,\"\",VLOOKUP(C47,Feeds!$B$9:$AB$109,23,FALSE)*D47/1000)","v":""},{"$f":"IF(D47=0,\"\",VLOOKUP(C47,Feeds!$B$9:$AB$109,24,FALSE))","v":""},{"$f":"IF(D47=\"\",\"\",D47*(VLOOKUP(C47,Feeds!$B$9:$AB$109,25,FALSE)/1000))","v":""},{"$f":"IF(D47=\"\",\"\",D47*VLOOKUP(C47,Feeds!$B$9:$AB$109,26,FALSE)/1000)","v":""},{"$f":"IF(D47=\"\",\"\",D47*VLOOKUP(C47,Feeds!$B$9:$AB$109,27,FALSE)/1000)","v":""},0,null,null,null,null,null,{"$f":"IF(O47=0,\"\",VLOOKUP(N47,Feeds!$B$9:$AB$109,23,FALSE)*O47/1000)","v":""},{"$f":"IF(O47=0,\"\",VLOOKUP(N47,Feeds!$B$9:$AB$109,24,FALSE))","v":""},{"$f":"IF(O47=\"\",\"\",O47*(VLOOKUP(N47,Feeds!$B$9:$AB$109,25,FALSE)/1000))","v":""},{"$f":"IF(O47=\"\",\"\",O47*VLOOKUP(N47,Feeds!$B$9:$AB$109,26,FALSE)/1000)","v":""},{"$f":"IF(O47=\"\",\"\",O47*VLOOKUP(N47,Feeds!$B$9:$AB$109,27,FALSE)/1000)","v":""},{"$f":"IF(O47=\"\",0,P47*Q47/100)","v":0},null,null,null,null,null,{"$f":"IF(Z47=0,\"\",VLOOKUP(Y47,Feeds!$B$9:$AB$109,23,FALSE)*Z47/1000)","v":""},{"$f":"IF(Z47=0,\"\",VLOOKUP(Y47,Feeds!$B$9:$AB$109,24,FALSE))","v":""},{"$f":"IF(Z47=\"\",\"\",Z47*(VLOOKUP(Y47,Feeds!$B$9:$AB$109,25,FALSE)/1000))","v":""},{"$f":"IF(Z47=\"\",\"\",Z47*VLOOKUP(Y47,Feeds!$B$9:$AB$109,26,FALSE)/1000)","v":""},{"$f":"IF(Z47=\"\",\"\",Z47*VLOOKUP(Y47,Feeds!$B$9:$AB$109,27,FALSE)/1000)","v":""},{"$f":"IF(Z47=\"\",0,AA47*AB47/100)","v":0}]
[null,null,"Kokku päevas",{"$f":"SUM(D35:D47)","v":0},{"$f":"SUM(E35:E47)","v":0},null,{"$f":"SUM(G35:G47)","v":0},{"$f":"SUM(H35:H47)","v":0},{"$f":"SUM(I35:I47)","v":0},{"$f":"SUM(J35:J47)","v":0},null,null,null,"Kokku päevas",{"$f":"SUM(O35:O47)","v":0},{"$f":"SUM(P35:P47)","v":0},null,{"$f":"SUM(R35:R47)","v":0},{"$f":"SUM(S35:S47)","v":0},{"$f":"SUM(T35:T47)","v":0},{"$f":"SUM(U35:U47)","v":0},null,null,null,"Kokku päevas",{"$f":"SUM(Z35:Z47)","v":0},{"$f":"SUM(AA35:AA47)","v":0},null,{"$f":"SUM(AC35:AC47)","v":0},{"$f":"SUM(AD35:AD47)","v":0},{"$f":"SUM(AE35:AE47)","v":0},{"$f":"SUM(AF35:AF47)","v":0}]
[null,null,"Kokku perioodis",{"$f":"D48*L34","v":0},{"$f":"E48*L34","v":0},{"$f":"IF(D49=0,0,J49*100/E49)","v":0},{"$f":"G48*L34","v":0},{"$f":"H48*L34","v":0},{"$f":"I48*L34","v":0},{"$f":"J48*L34","v":0},null,null,null,"Kokku perioodis",{"$f":"O48*W34","v":0},{"$f":"P48*W34","v":0},{"$f":"IF(O49=0,0,U49*100/P49)","v":0},{"$f":"R48*W34","v":0},{"$f":"S48*W34","v":0},{"$f":"T48*W34","v":0},{"$f":"U48*W34","v":0},null,null,null,"Kokku perioodis",{"$f":"Z48*AH34","v":0},{"$f":"AA48*AH34","v":0},{"$f":"IF(Z49=0,0,AF49*100/AA49)","v":0},{"$f":"AC48*AH34","v":0},{"$f":"AD48*AH34","v":0},{"$f":"AE48*AH34","v":0},{"$f":"AF48*AH34","v":0}]
[]
[null,null,"Faas 3 (munatoodang: 89 - 85%)",null,null,null,"Vanus päeva ","alates",{"$f":"I33","v":0},null,null,"Päevi grupis",null,"Faas 3",null,null,null,"Vanus päeva ","alates",{"$f":"T33","v":0},null,null,"Päevi grupis",null,"Faas 3",null,null,null,"Vanus päeva ","alates",{"$f":"AE33","v":0},null,null,"Päevi grupis"]
[null,null,null,null,null,null,null,"kuni",null,null,null,null,null,null,null,null,null,null,"kuni",null,null,null,null,null,null,null,null,null,null,"kuni"]
[null,null,"Söödad (s.h. mineraalsöödad)","Kogus g/päev","KA g/päev","KA seeduvus   %","TP     g/päev","P   g/päev","K   g/päev",null,null,{"$f":"IF(I52=0,0,I52-I51)","v":0},null,"Söödad (s.h. mineraalsöödad)","Kogus g/päev","KA g/päev","KA seeduvus   %","TP     g/päev","P   g/päev","K   g/päev",null,null,{"$f":"IF(T52=0,0,T52-T51)","v":0},null,"Söödad (s.h. mineraalsöödad)","Kogus g/päev","KA g/päev","KA seeduvus   %","TP     g/päev","P   g/päev","K   g/päev",null,null,{"$f":"IF(AE52=0,0,AE52-AE51)","v":0}]
[null,null,null,null,{"$f":"IF(D54=0,\"\",VLOOKUP(C54,Feeds!$B$9:$AB$109,23,FALSE)*D54/1000)","v":""},{"$f":"IF(D54=0,\"\",VLOOKUP(C54,Feeds!$B$9:$AB$109,24,FALSE))","v":""},{"$f":"IF(D54=\"\",\"\",D54*(VLOOKUP(C54,Feeds!$B$9:$AB$109,25,FALSE)/1000))","v":""},{"$f":"IF(D54=\"\",\"\",D54*VLOOKUP(C54,Feeds!$B$9:$AB$109,26,FALSE)/1000)","v":""},{"$f":"IF(D54=\"\",\"\",D54*VLOOKUP(C54,Feeds!$B$9:$AB$109,27,FALSE)/1000)","v":""},{"$f":"IF(D54=\"\",0,E54*F54/100)","v":0},null,null,null,null,null,{"$f":"IF(O54=0,\"\",VLOOKUP(N54,Feeds!$B$9:$AB$109,23,FALSE)*O54/1000)","v":""},{"$f":"IF(O54=0,\"\",VLOOKUP(N54,Feeds!$B$9:$AB$109,24,FALSE))","v":""},{"$f":"IF(O54=\"\",\"\",O54*(VLOOKUP(N54,Feeds!$B$9:$AB$109,25,FALSE)/1000))","v":""},{"$f":"IF(O54=\"\",\"\",O54*VLOOKUP(N54,Feeds!$B$9:$AB$109,26,FALSE)/1000)","v":""},{"$f":"IF(O54=\"\",\"\",O54*VLOOKUP(N54,Feeds!$B$9:$AB$109,27,FALSE)/1000)","v":""},{"$f":"IF(O54=\"\",0,P54*Q54/100)","v":0},null,null,null,null,null,{"$f":"IF(Z54=0,\"\",VLOOKUP(Y54,Feeds!$B$9:$AB$109,23,FALSE)*Z54/1000)","v":""},{"$f":"IF(Z54=0,\"\",VLOOKUP(Y54,Feeds!$B$9:$AB$109,24,FALSE))","v":""},{"$f":"IF(Z54=\"\",\"\",Z54*(VLOOKUP(Y54,Feeds!$B$9:$AB$109,25,FALSE)/1000))","v":""},{"$f":"IF(Z54=\"\",\"\",Z54*VLOOKUP(Y54,Feeds!$B$9:$AB$109,26,FALSE)/1000)","v":""},{"$f":"IF(Z54=\"\",\"\",Z54*VLOOKUP(Y54,Feeds!$B$9:$AB$109,27,FALSE)/1000)","v":""},{"$f":"IF(Z54=\"\",0,AA54*AB54/100)","v":0}]
[null,null,null,null,{"$f":"IF(D55=0,\"\",VLOOKUP(C55,Feeds!$B$9:$AB$109,23,FALSE)*D55/1000)","v":""},{"$f":"IF(D55=0,\"\",VLOOKUP(C55,Feeds!$B$9:$AB$109,24,FALSE))","v":""},{"$f":"IF(D55=\"\",\"\",D55*(VLOOKUP(C55,Feeds!$B$9:$AB$109,25,FALSE)/1000))","v":""},{"$f":"IF(D55=\"\",\"\",D55*VLOOKUP(C55,Feeds!$B$9:$AB$109,26,FALSE)/1000)","v":""},{"$f":"IF(D55=\"\",\"\",D55*VLOOKUP(C55,Feeds!$B$9:$AB$109,27,FALSE)/1000)","v":""},0,null,null,null,null,null,{"$f":"IF(O55=0,\"\",VLOOKUP(N55,Feeds!$B$9:$AB$109,23,FALSE)*O55/1000)","v":""},{"$f":"IF(O55=0,\"\",VLOOKUP(N55,Feeds!$B$9:$AB$109,24,FALSE))","v":""},{"$f":"IF(O55=\"\",\"\",O55*(VLOOKUP(N55,Feeds!$B$9:$AB$109,25,FALSE)/1000))","v":""},{"$f":"IF(O55=\"\",\"\",O55*VLOOKUP(N55,Feeds!$B$9:$AB$109,26,FALSE)/1000)","v":""},{"$f":"IF(O55=\"\",\"\",O55*VLOOKUP(N55,Feeds!$B$9:$AB$109,27,FALSE)/1000)","v":""},0,null,null,null,null,null,{"$f":"IF(Z55=0,\"\",VLOOKUP(Y55,Feeds!$B$9:$AB$109,23,FALSE)*Z55/1000)","v":""},{"$f":"IF(Z55=0,\"\",VLOOKUP(Y55,Feeds!$B$9:$AB$109,24,FALSE))","v":""},{"$f":"IF(Z55=\"\",\"\",Z55*(VLOOKUP(Y55,Feeds!$B$9:$AB$109,25,FALSE)/1000))","v":""},{"$f":"IF(Z55=\"\",\"\",Z55*VLOOKUP(Y55,Feeds!$B$9:$AB$109,26,FALSE)/1000)","v":""},{"$f":"IF(Z55=\"\",\"\",Z55*VLOOKUP(Y55,Feeds!$B$9:$AB$109,27,FALSE)/1000)","v":""},{"$f":"IF(Z55=\"\",0,AA55*AB55/100)","v":0}]
[null,null,null,null,{"$f":"IF(D56=0,\"\",VLOOKUP(C56,Feeds!$B$9:$AB$109,23,FALSE)*D56/1000)","v":""},{"$f":"IF(D56=0,\"\",VLOOKUP(C56,Feeds!$B$9:$AB$109,24,FALSE))","v":""},{"$f":"IF(D56=\"\",\"\",D56*(VLOOKUP(C56,Feeds!$B$9:$AB$109,25,FALSE)/1000))","v":""},{"$f":"IF(D56=\"\",\"\",D56*VLOOKUP(C56,Feeds!$B$9:$AB$109,26,FALSE)/1000)","v":""},{"$f":"IF(D56=\"\",\"\",D56*VLOOKUP(C56,Feeds!$B$9:$AB$109,27,FALSE)/1000)","v":""},0,null,null,null,null,null,{"$f":"IF(O56=0,\"\",VLOOKUP(N56,Feeds!$B$9:$AB$109,23,FALSE)*O56/1000)","v":""},{"$f":"IF(O56=0,\"\",VLOOKUP(N56,Feeds!$B$9:$AB$109,24,FALSE))","v":""},{"$f":"IF(O56=\"\",\"\",O56*(VLOOKUP(N56,Feeds!$B$9:$AB$109,25,FALSE)/1000))","v":""},{"$f":"IF(O56=\"\",\"\",O56*VLOOKUP(N56,Feeds!$B$9:$AB$109,26,FALSE)/1000)","v":""},{"$f":"IF(O56=\"\",\"\",O56*VLOOKUP(N56,Feeds!$B$9:$AB$109,27,FALSE)/1000)","v":""},0,null,null,null,null,null,{"$f":"IF(Z56=0,\"\",VLOOKUP(Y56,Feeds!$B$9:$AB$109,23,FALSE)*Z56/1000)","v":""},{"$f":"IF(Z56=0,\"\",VLOOKUP(Y56,Feeds!$B$9:$AB$109,24,FALSE))","v":""},{"$f":"IF(Z56=\"\",\"\",Z56*(VLOOKUP(Y56,Feeds!$B$9:$AB$109,25,FALSE)/1000))","v":""},{"$f":"IF(Z56=\"\",\"\",Z56*VLOOKUP(Y56,Feeds!$B$9:$AB$109,26,FALSE)/1000)","v":""},{"$f":"IF(Z56=\"\",\"\",Z56*VLOOKUP(Y56,Feeds!$B$9:$AB$109,27,FALSE)/1000)","v":""},0]
[null,null,null,null,{"$f":"IF(D57=0,\"\",VLOOKUP(C57,Feeds!$B$9:$AB$109,23,FALSE)*D57/1000)","v":""},{"$f":"IF(D57=0,\"\",VLOOKUP(C57,Feeds!$B$9:$AB$109,24,FALSE))","v":""},{"$f":"IF(D57=\"\",\"\",D57*(VLOOKUP(C57,Feeds!$B$9:$AB$109,25,FALSE)/1000))","v":""},{"$f":"IF(D57=\"\",\"\",D57*VLOOKUP(C57,Feeds!$B$9:$AB$109,26,FALSE)/1000)","v":""},{"$f":"IF(D57=\"\",\"\",D57*VLOOKUP(C57,Feeds!$B$9:$AB$109,27,FALSE)/1000)","v":""},0,null,null,null,null,null,{"$f":"IF(O57=0,\"\",VLOOKUP(N57,Feeds!$B$9:$AB$109,23,FALSE)*O57/1000)","v":""},{"$f":"IF(O57=0,\"\",VLOOKUP(N57,Feeds!$B$9:$AB$109,24,FALSE))","v":""},{"$f":"IF(O57=\"\",\"\",O57*(VLOOKUP(N57,Feeds!$B$9:$AB$109,25,FALSE)/1000))","v":""},{"$f":"IF(O57=\"\",\"\",O57*VLOOKUP(N57,Feeds!$B$9:$AB$109,26,FALSE)/1000)","v":""},{"$f":"IF(O57=\"\",\"\",O57*VLOOKUP(N57,Feeds!$B$9:$AB$109,27,FALSE)/1000)","v":""},0,null,null,null,null,null,{"$f":"IF(Z57=0,\"\",VLOOKUP(Y57,Feeds!$B$9:$AB$109,23,FALSE)*Z57/1000)","v":""},{"$f":"IF(Z57=0,\"\",VLOOKUP(Y57,Feeds!$B$9:$AB$109,24,FALSE))","v":""},{"$f":"IF(Z57=\"\",\"\",Z57*(VLOOKUP(Y57,Feeds!$B$9:$AB$109,25,FALSE)/1000))","v":""},{"$f":"IF(Z57=\"\",\"\",Z57*VLOOKUP(Y57,Feeds!$B$9:$AB$109,26,FALSE)/1000)","v":""},{"$f":"IF(Z57=\"\",\"\",Z57*VLOOKUP(Y57,Feeds!$B$9:$AB$109,27,FALSE)/1000)","v":""},0]
[null,null,null,null,{"$f":"IF(D58=0,\"\",VLOOKUP(C58,Feeds!$B$9:$AB$109,23,FALSE)*D58/1000)","v":""},{"$f":"IF(D58=0,\"\",VLOOKUP(C58,Feeds!$B$9:$AB$109,24,FALSE))","v":""},{"$f":"IF(D58=\"\",\"\",D58*(VLOOKUP(C58,Feeds!$B$9:$AB$109,25,FALSE)/1000))","v":""},{"$f":"IF(D58=\"\",\"\",D58*VLOOKUP(C58,Feeds!$B$9:$AB$109,26,FALSE)/1000)","v":""},{"$f":"IF(D58=\"\",\"\",D58*VLOOKUP(C58,Feeds!$B$9:$AB$109,27,FALSE)/1000)","v":""},0,null,null,null,null,null,{"$f":"IF(O58=0,\"\",VLOOKUP(N58,Feeds!$B$9:$AB$109,23,FALSE)*O58/1000)","v":""},{"$f":"IF(O58=0,\"\",VLOOKUP(N58,Feeds!$B$9:$AB$109,24,FALSE))","v":""},{"$f":"IF(O58=\"\",\"\",O58*(VLOOKUP(N58,Feeds!$B$9:$AB$109,25,FALSE)/1000))","v":""},{"$f":"IF(O58=\"\",\"\",O58*VLOOKUP(N58,Feeds!$B$9:$AB$109,26,FALSE)/1000)","v":""},{"$f":"IF(O58=\"\",\"\",O58*VLOOKUP(N58,Feeds!$B$9:$AB$109,27,FALSE)/1000)","v":""},0,null,null,null,null,null,{"$f":"IF(Z58=0,\"\",VLOOKUP(Y58,Feeds!$B$9:$AB$109,23,FALSE)*Z58/1000)","v":""},{"$f":"IF(Z58=0,\"\",VLOOKUP(Y58,Feeds!$B$9:$AB$109,24,FALSE))","v":""},{"$f":"IF(Z58=\"\",\"\",Z58*(VLOOKUP(Y58,Feeds!$B$9:$AB$109,25,FALSE)/1000))","v":""},{"$f":"IF(Z58=\"\",\"\",Z58*VLOOKUP(Y58,Feeds!$B$9:$AB$109,26,FALSE)/1000)","v":""},{"$f":"IF(Z58=\"\",\"\",Z58*VLOOKUP(Y58,Feeds!$B$9:$AB$109,27,FALSE)/1000)","v":""},0]
[null,null,null,null,{"$f":"IF(D59=0,\"\",VLOOKUP(C59,Feeds!$B$9:$AB$109,23,FALSE)*D59/1000)","v":""},{"$f":"IF(D59=0,\"\",VLOOKUP(C59,Feeds!$B$9:$AB$109,24,FALSE))","v":""},{"$f":"IF(D59=\"\",\"\",D59*(VLOOKUP(C59,Feeds!$B$9:$AB$109,25,FALSE)/1000))","v":""},{"$f":"IF(D59=\"\",\"\",D59*VLOOKUP(C59,Feeds!$B$9:$AB$109,26,FALSE)/1000)","v":""},{"$f":"IF(D59=\"\",\"\",D59*VLOOKUP(C59,Feeds!$B$9:$AB$109,27,FALSE)/1000)","v":""},0,null,null,null,null,null,{"$f":"IF(O59=0,\"\",VLOOKUP(N59,Feeds!$B$9:$AB$109,23,FALSE)*O59/1000)","v":""},{"$f":"IF(O59=0,\"\",VLOOKUP(N59,Feeds!$B$9:$AB$109,24,FALSE))","v":""},{"$f":"IF(O59=\"\",\"\",O59*(VLOOKUP(N59,Feeds!$B$9:$AB$109,25,FALSE)/1000))","v":""},{"$f":"IF(O59=\"\",\"\",O59*VLOOKUP(N59,Feeds!$B$9:$AB$109,26,FALSE)/1000)","v":""},{"$f":"IF(O59=\"\",\"\",O59*VLOOKUP(N59,Feeds!$B$9:$AB$109,27,FALSE)/1000)","v":""},0,null,null,null,null,null,{"$f":"IF(Z59=0,\"\",VLOOKUP(Y59,Feeds!$B$9:$AB$109,23,FALSE)*Z59/1000)","v":""},{"$f":"IF(Z59=0,\"\",VLOOKUP(Y59,Feeds!$B$9:$AB$109,24,FALSE))","v":""},{"$f":"IF(Z59=\"\",\"\",Z59*(VLOOKUP(Y59,Feeds!$B$9:$AB$109,25,FALSE)/1000))","v":""},{"$f":"IF(Z59=\"\",\"\",Z59*VLOOKUP(Y59,Feeds!$B$9:$AB$109,26,FALSE)/1000)","v":""},{"$f":"IF(Z59=\"\",\"\",Z59*VLOOKUP(Y59,Feeds!$B$9:$AB$109,27,FALSE)/1000)","v":""},0]
[null,null,null,null,{"$f":"IF(D60=0,\"\",VLOOKUP(C60,Feeds!$B$9:$AB$109,23,FALSE)*D60/1000)","v":""},{"$f":"IF(D60=0,\"\",VLOOKUP(C60,Feeds!$B$9:$AB$109,24,FALSE))","v":""},{"$f":"IF(D60=\"\",\"\",D60*(VLOOKUP(C60,Feeds!$B$9:$AB$109,25,FALSE)/1000))","v":""},{"$f":"IF(D60=\"\",\"\",D60*VLOOKUP(C60,Feeds!$B$9:$AB$109,26,FALSE)/1000)","v":""},{"$f":"IF(D60=\"\",\"\",D60*VLOOKUP(C60,Feeds!$B$9:$AB$109,27,FALSE)/1000)","v":""},0,null,null,null,null,null,{"$f":"IF(O60=0,\"\",VLOOKUP(N60,Feeds!$B$9:$AB$109,23,FALSE)*O60/1000)","v":""},{"$f":"IF(O60=0,\"\",VLOOKUP(N60,Feeds!$B$9:$AB$109,24,FALSE))","v":""},{"$f":"IF(O60=\"\",\"\",O60*(VLOOKUP(N60,Feeds!$B$9:$AB$109,25,FALSE)/1000))","v":""},{"$f":"IF(O60=\"\",\"\",O60*VLOOKUP(N60,Feeds!$B$9:$AB$109,26,FALSE)/1000)","v":""},{"$f":"IF(O60=\"\",\"\",O60*VLOOKUP(N60,Feeds!$B$9:$AB$109,27,FALSE)/1000)","v":""},0,null,null,null,null,null,{"$f":"IF(Z60=0,\"\",VLOOKUP(Y60,Feeds!$B$9:$AB$109,23,FALSE)*Z60/1000)","v":""},{"$f":"IF(Z60=0,\"\",VLOOKUP(Y60,Feeds!$B$9:$AB$109,24,FALSE))","v":""},{"$f":"IF(Z60=\"\",\"\",Z60*(VLOOKUP(Y60,Feeds!$B$9:$AB$109,25,FALSE)/1000))","v":""},{"$f":"IF(Z60=\"\",\"\",Z60*VLOOKUP(Y60,Feeds!$B$9:$AB$109,26,FALSE)/1000)","v":""},{"$f":"IF(Z60=\"\",\"\",Z60*VLOOKUP(Y60,Feeds!$B$9:$AB$109,27,FALSE)/1000)","v":""},0]
[null,null,null,null,{"$f":"IF(D61=0,\"\",VLOOKUP(C61,Feeds!$B$9:$AB$109,23,FALSE)*D61/1000)","v":""},{"$f":"IF(D61=0,\"\",VLOOKUP(C61,Feeds!$B$9:$AB$109,24,FALSE))","v":""},{"$f":"IF(D61=\"\",\"\",D61*(VLOOKUP(C61,Feeds!$B$9:$AB$109,25,FALSE)/1000))","v":""},{"$f":"IF(D61=\"\",\"\",D61*VLOOKUP(C61,Feeds!$B$9:$AB$109,26,FALSE)/1000)","v":""},{"$f":"IF(D61=\"\",\"\",D61*VLOOKUP(C61,Feeds!$B$9:$AB$109,27,FALSE)/1000)","v":""},0,null,null,null,null,null,{"$f":"IF(O61=0,\"\",VLOOKUP(N61,Feeds!$B$9:$AB$109,23,FALSE)*O61/1000)","v":""},{"$f":"IF(O61=0,\"\",VLOOKUP(N61,Feeds!$B$9:$AB$109,24,FALSE))","v":""},{"$f":"IF(O61=\"\",\"\",O61*(VLOOKUP(N61,Feeds!$B$9:$AB$109,25,FALSE)/1000))","v":""},{"$f":"IF(O61=\"\",\"\",O61*VLOOKUP(N61,Feeds!$B$9:$AB$109,26,FALSE)/1000)","v":""},{"$f":"IF(O61=\"\",\"\",O61*VLOOKUP(N61,Feeds!$B$9:$AB$109,27,FALSE)/1000)","v":""},0,null,null,null,null,null,{"$f":"IF(Z61=0,\"\",VLOOKUP(Y61,Feeds!$B$9:$AB$109,23,FALSE)*Z61/1000)","v":""},{"$f":"IF(Z61=0,\"\",VLOOKUP(Y61,Feeds!$B$9:$AB$109,24,FALSE))","v":""},{"$f":"IF(Z61=\"\",\"\",Z61*(VLOOKUP(Y61,Feeds!$B$9:$AB$109,25,FALSE)/1000))","v":""},{"$f":"IF(Z61=\"\",\"\",Z61*VLOOKUP(Y61,Feeds!$B$9:$AB$109,26,FALSE)/1000)","v":""},{"$f":"IF(Z61=\"\",\"\",Z61*VLOOKUP(Y61,Feeds!$B$9:$AB$109,27,FALSE)/1000)","v":""},0]
[null,null,null,null,{"$f":"IF(D62=0,\"\",VLOOKUP(C62,Feeds!$B$9:$AB$109,23,FALSE)*D62/1000)","v":""},{"$f":"IF(D62=0,\"\",VLOOKUP(C62,Feeds!$B$9:$AB$109,24,FALSE))","v":""},{"$f":"IF(D62=\"\",\"\",D62*(VLOOKUP(C62,Feeds!$B$9:$AB$109,25,FALSE)/1000))","v":""},{"$f":"IF(D62=\"\",\"\",D62*VLOOKUP(C62,Feeds!$B$9:$AB$109,26,FALSE)/1000)","v":""},{"$f":"IF(D62=\"\",\"\",D62*VLOOKUP(C62,Feeds!$B$9:$AB$109,27,FALSE)/1000)","v":""},0,null,null,null,null,null,{"$f":"IF(O62=0,\"\",VLOOKUP(N62,Feeds!$B$9:$AB$109,23,FALSE)*O62/1000)","v":""},{"$f":"IF(O62=0,\"\",VLOOKUP(N62,Feeds!$B$9:$AB$109,24,FALSE))","v":""},{"$f":"IF(O62=\"\",\"\",O62*(VLOOKUP(N62,Feeds!$B$9:$AB$109,25,FALSE)/1000))","v":""},{"$f":"IF(O62=\"\",\"\",O62*VLOOKUP(N62,Feeds!$B$9:$AB$109,26,FALSE)/1000)","v":""},{"$f":"IF(O62=\"\",\"\",O62*VLOOKUP(N62,Feeds!$B$9:$AB$109,27,FALSE)/1000)","v":""},0,null,null,null,null,null,{"$f":"IF(Z62=0,\"\",VLOOKUP(Y62,Feeds!$B$9:$AB$109,23,FALSE)*Z62/1000)","v":""},{"$f":"IF(Z62=0,\"\",VLOOKUP(Y62,Feeds!$B$9:$AB$109,24,FALSE))","v":""},{"$f":"IF(Z62=\"\",\"\",Z62*(VLOOKUP(Y62,Feeds!$B$9:$AB$109,25,FALSE)/1000))","v":""},{"$f":"IF(Z62=\"\",\"\",Z62*VLOOKUP(Y62,Feeds!$B$9:$AB$109,26,FALSE)/1000)","v":""},{"$f":"IF(Z62=\"\",\"\",Z62*VLOOKUP(Y62,Feeds!$B$9:$AB$109,27,FALSE)/1000)","v":""},0]
[null,null,null,null,{"$f":"IF(D63=0,\"\",VLOOKUP(C63,Feeds!$B$9:$AB$109,23,FALSE)*D63/1000)","v":""},{"$f":"IF(D63=0,\"\",VLOOKUP(C63,Feeds!$B$9:$AB$109,24,FALSE))","v":""},{"$f":"IF(D63=\"\",\"\",D63*(VLOOKUP(C63,Feeds!$B$9:$AB$109,25,FALSE)/1000))","v":""},{"$f":"IF(D63=\"\",\"\",D63*VLOOKUP(C63,Feeds!$B$9:$AB$109,26,FALSE)/1000)","v":""},{"$f":"IF(D63=\"\",\"\",D63*VLOOKUP(C63,Feeds!$B$9:$AB$109,27,FALSE)/1000)","v":""},0,null,null,null,null,null,{"$f":"IF(O63=0,\"\",VLOOKUP(N63,Feeds!$B$9:$AB$109,23,FALSE)*O63/1000)","v":""},{"$f":"IF(O63=0,\"\",VLOOKUP(N63,Feeds!$B$9:$AB$109,24,FALSE))","v":""},{"$f":"IF(O63=\"\",\"\",O63*(VLOOKUP(N63,Feeds!$B$9:$AB$109,25,FALSE)/1000))","v":""},{"$f":"IF(O63=\"\",\"\",O63*VLOOKUP(N63,Feeds!$B$9:$AB$109,26,FALSE)/1000)","v":""},{"$f":"IF(O63=\"\",\"\",O63*VLOOKUP(N63,Feeds!$B$9:$AB$109,27,FALSE)/1000)","v":""},0,null,null,null,null,null,{"$f":"IF(Z63=0,\"\",VLOOKUP(Y63,Feeds!$B$9:$AB$109,23,FALSE)*Z63/1000)","v":""},{"$f":"IF(Z63=0,\"\",VLOOKUP(Y63,Feeds!$B$9:$AB$109,24,FALSE))","v":""},{"$f":"IF(Z63=\"\",\"\",Z63*(VLOOKUP(Y63,Feeds!$B$9:$AB$109,25,FALSE)/1000))","v":""},{"$f":"IF(Z63=\"\",\"\",Z63*VLOOKUP(Y63,Feeds!$B$9:$AB$109,26,FALSE)/1000)","v":""},{"$f":"IF(Z63=\"\",\"\",Z63*VLOOKUP(Y63,Feeds!$B$9:$AB$109,27,FALSE)/1000)","v":""},0]
[null,null,null,null,{"$f":"IF(D64=0,\"\",VLOOKUP(C64,Feeds!$B$9:$AB$109,23,FALSE)*D64/1000)","v":""},{"$f":"IF(D64=0,\"\",VLOOKUP(C64,Feeds!$B$9:$AB$109,24,FALSE))","v":""},{"$f":"IF(D64=\"\",\"\",D64*(VLOOKUP(C64,Feeds!$B$9:$AB$109,25,FALSE)/1000))","v":""},{"$f":"IF(D64=\"\",\"\",D64*VLOOKUP(C64,Feeds!$B$9:$AB$109,26,FALSE)/1000)","v":""},{"$f":"IF(D64=\"\",\"\",D64*VLOOKUP(C64,Feeds!$B$9:$AB$109,27,FALSE)/1000)","v":""},0,null,null,null,null,null,{"$f":"IF(O64=0,\"\",VLOOKUP(N64,Feeds!$B$9:$AB$109,23,FALSE)*O64/1000)","v":""},{"$f":"IF(O64=0,\"\",VLOOKUP(N64,Feeds!$B$9:$AB$109,24,FALSE))","v":""},{"$f":"IF(O64=\"\",\"\",O64*(VLOOKUP(N64,Feeds!$B$9:$AB$109,25,FALSE)/1000))","v":""},{"$f":"IF(O64=\"\",\"\",O64*VLOOKUP(N64,Feeds!$B$9:$AB$109,26,FALSE)/1000)","v":""},{"$f":"IF(O64=\"\",\"\",O64*VLOOKUP(N64,Feeds!$B$9:$AB$109,27,FALSE)/1000)","v":""},0,null,null,null,null,null,{"$f":"IF(Z64=0,\"\",VLOOKUP(Y64,Feeds!$B$9:$AB$109,23,FALSE)*Z64/1000)","v":""},{"$f":"IF(Z64=0,\"\",VLOOKUP(Y64,Feeds!$B$9:$AB$109,24,FALSE))","v":""},{"$f":"IF(Z64=\"\",\"\",Z64*(VLOOKUP(Y64,Feeds!$B$9:$AB$109,25,FALSE)/1000))","v":""},{"$f":"IF(Z64=\"\",\"\",Z64*VLOOKUP(Y64,Feeds!$B$9:$AB$109,26,FALSE)/1000)","v":""},{"$f":"IF(Z64=\"\",\"\",Z64*VLOOKUP(Y64,Feeds!$B$9:$AB$109,27,FALSE)/1000)","v":""},0]
[null,null,null,null,{"$f":"IF(D65=0,\"\",VLOOKUP(C65,Feeds!$B$9:$AB$109,23,FALSE)*D65/1000)","v":""},{"$f":"IF(D65=0,\"\",VLOOKUP(C65,Feeds!$B$9:$AB$109,24,FALSE))","v":""},{"$f":"IF(D65=\"\",\"\",D65*(VLOOKUP(C65,Feeds!$B$9:$AB$109,25,FALSE)/1000))","v":""},{"$f":"IF(D65=\"\",\"\",D65*VLOOKUP(C65,Feeds!$B$9:$AB$109,26,FALSE)/1000)","v":""},{"$f":"IF(D65=\"\",\"\",D65*VLOOKUP(C65,Feeds!$B$9:$AB$109,27,FALSE)/1000)","v":""},0,null,null,null,null,null,{"$f":"IF(O65=0,\"\",VLOOKUP(N65,Feeds!$B$9:$AB$109,23,FALSE)*O65/1000)","v":""},{"$f":"IF(O65=0,\"\",VLOOKUP(N65,Feeds!$B$9:$AB$109,24,FALSE))","v":""},{"$f":"IF(O65=\"\",\"\",O65*(VLOOKUP(N65,Feeds!$B$9:$AB$109,25,FALSE)/1000))","v":""},{"$f":"IF(O65=\"\",\"\",O65*VLOOKUP(N65,Feeds!$B$9:$AB$109,26,FALSE)/1000)","v":""},{"$f":"IF(O65=\"\",\"\",O65*VLOOKUP(N65,Feeds!$B$9:$AB$109,27,FALSE)/1000)","v":""},0,null,null,null,null,null,{"$f":"IF(Z65=0,\"\",VLOOKUP(Y65,Feeds!$B$9:$AB$109,23,FALSE)*Z65/1000)","v":""},{"$f":"IF(Z65=0,\"\",VLOOKUP(Y65,Feeds!$B$9:$AB$109,24,FALSE))","v":""},{"$f":"IF(Z65=\"\",\"\",Z65*(VLOOKUP(Y65,Feeds!$B$9:$AB$109,25,FALSE)/1000))","v":""},{"$f":"IF(Z65=\"\",\"\",Z65*VLOOKUP(Y65,Feeds!$B$9:$AB$109,26,FALSE)/1000)","v":""},{"$f":"IF(Z65=\"\",\"\",Z65*VLOOKUP(Y65,Feeds!$B$9:$AB$109,27,FALSE)/1000)","v":""},0]
[null,null,null,null,{"$f":"IF(D66=0,\"\",VLOOKUP(C66,Feeds!$B$9:$AB$109,23,FALSE)*D66/1000)","v":""},{"$f":"IF(D66=0,\"\",VLOOKUP(C66,Feeds!$B$9:$AB$109,24,FALSE))","v":""},{"$f":"IF(D66=\"\",\"\",D66*(VLOOKUP(C66,Feeds!$B$9:$AB$109,25,FALSE)/1000))","v":""},{"$f":"IF(D66=\"\",\"\",D66*VLOOKUP(C66,Feeds!$B$9:$AB$109,26,FALSE)/1000)","v":""},{"$f":"IF(D66=\"\",\"\",D66*VLOOKUP(C66,Feeds!$B$9:$AB$109,27,FALSE)/1000)","v":""},0,null,null,null,null,null,{"$f":"IF(O66=0,\"\",VLOOKUP(N66,Feeds!$B$9:$AB$109,23,FALSE)*O66/1000)","v":""},{"$f":"IF(O66=0,\"\",VLOOKUP(N66,Feeds!$B$9:$AB$109,24,FALSE))","v":""},{"$f":"IF(O66=\"\",\"\",O66*(VLOOKUP(N66,Feeds!$B$9:$AB$109,25,FALSE)/1000))","v":""},{"$f":"IF(O66=\"\",\"\",O66*VLOOKUP(N66,Feeds!$B$9:$AB$109,26,FALSE)/1000)","v":""},{"$f":"IF(O66=\"\",\"\",O66*VLOOKUP(N66,Feeds!$B$9:$AB$109,27,FALSE)/1000)","v":""},0,null,null,null,null,null,{"$f":"IF(Z66=0,\"\",VLOOKUP(Y66,Feeds!$B$9:$AB$109,23,FALSE)*Z66/1000)","v":""},{"$f":"IF(Z66=0,\"\",VLOOKUP(Y66,Feeds!$B$9:$AB$109,24,FALSE))","v":""},{"$f":"IF(Z66=\"\",\"\",Z66*(VLOOKUP(Y66,Feeds!$B$9:$AB$109,25,FALSE)/1000))","v":""},{"$f":"IF(Z66=\"\",\"\",Z66*VLOOKUP(Y66,Feeds!$B$9:$AB$109,26,FALSE)/1000)","v":""},{"$f":"IF(Z66=\"\",\"\",Z66*VLOOKUP(Y66,Feeds!$B$9:$AB$109,27,FALSE)/1000)","v":""},0]
[null,null,"Kokku päevas",{"$f":"SUM(D54:D66)","v":0},{"$f":"SUM(E54:E66)","v":0},null,{"$f":"SUM(G54:G66)","v":0},{"$f":"SUM(H54:H66)","v":0},{"$f":"SUM(I54:I66)","v":0},{"$f":"SUM(J54:J66)","v":0},null,null,null,"Kokku päevas",{"$f":"SUM(O54:O66)","v":0},{"$f":"SUM(P54:P66)","v":0},null,{"$f":"SUM(R54:R66)","v":0},{"$f":"SUM(S54:S66)","v":0},{"$f":"SUM(T54:T66)","v":0},{"$f":"SUM(U54:U66)","v":0},null,null,null,"Kokku päevas",{"$f":"SUM(Z54:Z66)","v":0},{"$f":"SUM(AA54:AA66)","v":0},null,{"$f":"SUM(AC54:AC66)","v":0},{"$f":"SUM(AD54:AD66)","v":0},{"$f":"SUM(AE54:AE66)","v":0},{"$f":"SUM(AF54:AF66)","v":0}]
[null,null,"Kokku perioodis",{"$f":"D67*L53","v":0},{"$f":"E67*L53","v":0},{"$f":"IF(D68=0,0,J68*100/E68)","v":0},{"$f":"G67*L53","v":0},{"$f":"H67*L53","v":0},{"$f":"I67*L53","v":0},{"$f":"J67*L53","v":0},null,null,null,"Kokku perioodis",{"$f":"O67*W53","v":0},{"$f":"P67*W53","v":0},{"$f":"IF(O68=0,0,U68*100/P68)","v":0},{"$f":"R67*W53","v":0},{"$f":"S67*W53","v":0},{"$f":"T67*W53","v":0},{"$f":"U67*W53","v":0},null,null,null,"Kokku perioodis",{"$f":"Z67*AH53","v":0},{"$f":"AA67*AH53","v":0},{"$f":"IF(Z68=0,0,AF68*100/AA68)","v":0},{"$f":"AC67*AH53","v":0},{"$f":"AD67*AH53","v":0},{"$f":"AE67*AH53","v":0},{"$f":"AF67*AH53","v":0}]
[]
[null,null,"Faas 4 (munatoodang: < 85%)",null,null,null,"Vanus päeva ","alates",{"$f":"I52","v":0},null,null,"Päevi grupis",null,"Faas 4 ",null,null,null,"Vanus päeva ","alates",{"$f":"T52","v":0},null,null,"Päevi grupis",null,"Faas 4 ",null,null,null,"Vanus päeva ","alates",{"$f":"AE52","v":0},null,null,"Päevi grupis"]
[null,null,null,null,null,null,null,"kuni",null,null,null,null,null,null,null,null,null,null,"kuni",null,null,null,null,null,null,null,null,null,null,"kuni"]
[null,null,"Söödad (s.h. mineraalsöödad)","Kogus g/päev","KA g/päev","KA seeduvus   %","TP     g/päev","P   g/päev","K   g/päev",null,null,{"$f":"IF(I71=0,0,I71-I70)","v":0},null,"Söödad (s.h. mineraalsöödad)","Kogus g/päev","KA g/päev","KA seeduvus   %","TP     g/päev","P   g/päev","K   g/päev",null,null,{"$f":"IF(T71=0,0,T71-T70)","v":0},null,"Söödad (s.h. mineraalsöödad)","Kogus g/päev","KA g/päev","KA seeduvus   %","TP     g/päev","P   g/päev","K   g/päev",null,null,{"$f":"IF(AE71=0,0,AE71-AE70)","v":0}]
[null,null,null,null,{"$f":"IF(D73=0,\"\",VLOOKUP(C73,Feeds!$B$9:$AB$109,23,FALSE)*D73/1000)","v":""},{"$f":"IF(D73=0,\"\",VLOOKUP(C73,Feeds!$B$9:$AB$109,24,FALSE))","v":""},{"$f":"IF(D73=\"\",\"\",D73*(VLOOKUP(C73,Feeds!$B$9:$AB$109,25,FALSE)/1000))","v":""},{"$f":"IF(D73=\"\",\"\",D73*VLOOKUP(C73,Feeds!$B$9:$AB$109,26,FALSE)/1000)","v":""},{"$f":"IF(D73=\"\",\"\",D73*VLOOKUP(C73,Feeds!$B$9:$AB$109,27,FALSE)/1000)","v":""},{"$f":"IF(D73=\"\",0,E73*F73/100)","v":0},null,null,null,null,null,{"$f":"IF(O73=0,\"\",VLOOKUP(N73,Feeds!$B$9:$AB$109,23,FALSE)*O73/1000)","v":""},{"$f":"IF(O73=0,\"\",VLOOKUP(N73,Feeds!$B$9:$AB$109,24,FALSE))","v":""},{"$f":"IF(O73=\"\",\"\",O73*(VLOOKUP(N73,Feeds!$B$9:$AB$109,25,FALSE)/1000))","v":""},{"$f":"IF(O73=\"\",\"\",O73*VLOOKUP(N73,Feeds!$B$9:$AB$109,26,FALSE)/1000)","v":""},{"$f":"IF(O73=\"\",\"\",O73*VLOOKUP(N73,Feeds!$B$9:$AB$109,27,FALSE)/1000)","v":""},{"$f":"IF(O73=\"\",0,P73*Q73/100)","v":0},null,null,null,null,null,{"$f":"IF(Z73=0,\"\",VLOOKUP(Y73,Feeds!$B$9:$AB$109,23,FALSE)*Z73/1000)","v":""},{"$f":"IF(Z73=0,\"\",VLOOKUP(Y73,Feeds!$B$9:$AB$109,24,FALSE))","v":""},{"$f":"IF(Z73=\"\",\"\",Z73*(VLOOKUP(Y73,Feeds!$B$9:$AB$109,25,FALSE)/1000))","v":""},{"$f":"IF(Z73=\"\",\"\",Z73*VLOOKUP(Y73,Feeds!$B$9:$AB$109,26,FALSE)/1000)","v":""},{"$f":"IF(Z73=\"\",\"\",Z73*VLOOKUP(Y73,Feeds!$B$9:$AB$109,27,FALSE)/1000)","v":""},{"$f":"IF(Z73=\"\",0,AA73*AB73/100)","v":0}]
[null,null,null,null,{"$f":"IF(D74=0,\"\",VLOOKUP(C74,Feeds!$B$9:$AB$109,23,FALSE)*D74/1000)","v":""},{"$f":"IF(D74=0,\"\",VLOOKUP(C74,Feeds!$B$9:$AB$109,24,FALSE))","v":""},{"$f":"IF(D74=\"\",\"\",D74*(VLOOKUP(C74,Feeds!$B$9:$AB$109,25,FALSE)/1000))","v":""},{"$f":"IF(D74=\"\",\"\",D74*VLOOKUP(C74,Feeds!$B$9:$AB$109,26,FALSE)/1000)","v":""},{"$f":"IF(D74=\"\",\"\",D74*VLOOKUP(C74,Feeds!$B$9:$AB$109,27,FALSE)/1000)","v":""},0,null,null,null,null,null,{"$f":"IF(O74=0,\"\",VLOOKUP(N74,Feeds!$B$9:$AB$109,23,FALSE)*O74/1000)","v":""},{"$f":"IF(O74=0,\"\",VLOOKUP(N74,Feeds!$B$9:$AB$109,24,FALSE))","v":""},{"$f":"IF(O74=\"\",\"\",O74*(VLOOKUP(N74,Feeds!$B$9:$AB$109,25,FALSE)/1000))","v":""},{"$f":"IF(O74=\"\",\"\",O74*VLOOKUP(N74,Feeds!$B$9:$AB$109,26,FALSE)/1000)","v":""},{"$f":"IF(O74=\"\",\"\",O74*VLOOKUP(N74,Feeds!$B$9:$AB$109,27,FALSE)/1000)","v":""},0,null,null,null,null,null,{"$f":"IF(Z74=0,\"\",VLOOKUP(Y74,Feeds!$B$9:$AB$109,23,FALSE)*Z74/1000)","v":""},{"$f":"IF(Z74=0,\"\",VLOOKUP(Y74,Feeds!$B$9:$AB$109,24,FALSE))","v":""},{"$f":"IF(Z74=\"\",\"\",Z74*(VLOOKUP(Y74,Feeds!$B$9:$AB$109,25,FALSE)/1000))","v":""},{"$f":"IF(Z74=\"\",\"\",Z74*VLOOKUP(Y74,Feeds!$B$9:$AB$109,26,FALSE)/1000)","v":""},{"$f":"IF(Z74=\"\",\"\",Z74*VLOOKUP(Y74,Feeds!$B$9:$AB$109,27,FALSE)/1000)","v":""},0]
[null,null,null,null,{"$f":"IF(D75=0,\"\",VLOOKUP(C75,Feeds!$B$9:$AB$109,23,FALSE)*D75/1000)","v":""},{"$f":"IF(D75=0,\"\",VLOOKUP(C75,Feeds!$B$9:$AB$109,24,FALSE))","v":""},{"$f":"IF(D75=\"\",\"\",D75*(VLOOKUP(C75,Feeds!$B$9:$AB$109,25,FALSE)/1000))","v":""},{"$f":"IF(D75=\"\",\"\",D75*VLOOKUP(C75,Feeds!$B$9:$AB$109,26,FALSE)/1000)","v":""},{"$f":"IF(D75=\"\",\"\",D75*VLOOKUP(C75,Feeds!$B$9:$AB$109,27,FALSE)/1000)","v":""},0,null,null,null,null,null,{"$f":"IF(O75=0,\"\",VLOOKUP(N75,Feeds!$B$9:$AB$109,23,FALSE)*O75/1000)","v":""},{"$f":"IF(O75=0,\"\",VLOOKUP(N75,Feeds!$B$9:$AB$109,24,FALSE))","v":""},{"$f":"IF(O75=\"\",\"\",O75*(VLOOKUP(N75,Feeds!$B$9:$AB$109,25,FALSE)/1000))","v":""},{"$f":"IF(O75=\"\",\"\",O75*VLOOKUP(N75,Feeds!$B$9:$AB$109,26,FALSE)/1000)","v":""},{"$f":"IF(O75=\"\",\"\",O75*VLOOKUP(N75,Feeds!$B$9:$AB$109,27,FALSE)/1000)","v":""},0,null,null,null,null,null,{"$f":"IF(Z75=0,\"\",VLOOKUP(Y75,Feeds!$B$9:$AB$109,23,FALSE)*Z75/1000)","v":""},{"$f":"IF(Z75=0,\"\",VLOOKUP(Y75,Feeds!$B$9:$AB$109,24,FALSE))","v":""},{"$f":"IF(Z75=\"\",\"\",Z75*(VLOOKUP(Y75,Feeds!$B$9:$AB$109,25,FALSE)/1000))","v":""},{"$f":"IF(Z75=\"\",\"\",Z75*VLOOKUP(Y75,Feeds!$B$9:$AB$109,26,FALSE)/1000)","v":""},{"$f":"IF(Z75=\"\",\"\",Z75*VLOOKUP(Y75,Feeds!$B$9:$AB$109,27,FALSE)/1000)","v":""},0]
[null,null,null,null,{"$f":"IF(D76=0,\"\",VLOOKUP(C76,Feeds!$B$9:$AB$109,23,FALSE)*D76/1000)","v":""},{"$f":"IF(D76=0,\"\",VLOOKUP(C76,Feeds!$B$9:$AB$109,24,FALSE))","v":""},{"$f":"IF(D76=\"\",\"\",D76*(VLOOKUP(C76,Feeds!$B$9:$AB$109,25,FALSE)/1000))","v":""},{"$f":"IF(D76=\"\",\"\",D76*VLOOKUP(C76,Feeds!$B$9:$AB$109,26,FALSE)/1000)","v":""},{"$f":"IF(D76=\"\",\"\",D76*VLOOKUP(C76,Feeds!$B$9:$AB$109,27,FALSE)/1000)","v":""},0,null,null,null,null,null,{"$f":"IF(O76=0,\"\",VLOOKUP(N76,Feeds!$B$9:$AB$109,23,FALSE)*O76/1000)","v":""},{"$f":"IF(O76=0,\"\",VLOOKUP(N76,Feeds!$B$9:$AB$109,24,FALSE))","v":""},{"$f":"IF(O76=\"\",\"\",O76*(VLOOKUP(N76,Feeds!$B$9:$AB$109,25,FALSE)/1000))","v":""},{"$f":"IF(O76=\"\",\"\",O76*VLOOKUP(N76,Feeds!$B$9:$AB$109,26,FALSE)/1000)","v":""},{"$f":"IF(O76=\"\",\"\",O76*VLOOKUP(N76,Feeds!$B$9:$AB$109,27,FALSE)/1000)","v":""},0,null,null,null,null,null,{"$f":"IF(Z76=0,\"\",VLOOKUP(Y76,Feeds!$B$9:$AB$109,23,FALSE)*Z76/1000)","v":""},{"$f":"IF(Z76=0,\"\",VLOOKUP(Y76,Feeds!$B$9:$AB$109,24,FALSE))","v":""},{"$f":"IF(Z76=\"\",\"\",Z76*(VLOOKUP(Y76,Feeds!$B$9:$AB$109,25,FALSE)/1000))","v":""},{"$f":"IF(Z76=\"\",\"\",Z76*VLOOKUP(Y76,Feeds!$B$9:$AB$109,26,FALSE)/1000)","v":""},{"$f":"IF(Z76=\"\",\"\",Z76*VLOOKUP(Y76,Feeds!$B$9:$AB$109,27,FALSE)/1000)","v":""},0]
[null,null,null,null,{"$f":"IF(D77=0,\"\",VLOOKUP(C77,Feeds!$B$9:$AB$109,23,FALSE)*D77/1000)","v":""},{"$f":"IF(D77=0,\"\",VLOOKUP(C77,Feeds!$B$9:$AB$109,24,FALSE))","v":""},{"$f":"IF(D77=\"\",\"\",D77*(VLOOKUP(C77,Feeds!$B$9:$AB$109,25,FALSE)/1000))","v":""},{"$f":"IF(D77=\"\",\"\",D77*VLOOKUP(C77,Feeds!$B$9:$AB$109,26,FALSE)/1000)","v":""},{"$f":"IF(D77=\"\",\"\",D77*VLOOKUP(C77,Feeds!$B$9:$AB$109,27,FALSE)/1000)","v":""},0,null,null,null,null,null,{"$f":"IF(O77=0,\"\",VLOOKUP(N77,Feeds!$B$9:$AB$109,23,FALSE)*O77/1000)","v":""},{"$f":"IF(O77=0,\"\",VLOOKUP(N77,Feeds!$B$9:$AB$109,24,FALSE))","v":""},{"$f":"IF(O77=\"\",\"\",O77*(VLOOKUP(N77,Feeds!$B$9:$AB$109,25,FALSE)/1000))","v":""},{"$f":"IF(O77=\"\",\"\",O77*VLOOKUP(N77,Feeds!$B$9:$AB$109,26,FALSE)/1000)","v":""},{"$f":"IF(O77=\"\",\"\",O77*VLOOKUP(N77,Feeds!$B$9:$AB$109,27,FALSE)/1000)","v":""},0,null,null,null,null,null,{"$f":"IF(Z77=0,\"\",VLOOKUP(Y77,Feeds!$B$9:$AB$109,23,FALSE)*Z77/1000)","v":""},{"$f":"IF(Z77=0,\"\",VLOOKUP(Y77,Feeds!$B$9:$AB$109,24,FALSE))","v":""},{"$f":"IF(Z77=\"\",\"\",Z77*(VLOOKUP(Y77,Feeds!$B$9:$AB$109,25,FALSE)/1000))","v":""},{"$f":"IF(Z77=\"\",\"\",Z77*VLOOKUP(Y77,Feeds!$B$9:$AB$109,26,FALSE)/1000)","v":""},{"$f":"IF(Z77=\"\",\"\",Z77*VLOOKUP(Y77,Feeds!$B$9:$AB$109,27,FALSE)/1000)","v":""},0]
[null,null,null,null,{"$f":"IF(D78=0,\"\",VLOOKUP(C78,Feeds!$B$9:$AB$109,23,FALSE)*D78/1000)","v":""},{"$f":"IF(D78=0,\"\",VLOOKUP(C78,Feeds!$B$9:$AB$109,24,FALSE))","v":""},{"$f":"IF(D78=\"\",\"\",D78*(VLOOKUP(C78,Feeds!$B$9:$AB$109,25,FALSE)/1000))","v":""},{"$f":"IF(D78=\"\",\"\",D78*VLOOKUP(C78,Feeds!$B$9:$AB$109,26,FALSE)/1000)","v":""},{"$f":"IF(D78=\"\",\"\",D78*VLOOKUP(C78,Feeds!$B$9:$AB$109,27,FALSE)/1000)","v":""},0,null,null,null,null,null,{"$f":"IF(O78=0,\"\",VLOOKUP(N78,Feeds!$B$9:$AB$109,23,FALSE)*O78/1000)","v":""},{"$f":"IF(O78=0,\"\",VLOOKUP(N78,Feeds!$B$9:$AB$109,24,FALSE))","v":""},{"$f":"IF(O78=\"\",\"\",O78*(VLOOKUP(N78,Feeds!$B$9:$AB$109,25,FALSE)/1000))","v":""},{"$f":"IF(O78=\"\",\"\",O78*VLOOKUP(N78,Feeds!$B$9:$AB$109,26,FALSE)/1000)","v":""},{"$f":"IF(O78=\"\",\"\",O78*VLOOKUP(N78,Feeds!$B$9:$AB$109,27,FALSE)/1000)","v":""},0,null,null,null,null,null,{"$f":"IF(Z78=0,\"\",VLOOKUP(Y78,Feeds!$B$9:$AB$109,23,FALSE)*Z78/1000)","v":""},{"$f":"IF(Z78=0,\"\",VLOOKUP(Y78,Feeds!$B$9:$AB$109,24,FALSE))","v":""},{"$f":"IF(Z78=\"\",\"\",Z78*(VLOOKUP(Y78,Feeds!$B$9:$AB$109,25,FALSE)/1000))","v":""},{"$f":"IF(Z78=\"\",\"\",Z78*VLOOKUP(Y78,Feeds!$B$9:$AB$109,26,FALSE)/1000)","v":""},{"$f":"IF(Z78=\"\",\"\",Z78*VLOOKUP(Y78,Feeds!$B$9:$AB$109,27,FALSE)/1000)","v":""},0]
[null,null,null,null,{"$f":"IF(D79=0,\"\",VLOOKUP(C79,Feeds!$B$9:$AB$109,23,FALSE)*D79/1000)","v":""},{"$f":"IF(D79=0,\"\",VLOOKUP(C79,Feeds!$B$9:$AB$109,24,FALSE))","v":""},{"$f":"IF(D79=\"\",\"\",D79*(VLOOKUP(C79,Feeds!$B$9:$AB$109,25,FALSE)/1000))","v":""},{"$f":"IF(D79=\"\",\"\",D79*VLOOKUP(C79,Feeds!$B$9:$AB$109,26,FALSE)/1000)","v":""},{"$f":"IF(D79=\"\",\"\",D79*VLOOKUP(C79,Feeds!$B$9:$AB$109,27,FALSE)/1000)","v":""},0,null,null,null,null,null,{"$f":"IF(O79=0,\"\",VLOOKUP(N79,Feeds!$B$9:$AB$109,23,FALSE)*O79/1000)","v":""},{"$f":"IF(O79=0,\"\",VLOOKUP(N79,Feeds!$B$9:$AB$109,24,FALSE))","v":""},{"$f":"IF(O79=\"\",\"\",O79*(VLOOKUP(N79,Feeds!$B$9:$AB$109,25,FALSE)/1000))","v":""},{"$f":"IF(O79=\"\",\"\",O79*VLOOKUP(N79,Feeds!$B$9:$AB$109,26,FALSE)/1000)","v":""},{"$f":"IF(O79=\"\",\"\",O79*VLOOKUP(N79,Feeds!$B$9:$AB$109,27,FALSE)/1000)","v":""},0,null,null,null,null,null,{"$f":"IF(Z79=0,\"\",VLOOKUP(Y79,Feeds!$B$9:$AB$109,23,FALSE)*Z79/1000)","v":""},{"$f":"IF(Z79=0,\"\",VLOOKUP(Y79,Feeds!$B$9:$AB$109,24,FALSE))","v":""},{"$f":"IF(Z79=\"\",\"\",Z79*(VLOOKUP(Y79,Feeds!$B$9:$AB$109,25,FALSE)/1000))","v":""},{"$f":"IF(Z79=\"\",\"\",Z79*VLOOKUP(Y79,Feeds!$B$9:$AB$109,26,FALSE)/1000)","v":""},{"$f":"IF(Z79=\"\",\"\",Z79*VLOOKUP(Y79,Feeds!$B$9:$AB$109,27,FALSE)/1000)","v":""},0]
[null,null,null,null,{"$f":"IF(D80=0,\"\",VLOOKUP(C80,Feeds!$B$9:$AB$109,23,FALSE)*D80/1000)","v":""},{"$f":"IF(D80=0,\"\",VLOOKUP(C80,Feeds!$B$9:$AB$109,24,FALSE))","v":""},{"$f":"IF(D80=\"\",\"\",D80*(VLOOKUP(C80,Feeds!$B$9:$AB$109,25,FALSE)/1000))","v":""},{"$f":"IF(D80=\"\",\"\",D80*VLOOKUP(C80,Feeds!$B$9:$AB$109,26,FALSE)/1000)","v":""},{"$f":"IF(D80=\"\",\"\",D80*VLOOKUP(C80,Feeds!$B$9:$AB$109,27,FALSE)/1000)","v":""},0,null,null,null,null,null,{"$f":"IF(O80=0,\"\",VLOOKUP(N80,Feeds!$B$9:$AB$109,23,FALSE)*O80/1000)","v":""},{"$f":"IF(O80=0,\"\",VLOOKUP(N80,Feeds!$B$9:$AB$109,24,FALSE))","v":""},{"$f":"IF(O80=\"\",\"\",O80*(VLOOKUP(N80,Feeds!$B$9:$AB$109,25,FALSE)/1000))","v":""},{"$f":"IF(O80=\"\",\"\",O80*VLOOKUP(N80,Feeds!$B$9:$AB$109,26,FALSE)/1000)","v":""},{"$f":"IF(O80=\"\",\"\",O80*VLOOKUP(N80,Feeds!$B$9:$AB$109,27,FALSE)/1000)","v":""},0,null,null,null,null,null,{"$f":"IF(Z80=0,\"\",VLOOKUP(Y80,Feeds!$B$9:$AB$109,23,FALSE)*Z80/1000)","v":""},{"$f":"IF(Z80=0,\"\",VLOOKUP(Y80,Feeds!$B$9:$AB$109,24,FALSE))","v":""},{"$f":"IF(Z80=\"\",\"\",Z80*(VLOOKUP(Y80,Feeds!$B$9:$AB$109,25,FALSE)/1000))","v":""},{"$f":"IF(Z80=\"\",\"\",Z80*VLOOKUP(Y80,Feeds!$B$9:$AB$109,26,FALSE)/1000)","v":""},{"$f":"IF(Z80=\"\",\"\",Z80*VLOOKUP(Y80,Feeds!$B$9:$AB$109,27,FALSE)/1000)","v":""},0]
[null,null,null,null,{"$f":"IF(D81=0,\"\",VLOOKUP(C81,Feeds!$B$9:$AB$109,23,FALSE)*D81/1000)","v":""},{"$f":"IF(D81=0,\"\",VLOOKUP(C81,Feeds!$B$9:$AB$109,24,FALSE))","v":""},{"$f":"IF(D81=\"\",\"\",D81*(VLOOKUP(C81,Feeds!$B$9:$AB$109,25,FALSE)/1000))","v":""},{"$f":"IF(D81=\"\",\"\",D81*VLOOKUP(C81,Feeds!$B$9:$AB$109,26,FALSE)/1000)","v":""},{"$f":"IF(D81=\"\",\"\",D81*VLOOKUP(C81,Feeds!$B$9:$AB$109,27,FALSE)/1000)","v":""},0,null,null,null,null,null,{"$f":"IF(O81=0,\"\",VLOOKUP(N81,Feeds!$B$9:$AB$109,23,FALSE)*O81/1000)","v":""},{"$f":"IF(O81=0,\"\",VLOOKUP(N81,Feeds!$B$9:$AB$109,24,FALSE))","v":""},{"$f":"IF(O81=\"\",\"\",O81*(VLOOKUP(N81,Feeds!$B$9:$AB$109,25,FALSE)/1000))","v":""},{"$f":"IF(O81=\"\",\"\",O81*VLOOKUP(N81,Feeds!$B$9:$AB$109,26,FALSE)/1000)","v":""},{"$f":"IF(O81=\"\",\"\",O81*VLOOKUP(N81,Feeds!$B$9:$AB$109,27,FALSE)/1000)","v":""},0,null,null,null,null,null,{"$f":"IF(Z81=0,\"\",VLOOKUP(Y81,Feeds!$B$9:$AB$109,23,FALSE)*Z81/1000)","v":""},{"$f":"IF(Z81=0,\"\",VLOOKUP(Y81,Feeds!$B$9:$AB$109,24,FALSE))","v":""},{"$f":"IF(Z81=\"\",\"\",Z81*(VLOOKUP(Y81,Feeds!$B$9:$AB$109,25,FALSE)/1000))","v":""},{"$f":"IF(Z81=\"\",\"\",Z81*VLOOKUP(Y81,Feeds!$B$9:$AB$109,26,FALSE)/1000)","v":""},{"$f":"IF(Z81=\"\",\"\",Z81*VLOOKUP(Y81,Feeds!$B$9:$AB$109,27,FALSE)/1000)","v":""},0]
[null,null,null,null,{"$f":"IF(D82=0,\"\",VLOOKUP(C82,Feeds!$B$9:$AB$109,23,FALSE)*D82/1000)","v":""},{"$f":"IF(D82=0,\"\",VLOOKUP(C82,Feeds!$B$9:$AB$109,24,FALSE))","v":""},{"$f":"IF(D82=\"\",\"\",D82*(VLOOKUP(C82,Feeds!$B$9:$AB$109,25,FALSE)/1000))","v":""},{"$f":"IF(D82=\"\",\"\",D82*VLOOKUP(C82,Feeds!$B$9:$AB$109,26,FALSE)/1000)","v":""},{"$f":"IF(D82=\"\",\"\",D82*VLOOKUP(C82,Feeds!$B$9:$AB$109,27,FALSE)/1000)","v":""},0,null,null,null,null,null,{"$f":"IF(O82=0,\"\",VLOOKUP(N82,Feeds!$B$9:$AB$109,23,FALSE)*O82/1000)","v":""},{"$f":"IF(O82=0,\"\",VLOOKUP(N82,Feeds!$B$9:$AB$109,24,FALSE))","v":""},{"$f":"IF(O82=\"\",\"\",O82*(VLOOKUP(N82,Feeds!$B$9:$AB$109,25,FALSE)/1000))","v":""},{"$f":"IF(O82=\"\",\"\",O82*VLOOKUP(N82,Feeds!$B$9:$AB$109,26,FALSE)/1000)","v":""},{"$f":"IF(O82=\"\",\"\",O82*VLOOKUP(N82,Feeds!$B$9:$AB$109,27,FALSE)/1000)","v":""},0,null,null,null,null,null,{"$f":"IF(Z82=0,\"\",VLOOKUP(Y82,Feeds!$B$9:$AB$109,23,FALSE)*Z82/1000)","v":""},{"$f":"IF(Z82=0,\"\",VLOOKUP(Y82,Feeds!$B$9:$AB$109,24,FALSE))","v":""},{"$f":"IF(Z82=\"\",\"\",Z82*(VLOOKUP(Y82,Feeds!$B$9:$AB$109,25,FALSE)/1000))","v":""},{"$f":"IF(Z82=\"\",\"\",Z82*VLOOKUP(Y82,Feeds!$B$9:$AB$109,26,FALSE)/1000)","v":""},{"$f":"IF(Z82=\"\",\"\",Z82*VLOOKUP(Y82,Feeds!$B$9:$AB$109,27,FALSE)/1000)","v":""},0]
[null,null,null,null,{"$f":"IF(D83=0,\"\",VLOOKUP(C83,Feeds!$B$9:$AB$109,23,FALSE)*D83/1000)","v":""},{"$f":"IF(D83=0,\"\",VLOOKUP(C83,Feeds!$B$9:$AB$109,24,FALSE))","v":""},{"$f":"IF(D83=\"\",\"\",D83*(VLOOKUP(C83,Feeds!$B$9:$AB$109,25,FALSE)/1000))","v":""},{"$f":"IF(D83=\"\",\"\",D83*VLOOKUP(C83,Feeds!$B$9:$AB$109,26,FALSE)/1000)","v":""},{"$f":"IF(D83=\"\",\"\",D83*VLOOKUP(C83,Feeds!$B$9:$AB$109,27,FALSE)/1000)","v":""},0,null,null,null,null,null,{"$f":"IF(O83=0,\"\",VLOOKUP(N83,Feeds!$B$9:$AB$109,23,FALSE)*O83/1000)","v":""},{"$f":"IF(O83=0,\"\",VLOOKUP(N83,Feeds!$B$9:$AB$109,24,FALSE))","v":""},{"$f":"IF(O83=\"\",\"\",O83*(VLOOKUP(N83,Feeds!$B$9:$AB$109,25,FALSE)/1000))","v":""},{"$f":"IF(O83=\"\",\"\",O83*VLOOKUP(N83,Feeds!$B$9:$AB$109,26,FALSE)/1000)","v":""},{"$f":"IF(O83=\"\",\"\",O83*VLOOKUP(N83,Feeds!$B$9:$AB$109,27,FALSE)/1000)","v":""},{"$f":"IF(O83=\"\",0,P83*Q83/100)","v":0},null,null,null,null,null,{"$f":"IF(Z83=0,\"\",VLOOKUP(Y83,Feeds!$B$9:$AB$109,23,FALSE)*Z83/1000)","v":""},{"$f":"IF(Z83=0,\"\",VLOOKUP(Y83,Feeds!$B$9:$AB$109,24,FALSE))","v":""},{"$f":"IF(Z83=\"\",\"\",Z83*(VLOOKUP(Y83,Feeds!$B$9:$AB$109,25,FALSE)/1000))","v":""},{"$f":"IF(Z83=\"\",\"\",Z83*VLOOKUP(Y83,Feeds!$B$9:$AB$109,26,FALSE)/1000)","v":""},{"$f":"IF(Z83=\"\",\"\",Z83*VLOOKUP(Y83,Feeds!$B$9:$AB$109,27,FALSE)/1000)","v":""},0]
[null,null,null,null,{"$f":"IF(D84=0,\"\",VLOOKUP(C84,Feeds!$B$9:$AB$109,23,FALSE)*D84/1000)","v":""},{"$f":"IF(D84=0,\"\",VLOOKUP(C84,Feeds!$B$9:$AB$109,24,FALSE))","v":""},{"$f":"IF(D84=\"\",\"\",D84*(VLOOKUP(C84,Feeds!$B$9:$AB$109,25,FALSE)/1000))","v":""},{"$f":"IF(D84=\"\",\"\",D84*VLOOKUP(C84,Feeds!$B$9:$AB$109,26,FALSE)/1000)","v":""},{"$f":"IF(D84=\"\",\"\",D84*VLOOKUP(C84,Feeds!$B$9:$AB$109,27,FALSE)/1000)","v":""},0,null,null,null,null,null,{"$f":"IF(O84=0,\"\",VLOOKUP(N84,Feeds!$B$9:$AB$109,23,FALSE)*O84/1000)","v":""},{"$f":"IF(O84=0,\"\",VLOOKUP(N84,Feeds!$B$9:$AB$109,24,FALSE))","v":""},{"$f":"IF(O84=\"\",\"\",O84*(VLOOKUP(N84,Feeds!$B$9:$AB$109,25,FALSE)/1000))","v":""},{"$f":"IF(O84=\"\",\"\",O84*VLOOKUP(N84,Feeds!$B$9:$AB$109,26,FALSE)/1000)","v":""},{"$f":"IF(O84=\"\",\"\",O84*VLOOKUP(N84,Feeds!$B$9:$AB$109,27,FALSE)/1000)","v":""},0,null,null,null,null,null,{"$f":"IF(Z84=0,\"\",VLOOKUP(Y84,Feeds!$B$9:$AB$109,23,FALSE)*Z84/1000)","v":""},{"$f":"IF(Z84=0,\"\",VLOOKUP(Y84,Feeds!$B$9:$AB$109,24,FALSE))","v":""},{"$f":"IF(Z84=\"\",\"\",Z84*(VLOOKUP(Y84,Feeds!$B$9:$AB$109,25,FALSE)/1000))","v":""},{"$f":"IF(Z84=\"\",\"\",Z84*VLOOKUP(Y84,Feeds!$B$9:$AB$109,26,FALSE)/1000)","v":""},{"$f":"IF(Z84=\"\",\"\",Z84*VLOOKUP(Y84,Feeds!$B$9:$AB$109,27,FALSE)/1000)","v":""},0]
[null,null,null,null,{"$f":"IF(D85=0,\"\",VLOOKUP(C85,Feeds!$B$9:$AB$109,23,FALSE)*D85/1000)","v":""},{"$f":"IF(D85=0,\"\",VLOOKUP(C85,Feeds!$B$9:$AB$109,24,FALSE))","v":""},{"$f":"IF(D85=\"\",\"\",D85*(VLOOKUP(C85,Feeds!$B$9:$AB$109,25,FALSE)/1000))","v":""},{"$f":"IF(D85=\"\",\"\",D85*VLOOKUP(C85,Feeds!$B$9:$AB$109,26,FALSE)/1000)","v":""},{"$f":"IF(D85=\"\",\"\",D85*VLOOKUP(C85,Feeds!$B$9:$AB$109,27,FALSE)/1000)","v":""},0,null,null,null,null,null,{"$f":"IF(O85=0,\"\",VLOOKUP(N85,Feeds!$B$9:$AB$109,23,FALSE)*O85/1000)","v":""},{"$f":"IF(O85=0,\"\",VLOOKUP(N85,Feeds!$B$9:$AB$109,24,FALSE))","v":""},{"$f":"IF(O85=\"\",\"\",O85*(VLOOKUP(N85,Feeds!$B$9:$AB$109,25,FALSE)/1000))","v":""},{"$f":"IF(O85=\"\",\"\",O85*VLOOKUP(N85,Feeds!$B$9:$AB$109,26,FALSE)/1000)","v":""},{"$f":"IF(O85=\"\",\"\",O85*VLOOKUP(N85,Feeds!$B$9:$AB$109,27,FALSE)/1000)","v":""},0,null,null,null,null,null,{"$f":"IF(Z85=0,\"\",VLOOKUP(Y85,Feeds!$B$9:$AB$109,23,FALSE)*Z85/1000)","v":""},{"$f":"IF(Z85=0,\"\",VLOOKUP(Y85,Feeds!$B$9:$AB$109,24,FALSE))","v":""},{"$f":"IF(Z85=\"\",\"\",Z85*(VLOOKUP(Y85,Feeds!$B$9:$AB$109,25,FALSE)/1000))","v":""},{"$f":"IF(Z85=\"\",\"\",Z85*VLOOKUP(Y85,Feeds!$B$9:$AB$109,26,FALSE)/1000)","v":""},{"$f":"IF(Z85=\"\",\"\",Z85*VLOOKUP(Y85,Feeds!$B$9:$AB$109,27,FALSE)/1000)","v":""},{"$f":"IF(Z85=\"\",0,AA85*AB85/100)","v":0}]
[null,null,"Kokku päevas",{"$f":"SUM(D73:D85)","v":0},{"$f":"SUM(E73:E85)","v":0},null,{"$f":"SUM(G73:G85)","v":0},{"$f":"SUM(H73:H85)","v":0},{"$f":"SUM(I73:I85)","v":0},{"$f":"SUM(J73:J85)","v":0},null,null,null,"Kokku päevas",{"$f":"SUM(O73:O85)","v":0},{"$f":"SUM(P73:P85)","v":0},null,{"$f":"SUM(R73:R85)","v":0},{"$f":"SUM(S73:S85)","v":0},{"$f":"SUM(T73:T85)","v":0},{"$f":"SUM(U73:U85)","v":0},null,null,null,"Kokku päevas",{"$f":"SUM(Z73:Z85)","v":0},{"$f":"SUM(AA73:AA85)","v":0},null,{"$f":"SUM(AC73:AC85)","v":0},{"$f":"SUM(AD73:AD85)","v":0},{"$f":"SUM(AE73:AE85)","v":0},{"$f":"SUM(AF73:AF85)","v":0}]
[null,null,"Kokku perioodis",{"$f":"D86*L72","v":0},{"$f":"E86*L72","v":0},{"$f":"IF(D87=0,0,J87*100/E87)","v":0},{"$f":"G86*L72","v":0},{"$f":"H86*L72","v":0},{"$f":"I86*L72","v":0},{"$f":"J86*L72","v":0},null,null,null,"Kokku perioodis",{"$f":"O86*W72","v":0},{"$f":"P86*W72","v":0},{"$f":"IF(O87=0,0,U87*100/P87)","v":0},{"$f":"R86*W72","v":0},{"$f":"S86*W72","v":0},{"$f":"T86*W72","v":0},{"$f":"U86*W72","v":0},null,null,null,"Kokku perioodis",{"$f":"Z86*AH72","v":0},{"$f":"AA86*AH72","v":0},{"$f":"IF(Z87=0,0,AF87*100/AA87)","v":0},{"$f":"AC86*AH72","v":0},{"$f":"AD86*AH72","v":0},{"$f":"AE86*AH72","v":0},{"$f":"AF86*AH72","v":0}]
[]
[null,null,"Faas 5 ",null,null,null,"Vanus päeva ","alates",{"$f":"I71","v":0},null,null,"Päevi grupis",null,"Faas 5",null,null,null,"Vanus päeva ","alates",{"$f":"T71","v":0},null,null,"Päevi grupis",null,"Faas 5",null,null,null,"Vanus päeva ","alates",{"$f":"AE71","v":0},null,null,"Päevi grupis"]
[null,null,null,null,null,null,null,"kuni",null,null,null,null,null,null,null,null,null,null,"kuni",null,null,null,null,null,null,null,null,null,null,"kuni"]
[null,null,"Söödad (s.h. mineraalsöödad)","Kogus g/päev","KA g/päev","KA seeduvus   %","TP     g/päev","P   g/päev","K   g/päev",null,null,{"$f":"IF(I90=0,0,I90-I89)","v":0},null,"Söödad (s.h. mineraalsöödad)","Kogus g/päev","KA g/päev","KA seeduvus   %","TP     g/päev","P   g/päev","K   g/päev",null,null,{"$f":"IF(T90=0,0,T90-T89)","v":0},null,"Söödad (s.h. mineraalsöödad)","Kogus g/päev","KA g/päev","KA seeduvus   %","TP     g/päev","P   g/päev","K   g/päev",null,null,{"$f":"IF(AE90=0,0,AE90-AE89)","v":0}]
[null,null,null,null,{"$f":"IF(D92=0,\"\",VLOOKUP(C92,Feeds!$B$9:$AB$109,23,FALSE)*D92/1000)","v":""},{"$f":"IF(D92=0,\"\",VLOOKUP(C92,Feeds!$B$9:$AB$109,24,FALSE))","v":""},{"$f":"IF(D92=\"\",\"\",D92*(VLOOKUP(C92,Feeds!$B$9:$AB$109,25,FALSE)/1000))","v":""},{"$f":"IF(D92=\"\",\"\",D92*VLOOKUP(C92,Feeds!$B$9:$AB$109,26,FALSE)/1000)","v":""},{"$f":"IF(D92=\"\",\"\",D92*VLOOKUP(C92,Feeds!$B$9:$AB$109,27,FALSE)/1000)","v":""},{"$f":"IF(D92=\"\",0,E92*F92/100)","v":0},null,null,null,null,null,{"$f":"IF(O92=0,\"\",VLOOKUP(N92,Feeds!$B$9:$AB$109,23,FALSE)*O92/1000)","v":""},{"$f":"IF(O92=0,\"\",VLOOKUP(N92,Feeds!$B$9:$AB$109,24,FALSE))","v":""},{"$f":"IF(O92=\"\",\"\",O92*(VLOOKUP(N92,Feeds!$B$9:$AB$109,25,FALSE)/1000))","v":""},{"$f":"IF(O92=\"\",\"\",O92*VLOOKUP(N92,Feeds!$B$9:$AB$109,26,FALSE)/1000)","v":""},{"$f":"IF(O92=\"\",\"\",O92*VLOOKUP(N92,Feeds!$B$9:$AB$109,27,FALSE)/1000)","v":""},{"$f":"IF(O92=\"\",0,P92*Q92/100)","v":0},null,null,null,null,null,{"$f":"IF(Z92=0,\"\",VLOOKUP(Y92,Feeds!$B$9:$AB$109,23,FALSE)*Z92/1000)","v":""},{"$f":"IF(Z92=0,\"\",VLOOKUP(Y92,Feeds!$B$9:$AB$109,24,FALSE))","v":""},{"$f":"IF(Z92=\"\",\"\",Z92*(VLOOKUP(Y92,Feeds!$B$9:$AB$109,25,FALSE)/1000))","v":""},{"$f":"IF(Z92=\"\",\"\",Z92*VLOOKUP(Y92,Feeds!$B$9:$AB$109,26,FALSE)/1000)","v":""},{"$f":"IF(Z92=\"\",\"\",Z92*VLOOKUP(Y92,Feeds!$B$9:$AB$109,27,FALSE)/1000)","v":""},{"$f":"IF(Z92=\"\",0,AA92*AB92/100)","v":0}]
[null,null,null,null,{"$f":"IF(D93=0,\"\",VLOOKUP(C93,Feeds!$B$9:$AB$109,23,FALSE)*D93/1000)","v":""},{"$f":"IF(D93=0,\"\",VLOOKUP(C93,Feeds!$B$9:$AB$109,24,FALSE))","v":""},{"$f":"IF(D93=\"\",\"\",D93*(VLOOKUP(C93,Feeds!$B$9:$AB$109,25,FALSE)/1000))","v":""},{"$f":"IF(D93=\"\",\"\",D93*VLOOKUP(C93,Feeds!$B$9:$AB$109,26,FALSE)/1000)","v":""},{"$f":"IF(D93=\"\",\"\",D93*VLOOKUP(C93,Feeds!$B$9:$AB$109,27,FALSE)/1000)","v":""},0,null,null,null,null,null,{"$f":"IF(O93=0,\"\",VLOOKUP(N93,Feeds!$B$9:$AB$109,23,FALSE)*O93/1000)","v":""},{"$f":"IF(O93=0,\"\",VLOOKUP(N93,Feeds!$B$9:$AB$109,24,FALSE))","v":""},{"$f":"IF(O93=\"\",\"\",O93*(VLOOKUP(N93,Feeds!$B$9:$AB$109,25,FALSE)/1000))","v":""},{"$f":"IF(O93=\"\",\"\",O93*VLOOKUP(N93,Feeds!$B$9:$AB$109,26,FALSE)/1000)","v":""},{"$f":"IF(O93=\"\",\"\",O93*VLOOKUP(N93,Feeds!$B$9:$AB$109,27,FALSE)/1000)","v":""},0,null,null,null,null,null,{"$f":"IF(Z93=0,\"\",VLOOKUP(Y93,Feeds!$B$9:$AB$109,23,FALSE)*Z93/1000)","v":""},{"$f":"IF(Z93=0,\"\",VLOOKUP(Y93,Feeds!$B$9:$AB$109,24,FALSE))","v":""},{"$f":"IF(Z93=\"\",\"\",Z93*(VLOOKUP(Y93,Feeds!$B$9:$AB$109,25,FALSE)/1000))","v":""},{"$f":"IF(Z93=\"\",\"\",Z93*VLOOKUP(Y93,Feeds!$B$9:$AB$109,26,FALSE)/1000)","v":""},{"$f":"IF(Z93=\"\",\"\",Z93*VLOOKUP(Y93,Feeds!$B$9:$AB$109,27,FALSE)/1000)","v":""},{"$f":"IF(Z93=\"\",0,AA93*AB93/100)","v":0}]
[null,null,null,null,{"$f":"IF(D94=0,\"\",VLOOKUP(C94,Feeds!$B$9:$AB$109,23,FALSE)*D94/1000)","v":""},{"$f":"IF(D94=0,\"\",VLOOKUP(C94,Feeds!$B$9:$AB$109,24,FALSE))","v":""},{"$f":"IF(D94=\"\",\"\",D94*(VLOOKUP(C94,Feeds!$B$9:$AB$109,25,FALSE)/1000))","v":""},{"$f":"IF(D94=\"\",\"\",D94*VLOOKUP(C94,Feeds!$B$9:$AB$109,26,FALSE)/1000)","v":""},{"$f":"IF(D94=\"\",\"\",D94*VLOOKUP(C94,Feeds!$B$9:$AB$109,27,FALSE)/1000)","v":""},0,null,null,null,null,null,{"$f":"IF(O94=0,\"\",VLOOKUP(N94,Feeds!$B$9:$AB$109,23,FALSE)*O94/1000)","v":""},{"$f":"IF(O94=0,\"\",VLOOKUP(N94,Feeds!$B$9:$AB$109,24,FALSE))","v":""},{"$f":"IF(O94=\"\",\"\",O94*(VLOOKUP(N94,Feeds!$B$9:$AB$109,25,FALSE)/1000))","v":""},{"$f":"IF(O94=\"\",\"\",O94*VLOOKUP(N94,Feeds!$B$9:$AB$109,26,FALSE)/1000)","v":""},{"$f":"IF(O94=\"\",\"\",O94*VLOOKUP(N94,Feeds!$B$9:$AB$109,27,FALSE)/1000)","v":""},0,null,null,null,null,null,{"$f":"IF(Z94=0,\"\",VLOOKUP(Y94,Feeds!$B$9:$AB$109,23,FALSE)*Z94/1000)","v":""},{"$f":"IF(Z94=0,\"\",VLOOKUP(Y94,Feeds!$B$9:$AB$109,24,FALSE))","v":""},{"$f":"IF(Z94=\"\",\"\",Z94*(VLOOKUP(Y94,Feeds!$B$9:$AB$109,25,FALSE)/1000))","v":""},{"$f":"IF(Z94=\"\",\"\",Z94*VLOOKUP(Y94,Feeds!$B$9:$AB$109,26,FALSE)/1000)","v":""},{"$f":"IF(Z94=\"\",\"\",Z94*VLOOKUP(Y94,Feeds!$B$9:$AB$109,27,FALSE)/1000)","v":""},0]
[null,null,null,null,{"$f":"IF(D95=0,\"\",VLOOKUP(C95,Feeds!$B$9:$AB$109,23,FALSE)*D95/1000)","v":""},{"$f":"IF(D95=0,\"\",VLOOKUP(C95,Feeds!$B$9:$AB$109,24,FALSE))","v":""},{"$f":"IF(D95=\"\",\"\",D95*(VLOOKUP(C95,Feeds!$B$9:$AB$109,25,FALSE)/1000))","v":""},{"$f":"IF(D95=\"\",\"\",D95*VLOOKUP(C95,Feeds!$B$9:$AB$109,26,FALSE)/1000)","v":""},{"$f":"IF(D95=\"\",\"\",D95*VLOOKUP(C95,Feeds!$B$9:$AB$109,27,FALSE)/1000)","v":""},0,null,null,null,null,null,{"$f":"IF(O95=0,\"\",VLOOKUP(N95,Feeds!$B$9:$AB$109,23,FALSE)*O95/1000)","v":""},{"$f":"IF(O95=0,\"\",VLOOKUP(N95,Feeds!$B$9:$AB$109,24,FALSE))","v":""},{"$f":"IF(O95=\"\",\"\",O95*(VLOOKUP(N95,Feeds!$B$9:$AB$109,25,FALSE)/1000))","v":""},{"$f":"IF(O95=\"\",\"\",O95*VLOOKUP(N95,Feeds!$B$9:$AB$109,26,FALSE)/1000)","v":""},{"$f":"IF(O95=\"\",\"\",O95*VLOOKUP(N95,Feeds!$B$9:$AB$109,27,FALSE)/1000)","v":""},0,null,null,null,null,null,{"$f":"IF(Z95=0,\"\",VLOOKUP(Y95,Feeds!$B$9:$AB$109,23,FALSE)*Z95/1000)","v":""},{"$f":"IF(Z95=0,\"\",VLOOKUP(Y95,Feeds!$B$9:$AB$109,24,FALSE))","v":""},{"$f":"IF(Z95=\"\",\"\",Z95*(VLOOKUP(Y95,Feeds!$B$9:$AB$109,25,FALSE)/1000))","v":""},{"$f":"IF(Z95=\"\",\"\",Z95*VLOOKUP(Y95,Feeds!$B$9:$AB$109,26,FALSE)/1000)","v":""},{"$f":"IF(Z95=\"\",\"\",Z95*VLOOKUP(Y95,Feeds!$B$9:$AB$109,27,FALSE)/1000)","v":""},0]
[null,null,null,null,{"$f":"IF(D96=0,\"\",VLOOKUP(C96,Feeds!$B$9:$AB$109,23,FALSE)*D96/1000)","v":""},{"$f":"IF(D96=0,\"\",VLOOKUP(C96,Feeds!$B$9:$AB$109,24,FALSE))","v":""},{"$f":"IF(D96=\"\",\"\",D96*(VLOOKUP(C96,Feeds!$B$9:$AB$109,25,FALSE)/1000))","v":""},{"$f":"IF(D96=\"\",\"\",D96*VLOOKUP(C96,Feeds!$B$9:$AB$109,26,FALSE)/1000)","v":""},{"$f":"IF(D96=\"\",\"\",D96*VLOOKUP(C96,Feeds!$B$9:$AB$109,27,FALSE)/1000)","v":""},0,null,null,null,null,null,{"$f":"IF(O96=0,\"\",VLOOKUP(N96,Feeds!$B$9:$AB$109,23,FALSE)*O96/1000)","v":""},{"$f":"IF(O96=0,\"\",VLOOKUP(N96,Feeds!$B$9:$AB$109,24,FALSE))","v":""},{"$f":"IF(O96=\"\",\"\",O96*(VLOOKUP(N96,Feeds!$B$9:$AB$109,25,FALSE)/1000))","v":""},{"$f":"IF(O96=\"\",\"\",O96*VLOOKUP(N96,Feeds!$B$9:$AB$109,26,FALSE)/1000)","v":""},{"$f":"IF(O96=\"\",\"\",O96*VLOOKUP(N96,Feeds!$B$9:$AB$109,27,FALSE)/1000)","v":""},0,null,null,null,null,null,{"$f":"IF(Z96=0,\"\",VLOOKUP(Y96,Feeds!$B$9:$AB$109,23,FALSE)*Z96/1000)","v":""},{"$f":"IF(Z96=0,\"\",VLOOKUP(Y96,Feeds!$B$9:$AB$109,24,FALSE))","v":""},{"$f":"IF(Z96=\"\",\"\",Z96*(VLOOKUP(Y96,Feeds!$B$9:$AB$109,25,FALSE)/1000))","v":""},{"$f":"IF(Z96=\"\",\"\",Z96*VLOOKUP(Y96,Feeds!$B$9:$AB$109,26,FALSE)/1000)","v":""},{"$f":"IF(Z96=\"\",\"\",Z96*VLOOKUP(Y96,Feeds!$B$9:$AB$109,27,FALSE)/1000)","v":""},0]
[null,null,null,null,{"$f":"IF(D97=0,\"\",VLOOKUP(C97,Feeds!$B$9:$AB$109,23,FALSE)*D97/1000)","v":""},{"$f":"IF(D97=0,\"\",VLOOKUP(C97,Feeds!$B$9:$AB$109,24,FALSE))","v":""},{"$f":"IF(D97=\"\",\"\",D97*(VLOOKUP(C97,Feeds!$B$9:$AB$109,25,FALSE)/1000))","v":""},{"$f":"IF(D97=\"\",\"\",D97*VLOOKUP(C97,Feeds!$B$9:$AB$109,26,FALSE)/1000)","v":""},{"$f":"IF(D97=\"\",\"\",D97*VLOOKUP(C97,Feeds!$B$9:$AB$109,27,FALSE)/1000)","v":""},0,null,null,null,null,null,{"$f":"IF(O97=0,\"\",VLOOKUP(N97,Feeds!$B$9:$AB$109,23,FALSE)*O97/1000)","v":""},{"$f":"IF(O97=0,\"\",VLOOKUP(N97,Feeds!$B$9:$AB$109,24,FALSE))","v":""},{"$f":"IF(O97=\"\",\"\",O97*(VLOOKUP(N97,Feeds!$B$9:$AB$109,25,FALSE)/1000))","v":""},{"$f":"IF(O97=\"\",\"\",O97*VLOOKUP(N97,Feeds!$B$9:$AB$109,26,FALSE)/1000)","v":""},{"$f":"IF(O97=\"\",\"\",O97*VLOOKUP(N97,Feeds!$B$9:$AB$109,27,FALSE)/1000)","v":""},0,null,null,null,null,null,{"$f":"IF(Z97=0,\"\",VLOOKUP(Y97,Feeds!$B$9:$AB$109,23,FALSE)*Z97/1000)","v":""},{"$f":"IF(Z97=0,\"\",VLOOKUP(Y97,Feeds!$B$9:$AB$109,24,FALSE))","v":""},{"$f":"IF(Z97=\"\",\"\",Z97*(VLOOKUP(Y97,Feeds!$B$9:$AB$109,25,FALSE)/1000))","v":""},{"$f":"IF(Z97=\"\",\"\",Z97*VLOOKUP(Y97,Feeds!$B$9:$AB$109,26,FALSE)/1000)","v":""},{"$f":"IF(Z97=\"\",\"\",Z97*VLOOKUP(Y97,Feeds!$B$9:$AB$109,27,FALSE)/1000)","v":""},0]
[null,null,null,null,{"$f":"IF(D98=0,\"\",VLOOKUP(C98,Feeds!$B$9:$AB$109,23,FALSE)*D98/1000)","v":""},{"$f":"IF(D98=0,\"\",VLOOKUP(C98,Feeds!$B$9:$AB$109,24,FALSE))","v":""},{"$f":"IF(D98=\"\",\"\",D98*(VLOOKUP(C98,Feeds!$B$9:$AB$109,25,FALSE)/1000))","v":""},{"$f":"IF(D98=\"\",\"\",D98*VLOOKUP(C98,Feeds!$B$9:$AB$109,26,FALSE)/1000)","v":""},{"$f":"IF(D98=\"\",\"\",D98*VLOOKUP(C98,Feeds!$B$9:$AB$109,27,FALSE)/1000)","v":""},0,null,null,null,null,null,{"$f":"IF(O98=0,\"\",VLOOKUP(N98,Feeds!$B$9:$AB$109,23,FALSE)*O98/1000)","v":""},{"$f":"IF(O98=0,\"\",VLOOKUP(N98,Feeds!$B$9:$AB$109,24,FALSE))","v":""},{"$f":"IF(O98=\"\",\"\",O98*(VLOOKUP(N98,Feeds!$B$9:$AB$109,25,FALSE)/1000))","v":""},{"$f":"IF(O98=\"\",\"\",O98*VLOOKUP(N98,Feeds!$B$9:$AB$109,26,FALSE)/1000)","v":""},{"$f":"IF(O98=\"\",\"\",O98*VLOOKUP(N98,Feeds!$B$9:$AB$109,27,FALSE)/1000)","v":""},0,null,null,null,null,null,{"$f":"IF(Z98=0,\"\",VLOOKUP(Y98,Feeds!$B$9:$AB$109,23,FALSE)*Z98/1000)","v":""},{"$f":"IF(Z98=0,\"\",VLOOKUP(Y98,Feeds!$B$9:$AB$109,24,FALSE))","v":""},{"$f":"IF(Z98=\"\",\"\",Z98*(VLOOKUP(Y98,Feeds!$B$9:$AB$109,25,FALSE)/1000))","v":""},{"$f":"IF(Z98=\"\",\"\",Z98*VLOOKUP(Y98,Feeds!$B$9:$AB$109,26,FALSE)/1000)","v":""},{"$f":"IF(Z98=\"\",\"\",Z98*VLOOKUP(Y98,Feeds!$B$9:$AB$109,27,FALSE)/1000)","v":""},0]
[null,null,null,null,{"$f":"IF(D99=0,\"\",VLOOKUP(C99,Feeds!$B$9:$AB$109,23,FALSE)*D99/1000)","v":""},{"$f":"IF(D99=0,\"\",VLOOKUP(C99,Feeds!$B$9:$AB$109,24,FALSE))","v":""},{"$f":"IF(D99=\"\",\"\",D99*(VLOOKUP(C99,Feeds!$B$9:$AB$109,25,FALSE)/1000))","v":""},{"$f":"IF(D99=\"\",\"\",D99*VLOOKUP(C99,Feeds!$B$9:$AB$109,26,FALSE)/1000)","v":""},{"$f":"IF(D99=\"\",\"\",D99*VLOOKUP(C99,Feeds!$B$9:$AB$109,27,FALSE)/1000)","v":""},0,null,null,null,null,null,{"$f":"IF(O99=0,\"\",VLOOKUP(N99,Feeds!$B$9:$AB$109,23,FALSE)*O99/1000)","v":""},{"$f":"IF(O99=0,\"\",VLOOKUP(N99,Feeds!$B$9:$AB$109,24,FALSE))","v":""},{"$f":"IF(O99=\"\",\"\",O99*(VLOOKUP(N99,Feeds!$B$9:$AB$109,25,FALSE)/1000))","v":""},{"$f":"IF(O99=\"\",\"\",O99*VLOOKUP(N99,Feeds!$B$9:$AB$109,26,FALSE)/1000)","v":""},{"$f":"IF(O99=\"\",\"\",O99*VLOOKUP(N99,Feeds!$B$9:$AB$109,27,FALSE)/1000)","v":""},0,null,null,null,null,null,{"$f":"IF(Z99=0,\"\",VLOOKUP(Y99,Feeds!$B$9:$AB$109,23,FALSE)*Z99/1000)","v":""},{"$f":"IF(Z99=0,\"\",VLOOKUP(Y99,Feeds!$B$9:$AB$109,24,FALSE))","v":""},{"$f":"IF(Z99=\"\",\"\",Z99*(VLOOKUP(Y99,Feeds!$B$9:$AB$109,25,FALSE)/1000))","v":""},{"$f":"IF(Z99=\"\",\"\",Z99*VLOOKUP(Y99,Feeds!$B$9:$AB$109,26,FALSE)/1000)","v":""},{"$f":"IF(Z99=\"\",\"\",Z99*VLOOKUP(Y99,Feeds!$B$9:$AB$109,27,FALSE)/1000)","v":""},0]
[null,null,null,null,{"$f":"IF(D100=0,\"\",VLOOKUP(C100,Feeds!$B$9:$AB$109,23,FALSE)*D100/1000)","v":""},{"$f":"IF(D100=0,\"\",VLOOKUP(C100,Feeds!$B$9:$AB$109,24,FALSE))","v":""},{"$f":"IF(D100=\"\",\"\",D100*(VLOOKUP(C100,Feeds!$B$9:$AB$109,25,FALSE)/1000))","v":""},{"$f":"IF(D100=\"\",\"\",D100*VLOOKUP(C100,Feeds!$B$9:$AB$109,26,FALSE)/1000)","v":""},{"$f":"IF(D100=\"\",\"\",D100*VLOOKUP(C100,Feeds!$B$9:$AB$109,27,FALSE)/1000)","v":""},0,null,null,null,null,null,{"$f":"IF(O100=0,\"\",VLOOKUP(N100,Feeds!$B$9:$AB$109,23,FALSE)*O100/1000)","v":""},{"$f":"IF(O100=0,\"\",VLOOKUP(N100,Feeds!$B$9:$AB$109,24,FALSE))","v":""},{"$f":"IF(O100=\"\",\"\",O100*(VLOOKUP(N100,Feeds!$B$9:$AB$109,25,FALSE)/1000))","v":""},{"$f":"IF(O100=\"\",\"\",O100*VLOOKUP(N100,Feeds!$B$9:$AB$109,26,FALSE)/1000)","v":""},{"$f":"IF(O100=\"\",\"\",O100*VLOOKUP(N100,Feeds!$B$9:$AB$109,27,FALSE)/1000)","v":""},0,null,null,null,null,null,{"$f":"IF(Z100=0,\"\",VLOOKUP(Y100,Feeds!$B$9:$AB$109,23,FALSE)*Z100/1000)","v":""},{"$f":"IF(Z100=0,\"\",VLOOKUP(Y100,Feeds!$B$9:$AB$109,24,FALSE))","v":""},{"$f":"IF(Z100=\"\",\"\",Z100*(VLOOKUP(Y100,Feeds!$B$9:$AB$109,25,FALSE)/1000))","v":""},{"$f":"IF(Z100=\"\",\"\",Z100*VLOOKUP(Y100,Feeds!$B$9:$AB$109,26,FALSE)/1000)","v":""},{"$f":"IF(Z100=\"\",\"\",Z100*VLOOKUP(Y100,Feeds!$B$9:$AB$109,27,FALSE)/1000)","v":""},0]
[null,null,null,null,{"$f":"IF(D101=0,\"\",VLOOKUP(C101,Feeds!$B$9:$AB$109,23,FALSE)*D101/1000)","v":""},{"$f":"IF(D101=0,\"\",VLOOKUP(C101,Feeds!$B$9:$AB$109,24,FALSE))","v":""},{"$f":"IF(D101=\"\",\"\",D101*(VLOOKUP(C101,Feeds!$B$9:$AB$109,25,FALSE)/1000))","v":""},{"$f":"IF(D101=\"\",\"\",D101*VLOOKUP(C101,Feeds!$B$9:$AB$109,26,FALSE)/1000)","v":""},{"$f":"IF(D101=\"\",\"\",D101*VLOOKUP(C101,Feeds!$B$9:$AB$109,27,FALSE)/1000)","v":""},0,null,null,null,null,null,{"$f":"IF(O101=0,\"\",VLOOKUP(N101,Feeds!$B$9:$AB$109,23,FALSE)*O101/1000)","v":""},{"$f":"IF(O101=0,\"\",VLOOKUP(N101,Feeds!$B$9:$AB$109,24,FALSE))","v":""},{"$f":"IF(O101=\"\",\"\",O101*(VLOOKUP(N101,Feeds!$B$9:$AB$109,25,FALSE)/1000))","v":""},{"$f":"IF(O101=\"\",\"\",O101*VLOOKUP(N101,Feeds!$B$9:$AB$109,26,FALSE)/1000)","v":""},{"$f":"IF(O101=\"\",\"\",O101*VLOOKUP(N101,Feeds!$B$9:$AB$109,27,FALSE)/1000)","v":""},0,null,null,null,null,null,{"$f":"IF(Z101=0,\"\",VLOOKUP(Y101,Feeds!$B$9:$AB$109,23,FALSE)*Z101/1000)","v":""},{"$f":"IF(Z101=0,\"\",VLOOKUP(Y101,Feeds!$B$9:$AB$109,24,FALSE))","v":""},{"$f":"IF(Z101=\"\",\"\",Z101*(VLOOKUP(Y101,Feeds!$B$9:$AB$109,25,FALSE)/1000))","v":""},{"$f":"IF(Z101=\"\",\"\",Z101*VLOOKUP(Y101,Feeds!$B$9:$AB$109,26,FALSE)/1000)","v":""},{"$f":"IF(Z101=\"\",\"\",Z101*VLOOKUP(Y101,Feeds!$B$9:$AB$109,27,FALSE)/1000)","v":""},0]
[null,null,null,null,{"$f":"IF(D102=0,\"\",VLOOKUP(C102,Feeds!$B$9:$AB$109,23,FALSE)*D102/1000)","v":""},{"$f":"IF(D102=0,\"\",VLOOKUP(C102,Feeds!$B$9:$AB$109,24,FALSE))","v":""},{"$f":"IF(D102=\"\",\"\",D102*(VLOOKUP(C102,Feeds!$B$9:$AB$109,25,FALSE)/1000))","v":""},{"$f":"IF(D102=\"\",\"\",D102*VLOOKUP(C102,Feeds!$B$9:$AB$109,26,FALSE)/1000)","v":""},{"$f":"IF(D102=\"\",\"\",D102*VLOOKUP(C102,Feeds!$B$9:$AB$109,27,FALSE)/1000)","v":""},0,null,null,null,null,null,{"$f":"IF(O102=0,\"\",VLOOKUP(N102,Feeds!$B$9:$AB$109,23,FALSE)*O102/1000)","v":""},{"$f":"IF(O102=0,\"\",VLOOKUP(N102,Feeds!$B$9:$AB$109,24,FALSE))","v":""},{"$f":"IF(O102=\"\",\"\",O102*(VLOOKUP(N102,Feeds!$B$9:$AB$109,25,FALSE)/1000))","v":""},{"$f":"IF(O102=\"\",\"\",O102*VLOOKUP(N102,Feeds!$B$9:$AB$109,26,FALSE)/1000)","v":""},{"$f":"IF(O102=\"\",\"\",O102*VLOOKUP(N102,Feeds!$B$9:$AB$109,27,FALSE)/1000)","v":""},0,null,null,null,null,null,{"$f":"IF(Z102=0,\"\",VLOOKUP(Y102,Feeds!$B$9:$AB$109,23,FALSE)*Z102/1000)","v":""},{"$f":"IF(Z102=0,\"\",VLOOKUP(Y102,Feeds!$B$9:$AB$109,24,FALSE))","v":""},{"$f":"IF(Z102=\"\",\"\",Z102*(VLOOKUP(Y102,Feeds!$B$9:$AB$109,25,FALSE)/1000))","v":""},{"$f":"IF(Z102=\"\",\"\",Z102*VLOOKUP(Y102,Feeds!$B$9:$AB$109,26,FALSE)/1000)","v":""},{"$f":"IF(Z102=\"\",\"\",Z102*VLOOKUP(Y102,Feeds!$B$9:$AB$109,27,FALSE)/1000)","v":""},0]
[null,null,null,null,{"$f":"IF(D103=0,\"\",VLOOKUP(C103,Feeds!$B$9:$AB$109,23,FALSE)*D103/1000)","v":""},{"$f":"IF(D103=0,\"\",VLOOKUP(C103,Feeds!$B$9:$AB$109,24,FALSE))","v":""},{"$f":"IF(D103=\"\",\"\",D103*(VLOOKUP(C103,Feeds!$B$9:$AB$109,25,FALSE)/1000))","v":""},{"$f":"IF(D103=\"\",\"\",D103*VLOOKUP(C103,Feeds!$B$9:$AB$109,26,FALSE)/1000)","v":""},{"$f":"IF(D103=\"\",\"\",D103*VLOOKUP(C103,Feeds!$B$9:$AB$109,27,FALSE)/1000)","v":""},0,null,null,null,null,null,{"$f":"IF(O103=0,\"\",VLOOKUP(N103,Feeds!$B$9:$AB$109,23,FALSE)*O103/1000)","v":""},{"$f":"IF(O103=0,\"\",VLOOKUP(N103,Feeds!$B$9:$AB$109,24,FALSE))","v":""},{"$f":"IF(O103=\"\",\"\",O103*(VLOOKUP(N103,Feeds!$B$9:$AB$109,25,FALSE)/1000))","v":""},{"$f":"IF(O103=\"\",\"\",O103*VLOOKUP(N103,Feeds!$B$9:$AB$109,26,FALSE)/1000)","v":""},{"$f":"IF(O103=\"\",\"\",O103*VLOOKUP(N103,Feeds!$B$9:$AB$109,27,FALSE)/1000)","v":""},{"$f":"IF(O103=\"\",0,P103*Q103/100)","v":0},null,null,null,null,null,{"$f":"IF(Z103=0,\"\",VLOOKUP(Y103,Feeds!$B$9:$AB$109,23,FALSE)*Z103/1000)","v":""},{"$f":"IF(Z103=0,\"\",VLOOKUP(Y103,Feeds!$B$9:$AB$109,24,FALSE))","v":""},{"$f":"IF(Z103=\"\",\"\",Z103*(VLOOKUP(Y103,Feeds!$B$9:$AB$109,25,FALSE)/1000))","v":""},{"$f":"IF(Z103=\"\",\"\",Z103*VLOOKUP(Y103,Feeds!$B$9:$AB$109,26,FALSE)/1000)","v":""},{"$f":"IF(Z103=\"\",\"\",Z103*VLOOKUP(Y103,Feeds!$B$9:$AB$109,27,FALSE)/1000)","v":""},0]
[null,null,null,null,{"$f":"IF(D104=0,\"\",VLOOKUP(C104,Feeds!$B$9:$AB$109,23,FALSE)*D104/1000)","v":""},{"$f":"IF(D104=0,\"\",VLOOKUP(C104,Feeds!$B$9:$AB$109,24,FALSE))","v":""},{"$f":"IF(D104=\"\",\"\",D104*(VLOOKUP(C104,Feeds!$B$9:$AB$109,25,FALSE)/1000))","v":""},{"$f":"IF(D104=\"\",\"\",D104*VLOOKUP(C104,Feeds!$B$9:$AB$109,26,FALSE)/1000)","v":""},{"$f":"IF(D104=\"\",\"\",D104*VLOOKUP(C104,Feeds!$B$9:$AB$109,27,FALSE)/1000)","v":""},0,null,null,null,null,null,{"$f":"IF(O104=0,\"\",VLOOKUP(N104,Feeds!$B$9:$AB$109,23,FALSE)*O104/1000)","v":""},{"$f":"IF(O104=0,\"\",VLOOKUP(N104,Feeds!$B$9:$AB$109,24,FALSE))","v":""},{"$f":"IF(O104=\"\",\"\",O104*(VLOOKUP(N104,Feeds!$B$9:$AB$109,25,FALSE)/1000))","v":""},{"$f":"IF(O104=\"\",\"\",O104*VLOOKUP(N104,Feeds!$B$9:$AB$109,26,FALSE)/1000)","v":""},{"$f":"IF(O104=\"\",\"\",O104*VLOOKUP(N104,Feeds!$B$9:$AB$109,27,FALSE)/1000)","v":""},0,null,null,null,null,null,{"$f":"IF(Z104=0,\"\",VLOOKUP(Y104,Feeds!$B$9:$AB$109,23,FALSE)*Z104/1000)","v":""},{"$f":"IF(Z104=0,\"\",VLOOKUP(Y104,Feeds!$B$9:$AB$109,24,FALSE))","v":""},{"$f":"IF(Z104=\"\",\"\",Z104*(VLOOKUP(Y104,Feeds!$B$9:$AB$109,25,FALSE)/1000))","v":""},{"$f":"IF(Z104=\"\",\"\",Z104*VLOOKUP(Y104,Feeds!$B$9:$AB$109,26,FALSE)/1000)","v":""},{"$f":"IF(Z104=\"\",\"\",Z104*VLOOKUP(Y104,Feeds!$B$9:$AB$109,27,FALSE)/1000)","v":""},0]
[null,null,"Kokku päevas",{"$f":"SUM(D92:D104)","v":0},{"$f":"SUM(E92:E104)","v":0},null,{"$f":"SUM(G92:G104)","v":0},{"$f":"SUM(H92:H104)","v":0},{"$f":"SUM(I92:I104)","v":0},{"$f":"SUM(J92:J104)","v":0},null,null,null,"Kokku päevas",{"$f":"SUM(O92:O104)","v":0},{"$f":"SUM(P92:P104)","v":0},null,{"$f":"SUM(R92:R104)","v":0},{"$f":"SUM(S92:S104)","v":0},{"$f":"SUM(T92:T104)","v":0},{"$f":"SUM(U92:U104)","v":0},null,null,null,"Kokku päevas",{"$f":"SUM(Z92:Z104)","v":0},{"$f":"SUM(AA92:AA104)","v":0},null,{"$f":"SUM(AC92:AC104)","v":0},{"$f":"SUM(AD92:AD104)","v":0},{"$f":"SUM(AE92:AE104)","v":0},{"$f":"SUM(AF92:AF104)","v":0}]
[null,null,"Kokku perioodis",{"$f":"D105*L91","v":0},{"$f":"E105*L91","v":0},{"$f":"IF(D106=0,0,J106*100/E106)","v":0},{"$f":"G105*L91","v":0},{"$f":"H105*L91","v":0},{"$f":"I105*L91","v":0},{"$f":"J105*L91","v":0},null,null,null,"Kokku perioodis",{"$f":"O105*W91","v":0},{"$f":"P105*W91","v":0},{"$f":"IF(O106=0,0,U106*100/P106)","v":0},{"$f":"R105*W91","v":0},{"$f":"S105*W91","v":0},{"$f":"T105*W91","v":0},{"$f":"U105*W91","v":0},null,null,null,"Kokku perioodis",{"$f":"Z105*AH91","v":0},{"$f":"AA105*AH91","v":0},{"$f":"IF(Z106=0,0,AF106*100/AA106)","v":0},{"$f":"AC105*AH91","v":0},{"$f":"AD105*AH91","v":0},{"$f":"AE105*AH91","v":0},{"$f":"AF105*AH91","v":0}]
[null,null,null,null,null,null,null,null,null,{"$f":"IF((L91+L72+L53+L34+L15)=0,0,(J106+J87+J68+J49+J30)/(L91+L72+L53+L34+L15)*365)","v":0},null,null,null,null,null,null,null,null,null,null,{"$f":"IF((W91+W72+W53+W34+W15)=0,0,(U106+U87+U68+U49+U30))","v":0},null,null,null,null,null,null,null,null,null,null,{"$f":"IF((AH91+AH72+AH53+AH34+AH15)=0,0,(AF106+AF87+AF68+AF49+AF30))","v":0}]
[null,null,"Munakana kohta aastas","Sööta","KA","KA seeduvus ","TP","P","K",null,null,"Munemis-periood",null,"Broileri kohta aastas","Sööta","KA","KA seeduvus","TP","P","K",null,null,"Üleskasvatamisperiood",null,"Noorlinnu kohta aastas","Sööta","KA","KA seeduvus ","TP","P","K",null,null,"Üleskasvatamisperiood"]
[null,null,null,"kg",null,"%","g/kg ",null,null,null,null,"päeva",null,null,"kg",null,"%","g/kg ",null,null,null,null,"päeva",null,null,"kg",null,"%","g/kg ",null,null,null,null,"päeva"]
[null,null,null,{"$f":"(IF((L91+L72+L53+L34+L15)=0,0,(D13+D30+D49+D68+D87+D106)/(L91+L72+L53+L34+L15)*365))/1000","v":0},{"$f":"(IF((L91+L72+L53+L34+L15)=0,0,(E13+E30+E49+E68+E87+E106)/(L91+L72+L53+L34+L15)*365))/1000","v":0},{"$f":"(IF(J107=0,0,J107*100/E110))/1000","v":0},{"$f":"IF((L91+L72+L53+L34+L15)=0,0,((G30+G49+G68+G87+G106)/(L91+L72+L53+L34+L15)*365)/D110)","v":0},{"$f":"IF((L91+L72+L53+L34+L15)=0,0,((H30+H49+H68+H87+H106)/(L91+L72+L53+L34+L15)*365)/D110)","v":0},{"$f":"IF((L91+L72+L53+L34+L15)=0,0,((I30+I49+I68+I87+I106)/(L91+L72+L53+L34+L15)*365)/D110)","v":0},null,null,{"$f":"L91+L72+L34+L53+L15+K2","v":0},null,null,{"$f":"(IF((W91+W72+W53+W34+W15)=0,0,(O13+O30+O49+O68+O87+O106)))/1000","v":0},{"$f":"(IF((W91+W72+W53+W34+W15)=0,0,(P13+P30+P49+P68+P87+P106)))/1000","v":0},{"$f":"(IF(U107=0,0,U107*100/P110))/1000","v":0},{"$f":"IF((W91+W72+W53+W34+W15)=0,0,(R30+R49+R68+R87+R106)/O110)","v":0},{"$f":"IF((W91+W72+W53+W34+W15)=0,0,(S30+S49+S68+S87+S106)/O110)","v":0},{"$f":"IF((W91+W72+W53+W34+W15)=0,0,(T30+T49+T68+T87+T106)/O110)","v":0},null,null,{"$f":"W91+W72+W34+W53+W15","v":0},null,null,{"$f":"(IF((AH91+AH72+AH53+AH34+AH15)=0,0,(Z13+Z30+Z49+Z68+Z87+Z106)))/1000","v":0},{"$f":"(IF((AH91+AH72+AH53+AH34+AH15)=0,0,(AA13+AA30+AA49+AA68+AA87+AA106)))/1000","v":0},{"$f":"(IF(AF107=0,0,AF107*100/AA110))/1000","v":0},{"$f":"IF((AH91+AH72+AH53+AH34+AH15)=0,0,((AC30+AC49+AC68+AC87+AC106))/Z110)","v":0},{"$f":"IF((AH91+AH72+AH53+AH34+AH15)=0,0,(AD30+AD49+AD68+AD87+AD106)/Z110)","v":0},{"$f":"IF((AH91+AH72+AH53+AH34+AH15)=0,0,(AE30+AE49+AE68+AE87+AE106)/Z110)","v":0},null,null,{"$f":"AH91+AH72+AH34+AH53+AH15+AG2","v":0}]
[null,null,null,null,"%",null,null,null,null,null,null,null,null,null,null,"%",null,null,null,null,null,null,null,null,null,null,"%"]
[null,null,null,null,{"$f":"IF(D110=0,0,E110/D110*100)","v":0},null,null,null,null,null,null,null,null,null,null,{"$f":"IF(O110=0,0,P110/O110*100)","v":0},null,null,null,null,null,null,null,null,null,null,{"$f":"IF(Z110=0,0,AA110/Z110*100)","v":0}]

{"sheet":"Feedin poultry (AFC)","index":6,"n_rows":44,"n_cols":46,"rows_kept":44,"cut":false,"hidden":false,"merged":[[5,17,5,18],[5,14,10,16],[5,2,10,8],[10,19,10,22],[8,39,8,40],[6,17,6,18],[7,17,7,18],[1,2,1,5],[1,6,1,12],[2,2,3,12],[8,41,8,44],[9,19,9,22],[9,28,9,29],[9,30,9,33],[9,39,9,40],[9,41,9,44],[5,25,10,27],[5,28,7,29],[5,30,7,33],[10,30,10,33],[10,41,10,44],[5,36,10,38],[5,39,7,40],[5,41,7,44],[6,19,6,22],[7,19,7,22],[5,19,5,22],[8,19,8,22],[8,28,8,29],[8,30,8,33],[12,41,12,42],[12,43,12,44],[13,6,13,8],[12,16,12,17],[13,15,13,22],[12,2,13,2],[12,11,13,12],[12,14,13,14],[12,19,12,20],[12,21,12,22],[12,25,13,25],[12,27,12,28],[12,30,12,31],[12,32,12,33],[12,36,13,36],[12,38,12,39],[13,3,13,4],[13,26,13,33],[14,30,14,31],[14,32,14,33],[14,38,14,39],[14,41,14,42],[14,43,14,44],[14,11,14,12],[14,19,14,20],[14,21,14,22],[14,27,14,28],[14,16,14,17],[15,30,15,31],[15,32,15,33],[15,38,15,39],[15,41,15,42],[15,43,15,44],[15,11,15,12],[15,19,15,20],[15,21,15,22],[15,27,15,28],[15,16,15,17],[16,30,16,31],[16,32,16,33],[16,38,16,39],[16,41,16,42],[16,43,16,44],[16,11,16,12],[16,19,16,20],[16,21,16,22],[16,27,16,28],[16,16,16,17],[17,30,17,31],[17,32,17,33],[17,38,17,39],[17,41,17,42],[17,43,17,44],[17,11,17,12],[17,19,17,20],[17,21,17,22],[17,27,17,28],[17,16,17,17],[18,30,18,31],[18,32,18,33],[18,38,18,39],[18,41,18,42],[18,43,18,44],[18,11,18,12],[18,19,18,20],[18,21,18,22],[18,27,18,28],[18,16,18,17],[19,30,19,31],[19,32,19,33],[19,38,19,39],[19,41,19,42],[19,43,19,44],[19,11,19,12],[19,19,19,20],[19,21,19,22],[19,27,19,28],[19,16,19,17],[20,30,20,31],[20,32,20,33],[20,38,20,39],[20,41,20,42],[20,43,20,44],[20,11,20,12],[20,19,20,20],[20,21,20,22],[20,27,20,28],[20,16,20,17],[21,30,21,31],[21,32,21,33],[21,38,21,39],[21,41,21,42],[21,43,21,44],[21,11,21,12],[21,19,21,20],[21,21,21,22],[21,27,21,28],[21,16,21,17],[22,30,22,31],[22,32,22,33],[22,38,22,39],[22,41,22,42],[22,43,22,44],[22,11,22,12],[22,19,22,20],[22,21,22,22],[22,27,22,28],[22,16,22,17],[23,30,23,31],[23,32,23,33],[23,38,23,39],[23,41,23,42],[23,43,23,44],[23,11,23,12],[23,19,23,20],[23,21,23,22],[23,27,23,28],[23,16,23,17],[24,30,24,31],[24,32,24,33],[24,38,24,39],[24,41,24,42],[24,43,24,44],[24,11,24,12],[24,19,24,20],[24,21,24,22],[24,27,24,28],[24,16,24,17],[25,30,25,31],[25,32,25,33],[25,38,25,39],[25,41,25,42],[25,43,25,44],[25,11,25,12],[25,19,25,20],[25,21,25,22],[25,27,25,28],[25,16,25,17],[26,30,26,31],[26,32,26,33],[26,38,26,39],[26,41,26,42],[26,43,26,44],[26,11,26,12],[26,19,26,20],[26,21,26,22],[26,27,26,28],[26,16,26,17],[27,30,27,31],[27,32,27,33],[27,38,27,39],[27,41,27,42],[27,43,27,44],[27,11,27,12],[27,19,27,20],[27,21,27,22],[27,27,27,28],[27,16,27,17],[28,30,28,31],[28,32,28,33],[28,38,28,39],[28,41,28,42],[28,43,28,44],[28,11,28,12],[28,19,28,20],[28,21,28,22],[28,27,28,28],[28,16,28,17],[29,30,29,31],[29,32,29,33],[29,38,29,39],[29,41,29,42],[29,43,29,44],[29,11,29,12],[29,19,29,20],[29,21,29,22],[29,27,29,28],[29,16,29,17],[30,30,30,31],[30,32,30,33],[30,38,30,39],[30,41,30,42],[30,43,30,44],[30,11,30,12],[30,19,30,20],[30,21,30,22],[30,27,30,28],[30,16,30,17],[31,30,31,31],[31,32,31,33],[31,38,31,39],[31,41,31,42],[31,43,31,44],[31,11,31,12],[31,19,31,20],[31,21,31,22],[31,27,31,28],[31,16,31,17],[32,30,32,31],[32,32,32,33],[32,38,32,39],[32,41,32,42],[32,43,32,44],[32,11,32,12],[32,19,32,20],[32,21,32,22],[32,27,32,28],[32,16,32,17],[34,38,34,39],[34,41,34,42],[34,43,34,44],[34,11,34,12],[34,19,34,20],[34,21,34,22],[34,27,34,28],[34,16,34,17],[33,30,33,31],[33,32,33,33],[33,38,33,39],[33,41,33,42],[33,43,33,44],[33,11,33,12],[33,19,33,20],[33,21,33,22],[33,27,33,28],[33,16,33,17],[36,14,38,14],[36,19,36,20],[36,21,36,22],[36,25,38,25],[36,30,36,31],[37,15,37,16],[37,26,37,27],[13,37,13,44],[37,37,37,38],[36,32,36,33],[36,36,38,36],[36,41,36,42],[36,43,36,44],[37,18,37,22],[37,29,37,33],[37,40,37,44],[38,19,38,20],[38,21,38,22],[38,30,38,31],[38,32,38,33],[38,41,38,42],[38,43,38,44],[34,30,34,31],[34,32,34,33],[43,33,45,33],[43,40,45,40],[43,41,45,41],[43,42,45,42],[43,43,45,43],[43,44,45,44],[43,18,45,18],[43,19,45,19],[43,20,45,20],[43,21,45,21],[43,22,45,22],[43,29,45,29],[43,30,45,30],[43,31,45,31],[43,32,45,32]]}
[]
[null,null,"Lindude söötmine",null,null,null,"STA"]
[]
[]
[null,987654321]
[null,null,"Söötade tarbimine aastas",null,null,null,null,null,null,null,null,null,null,null,"Munakanad",null,null,"Pidamisviis",null,"Puurikanad",null,null,null,null,null,"Kanabroilerid",null,null,"Lindude arv, toodetud linde",null,null,null,null,null,null,null,"Noorlinnud",null,null,"Lindude arv, toodetud linde"]
[null,null,null,null,null,null,null,null,null,null,null,null,null,null,null,null,null,"Lindude arv, aastalindu"]
[null,null,null,null,null,null,null,null,null,null,null,null,null,null,null,null,null,"Munatoodang, kg/aastalind"]
[null,null,null,null,null,null,null,null,null,null,null,null,null,null,null,null,null,"Kehamass perioodi alguses, kg",null,null,null,null,null,null,null,null,null,null,"Kehamass perioodi alguses, kg",null,null,null,null,null,null,null,null,null,null,"Kehamass perioodi alguses, kg"]
[null,null,null,null,null,null,null,null,null,null,null,null,null,null,null,null,null,"Kehamass perioodi lõpus, kg",null,null,null,null,null,null,null,null,null,null,"Kehamass perioodi lõpus, kg",null,null,null,null,null,null,null,null,null,null,"Kehamass perioodi lõpus, kg"]
[null,null,null,null,null,null,null,null,null,null,null,null,null,null,null,null,null,"Munemisperiood, päeva",null,null,null,null,null,null,null,null,null,null,"Üleskasvatamisperiood, päeva",null,null,null,null,null,null,null,null,null,null,"Üleskasvatamisperiood, päeva"]
[]
[null,null,"Söödad","Kogus","KA","KA seeduvus","TP","P","K",null,null,"Summa (max.100%)",null,null,"Osakaal, %","Kogus","KA",null,"TP","P",null,"K",null,null,null,"Osakaal, % ","Kogus","KA",null,"TP","P",null,"K",null,null,null,"Osakaal, %","Kogus","KA",null,"TP","P",null,"K"]
[null,null,null,"t/aasta",null,"%","t/aasta",null,null,null,null,null,null,null,null,"t/aasta",null,null,null,null,null,null,null,null,null,null,"t/aasta",null,null,null,null,null,null,null,null,null,null,"t/aasta"]
[null,null,null,null,{"$f":"IF(D15=0,\"\",VLOOKUP(C15,Feeds!$B$9:$AB$109,23,FALSE)*D15/1000)","v":""},{"$f":"IF(D15=0,\"\",VLOOKUP(C15,Feeds!$B$9:$AB$109,24,FALSE))","v":""},{"$f":"IF(D15=0,\"\",VLOOKUP(C15,Feeds!$B$9:$AB$109,25,FALSE)*D15/1000)","v":""},{"$f":"IF(D15=0,\"\",VLOOKUP(C15,Feeds!$B$9:$AB$109,26,FALSE)*D15/1000)","v":""},{"$f":"IF(D15=0,\"\",VLOOKUP(C15,Feeds!$B$9:$AB$109,27,FALSE)*D15/1000)","v":""},{"$f":"O15+Z15+AK15+AV15+BF15+BP15","v":0},null,{"$f":"IF(O15+Z15+AK15+AV15+BF15+BP15 <=100,O15+Z15+AK15+AV15+BF15+BP15,\"ERROR, SUM>100%\")","v":0},null,null,null,{"$f":"IF(O15=\"\",\"\",IF(E15=\"\",\"\",D15*O15/100))","v":""},{"$f":"IF(O15=\"\",\"\",IF($E$15=\"\",\"\",$E$15*O15/100))","v":""},null,{"$f":"IF(O15=\"\",\"\",IF(G15=\"\",\"\",G15*O15/100))","v":""},{"$f":"IF(O15=\"\",\"\",IF(H15=\"\",\"\",H15*O15/100))","v":""},null,{"$f":"IF(O15=\"\",\"\",IF(I15=\"\",\"\",I15*O15/100))","v":""},null,{"$f":"IF(Q15=\"\",0,Q15*F15/100)","v":0},null,null,{"$f":"IF(Z15=\"\",\"\",IF(E15=\"\",\"\",D15*Z15/100))","v":""},{"$f":"IF(Z15=\"\",\"\",IF(E15=\"\",\"\",E15*Z15/100))","v":""},null,{"$f":"IF(Z15=\"\",\"\",IF(G15=\"\",\"\",G15*Z15/100))","v":""},{"$f":"IF(Z15=\"\",\"\",IF(H15=\"\",\"\",H15*Z15/100))","v":""},null,{"$f":"IF(Z15=\"\",\"\",IF(I15=\"\",\"\",I15*Z15/100))","v":""},null,{"$f":"IF(AB15=\"\",0,AB15*F15/100)","v":0},null,null,{"$f":"IF(AK15=\"\",\"\",IF(E15=\"\",\"\",D15*AK15/100))","v":""},{"$f":"IF(AK15=\"\",\"\",IF(E15=\"\",\"\",E15*AK15/100))","v":""},null,{"$f":"IF(AK15=\"\",\"\",IF(G15=\"\",\"\",G15*AK15/100))","v":""},{"$f":"IF(AK15=\"\",\"\",IF(H15=\"\",\"\",H15*AK15/100))","v":""},null,{"$f":"IF(AK15=\"\",\"\",IF(I15=\"\",\"\",I15*AK15/100))","v":""},null,{"$f":"IF(AM15=\"\",0,AM15*F15/100)","v":0}]
[null,null,null,null,{"$f":"IF(D16=0,\"\",VLOOKUP(C16,Feeds!$B$9:$AB$109,23,FALSE)*D16/1000)","v":""},{"$f":"IF(D16=0,\"\",VLOOKUP(C16,Feeds!$B$9:$AB$109,24,FALSE))","v":""},{"$f":"IF(D16=0,\"\",VLOOKUP(C16,Feeds!$B$9:$AB$109,25,FALSE)*D16/1000)","v":""},{"$f":"IF(D16=0,\"\",VLOOKUP(C16,Feeds!$B$9:$AB$109,26,FALSE)*D16/1000)","v":""},{"$f":"IF(D16=0,\"\",VLOOKUP(C16,Feeds!$B$9:$AB$109,27,FALSE)*D16/1000)","v":""},{"$f":"O16+Z16+AK16+AV16+BF16+BP16","v":0},null,{"$f":"IF(O16+Z16+AK16+AV16+BF16+BP16 <=100,O16+Z16+AK16+AV16+BF16+BP16,\"ERROR, SUM>100%\")","v":0},null,null,null,{"$f":"IF(O16=\"\",\"\",IF(E16=\"\",\"\",D16*O16/100))","v":""},{"$f":"IF(O16=\"\",\"\",IF(E16=\"\",\"\",E16*O16/100))","v":""},null,{"$f":"IF(O16=\"\",\"\",IF(G16=\"\",\"\",G16*O16/100))","v":""},{"$f":"IF(O16=\"\",\"\",IF(H16=\"\",\"\",H16*O16/100))","v":""},null,{"$f":"IF(O16=\"\",\"\",IF(I16=\"\",\"\",I16*O16/100))","v":""},null,{"$f":"IF(Q16=\"\",0,Q16*F16/100)","v":0},null,null,{"$f":"IF(Z16=\"\",\"\",IF(E16=\"\",\"\",D16*Z16/100))","v":""},{"$f":"IF(Z16=\"\",\"\",IF(E16=\"\",\"\",E16*Z16/100))","v":""},null,{"$f":"IF(Z16=\"\",\"\",IF(G16=\"\",\"\",G16*Z16/100))","v":""},{"$f":"IF(Z16=\"\",\"\",IF(H16=\"\",\"\",H16*Z16/100))","v":""},null,{"$f":"IF(Z16=\"\",\"\",IF(I16=\"\",\"\",I16*Z16/100))","v":""},null,{"$f":"IF(AB16=\"\",0,AB16*F16/100)","v":0},null,null,{"$f":"IF(AK16=\"\",\"\",IF(E16=\"\",\"\",D16*AK16/100))","v":""},{"$f":"IF(AK16=\"\",\"\",IF(E16=\"\",\"\",E16*AK16/100))","v":""},null,{"$f":"IF(AK16=\"\",\"\",IF(G16=\"\",\"\",G16*AK16/100))","v":""},{"$f":"IF(AK16=\"\",\"\",IF(H16=\"\",\"\",H16*AK16/100))","v":""},null,{"$f":"IF(AK16=\"\",\"\",IF(I16=\"\",\"\",I16*AK16/100))","v":""},null,{"$f":"IF(AM16=\"\",0,AM16*F16/100)","v":0}]
[null,null,null,null,{"$f":"IF(D17=0,\"\",VLOOKUP(C17,Feeds!$B$9:$AB$109,23,FALSE)*D17/1000)","v":""},{"$f":"IF(D17=0,\"\",VLOOKUP(C17,Feeds!$B$9:$AB$109,24,FALSE))","v":""},{"$f":"IF(D17=0,\"\",VLOOKUP(C17,Feeds!$B$9:$AB$109,25,FALSE)*D17/1000)","v":""},{"$f":"IF(D17=0,\"\",VLOOKUP(C17,Feeds!$B$9:$AB$109,26,FALSE)*D17/1000)","v":""},{"$f":"IF(D17=0,\"\",VLOOKUP(C17,Feeds!$B$9:$AB$109,27,FALSE)*D17/1000)","v":""},0,null,0,null,null,null,{"$f":"IF(O17=\"\",\"\",IF(E17=\"\",\"\",D17*O17/100))","v":""},{"$f":"IF(O17=\"\",\"\",IF(E17=\"\",\"\",E17*O17/100))","v":""},null,{"$f":"IF(O17=\"\",\"\",IF(G17=\"\",\"\",G17*O17/100))","v":""},"",null,{"$f":"IF(O17=\"\",\"\",IF(I17=\"\",\"\",I17*O17/100))","v":""},null,0,null,null,"",{"$f":"IF(Z17=\"\",\"\",IF(E17=\"\",\"\",E17*Z17/100))","v":""},null,"","",null,{"$f":"IF(Z17=\"\",\"\",IF(I17=\"\",\"\",I17*Z17/100))","v":""},null,0,null,null,"","",null,"","",null,"",null,0]
[null,null,null,null,{"$f":"IF(D18=0,\"\",VLOOKUP(C18,Feeds!$B$9:$AB$109,23,FALSE)*D18/1000)","v":""},{"$f":"IF(D18=0,\"\",VLOOKUP(C18,Feeds!$B$9:$AB$109,24,FALSE))","v":""},{"$f":"IF(D18=0,\"\",VLOOKUP(C18,Feeds!$B$9:$AB$109,25,FALSE)*D18/1000)","v":""},{"$f":"IF(D18=0,\"\",VLOOKUP(C18,Feeds!$B$9:$AB$109,26,FALSE)*D18/1000)","v":""},{"$f":"IF(D18=0,\"\",VLOOKUP(C18,Feeds!$B$9:$AB$109,27,FALSE)*D18/1000)","v":""},0,null,0,null,null,null,"",{"$f":"IF(O18=\"\",\"\",IF(E18=\"\",\"\",E18*O18/100))","v":""},null,"","",null,"",null,0,null,null,"","",null,"","",null,"",null,0,null,null,"","",null,"","",null,"",null,0]
[null,null,null,null,{"$f":"IF(D19=0,\"\",VLOOKUP(C19,Feeds!$B$9:$AB$109,23,FALSE)*D19/1000)","v":""},{"$f":"IF(D19=0,\"\",VLOOKUP(C19,Feeds!$B$9:$AB$109,24,FALSE))","v":""},{"$f":"IF(D19=0,\"\",VLOOKUP(C19,Feeds!$B$9:$AB$109,25,FALSE)*D19/1000)","v":""},{"$f":"IF(D19=0,\"\",VLOOKUP(C19,Feeds!$B$9:$AB$109,26,FALSE)*D19/1000)","v":""},{"$f":"IF(D19=0,\"\",VLOOKUP(C19,Feeds!$B$9:$AB$109,27,FALSE)*D19/1000)","v":""},0,null,0,null,null,null,"","",null,"","",null,"",null,0,null,null,"","",null,"","",null,"",null,0,null,null,"","",null,"","",null,"",null,0]
[null,null,null,null,{"$f":"IF(D20=0,\"\",VLOOKUP(C20,Feeds!$B$9:$AB$109,23,FALSE)*D20/1000)","v":""},{"$f":"IF(D20=0,\"\",VLOOKUP(C20,Feeds!$B$9:$AB$109,24,FALSE))","v":""},{"$f":"IF(D20=0,\"\",VLOOKUP(C20,Feeds!$B$9:$AB$109,25,FALSE)*D20/1000)","v":""},{"$f":"IF(D20=0,\"\",VLOOKUP(C20,Feeds!$B$9:$AB$109,26,FALSE)*D20/1000)","v":""},{"$f":"IF(D20=0,\"\",VLOOKUP(C20,Feeds!$B$9:$AB$109,27,FALSE)*D20/1000)","v":""},0,null,0,null,null,null,"","",null,"","",null,"",null,0,null,null,"","",null,"","",null,"",null,0,null,null,"","",null,"","",null,"",null,0]
[null,null,null,null,{"$f":"IF(D21=0,\"\",VLOOKUP(C21,Feeds!$B$9:$AB$109,23,FALSE)*D21/1000)","v":""},{"$f":"IF(D21=0,\"\",VLOOKUP(C21,Feeds!$B$9:$AB$109,24,FALSE))","v":""},{"$f":"IF(D21=0,\"\",VLOOKUP(C21,Feeds!$B$9:$AB$109,25,FALSE)*D21/1000)","v":""},{"$f":"IF(D21=0,\"\",VLOOKUP(C21,Feeds!$B$9:$AB$109,26,FALSE)*D21/1000)","v":""},{"$f":"IF(D21=0,\"\",VLOOKUP(C21,Feeds!$B$9:$AB$109,27,FALSE)*D21/1000)","v":""},0,null,0,null,null,null,"","",null,"","",null,"",null,0,null,null,"","",null,"","",null,"",null,0,null,null,"","",null,"","",null,"",null,0]
[null,null,null,null,{"$f":"IF(D22=0,\"\",VLOOKUP(C22,Feeds!$B$9:$AB$109,23,FALSE)*D22/1000)","v":""},{"$f":"IF(D22=0,\"\",VLOOKUP(C22,Feeds!$B$9:$AB$109,24,FALSE))","v":""},{"$f":"IF(D22=0,\"\",VLOOKUP(C22,Feeds!$B$9:$AB$109,25,FALSE)*D22/1000)","v":""},{"$f":"IF(D22=0,\"\",VLOOKUP(C22,Feeds!$B$9:$AB$109,26,FALSE)*D22/1000)","v":""},{"$f":"IF(D22=0,\"\",VLOOKUP(C22,Feeds!$B$9:$AB$109,27,FALSE)*D22/1000)","v":""},0,null,0,null,null,null,"","",null,"","",null,"",null,0,null,null,"","",null,"","",null,"",null,0,null,null,"","",null,"","",null,"",null,0]
[null,null,null,null,{"$f":"IF(D23=0,\"\",VLOOKUP(C23,Feeds!$B$9:$AB$109,23,FALSE)*D23/1000)","v":""},{"$f":"IF(D23=0,\"\",VLOOKUP(C23,Feeds!$B$9:$AB$109,24,FALSE))","v":""},{"$f":"IF(D23=0,\"\",VLOOKUP(C23,Feeds!$B$9:$AB$109,25,FALSE)*D23/1000)","v":""},{"$f":"IF(D23=0,\"\",VLOOKUP(C23,Feeds!$B$9:$AB$109,26,FALSE)*D23/1000)","v":""},{"$f":"IF(D23=0,\"\",VLOOKUP(C23,Feeds!$B$9:$AB$109,27,FALSE)*D23/1000)","v":""},0,null,0,null,null,null,"","",null,"","",null,"",null,0,null,null,"","",null,"","",null,{"$f":"IF(Z23=\"\",\"\",IF(I23=\"\",\"\",I23*Z23/100))","v":""},null,0,null,null,"","",null,"","",null,"",null,0]
[null,null,null,null,{"$f":"IF(D24=0,\"\",VLOOKUP(C24,Feeds!$B$9:$AB$109,23,FALSE)*D24/1000)","v":""},{"$f":"IF(D24=0,\"\",VLOOKUP(C24,Feeds!$B$9:$AB$109,24,FALSE))","v":""},{"$f":"IF(D24=0,\"\",VLOOKUP(C24,Feeds!$B$9:$AB$109,25,FALSE)*D24/1000)","v":""},{"$f":"IF(D24=0,\"\",VLOOKUP(C24,Feeds!$B$9:$AB$109,26,FALSE)*D24/1000)","v":""},{"$f":"IF(D24=0,\"\",VLOOKUP(C24,Feeds!$B$9:$AB$109,27,FALSE)*D24/1000)","v":""},0,null,0,null,null,null,"","",null,"","",null,"",null,0,null,null,"","",null,"","",null,"",null,0,null,null,"","",null,"","",null,"",null,0]
[null,null,null,null,{"$f":"IF(D25=0,\"\",VLOOKUP(C25,Feeds!$B$9:$AB$109,23,FALSE)*D25/1000)","v":""},{"$f":"IF(D25=0,\"\",VLOOKUP(C25,Feeds!$B$9:$AB$109,24,FALSE))","v":""},{"$f":"IF(D25=0,\"\",VLOOKUP(C25,Feeds!$B$9:$AB$109,25,FALSE)*D25/1000)","v":""},{"$f":"IF(D25=0,\"\",VLOOKUP(C25,Feeds!$B$9:$AB$109,26,FALSE)*D25/1000)","v":""},{"$f":"IF(D25=0,\"\",VLOOKUP(C25,Feeds!$B$9:$AB$109,27,FALSE)*D25/1000)","v":""},0,null,0,null,null,null,"","",null,"","",null,"",null,0,null,null,"","",null,"","",null,"",null,0,null,null,"","",null,"","",null,"",null,0]
[null,null,null,null,{"$f":"IF(D26=0,\"\",VLOOKUP(C26,Feeds!$B$9:$AB$109,23,FALSE)*D26/1000)","v":""},{"$f":"IF(D26=0,\"\",VLOOKUP(C26,Feeds!$B$9:$AB$109,24,FALSE))","v":""},{"$f":"IF(D26=0,\"\",VLOOKUP(C26,Feeds!$B$9:$AB$109,25,FALSE)*D26/1000)","v":""},{"$f":"IF(D26=0,\"\",VLOOKUP(C26,Feeds!$B$9:$AB$109,26,FALSE)*D26/1000)","v":""},{"$f":"IF(D26=0,\"\",VLOOKUP(C26,Feeds!$B$9:$AB$109,27,FALSE)*D26/1000)","v":""},0,null,0,null,null,null,"","",null,"","",null,"",null,0,null,null,"","",null,"","",null,"",null,0,null,null,"","",null,"","",null,"",null,0]
[null,null,null,null,{"$f":"IF(D27=0,\"\",VLOOKUP(C27,Feeds!$B$9:$AB$109,23,FALSE)*D27/1000)","v":""},{"$f":"IF(D27=0,\"\",VLOOKUP(C27,Feeds!$B$9:$AB$109,24,FALSE))","v":""},{"$f":"IF(D27=0,\"\",VLOOKUP(C27,Feeds!$B$9:$AB$109,25,FALSE)*D27/1000)","v":""},{"$f":"IF(D27=0,\"\",VLOOKUP(C27,Feeds!$B$9:$AB$109,26,FALSE)*D27/1000)","v":""},{"$f":"IF(D27=0,\"\",VLOOKUP(C27,Feeds!$B$9:$AB$109,27,FALSE)*D27/1000)","v":""},0,null,0,null,null,null,"","",null,"","",null,"",null,0,null,null,"","",null,"","",null,"",null,0,null,null,"","",null,"","",null,"",null,0]
[null,null,null,null,{"$f":"IF(D28=0,\"\",VLOOKUP(C28,Feeds!$B$9:$AB$109,23,FALSE)*D28/1000)","v":""},{"$f":"IF(D28=0,\"\",VLOOKUP(C28,Feeds!$B$9:$AB$109,24,FALSE))","v":""},{"$f":"IF(D28=0,\"\",VLOOKUP(C28,Feeds!$B$9:$AB$109,25,FALSE)*D28/1000)","v":""},{"$f":"IF(D28=0,\"\",VLOOKUP(C28,Feeds!$B$9:$AB$109,26,FALSE)*D28/1000)","v":""},{"$f":"IF(D28=0,\"\",VLOOKUP(C28,Feeds!$B$9:$AB$109,27,FALSE)*D28/1000)","v":""},0,null,0,null,null,null,"","",null,"","",null,{"$f":"IF(O28=\"\",\"\",IF(I28=\"\",\"\",I28*O28/100))","v":""},null,0,null,null,"","",null,"","",null,"",null,0,null,null,"","",null,"","",null,"",null,0]
[null,null,null,null,{"$f":"IF(D29=0,\"\",VLOOKUP(C29,Feeds!$B$9:$AB$109,23,FALSE)*D29/1000)","v":""},{"$f":"IF(D29=0,\"\",VLOOKUP(C29,Feeds!$B$9:$AB$109,24,FALSE))","v":""},{"$f":"IF(D29=0,\"\",VLOOKUP(C29,Feeds!$B$9:$AB$109,25,FALSE)*D29/1000)","v":""},{"$f":"IF(D29=0,\"\",VLOOKUP(C29,Feeds!$B$9:$AB$109,26,FALSE)*D29/1000)","v":""},{"$f":"IF(D29=0,\"\",VLOOKUP(C29,Feeds!$B$9:$AB$109,27,FALSE)*D29/1000)","v":""},0,null,0,null,null,null,"","",null,"","",null,"",null,0,null,null,"","",null,"","",null,"",null,0,null,null,"","",null,"","",null,"",null,0]
[null,null,null,null,{"$f":"IF(D30=0,\"\",VLOOKUP(C30,Feeds!$B$9:$AB$109,23,FALSE)*D30/1000)","v":""},{"$f":"IF(D30=0,\"\",VLOOKUP(C30,Feeds!$B$9:$AB$109,24,FALSE))","v":""},{"$f":"IF(D30=0,\"\",VLOOKUP(C30,Feeds!$B$9:$AB$109,25,FALSE)*D30/1000)","v":""},{"$f":"IF(D30=0,\"\",VLOOKUP(C30,Feeds!$B$9:$AB$109,26,FALSE)*D30/1000)","v":""},{"$f":"IF(D30=0,\"\",VLOOKUP(C30,Feeds!$B$9:$AB$109,27,FALSE)*D30/1000)","v":""},0,null,0,null,null,null,"","",null,"","",null,"",null,0,null,null,"","",null,"","",null,"",null,0,null,null,"","",null,"","",null,"",null,0]
[null,null,null,null,{"$f":"IF(D31=0,\"\",VLOOKUP(C31,Feeds!$B$9:$AB$109,23,FALSE)*D31/1000)","v":""},{"$f":"IF(D31=0,\"\",VLOOKUP(C31,Feeds!$B$9:$AB$109,24,FALSE))","v":""},{"$f":"IF(D31=0,\"\",VLOOKUP(C31,Feeds!$B$9:$AB$109,25,FALSE)*D31/1000)","v":""},{"$f":"IF(D31=0,\"\",VLOOKUP(C31,Feeds!$B$9:$AB$109,26,FALSE)*D31/1000)","v":""},{"$f":"IF(D31=0,\"\",VLOOKUP(C31,Feeds!$B$9:$AB$109,27,FALSE)*D31/1000)","v":""},0,null,0,null,null,null,"","",null,"","",null,"",null,0,null,null,"","",null,"","",null,"",null,0,null,null,"","",null,"","",null,"",null,0]
[null,null,null,null,{"$f":"IF(D32=0,\"\",VLOOKUP(C32,Feeds!$B$9:$AB$109,23,FALSE)*D32/1000)","v":""},{"$f":"IF(D32=0,\"\",VLOOKUP(C32,Feeds!$B$9:$AB$109,24,FALSE))","v":""},{"$f":"IF(D32=0,\"\",VLOOKUP(C32,Feeds!$B$9:$AB$109,25,FALSE)*D32/1000)","v":""},{"$f":"IF(D32=0,\"\",VLOOKUP(C32,Feeds!$B$9:$AB$109,26,FALSE)*D32/1000)","v":""},{"$f":"IF(D32=0,\"\",VLOOKUP(C32,Feeds!$B$9:$AB$109,27,FALSE)*D32/1000)","v":""},0,null,0,null,null,null,"","",null,"","",null,{"$f":"IF(O32=\"\",\"\",IF(I32=\"\",\"\",I32*O32/100))","v":""},null,0,null,null,"","",null,"","",null,{"$f":"IF(Z32=\"\",\"\",IF(I32=\"\",\"\",I32*Z32/100))","v":""},null,0,null,null,"","",null,"","",null,{"$f":"IF(AK32=\"\",\"\",IF(I32=\"\",\"\",I32*AK32/100))","v":""},null,0]
[null,null,null,null,{"$f":"IF(D33=0,\"\",VLOOKUP(C33,Feeds!$B$9:$AB$109,23,FALSE)*D33/1000)","v":""},{"$f":"IF(D33=0,\"\",VLOOKUP(C33,Feeds!$B$9:$AB$109,24,FALSE))","v":""},{"$f":"IF(D33=0,\"\",VLOOKUP(C33,Feeds!$B$9:$AB$109,25,FALSE)*D33/1000)","v":""},{"$f":"IF(D33=0,\"\",VLOOKUP(C33,Feeds!$B$9:$AB$109,26,FALSE)*D33/1000)","v":""},{"$f":"IF(D33=0,\"\",VLOOKUP(C33,Feeds!$B$9:$AB$109,27,FALSE)*D33/1000)","v":""},0,null,0,null,null,null,"","",null,"","",null,"",null,0,null,null,"","",null,"","",null,"",null,0,null,null,"","",null,{"$f":"IF(AK33=\"\",\"\",IF(G33=\"\",\"\",G33*AK33/100))","v":""},"",null,"",null,0]
[null,null,null,null,{"$f":"IF(D34=0,\"\",VLOOKUP(C34,Feeds!$B$9:$AB$109,23,FALSE)*D34/1000)","v":""},{"$f":"IF(D34=0,\"\",VLOOKUP(C34,Feeds!$B$9:$AB$109,24,FALSE))","v":""},{"$f":"IF(D34=0,\"\",VLOOKUP(C34,Feeds!$B$9:$AB$109,25,FALSE)*D34/1000)","v":""},{"$f":"IF(D34=0,\"\",VLOOKUP(C34,Feeds!$B$9:$AB$109,26,FALSE)*D34/1000)","v":""},{"$f":"IF(D34=0,\"\",VLOOKUP(C34,Feeds!$B$9:$AB$109,27,FALSE)*D34/1000)","v":""},0,null,0,null,null,null,"","",null,"","",null,"",null,0,null,null,"","",null,"","",null,"",null,0,null,null,"","",null,"","",null,"",null,0]
[null,null,null,null,{"$f":"IF(D35=0,\"\",VLOOKUP(C35,Feeds!$B$9:$AB$109,23,FALSE)*D35/1000)","v":""},{"$f":"IF(D35=0,\"\",VLOOKUP(C35,Feeds!$B$9:$AB$109,24,FALSE))","v":""},{"$f":"IF(D35=0,\"\",VLOOKUP(C35,Feeds!$B$9:$AB$109,25,FALSE)*D35/1000)","v":""},{"$f":"IF(D35=0,\"\",VLOOKUP(C35,Feeds!$B$9:$AB$109,26,FALSE)*D35/1000)","v":""},{"$f":"IF(D35=0,\"\",VLOOKUP(C35,Feeds!$B$9:$AB$109,27,FALSE)*D35/1000)","v":""},0,null,0,null,null,null,{"$f":"IF(O35=\"\",\"\",IF(E35=\"\",\"\",D35*O35/100))","v":""},{"$f":"IF(O35=\"\",\"\",IF(E35=\"\",\"\",E35*O35/100))","v":""},null,{"$f":"IF(O35=\"\",\"\",IF(G35=\"\",\"\",G35*O35/100))","v":""},"",null,{"$f":"IF(O35=\"\",\"\",IF(I35=\"\",\"\",I35*O35/100))","v":""},null,{"$f":"IF(Q35=\"\",0,Q35*F35/100)","v":0},null,null,{"$f":"IF(Z35=\"\",\"\",IF(E35=\"\",\"\",D35*Z35/100))","v":""},{"$f":"IF(Z35=\"\",\"\",IF(E35=\"\",\"\",E35*Z35/100))","v":""},null,{"$f":"IF(Z35=\"\",\"\",IF(G35=\"\",\"\",G35*Z35/100))","v":""},{"$f":"IF(Z35=\"\",\"\",IF(H35=\"\",\"\",H35*Z35/100))","v":""},null,{"$f":"IF(Z35=\"\",\"\",IF(I35=\"\",\"\",I35*Z35/100))","v":""},null,{"$f":"IF(AB35=\"\",0,AB35*F35/100)","v":0},null,null,{"$f":"IF(AK35=\"\",\"\",IF(E35=\"\",\"\",D35*AK35/100))","v":""},{"$f":"IF(AK35=\"\",\"\",IF(E35=\"\",\"\",E35*AK35/100))","v":""},null,{"$f":"IF(AK35=\"\",\"\",IF(G35=\"\",\"\",G35*AK35/100))","v":""},{"$f":"IF(AK35=\"\",\"\",IF(H35=\"\",\"\",H35*AK35/100))","v":""},null,{"$f":"IF(AK35=\"\",\"\",IF(I35=\"\",\"\",I35*AK35/100))","v":""},null,{"$f":"IF(AM35=\"\",0,AM35*F35/100)","v":0}]
[]
[null,null,null,null,null,null,null,null,null,null,null,null,null,null,"Munakana kohta aastas","Kogus","KA","KA seeduvus","TP","P",null,"K",null,null,null,"Broileri kohta aastas","Kogus","KA","KA seeduvus","TP","P",null,"K",null,null,null,"Noorlinnu kohta aastas","Kogus","KA","KA seeduvus","TP","P",null,"K"]
[null,null,null,null,null,null,null,null,null,null,null,null,null,null,null,"kg",null,"%","g/kg ",null,null,null,null,null,null,null,"kg",null,"%","g/kg ",null,null,null,null,null,null,null,"kg",null,"%","g/kg "]
[null,null,null,null,null,null,null,null,null,null,null,null,null,null,null,{"$f":"IF(T7=0,0,SUM(P15:P35)*1000/T7)","v":0},{"$f":"IF(T7=0,0,SUM(Q15:Q35)*1000/T7)","v":0},{"$f":"IF(T7=0,0,X39/Q39*100)","v":0},{"$f":"IF(T7=0,0,SUM(S15:S35)/T7*1000*1000/P39)","v":0},{"$f":"IF(T7=0,0,SUM(T15:T35)/T7*1000*1000/P39)","v":0},null,{"$f":"IF(T7=0,0,SUM(V15:V35)/T7*1000*1000/P39)","v":0},null,{"$f":"IF(T7=0,0,SUM(X15:X38)*1000/T7)","v":0},null,null,{"$f":"IF(AE6=0,0,SUM(AA15:AA35)*1000/AE6)","v":0},{"$f":"IF(AE6=0,0,SUM(AB15:AB35)*1000/AE6)","v":0},{"$f":"IF(AE6=0,0,AI39/AB39*100)","v":0},{"$f":"IF(AE6=0,0,SUM(AD15:AD35)/AE6*1000*1000/AA39)","v":0},{"$f":"IF(AE6=0,0,SUM(AE15:AE35)/AE6*1000*1000/AA39)","v":0},null,{"$f":"IF(AE6=0,0,SUM(AG15:AG35)/AE6*1000*1000/AA39)","v":0},null,{"$f":"IF(AE6=0,0,SUM(AI15:AI38)*1000/AE6)","v":0},null,null,{"$f":"IF(AP6=0,0,SUM(AL15:AL35)*1000/AP6)","v":0},{"$f":"IF(AP6=0,0,SUM(AM15:AM35)*1000/AP6)","v":0},{"$f":"IF(AP6=0,0,AT39/AM39*100)","v":0},{"$f":"IF(AP6=0,0,SUM(AO15:AO35)/AP6*1000*1000/AL39)","v":0},{"$f":"IF(AP6=0,0,SUM(AP15:AP35)/AP6*1000*1000/AL39)","v":0},null,{"$f":"IF(AP6=0,0,SUM(AR15:AR35)/AP6*1000*1000/AL39)","v":0},null,{"$f":"IF(AP6=0,0,SUM(AT15:AT38)*1000/AP6)","v":0}]
[null,null,null,null,null,null,null,null,null,null,null,null,null,null,null,null,"%",null,null,null,null,null,null,null,null,null,null,"%",null,null,null,null,null,null,null,null,null,null,"%"]
[null,null,null,null,null,null,null,null,null,null,null,null,null,null,null,null,{"$f":"IF(P39=0,0,Q39/P39*100)","v":0},null,null,null,null,null,null,null,null,null,null,{"$f":"IF(AA39=0,0,AB39/AA39*100)","v":0},null,null,null,null,null,null,null,null,null,null,{"$f":"IF(AL39=0,0,AM39/AL39*100)","v":0}]
[]
[]
[null,null,null,null,null,null,null,null,null,null,null,null,null,null,null,null,null,null,"Pääs jalutusalale","Päevi aastas",null,"Tundi päevas",null,null,null,null,null,null,null,"Pääs jalutusalale","Päevi aastas",null,"Tundi päevas",null,null,null,null,null,null,null,"Pääs jalutusalale","Päevi aastas",null,"Tundi päevas"]

{"sheet":"Feedin sheep (AFC)","index":7,"n_rows":46,"n_cols":54,"rows_kept":46,"cut":false,"hidden":false,"merged":[[18,15,19,15],[18,16,18,17],[18,31,18,32],[18,25,19,25],[18,26,18,27],[18,29,18,30],[18,19,18,20],[18,21,18,22],[1,2,1,5],[1,6,1,12],[11,2,16,8],[18,2,19,2],[18,11,19,12],[15,17,15,18],[15,19,15,22],[19,3,19,4],[19,6,19,8],[12,19,12,22],[11,27,11,28],[11,39,11,42],[11,29,11,32],[13,17,13,18],[13,19,13,22],[12,17,12,18],[19,26,19,32],[19,36,19,42],[19,16,19,22],[18,35,19,35],[18,36,18,37],[18,39,18,40],[18,41,18,42],[16,27,16,28],[16,37,16,38],[16,17,16,18],[14,17,14,18],[14,19,14,22],[15,27,15,28],[15,29,15,32],[11,15,16,16],[11,17,11,18],[11,19,11,22],[12,27,13,32],[11,25,16,26],[11,35,16,36],[11,37,11,38],[14,27,14,28],[14,29,14,32],[21,11,21,12],[20,31,20,32],[20,36,20,37],[20,39,20,40],[20,41,20,42],[20,16,20,17],[20,19,20,20],[20,11,20,12],[20,26,20,27],[20,29,20,30],[21,26,21,27],[21,29,21,30],[21,31,21,32],[21,36,21,37],[21,39,21,40],[21,41,21,42],[21,16,21,17],[21,19,21,20],[21,21,21,22],[20,21,20,22],[23,41,23,42],[23,16,23,17],[23,19,23,20],[23,21,23,22],[24,11,24,12],[22,21,22,22],[23,11,23,12],[22,31,22,32],[22,36,22,37],[22,39,22,40],[22,41,22,42],[22,16,22,17],[22,19,22,20],[22,26,22,27],[22,29,22,30],[23,26,23,27],[23,29,23,30],[23,31,23,32],[23,36,23,37],[23,39,23,40],[22,11,22,12],[25,41,25,42],[25,16,25,17],[25,19,25,20],[25,21,25,22],[26,11,26,12],[24,21,24,22],[25,11,25,12],[24,31,24,32],[24,36,24,37],[24,39,24,40],[24,41,24,42],[24,16,24,17],[24,19,24,20],[24,26,24,27],[24,29,24,30],[25,26,25,27],[25,29,25,30],[25,31,25,32],[25,36,25,37],[25,39,25,40],[27,41,27,42],[27,16,27,17],[27,19,27,20],[27,21,27,22],[28,11,28,12],[26,21,26,22],[27,11,27,12],[26,31,26,32],[26,36,26,37],[26,39,26,40],[26,41,26,42],[26,16,26,17],[26,19,26,20],[26,26,26,27],[26,29,26,30],[27,26,27,27],[27,29,27,30],[27,31,27,32],[27,36,27,37],[27,39,27,40],[29,41,29,42],[29,16,29,17],[29,19,29,20],[29,21,29,22],[30,11,30,12],[28,21,28,22],[29,11,29,12],[28,31,28,32],[28,36,28,37],[28,39,28,40],[28,41,28,42],[28,16,28,17],[28,19,28,20],[28,26,28,27],[28,29,28,30],[29,26,29,27],[29,29,29,30],[29,31,29,32],[29,36,29,37],[29,39,29,40],[31,41,31,42],[31,16,31,17],[31,19,31,20],[31,21,31,22],[32,11,32,12],[30,21,30,22],[31,11,31,12],[30,31,30,32],[30,36,30,37],[30,39,30,40],[30,41,30,42],[30,16,30,17],[30,19,30,20],[30,26,30,27],[30,29,30,30],[31,26,31,27],[31,29,31,30],[31,31,31,32],[31,36,31,37],[31,39,31,40],[33,41,33,42],[33,16,33,17],[33,19,33,20],[33,21,33,22],[34,11,34,12],[32,21,32,22],[33,11,33,12],[32,31,32,32],[32,36,32,37],[32,39,32,40],[32,41,32,42],[32,16,32,17],[32,19,32,20],[32,26,32,27],[32,29,32,30],[33,26,33,27],[33,29,33,30],[33,31,33,32],[33,36,33,37],[33,39,33,40],[35,41,35,42],[35,16,35,17],[35,19,35,20],[35,21,35,22],[36,11,36,12],[34,21,34,22],[35,11,35,12],[34,31,34,32],[34,36,34,37],[34,39,34,40],[34,41,34,42],[34,16,34,17],[34,19,34,20],[35,39,35,40],[34,26,34,27],[34,29,34,30],[35,26,35,27],[35,29,35,30],[35,31,35,32],[35,36,35,37],[37,41,37,42],[37,16,37,17],[37,19,37,20],[37,21,37,22],[38,11,38,12],[36,21,36,22],[37,11,37,12],[36,31,36,32],[36,36,36,37],[36,39,36,40],[36,41,36,42],[36,16,36,17],[36,19,36,20],[37,39,37,40],[36,26,36,27],[36,29,36,30],[37,26,37,27],[37,29,37,30],[37,31,37,32],[37,36,37,37],[39,41,39,42],[39,16,39,17],[39,19,39,20],[39,21,39,22],[38,21,38,22],[39,11,39,12],[38,31,38,32],[38,36,38,37],[38,39,38,40],[38,41,38,42],[38,16,38,17],[38,19,38,20],[38,26,38,27],[38,29,38,30],[39,26,39,27],[39,29,39,30],[39,31,39,32],[39,36,39,37],[39,39,39,40],[41,15,43,15],[41,19,41,20],[41,21,41,22],[42,28,42,32],[42,38,42,42],[42,18,42,22],[41,25,43,25],[41,29,41,30],[41,31,41,32],[41,35,43,35],[41,39,41,40],[41,41,41,42],[43,31,43,32],[43,39,43,40],[43,41,43,42],[43,19,43,20],[43,21,43,22],[43,29,43,30]]}
[]
[null,null,"Lammaste söötmine",null,null,null,"STA"]
[]
[]
[null,123456789]
[]
[]
[]
[]
[]
[]
[null,null,"Söötade trabimine aastas",null,null,null,null,null,null,null,null,null,null,null,null,"Uted koos talledega",null,"Loomade arv, aastauted",null,null,null,null,null,null,null,"Noorlambad",null,"Loomade arv, toodetud loomi",null,null,null,null,null,null,null,"Jäärad",null,"Loomade arv, aastajäärad"]
[null,null,null,null,null,null,null,null,null,null,null,null,null,null,null,null,null,"Ute kehamassi muutus, kg/aasta"]
[null,null,null,null,null,null,null,null,null,null,null,null,null,null,null,null,null,"Võõrutatud tallede arv ute kohta"]
[null,null,null,null,null,null,null,null,null,null,null,null,null,null,null,null,null,"Talle kehamass perioodi alguses, kg",null,null,null,null,null,null,null,null,null,"Kehamass perioodi alguses, kg"]
[null,null,null,null,null,null,null,null,null,null,null,null,null,null,null,null,null,"Talle kehamass perioodi lõpus, kg",null,null,null,null,null,null,null,null,null,"Kehamass perioodi lõpus, kg"]
[null,null,null,null,null,null,null,null,null,null,null,null,null,null,null,null,null,"Karjatamine",null,"Päevi aastas",null,"Tundi päevas",null,null,null,null,null,"Karjatamine",null,"Päevi aastas",null,"Tundi päevas",null,null,null,null,null,"Karjatamine",null,"Päevi aastas",null,"Tundi päevas "]
[]
[null,null,"Söödad ","Kogus","KA","KA seeduvus ","TP","P","K",null,null,"Summa (max. 100%)",null,null,null,"Osakaal,% ","KA",null,"TP","P",null,"K",null,null,null,"Osakaal,% ","KA",null,"TP","P",null,"K",null,null,null,"Osakaal,% ","KA",null,"TP","P",null,"K"]
[null,null,null,"t/aasta",null,"%","t/aasta",null,null,null,null,null,null,null,null,null,"t/aasta",null,null,null,null,null,null,null,null,null,"t/aasta",null,null,null,null,null,null,null,null,null,"t/aasta"]
[null,null,null,null,{"$f":"IF(D21=0,\"\",VLOOKUP(C21,Feeds!$B$9:$AB$109,23,FALSE)*D21/1000)","v":""},{"$f":"IF(D21=0,\"\",VLOOKUP(C21,Feeds!$B$9:$AB$109,24,FALSE))","v":""},{"$f":"IF(D21=0,\"\",VLOOKUP(C21,Feeds!$B$9:$AB$109,25,FALSE)*D21/1000)","v":""},{"$f":"IF(D21=0,\"\",VLOOKUP(C21,Feeds!$B$9:$AB$109,26,FALSE)*D21/1000)","v":""},{"$f":"IF(D21=0,\"\",VLOOKUP(C21,Feeds!$B$9:$AB$109,27,FALSE)*D21/1000)","v":""},{"$f":"#REF!+#REF!+#REF!+Z21+AJ21+P21","v":{"$error":"#REF!"}},null,{"$f":"IF(Z21+AJ21+P21 <=100,Z21+AJ21+P21,\"ERROR, SUM>100%\")","v":52},null,null,{"$f":"IF(#REF!=\"\",0,#REF!*$F$21/100)","v":{"$error":"#REF!"}},null,{"$f":"IF(P21=\"\",\"\",IF($E$21=\"\",\"\",$E$21*P21/100))","v":""},null,{"$f":"IF(P21=\"\",\"\",IF($G$21=\"\",\"\",$G$21*P21/100))","v":""},{"$f":"IF(P21=\"\",\"\",IF($H$21=\"\",\"\",$H$21*P21/100))","v":""},null,{"$f":"IF(P21=\"\",\"\",IF($I$21=\"\",\"\",$I$21*P21/100))","v":""},null,{"$f":"IF(#REF!=\"\",0,#REF!*$F$21/100)","v":{"$error":"#REF!"}},null,35,{"$f":"IF(Z21=\"\",\"\",IF($E$21=\"\",\"\",$E$21*Z21/100))","v":""},null,{"$f":"IF(Z21=\"\",\"\",IF($G$21=\"\",\"\",$G$21*Z21/100))","v":""},{"$f":"IF(Z21=\"\",\"\",IF($H$21=\"\",\"\",$H$21*Z21/100))","v":""},null,{"$f":"IF(Z21=\"\",\"\",IF($I$21=\"\",\"\",$I$21*Z21/100))","v":""},null,{"$f":"IF(AA21=\"\",0,AA21*$F$21/100)","v":0},null,17,{"$f":"IF(AJ21=\"\",\"\",IF($E$21=\"\",\"\",$E$21*AJ21/100))","v":""},null,{"$f":"IF(AJ21=\"\",\"\",IF($G$21=\"\",\"\",$G$21*AJ21/100))","v":""},{"$f":"IF(AJ21=\"\",\"\",IF($H$21=\"\",\"\",$H$21*AJ21/100))","v":""},null,{"$f":"IF(AJ21=\"\",\"\",IF($I$21=\"\",\"\",$I$21*AJ21/100))","v":""},null,{"$f":"IF(AK21=\"\",0,AK21*$F$21/100)","v":0},null,null,null,null,null,null,null,null,null,{"$f":"IF(Q21=\"\",0,Q21*$F$21/100)","v":0}]
[null,null,null,null,{"$f":"IF(D22=0,\"\",VLOOKUP(C22,Feeds!$B$9:$AB$109,23,FALSE)*D22/1000)","v":""},{"$f":"IF(D22=0,\"\",VLOOKUP(C22,Feeds!$B$9:$AB$109,24,FALSE))","v":""},{"$f":"IF(D22=0,\"\",VLOOKUP(C22,Feeds!$B$9:$AB$109,25,FALSE)*D22/1000)","v":""},{"$f":"IF(D22=0,\"\",VLOOKUP(C22,Feeds!$B$9:$AB$109,26,FALSE)*D22/1000)","v":""},{"$f":"IF(D22=0,\"\",VLOOKUP(C22,Feeds!$B$9:$AB$109,27,FALSE)*D22/1000)","v":""},{"$f":"#REF!+#REF!+#REF!+Z22+AJ22+P22","v":{"$error":"#REF!"}},null,{"$f":"IF(Z22+AJ22+P22 <=100,Z22+AJ22+P22,\"ERROR, SUM>100%\")","v":0},null,null,{"$f":"IF(#REF!=\"\",0,#REF!*F22/100)","v":{"$error":"#REF!"}},null,{"$f":"IF(P22=\"\",\"\",IF($E$22=\"\",\"\",$E$22*P22/100))","v":""},null,{"$f":"IF(P22=\"\",\"\",IF($G$22=\"\",\"\",$G$22*P22/100))","v":""},{"$f":"IF(P22=\"\",\"\",IF($H$22=\"\",\"\",$H$22*P22/100))","v":""},null,{"$f":"IF(P22=\"\",\"\",IF($I$22=\"\",\"\",$I$22*P22/100))","v":""},null,{"$f":"IF(#REF!=\"\",0,#REF!*$F$22/100)","v":{"$error":"#REF!"}},null,null,{"$f":"IF(Z22=\"\",\"\",IF($E$22=\"\",\"\",$E$22*Z22/100))","v":""},null,{"$f":"IF(Z22=\"\",\"\",IF($G$22=\"\",\"\",$G$22*Z22/100))","v":""},{"$f":"IF(Z22=\"\",\"\",IF($H$22=\"\",\"\",$H$22*Z22/100))","v":""},null,{"$f":"IF(Z22=\"\",\"\",IF($I$22=\"\",\"\",$I$22*Z22/100))","v":""},null,{"$f":"IF(AA22=\"\",0,AA22*$F$22/100)","v":0},null,null,{"$f":"IF(AJ22=\"\",\"\",IF($E$22=\"\",\"\",$E$22*AJ22/100))","v":""},null,{"$f":"IF(AJ22=\"\",\"\",IF($G$22=\"\",\"\",$G$22*AJ22/100))","v":""},{"$f":"IF(AJ22=\"\",\"\",IF($H$22=\"\",\"\",$H$22*AJ22/100))","v":""},null,{"$f":"IF(AJ22=\"\",\"\",IF($I$22=\"\",\"\",$I$22*AJ22/100))","v":""},null,{"$f":"IF(AK22=\"\",0,AK22*$F$22/100)","v":0},null,null,null,null,null,null,null,null,null,{"$f":"IF(Q22=\"\",0,Q22*$F$22/100)","v":0}]
[null,null,null,null,{"$f":"IF(D23=0,\"\",VLOOKUP(C23,Feeds!$B$9:$AB$109,23,FALSE)*D23/1000)","v":""},{"$f":"IF(D23=0,\"\",VLOOKUP(C23,Feeds!$B$9:$AB$109,24,FALSE))","v":""},{"$f":"IF(D23=0,\"\",VLOOKUP(C23,Feeds!$B$9:$AB$109,25,FALSE)*D23/1000)","v":""},{"$f":"IF(D23=0,\"\",VLOOKUP(C23,Feeds!$B$9:$AB$109,26,FALSE)*D23/1000)","v":""},{"$f":"IF(D23=0,\"\",VLOOKUP(C23,Feeds!$B$9:$AB$109,27,FALSE)*D23/1000)","v":""},{"$f":"#REF!+#REF!+#REF!+Z23+AJ23+P23","v":{"$error":"#REF!"}},null,0,null,null,{"$f":"IF(#REF!=\"\",0,#REF!*F23/100)","v":{"$error":"#REF!"}},null,{"$f":"IF(P23=\"\",\"\",IF($E$23=\"\",\"\",$E$23*P23/100))","v":""},null,{"$f":"IF(P23=\"\",\"\",IF($G$23=\"\",\"\",$G$23*P23/100))","v":""},{"$f":"IF(P23=\"\",\"\",IF($H$23=\"\",\"\",$H$23*P23/100))","v":""},null,{"$f":"IF(P23=\"\",\"\",IF($I$23=\"\",\"\",$I$23*P23/100))","v":""},null,{"$f":"IF(#REF!=\"\",0,#REF!*$F$23/100)","v":{"$error":"#REF!"}},null,null,{"$f":"IF(Z23=\"\",\"\",IF($E$23=\"\",\"\",$E$23*Z23/100))","v":""},null,{"$f":"IF(Z23=\"\",\"\",IF($G$23=\"\",\"\",$G$23*Z23/100))","v":""},{"$f":"IF(Z23=\"\",\"\",IF($H$23=\"\",\"\",$H$23*Z23/100))","v":""},null,{"$f":"IF(Z23=\"\",\"\",IF($I$23=\"\",\"\",$I$23*Z23/100))","v":""},null,{"$f":"IF(AA23=\"\",0,AA23*$F$23/100)","v":0},null,null,{"$f":"IF(AJ23=\"\",\"\",IF($E$23=\"\",\"\",$E$23*AJ23/100))","v":""},null,{"$f":"IF(AJ23=\"\",\"\",IF($G$23=\"\",\"\",$G$23*AJ23/100))","v":""},{"$f":"IF(AJ23=\"\",\"\",IF($H$23=\"\",\"\",$H$23*AJ23/100))","v":""},null,{"$f":"IF(AJ23=\"\",\"\",IF($I$23=\"\",\"\",$I$23*AJ23/100))","v":""},null,{"$f":"IF(AK23=\"\",0,AK23*$F$23/100)","v":0},null,null,null,null,null,null,null,null,null,{"$f":"IF(Q23=\"\",0,Q23*$F$23/100)","v":0}]
[null,null,null,null,{"$f":"IF(D24=0,\"\",VLOOKUP(C24,Feeds!$B$9:$AB$109,23,FALSE)*D24/1000)","v":""},{"$f":"IF(D24=0,\"\",VLOOKUP(C24,Feeds!$B$9:$AB$109,24,FALSE))","v":""},{"$f":"IF(D24=0,\"\",VLOOKUP(C24,Feeds!$B$9:$AB$109,25,FALSE)*D24/1000)","v":""},{"$f":"IF(D24=0,\"\",VLOOKUP(C24,Feeds!$B$9:$AB$109,26,FALSE)*D24/1000)","v":""},{"$f":"IF(D24=0,\"\",VLOOKUP(C24,Feeds!$B$9:$AB$109,27,FALSE)*D24/1000)","v":""},{"$f":"#REF!+#REF!+#REF!+Z24+AJ24+P24","v":{"$error":"#REF!"}},null,0,null,null,{"$f":"IF(#REF!=\"\",0,#REF!*F24/100)","v":{"$error":"#REF!"}},null,{"$f":"IF(P24=\"\",\"\",IF($E$24=\"\",\"\",$E$24*P24/100))","v":""},null,{"$f":"IF(P24=\"\",\"\",IF($G$24=\"\",\"\",$G$24*P24/100))","v":""},{"$f":"IF(P24=\"\",\"\",IF($H$24=\"\",\"\",$H$24*P24/100))","v":""},null,{"$f":"IF(P24=\"\",\"\",IF($I$24=\"\",\"\",$I$24*P24/100))","v":""},null,{"$f":"IF(#REF!=\"\",0,#REF!*$F$24/100)","v":{"$error":"#REF!"}},null,null,{"$f":"IF(Z24=\"\",\"\",IF($E$24=\"\",\"\",$E$24*Z24/100))","v":""},null,{"$f":"IF(Z24=\"\",\"\",IF($G$24=\"\",\"\",$G$24*Z24/100))","v":""},{"$f":"IF(Z24=\"\",\"\",IF($H$24=\"\",\"\",$H$24*Z24/100))","v":""},null,{"$f":"IF(Z24=\"\",\"\",IF($I$24=\"\",\"\",$I$24*Z24/100))","v":""},null,{"$f":"IF(AA24=\"\",0,AA24*$F$24/100)","v":0},null,null,{"$f":"IF(AJ24=\"\",\"\",IF($E$24=\"\",\"\",$E$24*AJ24/100))","v":""},null,{"$f":"IF(AJ24=\"\",\"\",IF($G$24=\"\",\"\",$G$24*AJ24/100))","v":""},{"$f":"IF(AJ24=\"\",\"\",IF($H$24=\"\",\"\",$H$24*AJ24/100))","v":""},null,{"$f":"IF(AJ24=\"\",\"\",IF($I$24=\"\",\"\",$I$24*AJ24/100))","v":""},null,{"$f":"IF(AK24=\"\",0,AK24*$F$24/100)","v":0},null,null,null,null,null,null,null,null,null,{"$f":"IF(Q24=\"\",0,Q24*$F$24/100)","v":0}]
[null,null,null,null,{"$f":"IF(D25=0,\"\",VLOOKUP(C25,Feeds!$B$9:$AB$109,23,FALSE)*D25/1000)","v":""},{"$f":"IF(D25=0,\"\",VLOOKUP(C25,Feeds!$B$9:$AB$109,24,FALSE))","v":""},{"$f":"IF(D25=0,\"\",VLOOKUP(C25,Feeds!$B$9:$AB$109,25,FALSE)*D25/1000)","v":""},{"$f":"IF(D25=0,\"\",VLOOKUP(C25,Feeds!$B$9:$AB$109,26,FALSE)*D25/1000)","v":""},{"$f":"IF(D25=0,\"\",VLOOKUP(C25,Feeds!$B$9:$AB$109,27,FALSE)*D25/1000)","v":""},{"$f":"#REF!+#REF!+#REF!+Z25+AJ25+P25","v":{"$error":"#REF!"}},null,0,null,null,{"$f":"IF(#REF!=\"\",0,#REF!*F25/100)","v":{"$error":"#REF!"}},null,{"$f":"IF(P25=\"\",\"\",IF($E$25=\"\",\"\",$E$25*P25/100))","v":""},null,{"$f":"IF(P25=\"\",\"\",IF($G$25=\"\",\"\",$G$25*P25/100))","v":""},{"$f":"IF(P25=\"\",\"\",IF($H$25=\"\",\"\",$H$25*P25/100))","v":""},null,{"$f":"IF(P25=\"\",\"\",IF($I$25=\"\",\"\",$I$25*P25/100))","v":""},null,{"$f":"IF(#REF!=\"\",0,#REF!*$F$25/100)","v":{"$error":"#REF!"}},null,null,{"$f":"IF(Z25=\"\",\"\",IF($E$25=\"\",\"\",$E$25*Z25/100))","v":""},null,{"$f":"IF(Z25=\"\",\"\",IF($G$25=\"\",\"\",$G$25*Z25/100))","v":""},{"$f":"IF(Z25=\"\",\"\",IF($H$25=\"\",\"\",$H$25*Z25/100))","v":""},null,{"$f":"IF(Z25=\"\",\"\",IF($I$25=\"\",\"\",$I$25*Z25/100))","v":""},null,{"$f":"IF(AA25=\"\",0,AA25*$F$25/100)","v":0},null,null,{"$f":"IF(AJ25=\"\",\"\",IF($E$25=\"\",\"\",$E$25*AJ25/100))","v":""},null,{"$f":"IF(AJ25=\"\",\"\",IF($G$25=\"\",\"\",$G$25*AJ25/100))","v":""},{"$f":"IF(AJ25=\"\",\"\",IF($H$25=\"\",\"\",$H$25*AJ25/100))","v":""},null,{"$f":"IF(AJ25=\"\",\"\",IF($I$25=\"\",\"\",$I$25*AJ25/100))","v":""},null,{"$f":"IF(AK25=\"\",0,AK25*$F$25/100)","v":0},null,null,null,null,null,null,null,null,null,{"$f":"IF(Q25=\"\",0,Q25*$F$25/100)","v":0}]
[null,null,null,null,{"$f":"IF(D26=0,\"\",VLOOKUP(C26,Feeds!$B$9:$AB$109,23,FALSE)*D26/1000)","v":""},{"$f":"IF(D26=0,\"\",VLOOKUP(C26,Feeds!$B$9:$AB$109,24,FALSE))","v":""},{"$f":"IF(D26=0,\"\",VLOOKUP(C26,Feeds!$B$9:$AB$109,25,FALSE)*D26/1000)","v":""},{"$f":"IF(D26=0,\"\",VLOOKUP(C26,Feeds!$B$9:$AB$109,26,FALSE)*D26/1000)","v":""},{"$f":"IF(D26=0,\"\",VLOOKUP(C26,Feeds!$B$9:$AB$109,27,FALSE)*D26/1000)","v":""},{"$f":"#REF!+#REF!+#REF!+Z26+AJ26+P26","v":{"$error":"#REF!"}},null,0,null,null,{"$f":"IF(#REF!=\"\",0,#REF!*F26/100)","v":{"$error":"#REF!"}},null,{"$f":"IF(P26=\"\",\"\",IF($E$26=\"\",\"\",$E$26*P26/100))","v":""},null,{"$f":"IF(P26=\"\",\"\",IF($G$26=\"\",\"\",$G$26*P26/100))","v":""},{"$f":"IF(P26=\"\",\"\",IF($H$26=\"\",\"\",$H$26*P26/100))","v":""},null,{"$f":"IF(P26=\"\",\"\",IF($I$26=\"\",\"\",$I$26*P26/100))","v":""},null,{"$f":"IF(#REF!=\"\",0,#REF!*$F$26/100)","v":{"$error":"#REF!"}},null,null,{"$f":"IF(Z26=\"\",\"\",IF($E$26=\"\",\"\",$E$26*Z26/100))","v":""},null,{"$f":"IF(Z26=\"\",\"\",IF($G$26=\"\",\"\",$G$26*Z26/100))","v":""},{"$f":"IF(Z26=\"\",\"\",IF($H$26=\"\",\"\",$H$26*Z26/100))","v":""},null,{"$f":"IF(Z26=\"\",\"\",IF($I$26=\"\",\"\",$I$26*Z26/100))","v":""},null,{"$f":"IF(AA26=\"\",0,AA26*$F$26/100)","v":0},null,null,{"$f":"IF(AJ26=\"\",\"\",IF($E$26=\"\",\"\",$E$26*AJ26/100))","v":""},null,{"$f":"IF(AJ26=\"\",\"\",IF($G$26=\"\",\"\",$G$26*AJ26/100))","v":""},{"$f":"IF(AJ26=\"\",\"\",IF($H$26=\"\",\"\",$H$26*AJ26/100))","v":""},null,{"$f":"IF(AJ26=\"\",\"\",IF($I$26=\"\",\"\",$I$26*AJ26/100))","v":""},null,{"$f":"IF(AK26=\"\",0,AK26*$F$26/100)","v":0},null,null,null,null,null,null,null,null,null,{"$f":"IF(Q26=\"\",0,Q26*$F$26/100)","v":0}]
[null,null,null,null,{"$f":"IF(D27=0,\"\",VLOOKUP(C27,Feeds!$B$9:$AB$109,23,FALSE)*D27/1000)","v":""},{"$f":"IF(D27=0,\"\",VLOOKUP(C27,Feeds!$B$9:$AB$109,24,FALSE))","v":""},{"$f":"IF(D27=0,\"\",VLOOKUP(C27,Feeds!$B$9:$AB$109,25,FALSE)*D27/1000)","v":""},{"$f":"IF(D27=0,\"\",VLOOKUP(C27,Feeds!$B$9:$AB$109,26,FALSE)*D27/1000)","v":""},{"$f":"IF(D27=0,\"\",VLOOKUP(C27,Feeds!$B$9:$AB$109,27,FALSE)*D27/1000)","v":""},{"$f":"#REF!+#REF!+#REF!+Z27+AJ27+P27","v":{"$error":"#REF!"}},null,0,null,null,{"$f":"IF(#REF!=\"\",0,#REF!*F27/100)","v":{"$error":"#REF!"}},null,{"$f":"IF(P27=\"\",\"\",IF(E27=\"\",\"\",E27*P27/100))","v":""},null,{"$f":"IF(P27=\"\",\"\",IF(G27=\"\",\"\",G27*P27/100))","v":""},{"$f":"IF(P27=\"\",\"\",IF(H27=\"\",\"\",H27*P27/100))","v":""},null,{"$f":"IF(P27=\"\",\"\",IF(I27=\"\",\"\",I27*P27/100))","v":""},null,{"$f":"IF(#REF!=\"\",0,#REF!*$F$27/100)","v":{"$error":"#REF!"}},null,null,{"$f":"IF(Z27=\"\",\"\",IF(E27=\"\",\"\",E27*Z27/100))","v":""},null,{"$f":"IF(Z27=\"\",\"\",IF(G27=\"\",\"\",G27*Z27/100))","v":""},{"$f":"IF(Z27=\"\",\"\",IF(H27=\"\",\"\",H27*Z27/100))","v":""},null,{"$f":"IF(Z27=\"\",\"\",IF(I27=\"\",\"\",I27*Z27/100))","v":""},null,{"$f":"IF(AA27=\"\",0,AA27*$F$27/100)","v":0},null,null,{"$f":"IF(AJ27=\"\",\"\",IF(E27=\"\",\"\",E27*AJ27/100))","v":""},null,{"$f":"IF(AJ27=\"\",\"\",IF(G27=\"\",\"\",G27*AJ27/100))","v":""},{"$f":"IF(AJ27=\"\",\"\",IF(H27=\"\",\"\",H27*AJ27/100))","v":""},null,{"$f":"IF(AJ27=\"\",\"\",IF(I27=\"\",\"\",I27*AJ27/100))","v":""},null,{"$f":"IF(AK27=\"\",0,AK27*$F$27/100)","v":0},null,null,null,null,null,null,null,null,null,{"$f":"IF(Q27=\"\",0,Q27*$F$27/100)","v":0}]
[null,null,null,null,{"$f":"IF(D28=0,\"\",VLOOKUP(C28,Feeds!$B$9:$AB$109,23,FALSE)*D28/1000)","v":""},{"$f":"IF(D28=0,\"\",VLOOKUP(C28,Feeds!$B$9:$AB$109,24,FALSE))","v":""},{"$f":"IF(D28=0,\"\",VLOOKUP(C28,Feeds!$B$9:$AB$109,25,FALSE)*D28/1000)","v":""},{"$f":"IF(D28=0,\"\",VLOOKUP(C28,Feeds!$B$9:$AB$109,26,FALSE)*D28/1000)","v":""},{"$f":"IF(D28=0,\"\",VLOOKUP(C28,Feeds!$B$9:$AB$109,27,FALSE)*D28/1000)","v":""},{"$f":"#REF!+#REF!+#REF!+Z28+AJ28+P28","v":{"$error":"#REF!"}},null,0,null,null,{"$f":"IF(#REF!=\"\",0,#REF!*F28/100)","v":{"$error":"#REF!"}},null,"",null,"","",null,"",null,{"$f":"IF(#REF!=\"\",0,#REF!*F28/100)","v":{"$error":"#REF!"}},null,null,"",null,"","",null,"",null,{"$f":"IF(AA28=\"\",0,AA28*F28/100)","v":0},null,null,"",null,"","",null,"",null,{"$f":"IF(AK28=\"\",0,AK28*F28/100)","v":0},null,null,null,null,null,null,null,null,null,{"$f":"IF(Q28=\"\",0,Q28*F28/100)","v":0}]
[null,null,null,null,{"$f":"IF(D29=0,\"\",VLOOKUP(C29,Feeds!$B$9:$AB$109,23,FALSE)*D29/1000)","v":""},{"$f":"IF(D29=0,\"\",VLOOKUP(C29,Feeds!$B$9:$AB$109,24,FALSE))","v":""},{"$f":"IF(D29=0,\"\",VLOOKUP(C29,Feeds!$B$9:$AB$109,25,FALSE)*D29/1000)","v":""},{"$f":"IF(D29=0,\"\",VLOOKUP(C29,Feeds!$B$9:$AB$109,26,FALSE)*D29/1000)","v":""},{"$f":"IF(D29=0,\"\",VLOOKUP(C29,Feeds!$B$9:$AB$109,27,FALSE)*D29/1000)","v":""},null,null,0,null,null,{"$f":"IF(#REF!=\"\",0,#REF!*F29/100)","v":{"$error":"#REF!"}},null,"",null,"","",null,"",null,{"$f":"IF(#REF!=\"\",0,#REF!*F29/100)","v":{"$error":"#REF!"}},null,null,"",null,"","",null,"",null,0,null,null,"",null,"","",null,"",null,0,null,null,null,null,null,null,null,null,null,0]
[null,null,null,null,{"$f":"IF(D30=0,\"\",VLOOKUP(C30,Feeds!$B$9:$AB$109,23,FALSE)*D30/1000)","v":""},{"$f":"IF(D30=0,\"\",VLOOKUP(C30,Feeds!$B$9:$AB$109,24,FALSE))","v":""},{"$f":"IF(D30=0,\"\",VLOOKUP(C30,Feeds!$B$9:$AB$109,25,FALSE)*D30/1000)","v":""},{"$f":"IF(D30=0,\"\",VLOOKUP(C30,Feeds!$B$9:$AB$109,26,FALSE)*D30/1000)","v":""},{"$f":"IF(D30=0,\"\",VLOOKUP(C30,Feeds!$B$9:$AB$109,27,FALSE)*D30/1000)","v":""},null,null,0,null,null,{"$f":"IF(#REF!=\"\",0,#REF!*F30/100)","v":{"$error":"#REF!"}},null,"",null,"","",null,"",null,{"$f":"IF(#REF!=\"\",0,#REF!*F30/100)","v":{"$error":"#REF!"}},null,null,"",null,"","",null,"",null,0,null,null,"",null,"","",null,"",null,0,null,null,null,null,null,null,null,null,null,0]
[null,null,null,null,{"$f":"IF(D31=0,\"\",VLOOKUP(C31,Feeds!$B$9:$AB$109,23,FALSE)*D31/1000)","v":""},{"$f":"IF(D31=0,\"\",VLOOKUP(C31,Feeds!$B$9:$AB$109,24,FALSE))","v":""},{"$f":"IF(D31=0,\"\",VLOOKUP(C31,Feeds!$B$9:$AB$109,25,FALSE)*D31/1000)","v":""},{"$f":"IF(D31=0,\"\",VLOOKUP(C31,Feeds!$B$9:$AB$109,26,FALSE)*D31/1000)","v":""},{"$f":"IF(D31=0,\"\",VLOOKUP(C31,Feeds!$B$9:$AB$109,27,FALSE)*D31/1000)","v":""},null,null,0,null,null,{"$f":"IF(#REF!=\"\",0,#REF!*F31/100)","v":{"$error":"#REF!"}},null,"",null,"","",null,"",null,{"$f":"IF(#REF!=\"\",0,#REF!*F31/100)","v":{"$error":"#REF!"}},null,null,"",null,"","",null,"",null,0,null,null,"",null,"","",null,"",null,0,null,null,null,null,null,null,null,null,null,0]
[null,null,null,null,{"$f":"IF(D32=0,\"\",VLOOKUP(C32,Feeds!$B$9:$AB$109,23,FALSE)*D32/1000)","v":""},{"$f":"IF(D32=0,\"\",VLOOKUP(C32,Feeds!$B$9:$AB$109,24,FALSE))","v":""},{"$f":"IF(D32=0,\"\",VLOOKUP(C32,Feeds!$B$9:$AB$109,25,FALSE)*D32/1000)","v":""},{"$f":"IF(D32=0,\"\",VLOOKUP(C32,Feeds!$B$9:$AB$109,26,FALSE)*D32/1000)","v":""},{"$f":"IF(D32=0,\"\",VLOOKUP(C32,Feeds!$B$9:$AB$109,27,FALSE)*D32/1000)","v":""},null,null,0,null,null,{"$f":"IF(#REF!=\"\",0,#REF!*F32/100)","v":{"$error":"#REF!"}},null,"",null,"","",null,"",null,{"$f":"IF(#REF!=\"\",0,#REF!*F32/100)","v":{"$error":"#REF!"}},null,null,"",null,"","",null,"",null,0,null,null,"",null,"","",null,"",null,0,null,null,null,null,null,null,null,null,null,0]
[null,null,null,null,{"$f":"IF(D33=0,\"\",VLOOKUP(C33,Feeds!$B$9:$AB$109,23,FALSE)*D33/1000)","v":""},{"$f":"IF(D33=0,\"\",VLOOKUP(C33,Feeds!$B$9:$AB$109,24,FALSE))","v":""},{"$f":"IF(D33=0,\"\",VLOOKUP(C33,Feeds!$B$9:$AB$109,25,FALSE)*D33/1000)","v":""},{"$f":"IF(D33=0,\"\",VLOOKUP(C33,Feeds!$B$9:$AB$109,26,FALSE)*D33/1000)","v":""},{"$f":"IF(D33=0,\"\",VLOOKUP(C33,Feeds!$B$9:$AB$109,27,FALSE)*D33/1000)","v":""},null,null,0,null,null,{"$f":"IF(#REF!=\"\",0,#REF!*F33/100)","v":{"$error":"#REF!"}},null,"",null,"","",null,"",null,{"$f":"IF(#REF!=\"\",0,#REF!*F33/100)","v":{"$error":"#REF!"}},null,null,"",null,"","",null,"",null,0,null,null,"",null,"","",null,"",null,0,null,null,null,null,null,null,null,null,null,0]
[null,null,null,null,{"$f":"IF(D34=0,\"\",VLOOKUP(C34,Feeds!$B$9:$AB$109,23,FALSE)*D34/1000)","v":""},{"$f":"IF(D34=0,\"\",VLOOKUP(C34,Feeds!$B$9:$AB$109,24,FALSE))","v":""},{"$f":"IF(D34=0,\"\",VLOOKUP(C34,Feeds!$B$9:$AB$109,25,FALSE)*D34/1000)","v":""},{"$f":"IF(D34=0,\"\",VLOOKUP(C34,Feeds!$B$9:$AB$109,26,FALSE)*D34/1000)","v":""},{"$f":"IF(D34=0,\"\",VLOOKUP(C34,Feeds!$B$9:$AB$109,27,FALSE)*D34/1000)","v":""},null,null,0,null,null,{"$f":"IF(#REF!=\"\",0,#REF!*F34/100)","v":{"$error":"#REF!"}},null,"",null,"","",null,"",null,{"$f":"IF(#REF!=\"\",0,#REF!*F34/100)","v":{"$error":"#REF!"}},null,null,"",null,"","",null,"",null,0,null,null,"",null,"","",null,"",null,0,null,null,null,null,null,null,null,null,null,0]
[null,null,null,null,{"$f":"IF(D35=0,\"\",VLOOKUP(C35,Feeds!$B$9:$AB$109,23,FALSE)*D35/1000)","v":""},{"$f":"IF(D35=0,\"\",VLOOKUP(C35,Feeds!$B$9:$AB$109,24,FALSE))","v":""},{"$f":"IF(D35=0,\"\",VLOOKUP(C35,Feeds!$B$9:$AB$109,25,FALSE)*D35/1000)","v":""},{"$f":"IF(D35=0,\"\",VLOOKUP(C35,Feeds!$B$9:$AB$109,26,FALSE)*D35/1000)","v":""},{"$f":"IF(D35=0,\"\",VLOOKUP(C35,Feeds!$B$9:$AB$109,27,FALSE)*D35/1000)","v":""},null,null,0,null,null,{"$f":"IF(#REF!=\"\",0,#REF!*F35/100)","v":{"$error":"#REF!"}},null,"",null,"","",null,"",null,{"$f":"IF(#REF!=\"\",0,#REF!*F35/100)","v":{"$error":"#REF!"}},null,null,"",null,"","",null,"",null,0,null,null,"",null,"","",null,"",null,0,null,null,null,null,null,null,null,null,null,0]
[null,null,null,null,{"$f":"IF(D36=0,\"\",VLOOKUP(C36,Feeds!$B$9:$AB$109,23,FALSE)*D36/1000)","v":""},{"$f":"IF(D36=0,\"\",VLOOKUP(C36,Feeds!$B$9:$AB$109,24,FALSE))","v":""},{"$f":"IF(D36=0,\"\",VLOOKUP(C36,Feeds!$B$9:$AB$109,25,FALSE)*D36/1000)","v":""},{"$f":"IF(D36=0,\"\",VLOOKUP(C36,Feeds!$B$9:$AB$109,26,FALSE)*D36/1000)","v":""},{"$f":"IF(D36=0,\"\",VLOOKUP(C36,Feeds!$B$9:$AB$109,27,FALSE)*D36/1000)","v":""},null,null,0,null,null,{"$f":"IF(#REF!=\"\",0,#REF!*F36/100)","v":{"$error":"#REF!"}},null,"",null,"","",null,"",null,{"$f":"IF(#REF!=\"\",0,#REF!*F36/100)","v":{"$error":"#REF!"}},null,null,"",null,"","",null,"",null,0,null,null,"",null,"","",null,"",null,0,null,null,null,null,null,null,null,null,null,0]
[null,null,null,null,{"$f":"IF(D37=0,\"\",VLOOKUP(C37,Feeds!$B$9:$AB$109,23,FALSE)*D37/1000)","v":""},{"$f":"IF(D37=0,\"\",VLOOKUP(C37,Feeds!$B$9:$AB$109,24,FALSE))","v":""},{"$f":"IF(D37=0,\"\",VLOOKUP(C37,Feeds!$B$9:$AB$109,25,FALSE)*D37/1000)","v":""},{"$f":"IF(D37=0,\"\",VLOOKUP(C37,Feeds!$B$9:$AB$109,26,FALSE)*D37/1000)","v":""},{"$f":"IF(D37=0,\"\",VLOOKUP(C37,Feeds!$B$9:$AB$109,27,FALSE)*D37/1000)","v":""},null,null,0,null,null,{"$f":"IF(#REF!=\"\",0,#REF!*F37/100)","v":{"$error":"#REF!"}},null,"",null,"","",null,"",null,{"$f":"IF(#REF!=\"\",0,#REF!*F37/100)","v":{"$error":"#REF!"}},null,null,"",null,"","",null,"",null,0,null,null,"",null,"","",null,"",null,0,null,null,null,null,null,null,null,null,null,0]
[null,null,null,null,{"$f":"IF(D38=0,\"\",VLOOKUP(C38,Feeds!$B$9:$AB$109,23,FALSE)*D38/1000)","v":""},{"$f":"IF(D38=0,\"\",VLOOKUP(C38,Feeds!$B$9:$AB$109,24,FALSE))","v":""},{"$f":"IF(D38=0,\"\",VLOOKUP(C38,Feeds!$B$9:$AB$109,25,FALSE)*D38/1000)","v":""},{"$f":"IF(D38=0,\"\",VLOOKUP(C38,Feeds!$B$9:$AB$109,26,FALSE)*D38/1000)","v":""},{"$f":"IF(D38=0,\"\",VLOOKUP(C38,Feeds!$B$9:$AB$109,27,FALSE)*D38/1000)","v":""},null,null,0,null,null,{"$f":"IF(#REF!=\"\",0,#REF!*F38/100)","v":{"$error":"#REF!"}},null,"",null,"","",null,"",null,{"$f":"IF(#REF!=\"\",0,#REF!*F38/100)","v":{"$error":"#REF!"}},null,null,"",null,"","",null,"",null,0,null,null,"",null,"","",null,"",null,0,null,null,null,null,null,null,null,null,null,0]
[null,null,null,null,{"$f":"IF(D39=0,\"\",VLOOKUP(C39,Feeds!$B$9:$AB$109,23,FALSE)*D39/1000)","v":""},{"$f":"IF(D39=0,\"\",VLOOKUP(C39,Feeds!$B$9:$AB$109,24,FALSE))","v":""},{"$f":"IF(D39=0,\"\",VLOOKUP(C39,Feeds!$B$9:$AB$109,25,FALSE)*D39/1000)","v":""},{"$f":"IF(D39=0,\"\",VLOOKUP(C39,Feeds!$B$9:$AB$109,26,FALSE)*D39/1000)","v":""},{"$f":"IF(D39=0,\"\",VLOOKUP(C39,Feeds!$B$9:$AB$109,27,FALSE)*D39/1000)","v":""},{"$f":"#REF!+#REF!+#REF!+Z39+AJ39+P39","v":{"$error":"#REF!"}},null,0,null,null,{"$f":"IF(#REF!=\"\",0,#REF!*F39/100)","v":{"$error":"#REF!"}},null,"",null,"","",null,"",null,{"$f":"IF(#REF!=\"\",0,#REF!*$F$39/100)","v":{"$error":"#REF!"}},null,null,"",null,"","",null,"",null,{"$f":"IF(AA39=\"\",0,AA39*$F$39/100)","v":0},null,null,"",null,"","",null,"",null,{"$f":"IF(AK39=\"\",0,AK39*$F$39/100)","v":0},null,null,null,null,null,null,null,null,null,{"$f":"IF(Q39=\"\",0,Q39*$F$39/100)","v":0}]
[null,null,null,null,{"$f":"IF(D40=0,\"\",VLOOKUP(C40,Feeds!$B$9:$AB$109,23,FALSE)*D40/1000)","v":""},{"$f":"IF(D40=0,\"\",VLOOKUP(C40,Feeds!$B$9:$AB$109,24,FALSE))","v":""},{"$f":"IF(D40=0,\"\",VLOOKUP(C40,Feeds!$B$9:$AB$109,25,FALSE)*D40/1000)","v":""},{"$f":"IF(D40=0,\"\",VLOOKUP(C40,Feeds!$B$9:$AB$109,26,FALSE)*D40/1000)","v":""},{"$f":"IF(D40=0,\"\",VLOOKUP(C40,Feeds!$B$9:$AB$109,27,FALSE)*D40/1000)","v":""},{"$f":"#REF!+#REF!+#REF!+Z40+AJ40+P40","v":{"$error":"#REF!"}},null,0,null,null,{"$f":"IF(#REF!=\"\",0,#REF!*F40/100)","v":{"$error":"#REF!"}},null,"",null,"","",null,"",null,{"$f":"IF(#REF!=\"\",0,#REF!*$F$40/100)","v":{"$error":"#REF!"}},null,null,"",null,"","",null,"",null,{"$f":"IF(AA40=\"\",0,AA40*$F$40/100)","v":0},null,null,"",null,"","",null,"",null,{"$f":"IF(AK40=\"\",0,AK40*$F$40/100)","v":0},null,null,null,null,null,null,null,null,null,{"$f":"IF(Q40=\"\",0,Q40*$F$40/100)","v":0}]
[]
[null,null,null,null,null,null,null,null,null,null,null,null,null,null,null,"Ute kohta aastas","KA","KA seeduvus","TP","P",null,"K",null,null,null,"Noorlamba kohta aastas","KA","KA seeduvus","TP","P",null,"K",null,null,null,"Jäära kohta aastas","KA","KA seeduvus","TP","P",null,"K"]
[null,null,null,null,null,null,null,null,null,null,null,null,null,null,null,null,"kg","%","g/kg KA",null,null,null,null,null,null,null,"kg","%","g/kg KA",null,null,null,null,null,null,null,"kg","%","g/kg KA"]
[null,null,null,null,null,null,null,null,null,null,null,null,null,null,{"$f":"IF(#REF!=0,0,SUM(O21:O43)*1000/#REF!)","v":{"$error":"#REF!"}},null,{"$f":"IF(T12=0,0,SUM(Q21:Q40)*1000/T12)","v":0},{"$f":"IF(T12=0,0,BB44/Q44*100)","v":0},{"$f":"IF(T12=0,0,SUM(S21:S40)/T12*1000*1000/Q44)","v":0},{"$f":"IF(T12=0,0,SUM(T21:T40)/T12*1000*1000/Q44)","v":0},null,{"$f":"IF(T12=0,0,SUM(V21:V40)/T12*1000*1000/Q44)","v":0},null,{"$f":"IF(#REF!=0,0,SUM(X21:X43)*1000/#REF!)","v":{"$error":"#REF!"}},null,null,{"$f":"IF(AD12=0,0,SUM(AA21:AA40)*1000/AD12)","v":0},{"$f":"IF(AD12=0,0,AH44/AA44*100)","v":0},{"$f":"IF(AD12=0,0,SUM(AC21:AC40)/AD12*1000*1000/AA44)","v":0},{"$f":"IF(AD12=0,0,SUM(AD21:AD40)/AD12*1000*1000/AA44)","v":0},null,{"$f":"IF(AD12=0,0,SUM(AF21:AF40)/AD12*1000*1000/AA44)","v":0},null,{"$f":"IF(AD12=0,0,SUM(AH21:AH43)*1000/AD12)","v":0},null,null,{"$f":"IF(AN12=0,0,SUM(AK21:AK40)*1000/AN12)","v":0},{"$f":"IF(AN12=0,0,AR44/AK44*100)","v":0},{"$f":"IF(AN12=0,0,SUM(AM21:AM40)/AN12*1000*1000/AK44)","v":0},{"$f":"IF(AN12=0,0,SUM(AN21:AN40)/AN12*1000*1000/AK44)","v":0},null,{"$f":"IF(AN12=0,0,SUM(AP21:AP40)/AN12*1000*1000/AK44)","v":0},null,{"$f":"IF(AN12=0,0,SUM(AR21:AR43)*1000/AN12)","v":0},null,null,null,null,null,null,null,null,null,{"$f":"IF(T12=0,0,SUM(BB21:BB43)*1000/T12)","v":0}]
[]
[null,null,null,null,null,null,null,null,null,null,null,null,null,null,null,null,null,null,null,null,null,null,null,{"$f":"IF(#REF!=\"\",0,#REF!*F46/100)","v":{"$error":"#REF!"}}]

{"sheet":"Feedin goats (AFC)","index":8,"n_rows":46,"n_cols":54,"rows_kept":46,"cut":false,"hidden":false,"merged":[[11,39,11,42],[12,27,13,32],[1,2,1,5],[1,6,1,12],[11,2,16,8],[11,15,16,16],[11,17,11,18],[11,19,11,22],[13,17,13,18],[12,19,12,22],[14,27,14,28],[14,29,14,32],[13,19,13,22],[15,27,15,28],[15,29,15,32],[11,25,16,26],[11,27,11,28],[11,29,11,32],[16,17,16,18],[16,27,16,28],[16,37,16,38],[18,2,19,2],[18,11,19,12],[18,15,19,15],[18,16,18,17],[18,19,18,20],[18,21,18,22],[18,25,19,25],[11,35,16,36],[11,37,11,38],[14,19,14,22],[15,19,15,22],[18,41,18,42],[19,3,19,4],[19,6,19,8],[19,16,19,22],[19,26,19,32],[19,36,19,42],[18,26,18,27],[18,29,18,30],[18,31,18,32],[18,35,19,35],[18,36,18,37],[18,39,18,40],[20,31,20,32],[20,36,20,37],[20,39,20,40],[20,41,20,42],[21,11,21,12],[21,16,21,17],[21,19,21,20],[21,21,21,22],[21,26,21,27],[21,29,21,30],[20,11,20,12],[20,16,20,17],[20,19,20,20],[20,21,20,22],[20,26,20,27],[20,29,20,30],[21,31,21,32],[21,36,21,37],[21,39,21,40],[21,41,21,42],[22,41,22,42],[23,11,23,12],[23,16,23,17],[23,19,23,20],[23,21,23,22],[23,26,23,27],[23,29,23,30],[23,31,23,32],[23,36,23,37],[23,39,23,40],[23,41,23,42],[22,11,22,12],[22,16,22,17],[22,19,22,20],[22,21,22,22],[22,26,22,27],[22,29,22,30],[22,31,22,32],[22,36,22,37],[22,39,22,40],[24,41,24,42],[25,11,25,12],[25,16,25,17],[25,19,25,20],[25,21,25,22],[25,26,25,27],[25,29,25,30],[25,31,25,32],[25,36,25,37],[25,39,25,40],[25,41,25,42],[24,11,24,12],[24,16,24,17],[24,19,24,20],[24,21,24,22],[24,26,24,27],[24,29,24,30],[24,31,24,32],[24,36,24,37],[24,39,24,40],[26,41,26,42],[27,11,27,12],[27,16,27,17],[27,19,27,20],[27,21,27,22],[27,26,27,27],[27,29,27,30],[27,31,27,32],[27,36,27,37],[27,39,27,40],[27,41,27,42],[26,11,26,12],[26,16,26,17],[26,19,26,20],[26,21,26,22],[26,26,26,27],[26,29,26,30],[26,31,26,32],[26,36,26,37],[26,39,26,40],[28,41,28,42],[29,11,29,12],[29,16,29,17],[29,19,29,20],[29,21,29,22],[29,26,29,27],[29,29,29,30],[29,31,29,32],[29,36,29,37],[29,39,29,40],[29,41,29,42],[28,11,28,12],[28,16,28,17],[28,19,28,20],[28,21,28,22],[28,26,28,27],[28,29,28,30],[28,31,28,32],[28,36,28,37],[28,39,28,40],[30,41,30,42],[31,11,31,12],[31,16,31,17],[31,19,31,20],[31,21,31,22],[31,26,31,27],[31,29,31,30],[31,31,31,32],[31,36,31,37],[31,39,31,40],[31,41,31,42],[30,11,30,12],[30,16,30,17],[30,19,30,20],[30,21,30,22],[30,26,30,27],[30,29,30,30],[30,31,30,32],[30,36,30,37],[30,39,30,40],[33,41,33,42],[32,11,32,12],[32,16,32,17],[32,19,32,20],[32,21,32,22],[32,26,32,27],[32,29,32,30],[32,31,32,32],[32,36,32,37],[32,39,32,40],[33,11,33,12],[33,16,33,17],[33,19,33,20],[33,21,33,22],[33,26,33,27],[33,29,33,30],[33,31,33,32],[33,36,33,37],[33,39,33,40],[34,11,34,12],[34,16,34,17],[34,19,34,20],[34,21,34,22],[34,26,34,27],[34,29,34,30],[34,31,34,32],[34,36,34,37],[34,39,34,40],[35,11,35,12],[35,16,35,17],[35,19,35,20],[35,21,35,22],[35,26,35,27],[35,29,35,30],[36,41,36,42],[37,11,37,12],[37,16,37,17],[37,19,37,20],[37,21,37,22],[37,26,37,27],[37,29,37,30],[35,31,35,32],[35,36,35,37],[35,39,35,40],[35,41,35,42],[36,11,36,12],[36,16,36,17],[36,19,36,20],[36,21,36,22],[36,26,36,27],[36,29,36,30],[39,11,39,12],[39,16,39,17],[39,19,39,20],[39,21,39,22],[39,26,39,27],[39,29,39,30],[37,31,37,32],[37,36,37,37],[37,39,37,40],[38,11,38,12],[38,16,38,17],[38,19,38,20],[38,21,38,22],[38,26,38,27],[38,29,38,30],[41,15,43,15],[41,19,41,20],[41,21,41,22],[41,25,43,25],[41,29,41,30],[41,31,41,32],[38,31,38,32],[38,36,38,37],[38,39,38,40],[43,39,43,40],[43,41,43,42],[12,17,12,18],[12,37,15,42],[41,35,43,35],[41,39,41,40],[41,41,41,42],[42,18,42,22],[42,28,42,32],[42,38,42,42],[43,19,43,20],[43,21,43,22],[43,29,43,30],[43,31,43,32],[39,31,39,32],[39,36,39,37],[39,39,39,40],[39,41,39,42],[38,41,38,42],[37,41,37,42],[36,31,36,32],[36,36,36,37],[36,39,36,40],[34,41,34,42],[32,41,32,42]]}
[]
[null,null,"Kitsede söötmine",null,null,null,"STA"]
[]
[]
[null,123456789]
[]
[]
[]
[]
[]
[]
[null,null,"Söötade trabimine aastas",null,null,null,null,null,null,null,null,null,null,null,null,"Lüpsikitsed koos talledega",null,"Loomade arv, aastauted",null,null,null,null,null,null,null,"Noorkitsed",null,"Loomade arv, toodetud loomi",null,null,null,null,null,null,null,"Sikud",null,"Loomade arv, aastajäärad"]
[null,null,null,null,null,null,null,null,null,null,null,null,null,null,null,null,null,"Piimatoodang, kg/loom/aasta "]
[null,null,null,null,null,null,null,null,null,null,null,null,null,null,null,null,null,"Piima valgusisaldus, %"]
[null,null,null,null,null,null,null,null,null,null,null,null,null,null,null,null,null,"Keskmine kehamass, kg/loom",null,null,null,null,null,null,null,null,null,"Kehamass perioodi alguses, kg"]
[null,null,null,null,null,null,null,null,null,null,null,null,null,null,null,null,null,"Kehamass enne poegimist, kg/loom",null,null,null,null,null,null,null,null,null,"Kehamass perioodi lõpus, kg"]
[null,null,null,null,null,null,null,null,null,null,null,null,null,null,null,null,null,"Karjatamine",null,"Päevi aastas",null,"Tundi päevas",null,null,null,null,null,"Karjatamine",null,"Päevi aastas",null,"Tundi päevas",null,null,null,null,null,"Karjatamine",null,"Päevi aastas",null,"Tundi päevas "]
[]
[null,null,"Söödad ","Kogus","KA","KA seeduvus ","TP","P","K",null,null,"Summa (max. 100%)",null,null,null,"Osakaal,% ","KA",null,"TP","P",null,"K",null,null,null,"Osakaal,% ","KA",null,"TP","P",null,"K",null,null,null,"Osakaal,% ","KA",null,"TP","P",null,"K"]
[null,null,null,"t/aasta",null,"%","t/aasta",null,null,null,null,null,null,null,null,null,"kg/aasta",null,null,null,null,null,null,null,null,null,"kg/aasta",null,null,null,null,null,null,null,null,null,"kg/aasta"]
[null,null,null,null,{"$f":"IF(D21=0,\"\",VLOOKUP(C21,Feeds!$B$9:$AB$109,23,FALSE)*D21/1000)","v":""},{"$f":"IF(D21=0,\"\",VLOOKUP(C21,Feeds!$B$9:$AB$109,24,FALSE))","v":""},{"$f":"IF(D21=0,\"\",VLOOKUP(C21,Feeds!$B$9:$AB$109,25,FALSE)*D21/1000)","v":""},{"$f":"IF(D21=0,\"\",VLOOKUP(C21,Feeds!$B$9:$AB$109,26,FALSE)*D21/1000)","v":""},{"$f":"IF(D21=0,\"\",VLOOKUP(C21,Feeds!$B$9:$AB$109,27,FALSE)*D21/1000)","v":""},{"$f":"#REF!+#REF!+#REF!+Z21+AJ21+P21","v":{"$error":"#REF!"}},null,{"$f":"IF(Z21+AJ21+P21 <=100,Z21+AJ21+P21,\"ERROR, SUM>100%\")","v":0},null,null,{"$f":"IF(#REF!=\"\",0,#REF!*$F$21/100)","v":{"$error":"#REF!"}},null,{"$f":"IF(P21=\"\",\"\",IF($E$21=\"\",\"\",$E$21*P21/100))","v":""},null,{"$f":"IF(P21=\"\",\"\",IF($G$21=\"\",\"\",$G$21*P21/100))","v":""},{"$f":"IF(P21=\"\",\"\",IF($H$21=\"\",\"\",$H$21*P21/100))","v":""},null,{"$f":"IF(P21=\"\",\"\",IF($I$21=\"\",\"\",$I$21*P21/100))","v":""},null,{"$f":"IF(#REF!=\"\",0,#REF!*$F$21/100)","v":{"$error":"#REF!"}},null,null,{"$f":"IF(Z21=\"\",\"\",IF($E$21=\"\",\"\",$E$21*Z21/100))","v":""},null,{"$f":"IF(Z21=\"\",\"\",IF($G$21=\"\",\"\",$G$21*Z21/100))","v":""},{"$f":"IF(Z21=\"\",\"\",IF($H$21=\"\",\"\",$H$21*Z21/100))","v":""},null,{"$f":"IF(Z21=\"\",\"\",IF($I$21=\"\",\"\",$I$21*Z21/100))","v":""},null,{"$f":"IF(AA21=\"\",0,AA21*$F$21/100)","v":0},null,null,{"$f":"IF(AJ21=\"\",\"\",IF($E$21=\"\",\"\",$E$21*AJ21/100))","v":""},null,{"$f":"IF(AJ21=\"\",\"\",IF($G$21=\"\",\"\",$G$21*AJ21/100))","v":""},{"$f":"IF(AJ21=\"\",\"\",IF($H$21=\"\",\"\",$H$21*AJ21/100))","v":""},null,{"$f":"IF(AJ21=\"\",\"\",IF($I$21=\"\",\"\",$I$21*AJ21/100))","v":""},null,{"$f":"IF(AK21=\"\",0,AK21*$F$21/100)","v":0},null,null,null,null,null,null,null,null,null,{"$f":"IF(Q21=\"\",0,Q21*$F$21/100)","v":0}]
[null,null,null,null,{"$f":"IF(D22=0,\"\",VLOOKUP(C22,Feeds!$B$9:$AB$109,23,FALSE)*D22/1000)","v":""},{"$f":"IF(D22=0,\"\",VLOOKUP(C22,Feeds!$B$9:$AB$109,24,FALSE))","v":""},{"$f":"IF(D22=0,\"\",VLOOKUP(C22,Feeds!$B$9:$AB$109,25,FALSE)*D22/1000)","v":""},{"$f":"IF(D22=0,\"\",VLOOKUP(C22,Feeds!$B$9:$AB$109,26,FALSE)*D22/1000)","v":""},{"$f":"IF(D22=0,\"\",VLOOKUP(C22,Feeds!$B$9:$AB$109,27,FALSE)*D22/1000)","v":""},{"$f":"#REF!+#REF!+#REF!+Z22+AJ22+P22","v":{"$error":"#REF!"}},null,{"$f":"IF(Z22+AJ22+P22 <=100,Z22+AJ22+P22,\"ERROR, SUM>100%\")","v":0},null,null,{"$f":"IF(#REF!=\"\",0,#REF!*F22/100)","v":{"$error":"#REF!"}},null,{"$f":"IF(P22=\"\",\"\",IF($E$22=\"\",\"\",$E$22*P22/100))","v":""},null,{"$f":"IF(P22=\"\",\"\",IF($G$22=\"\",\"\",$G$22*P22/100))","v":""},{"$f":"IF(P22=\"\",\"\",IF($H$22=\"\",\"\",$H$22*P22/100))","v":""},null,{"$f":"IF(P22=\"\",\"\",IF($I$22=\"\",\"\",$I$22*P22/100))","v":""},null,{"$f":"IF(#REF!=\"\",0,#REF!*$F$22/100)","v":{"$error":"#REF!"}},null,null,{"$f":"IF(Z22=\"\",\"\",IF($E$22=\"\",\"\",$E$22*Z22/100))","v":""},null,{"$f":"IF(Z22=\"\",\"\",IF($G$22=\"\",\"\",$G$22*Z22/100))","v":""},{"$f":"IF(Z22=\"\",\"\",IF($H$22=\"\",\"\",$H$22*Z22/100))","v":""},null,{"$f":"IF(Z22=\"\",\"\",IF($I$22=\"\",\"\",$I$22*Z22/100))","v":""},null,{"$f":"IF(AA22=\"\",0,AA22*$F$22/100)","v":0},null,null,{"$f":"IF(AJ22=\"\",\"\",IF($E$22=\"\",\"\",$E$22*AJ22/100))","v":""},null,{"$f":"IF(AJ22=\"\",\"\",IF($G$22=\"\",\"\",$G$22*AJ22/100))","v":""},{"$f":"IF(AJ22=\"\",\"\",IF($H$22=\"\",\"\",$H$22*AJ22/100))","v":""},null,{"$f":"IF(AJ22=\"\",\"\",IF($I$22=\"\",\"\",$I$22*AJ22/100))","v":""},null,{"$f":"IF(AK22=\"\",0,AK22*$F$22/100)","v":0},null,null,null,null,null,null,null,null,null,{"$f":"IF(Q22=\"\",0,Q22*$F$22/100)","v":0}]
[null,null,null,null,{"$f":"IF(D23=0,\"\",VLOOKUP(C23,Feeds!$B$9:$AB$109,23,FALSE)*D23/1000)","v":""},{"$f":"IF(D23=0,\"\",VLOOKUP(C23,Feeds!$B$9:$AB$109,24,FALSE))","v":""},{"$f":"IF(D23=0,\"\",VLOOKUP(C23,Feeds!$B$9:$AB$109,25,FALSE)*D23/1000)","v":""},{"$f":"IF(D23=0,\"\",VLOOKUP(C23,Feeds!$B$9:$AB$109,26,FALSE)*D23/1000)","v":""},{"$f":"IF(D23=0,\"\",VLOOKUP(C23,Feeds!$B$9:$AB$109,27,FALSE)*D23/1000)","v":""},{"$f":"#REF!+#REF!+#REF!+Z23+AJ23+P23","v":{"$error":"#REF!"}},null,0,null,null,{"$f":"IF(#REF!=\"\",0,#REF!*F23/100)","v":{"$error":"#REF!"}},null,{"$f":"IF(P23=\"\",\"\",IF($E$23=\"\",\"\",$E$23*P23/100))","v":""},null,{"$f":"IF(P23=\"\",\"\",IF($G$23=\"\",\"\",$G$23*P23/100))","v":""},{"$f":"IF(P23=\"\",\"\",IF($H$23=\"\",\"\",$H$23*P23/100))","v":""},null,{"$f":"IF(P23=\"\",\"\",IF($I$23=\"\",\"\",$I$23*P23/100))","v":""},null,{"$f":"IF(#REF!=\"\",0,#REF!*$F$23/100)","v":{"$error":"#REF!"}},null,null,{"$f":"IF(Z23=\"\",\"\",IF($E$23=\"\",\"\",$E$23*Z23/100))","v":""},null,{"$f":"IF(Z23=\"\",\"\",IF($G$23=\"\",\"\",$G$23*Z23/100))","v":""},{"$f":"IF(Z23=\"\",\"\",IF($H$23=\"\",\"\",$H$23*Z23/100))","v":""},null,{"$f":"IF(Z23=\"\",\"\",IF($I$23=\"\",\"\",$I$23*Z23/100))","v":""},null,{"$f":"IF(AA23=\"\",0,AA23*$F$23/100)","v":0},null,null,{"$f":"IF(AJ23=\"\",\"\",IF($E$23=\"\",\"\",$E$23*AJ23/100))","v":""},null,{"$f":"IF(AJ23=\"\",\"\",IF($G$23=\"\",\"\",$G$23*AJ23/100))","v":""},{"$f":"IF(AJ23=\"\",\"\",IF($H$23=\"\",\"\",$H$23*AJ23/100))","v":""},null,{"$f":"IF(AJ23=\"\",\"\",IF($I$23=\"\",\"\",$I$23*AJ23/100))","v":""},null,{"$f":"IF(AK23=\"\",0,AK23*$F$23/100)","v":0},null,null,null,null,null,null,null,null,null,{"$f":"IF(Q23=\"\",0,Q23*$F$23/100)","v":0}]
[null,null,null,null,{"$f":"IF(D24=0,\"\",VLOOKUP(C24,Feeds!$B$9:$AB$109,23,FALSE)*D24/1000)","v":""},{"$f":"IF(D24=0,\"\",VLOOKUP(C24,Feeds!$B$9:$AB$109,24,FALSE))","v":""},{"$f":"IF(D24=0,\"\",VLOOKUP(C24,Feeds!$B$9:$AB$109,25,FALSE)*D24/1000)","v":""},{"$f":"IF(D24=0,\"\",VLOOKUP(C24,Feeds!$B$9:$AB$109,26,FALSE)*D24/1000)","v":""},{"$f":"IF(D24=0,\"\",VLOOKUP(C24,Feeds!$B$9:$AB$109,27,FALSE)*D24/1000)","v":""},{"$f":"#REF!+#REF!+#REF!+Z24+AJ24+P24","v":{"$error":"#REF!"}},null,0,null,null,{"$f":"IF(#REF!=\"\",0,#REF!*F24/100)","v":{"$error":"#REF!"}},null,{"$f":"IF(P24=\"\",\"\",IF($E$24=\"\",\"\",$E$24*P24/100))","v":""},null,{"$f":"IF(P24=\"\",\"\",IF($G$24=\"\",\"\",$G$24*P24/100))","v":""},{"$f":"IF(P24=\"\",\"\",IF($H$24=\"\",\"\",$H$24*P24/100))","v":""},null,{"$f":"IF(P24=\"\",\"\",IF($I$24=\"\",\"\",$I$24*P24/100))","v":""},null,{"$f":"IF(#REF!=\"\",0,#REF!*$F$24/100)","v":{"$error":"#REF!"}},null,null,{"$f":"IF(Z24=\"\",\"\",IF($E$24=\"\",\"\",$E$24*Z24/100))","v":""},null,{"$f":"IF(Z24=\"\",\"\",IF($G$24=\"\",\"\",$G$24*Z24/100))","v":""},{"$f":"IF(Z24=\"\",\"\",IF($H$24=\"\",\"\",$H$24*Z24/100))","v":""},null,{"$f":"IF(Z24=\"\",\"\",IF($I$24=\"\",\"\",$I$24*Z24/100))","v":""},null,{"$f":"IF(AA24=\"\",0,AA24*$F$24/100)","v":0},null,null,{"$f":"IF(AJ24=\"\",\"\",IF($E$24=\"\",\"\",$E$24*AJ24/100))","v":""},null,{"$f":"IF(AJ24=\"\",\"\",IF($G$24=\"\",\"\",$G$24*AJ24/100))","v":""},{"$f":"IF(AJ24=\"\",\"\",IF($H$24=\"\",\"\",$H$24*AJ24/100))","v":""},null,{"$f":"IF(AJ24=\"\",\"\",IF($I$24=\"\",\"\",$I$24*AJ24/100))","v":""},null,{"$f":"IF(AK24=\"\",0,AK24*$F$24/100)","v":0},null,null,null,null,null,null,null,null,null,{"$f":"IF(Q24=\"\",0,Q24*$F$24/100)","v":0}]
[null,null,null,null,{"$f":"IF(D25=0,\"\",VLOOKUP(C25,Feeds!$B$9:$AB$109,23,FALSE)*D25/1000)","v":""},{"$f":"IF(D25=0,\"\",VLOOKUP(C25,Feeds!$B$9:$AB$109,24,FALSE))","v":""},{"$f":"IF(D25=0,\"\",VLOOKUP(C25,Feeds!$B$9:$AB$109,25,FALSE)*D25/1000)","v":""},{"$f":"IF(D25=0,\"\",VLOOKUP(C25,Feeds!$B$9:$AB$109,26,FALSE)*D25/1000)","v":""},{"$f":"IF(D25=0,\"\",VLOOKUP(C25,Feeds!$B$9:$AB$109,27,FALSE)*D25/1000)","v":""},{"$f":"#REF!+#REF!+#REF!+Z25+AJ25+P25","v":{"$error":"#REF!"}},null,0,null,null,{"$f":"IF(#REF!=\"\",0,#REF!*F25/100)","v":{"$error":"#REF!"}},null,{"$f":"IF(P25=\"\",\"\",IF($E$25=\"\",\"\",$E$25*P25/100))","v":""},null,{"$f":"IF(P25=\"\",\"\",IF($G$25=\"\",\"\",$G$25*P25/100))","v":""},{"$f":"IF(P25=\"\",\"\",IF($H$25=\"\",\"\",$H$25*P25/100))","v":""},null,{"$f":"IF(P25=\"\",\"\",IF($I$25=\"\",\"\",$I$25*P25/100))","v":""},null,{"$f":"IF(#REF!=\"\",0,#REF!*$F$25/100)","v":{"$error":"#REF!"}},null,null,{"$f":"IF(Z25=\"\",\"\",IF($E$25=\"\",\"\",$E$25*Z25/100))","v":""},null,{"$f":"IF(Z25=\"\",\"\",IF($G$25=\"\",\"\",$G$25*Z25/100))","v":""},{"$f":"IF(Z25=\"\",\"\",IF($H$25=\"\",\"\",$H$25*Z25/100))","v":""},null,{"$f":"IF(Z25=\"\",\"\",IF($I$25=\"\",\"\",$I$25*Z25/100))","v":""},null,{"$f":"IF(AA25=\"\",0,AA25*$F$25/100)","v":0},null,null,{"$f":"IF(AJ25=\"\",\"\",IF($E$25=\"\",\"\",$E$25*AJ25/100))","v":""},null,{"$f":"IF(AJ25=\"\",\"\",IF($G$25=\"\",\"\",$G$25*AJ25/100))","v":""},{"$f":"IF(AJ25=\"\",\"\",IF($H$25=\"\",\"\",$H$25*AJ25/100))","v":""},null,{"$f":"IF(AJ25=\"\",\"\",IF($I$25=\"\",\"\",$I$25*AJ25/100))","v":""},null,{"$f":"IF(AK25=\"\",0,AK25*$F$25/100)","v":0},null,null,null,null,null,null,null,null,null,{"$f":"IF(Q25=\"\",0,Q25*$F$25/100)","v":0}]
[null,null,null,null,{"$f":"IF(D26=0,\"\",VLOOKUP(C26,Feeds!$B$9:$AB$109,23,FALSE)*D26/1000)","v":""},{"$f":"IF(D26=0,\"\",VLOOKUP(C26,Feeds!$B$9:$AB$109,24,FALSE))","v":""},{"$f":"IF(D26=0,\"\",VLOOKUP(C26,Feeds!$B$9:$AB$109,25,FALSE)*D26/1000)","v":""},{"$f":"IF(D26=0,\"\",VLOOKUP(C26,Feeds!$B$9:$AB$109,26,FALSE)*D26/1000)","v":""},{"$f":"IF(D26=0,\"\",VLOOKUP(C26,Feeds!$B$9:$AB$109,27,FALSE)*D26/1000)","v":""},{"$f":"#REF!+#REF!+#REF!+Z26+AJ26+P26","v":{"$error":"#REF!"}},null,0,null,null,{"$f":"IF(#REF!=\"\",0,#REF!*F26/100)","v":{"$error":"#REF!"}},null,{"$f":"IF(P26=\"\",\"\",IF($E$26=\"\",\"\",$E$26*P26/100))","v":""},null,{"$f":"IF(P26=\"\",\"\",IF($G$26=\"\",\"\",$G$26*P26/100))","v":""},{"$f":"IF(P26=\"\",\"\",IF($H$26=\"\",\"\",$H$26*P26/100))","v":""},null,{"$f":"IF(P26=\"\",\"\",IF($I$26=\"\",\"\",$I$26*P26/100))","v":""},null,{"$f":"IF(#REF!=\"\",0,#REF!*$F$26/100)","v":{"$error":"#REF!"}},null,null,{"$f":"IF(Z26=\"\",\"\",IF($E$26=\"\",\"\",$E$26*Z26/100))","v":""},null,{"$f":"IF(Z26=\"\",\"\",IF($G$26=\"\",\"\",$G$26*Z26/100))","v":""},{"$f":"IF(Z26=\"\",\"\",IF($H$26=\"\",\"\",$H$26*Z26/100))","v":""},null,{"$f":"IF(Z26=\"\",\"\",IF($I$26=\"\",\"\",$I$26*Z26/100))","v":""},null,{"$f":"IF(AA26=\"\",0,AA26*$F$26/100)","v":0},null,null,{"$f":"IF(AJ26=\"\",\"\",IF($E$26=\"\",\"\",$E$26*AJ26/100))","v":""},null,{"$f":"IF(AJ26=\"\",\"\",IF($G$26=\"\",\"\",$G$26*AJ26/100))","v":""},{"$f":"IF(AJ26=\"\",\"\",IF($H$26=\"\",\"\",$H$26*AJ26/100))","v":""},null,{"$f":"IF(AJ26=\"\",\"\",IF($I$26=\"\",\"\",$I$26*AJ26/100))","v":""},null,{"$f":"IF(AK26=\"\",0,AK26*$F$26/100)","v":0},null,null,null,null,null,null,null,null,null,{"$f":"IF(Q26=\"\",0,Q26*$F$26/100)","v":0}]
[null,null,null,null,{"$f":"IF(D27=0,\"\",VLOOKUP(C27,Feeds!$B$9:$AB$109,23,FALSE)*D27/1000)","v":""},{"$f":"IF(D27=0,\"\",VLOOKUP(C27,Feeds!$B$9:$AB$109,24,FALSE))","v":""},{"$f":"IF(D27=0,\"\",VLOOKUP(C27,Feeds!$B$9:$AB$109,25,FALSE)*D27/1000)","v":""},{"$f":"IF(D27=0,\"\",VLOOKUP(C27,Feeds!$B$9:$AB$109,26,FALSE)*D27/1000)","v":""},{"$f":"IF(D27=0,\"\",VLOOKUP(C27,Feeds!$B$9:$AB$109,27,FALSE)*D27/1000)","v":""},{"$f":"#REF!+#REF!+#REF!+Z27+AJ27+P27","v":{"$error":"#REF!"}},null,0,null,null,{"$f":"IF(#REF!=\"\",0,#REF!*F27/100)","v":{"$error":"#REF!"}},null,{"$f":"IF(P27=\"\",\"\",IF(E27=\"\",\"\",E27*P27/100))","v":""},null,{"$f":"IF(P27=\"\",\"\",IF(G27=\"\",\"\",G27*P27/100))","v":""},{"$f":"IF(P27=\"\",\"\",IF(H27=\"\",\"\",H27*P27/100))","v":""},null,{"$f":"IF(P27=\"\",\"\",IF(I27=\"\",\"\",I27*P27/100))","v":""},null,{"$f":"IF(#REF!=\"\",0,#REF!*$F$27/100)","v":{"$error":"#REF!"}},null,null,{"$f":"IF(Z27=\"\",\"\",IF(E27=\"\",\"\",E27*Z27/100))","v":""},null,{"$f":"IF(Z27=\"\",\"\",IF(G27=\"\",\"\",G27*Z27/100))","v":""},{"$f":"IF(Z27=\"\",\"\",IF(H27=\"\",\"\",H27*Z27/100))","v":""},null,{"$f":"IF(Z27=\"\",\"\",IF(I27=\"\",\"\",I27*Z27/100))","v":""},null,{"$f":"IF(AA27=\"\",0,AA27*$F$27/100)","v":0},null,null,{"$f":"IF(AJ27=\"\",\"\",IF(E27=\"\",\"\",E27*AJ27/100))","v":""},null,{"$f":"IF(AJ27=\"\",\"\",IF(G27=\"\",\"\",G27*AJ27/100))","v":""},{"$f":"IF(AJ27=\"\",\"\",IF(H27=\"\",\"\",H27*AJ27/100))","v":""},null,{"$f":"IF(AJ27=\"\",\"\",IF(I27=\"\",\"\",I27*AJ27/100))","v":""},null,{"$f":"IF(AK27=\"\",0,AK27*$F$27/100)","v":0},null,null,null,null,null,null,null,null,null,{"$f":"IF(Q27=\"\",0,Q27*$F$27/100)","v":0}]
[null,null,null,null,{"$f":"IF(D28=0,\"\",VLOOKUP(C28,Feeds!$B$9:$AB$109,23,FALSE)*D28/1000)","v":""},{"$f":"IF(D28=0,\"\",VLOOKUP(C28,Feeds!$B$9:$AB$109,24,FALSE))","v":""},{"$f":"IF(D28=0,\"\",VLOOKUP(C28,Feeds!$B$9:$AB$109,25,FALSE)*D28/1000)","v":""},{"$f":"IF(D28=0,\"\",VLOOKUP(C28,Feeds!$B$9:$AB$109,26,FALSE)*D28/1000)","v":""},{"$f":"IF(D28=0,\"\",VLOOKUP(C28,Feeds!$B$9:$AB$109,27,FALSE)*D28/1000)","v":""},{"$f":"#REF!+#REF!+#REF!+Z28+AJ28+P28","v":{"$error":"#REF!"}},null,0,null,null,{"$f":"IF(#REF!=\"\",0,#REF!*F28/100)","v":{"$error":"#REF!"}},null,"",null,"","",null,"",null,{"$f":"IF(#REF!=\"\",0,#REF!*F28/100)","v":{"$error":"#REF!"}},null,null,"",null,"","",null,"",null,{"$f":"IF(AA28=\"\",0,AA28*F28/100)","v":0},null,null,"",null,"","",null,"",null,{"$f":"IF(AK28=\"\",0,AK28*F28/100)","v":0},null,null,null,null,null,null,null,null,null,{"$f":"IF(Q28=\"\",0,Q28*F28/100)","v":0}]
[null,null,null,null,{"$f":"IF(D29=0,\"\",VLOOKUP(C29,Feeds!$B$9:$AB$109,23,FALSE)*D29/1000)","v":""},{"$f":"IF(D29=0,\"\",VLOOKUP(C29,Feeds!$B$9:$AB$109,24,FALSE))","v":""},{"$f":"IF(D29=0,\"\",VLOOKUP(C29,Feeds!$B$9:$AB$109,25,FALSE)*D29/1000)","v":""},{"$f":"IF(D29=0,\"\",VLOOKUP(C29,Feeds!$B$9:$AB$109,26,FALSE)*D29/1000)","v":""},{"$f":"IF(D29=0,\"\",VLOOKUP(C29,Feeds!$B$9:$AB$109,27,FALSE)*D29/1000)","v":""},null,null,0,null,null,{"$f":"IF(#REF!=\"\",0,#REF!*F29/100)","v":{"$error":"#REF!"}},null,"",null,"","",null,"",null,{"$f":"IF(#REF!=\"\",0,#REF!*F29/100)","v":{"$error":"#REF!"}},null,null,"",null,"","",null,"",null,0,null,null,"",null,"","",null,"",null,0,null,null,null,null,null,null,null,null,null,0]
[null,null,null,null,{"$f":"IF(D30=0,\"\",VLOOKUP(C30,Feeds!$B$9:$AB$109,23,FALSE)*D30/1000)","v":""},{"$f":"IF(D30=0,\"\",VLOOKUP(C30,Feeds!$B$9:$AB$109,24,FALSE))","v":""},{"$f":"IF(D30=0,\"\",VLOOKUP(C30,Feeds!$B$9:$AB$109,25,FALSE)*D30/1000)","v":""},{"$f":"IF(D30=0,\"\",VLOOKUP(C30,Feeds!$B$9:$AB$109,26,FALSE)*D30/1000)","v":""},{"$f":"IF(D30=0,\"\",VLOOKUP(C30,Feeds!$B$9:$AB$109,27,FALSE)*D30/1000)","v":""},null,null,0,null,null,{"$f":"IF(#REF!=\"\",0,#REF!*F30/100)","v":{"$error":"#REF!"}},null,"",null,"","",null,"",null,{"$f":"IF(#REF!=\"\",0,#REF!*F30/100)","v":{"$error":"#REF!"}},null,null,"",null,"","",null,"",null,0,null,null,"",null,"","",null,"",null,0,null,null,null,null,null,null,null,null,null,0]
[null,null,null,null,{"$f":"IF(D31=0,\"\",VLOOKUP(C31,Feeds!$B$9:$AB$109,23,FALSE)*D31/1000)","v":""},{"$f":"IF(D31=0,\"\",VLOOKUP(C31,Feeds!$B$9:$AB$109,24,FALSE))","v":""},{"$f":"IF(D31=0,\"\",VLOOKUP(C31,Feeds!$B$9:$AB$109,25,FALSE)*D31/1000)","v":""},{"$f":"IF(D31=0,\"\",VLOOKUP(C31,Feeds!$B$9:$AB$109,26,FALSE)*D31/1000)","v":""},{"$f":"IF(D31=0,\"\",VLOOKUP(C31,Feeds!$B$9:$AB$109,27,FALSE)*D31/1000)","v":""},null,null,0,null,null,{"$f":"IF(#REF!=\"\",0,#REF!*F31/100)","v":{"$error":"#REF!"}},null,"",null,"","",null,"",null,{"$f":"IF(#REF!=\"\",0,#REF!*F31/100)","v":{"$error":"#REF!"}},null,null,"",null,"","",null,"",null,0,null,null,"",null,"","",null,"",null,0,null,null,null,null,null,null,null,null,null,0]
[null,null,null,null,{"$f":"IF(D32=0,\"\",VLOOKUP(C32,Feeds!$B$9:$AB$109,23,FALSE)*D32/1000)","v":""},{"$f":"IF(D32=0,\"\",VLOOKUP(C32,Feeds!$B$9:$AB$109,24,FALSE))","v":""},{"$f":"IF(D32=0,\"\",VLOOKUP(C32,Feeds!$B$9:$AB$109,25,FALSE)*D32/1000)","v":""},{"$f":"IF(D32=0,\"\",VLOOKUP(C32,Feeds!$B$9:$AB$109,26,FALSE)*D32/1000)","v":""},{"$f":"IF(D32=0,\"\",VLOOKUP(C32,Feeds!$B$9:$AB$109,27,FALSE)*D32/1000)","v":""},null,null,0,null,null,{"$f":"IF(#REF!=\"\",0,#REF!*F32/100)","v":{"$error":"#REF!"}},null,"",null,"","",null,"",null,{"$f":"IF(#REF!=\"\",0,#REF!*F32/100)","v":{"$error":"#REF!"}},null,null,"",null,"","",null,"",null,0,null,null,"",null,"","",null,"",null,0,null,null,null,null,null,null,null,null,null,0]
[null,null,null,null,{"$f":"IF(D33=0,\"\",VLOOKUP(C33,Feeds!$B$9:$AB$109,23,FALSE)*D33/1000)","v":""},{"$f":"IF(D33=0,\"\",VLOOKUP(C33,Feeds!$B$9:$AB$109,24,FALSE))","v":""},{"$f":"IF(D33=0,\"\",VLOOKUP(C33,Feeds!$B$9:$AB$109,25,FALSE)*D33/1000)","v":""},{"$f":"IF(D33=0,\"\",VLOOKUP(C33,Feeds!$B$9:$AB$109,26,FALSE)*D33/1000)","v":""},{"$f":"IF(D33=0,\"\",VLOOKUP(C33,Feeds!$B$9:$AB$109,27,FALSE)*D33/1000)","v":""},null,null,0,null,null,{"$f":"IF(#REF!=\"\",0,#REF!*F33/100)","v":{"$error":"#REF!"}},null,"",null,"","",null,"",null,{"$f":"IF(#REF!=\"\",0,#REF!*F33/100)","v":{"$error":"#REF!"}},null,null,"",null,"","",null,"",null,0,null,null,"",null,"","",null,"",null,0,null,null,null,null,null,null,null,null,null,0]
[null,null,null,null,{"$f":"IF(D34=0,\"\",VLOOKUP(C34,Feeds!$B$9:$AB$109,23,FALSE)*D34/1000)","v":""},{"$f":"IF(D34=0,\"\",VLOOKUP(C34,Feeds!$B$9:$AB$109,24,FALSE))","v":""},{"$f":"IF(D34=0,\"\",VLOOKUP(C34,Feeds!$B$9:$AB$109,25,FALSE)*D34/1000)","v":""},{"$f":"IF(D34=0,\"\",VLOOKUP(C34,Feeds!$B$9:$AB$109,26,FALSE)*D34/1000)","v":""},{"$f":"IF(D34=0,\"\",VLOOKUP(C34,Feeds!$B$9:$AB$109,27,FALSE)*D34/1000)","v":""},null,null,0,null,null,{"$f":"IF(#REF!=\"\",0,#REF!*F34/100)","v":{"$error":"#REF!"}},null,"",null,"","",null,"",null,{"$f":"IF(#REF!=\"\",0,#REF!*F34/100)","v":{"$error":"#REF!"}},null,null,"",null,"","",null,"",null,0,null,null,"",null,"","",null,"",null,0,null,null,null,null,null,null,null,null,null,0]
[null,null,null,null,{"$f":"IF(D35=0,\"\",VLOOKUP(C35,Feeds!$B$9:$AB$109,23,FALSE)*D35/1000)","v":""},{"$f":"IF(D35=0,\"\",VLOOKUP(C35,Feeds!$B$9:$AB$109,24,FALSE))","v":""},{"$f":"IF(D35=0,\"\",VLOOKUP(C35,Feeds!$B$9:$AB$109,25,FALSE)*D35/1000)","v":""},{"$f":"IF(D35=0,\"\",VLOOKUP(C35,Feeds!$B$9:$AB$109,26,FALSE)*D35/1000)","v":""},{"$f":"IF(D35=0,\"\",VLOOKUP(C35,Feeds!$B$9:$AB$109,27,FALSE)*D35/1000)","v":""},null,null,0,null,null,{"$f":"IF(#REF!=\"\",0,#REF!*F35/100)","v":{"$error":"#REF!"}},null,"",null,"","",null,"",null,{"$f":"IF(#REF!=\"\",0,#REF!*F35/100)","v":{"$error":"#REF!"}},null,null,"",null,"","",null,"",null,0,null,null,"",null,"","",null,"",null,0,null,null,null,null,null,null,null,null,null,0]
[null,null,null,null,{"$f":"IF(D36=0,\"\",VLOOKUP(C36,Feeds!$B$9:$AB$109,23,FALSE)*D36/1000)","v":""},{"$f":"IF(D36=0,\"\",VLOOKUP(C36,Feeds!$B$9:$AB$109,24,FALSE))","v":""},{"$f":"IF(D36=0,\"\",VLOOKUP(C36,Feeds!$B$9:$AB$109,25,FALSE)*D36/1000)","v":""},{"$f":"IF(D36=0,\"\",VLOOKUP(C36,Feeds!$B$9:$AB$109,26,FALSE)*D36/1000)","v":""},{"$f":"IF(D36=0,\"\",VLOOKUP(C36,Feeds!$B$9:$AB$109,27,FALSE)*D36/1000)","v":""},null,null,0,null,null,{"$f":"IF(#REF!=\"\",0,#REF!*F36/100)","v":{"$error":"#REF!"}},null,"",null,"","",null,"",null,{"$f":"IF(#REF!=\"\",0,#REF!*F36/100)","v":{"$error":"#REF!"}},null,null,"",null,"","",null,"",null,0,null,null,"",null,"","",null,"",null,0,null,null,null,null,null,null,null,null,null,0]
[null,null,null,null,{"$f":"IF(D37=0,\"\",VLOOKUP(C37,Feeds!$B$9:$AB$109,23,FALSE)*D37/1000)","v":""},{"$f":"IF(D37=0,\"\",VLOOKUP(C37,Feeds!$B$9:$AB$109,24,FALSE))","v":""},{"$f":"IF(D37=0,\"\",VLOOKUP(C37,Feeds!$B$9:$AB$109,25,FALSE)*D37/1000)","v":""},{"$f":"IF(D37=0,\"\",VLOOKUP(C37,Feeds!$B$9:$AB$109,26,FALSE)*D37/1000)","v":""},{"$f":"IF(D37=0,\"\",VLOOKUP(C37,Feeds!$B$9:$AB$109,27,FALSE)*D37/1000)","v":""},null,null,0,null,null,{"$f":"IF(#REF!=\"\",0,#REF!*F37/100)","v":{"$error":"#REF!"}},null,"",null,"","",null,"",null,{"$f":"IF(#REF!=\"\",0,#REF!*F37/100)","v":{"$error":"#REF!"}},null,null,"",null,"","",null,"",null,0,null,null,"",null,"","",null,"",null,0,null,null,null,null,null,null,null,null,null,0]
[null,null,null,null,{"$f":"IF(D38=0,\"\",VLOOKUP(C38,Feeds!$B$9:$AB$109,23,FALSE)*D38/1000)","v":""},{"$f":"IF(D38=0,\"\",VLOOKUP(C38,Feeds!$B$9:$AB$109,24,FALSE))","v":""},{"$f":"IF(D38=0,\"\",VLOOKUP(C38,Feeds!$B$9:$AB$109,25,FALSE)*D38/1000)","v":""},{"$f":"IF(D38=0,\"\",VLOOKUP(C38,Feeds!$B$9:$AB$109,26,FALSE)*D38/1000)","v":""},{"$f":"IF(D38=0,\"\",VLOOKUP(C38,Feeds!$B$9:$AB$109,27,FALSE)*D38/1000)","v":""},null,null,0,null,null,{"$f":"IF(#REF!=\"\",0,#REF!*F38/100)","v":{"$error":"#REF!"}},null,"",null,"","",null,"",null,{"$f":"IF(#REF!=\"\",0,#REF!*F38/100)","v":{"$error":"#REF!"}},null,null,"",null,"","",null,"",null,0,null,null,"",null,"","",null,"",null,0,null,null,null,null,null,null,null,null,null,0]
[null,null,null,null,{"$f":"IF(D39=0,\"\",VLOOKUP(C39,Feeds!$B$9:$AB$109,23,FALSE)*D39/1000)","v":""},{"$f":"IF(D39=0,\"\",VLOOKUP(C39,Feeds!$B$9:$AB$109,24,FALSE))","v":""},{"$f":"IF(D39=0,\"\",VLOOKUP(C39,Feeds!$B$9:$AB$109,25,FALSE)*D39/1000)","v":""},{"$f":"IF(D39=0,\"\",VLOOKUP(C39,Feeds!$B$9:$AB$109,26,FALSE)*D39/1000)","v":""},{"$f":"IF(D39=0,\"\",VLOOKUP(C39,Feeds!$B$9:$AB$109,27,FALSE)*D39/1000)","v":""},{"$f":"#REF!+#REF!+#REF!+Z39+AJ39+P39","v":{"$error":"#REF!"}},null,0,null,null,{"$f":"IF(#REF!=\"\",0,#REF!*F39/100)","v":{"$error":"#REF!"}},null,"",null,"","",null,"",null,{"$f":"IF(#REF!=\"\",0,#REF!*$F$39/100)","v":{"$error":"#REF!"}},null,null,"",null,"","",null,"",null,{"$f":"IF(AA39=\"\",0,AA39*$F$39/100)","v":0},null,null,"",null,"","",null,"",null,{"$f":"IF(AK39=\"\",0,AK39*$F$39/100)","v":0},null,null,null,null,null,null,null,null,null,{"$f":"IF(Q39=\"\",0,Q39*$F$39/100)","v":0}]
[null,null,null,null,{"$f":"IF(D40=0,\"\",VLOOKUP(C40,Feeds!$B$9:$AB$109,23,FALSE)*D40/1000)","v":""},{"$f":"IF(D40=0,\"\",VLOOKUP(C40,Feeds!$B$9:$AB$109,24,FALSE))","v":""},{"$f":"IF(D40=0,\"\",VLOOKUP(C40,Feeds!$B$9:$AB$109,25,FALSE)*D40/1000)","v":""},{"$f":"IF(D40=0,\"\",VLOOKUP(C40,Feeds!$B$9:$AB$109,26,FALSE)*D40/1000)","v":""},{"$f":"IF(D40=0,\"\",VLOOKUP(C40,Feeds!$B$9:$AB$109,27,FALSE)*D40/1000)","v":""},{"$f":"#REF!+#REF!+#REF!+Z40+AJ40+P40","v":{"$error":"#REF!"}},null,0,null,null,{"$f":"IF(#REF!=\"\",0,#REF!*F40/100)","v":{"$error":"#REF!"}},null,"",null,"","",null,"",null,{"$f":"IF(#REF!=\"\",0,#REF!*$F$40/100)","v":{"$error":"#REF!"}},null,null,"",null,"","",null,"",null,{"$f":"IF(AA40=\"\",0,AA40*$F$40/100)","v":0},null,null,"",null,"","",null,"",null,{"$f":"IF(AK40=\"\",0,AK40*$F$40/100)","v":0},null,null,null,null,null,null,null,null,null,{"$f":"IF(Q40=\"\",0,Q40*$F$40/100)","v":0}]
[]
[null,null,null,null,null,null,null,null,null,null,null,null,null,null,null,"Kitse kohta aastas","KA","KA seeduvus","TP","P",null,"K",null,null,null,"Noorkitse kohta aastas","KA","KA seeduvus","TP","P",null,"K",null,null,null,"Siku kohta aastas","KA","KA seeduvus","TP","P",null,"K"]
[null,null,null,null,null,null,null,null,null,null,null,null,null,null,null,null,"kg","%","g/kg KA",null,null,null,null,null,null,null,"kg","%","g/kg KA",null,null,null,null,null,null,null,"kg","%","g/kg KA"]
[null,null,null,null,null,null,null,null,null,null,null,null,null,null,{"$f":"IF(#REF!=0,0,SUM(O21:O43)*1000/#REF!)","v":{"$error":"#REF!"}},null,{"$f":"IF(T12=0,0,SUM(Q21:Q40)*1000/T12)","v":0},{"$f":"IF(T12=0,0,BB44/Q44*100)","v":0},{"$f":"IF(T12=0,0,SUM(S21:S40)/T12*1000*1000/Q44)","v":0},{"$f":"IF(T12=0,0,SUM(T21:T40)/T12*1000*1000/Q44)","v":0},null,{"$f":"IF(T12=0,0,SUM(V21:V40)/T12*1000*1000/Q44)","v":0},null,{"$f":"IF(#REF!=0,0,SUM(X21:X43)*1000/#REF!)","v":{"$error":"#REF!"}},null,null,{"$f":"IF(AD12=0,0,SUM(AA21:AA40)*1000/AD12)","v":0},{"$f":"IF(AD12=0,0,AH44/AA44*100)","v":0},{"$f":"IF(AD12=0,0,SUM(AC21:AC40)/AD12*1000*1000/AA44)","v":0},{"$f":"IF(AD12=0,0,SUM(AD21:AD40)/AD12*1000*1000/AA44)","v":0},null,{"$f":"IF(AD12=0,0,SUM(AF21:AF40)/AD12*1000*1000/AA44)","v":0},null,{"$f":"IF(AD12=0,0,SUM(AH21:AH43)*1000/AD12)","v":0},null,null,{"$f":"IF(AN12=0,0,SUM(AK21:AK40)*1000/AN12)","v":0},{"$f":"IF(AN12=0,0,AR44/AK44*100)","v":0},{"$f":"IF(AN12=0,0,SUM(AM21:AM40)/AN12*1000*1000/AK44)","v":0},{"$f":"IF(AN12=0,0,SUM(AN21:AN40)/AN12*1000*1000/AK44)","v":0},null,{"$f":"IF(AN12=0,0,SUM(AP21:AP40)/AN12*1000*1000/AK44)","v":0},null,{"$f":"IF(AN12=0,0,SUM(AR21:AR43)*1000/AN12)","v":0},null,null,null,null,null,null,null,null,null,{"$f":"IF(T12=0,0,SUM(BB21:BB43)*1000/T12)","v":0}]
[]
[null,null,null,null,null,null,null,null,null,null,null,null,null,null,null,null,null,null,null,null,null,null,null,{"$f":"IF(#REF!=\"\",0,#REF!*F46/100)","v":{"$error":"#REF!"}}]

{"sheet":"Feedin horses (AFC)","index":9,"n_rows":44,"n_cols":44,"rows_kept":44,"cut":false,"hidden":false,"merged":[[11,29,11,32],[12,17,15,22],[14,27,14,28],[19,3,19,4],[19,6,19,8],[19,16,19,22],[19,26,19,32],[18,29,18,30],[18,31,18,32],[14,29,14,32],[15,29,15,32],[1,2,1,5],[1,6,1,12],[11,2,16,8],[18,19,18,20],[18,21,18,22],[18,25,19,25],[18,26,18,27],[16,17,16,18],[16,27,16,28],[18,2,19,2],[18,11,19,12],[18,15,19,15],[18,16,18,17],[11,15,16,16],[11,17,11,18],[11,19,11,22],[15,27,15,28],[11,25,16,26],[11,27,11,28],[21,19,21,20],[21,21,21,22],[21,26,21,27],[21,29,21,30],[21,31,21,32],[22,11,22,12],[22,16,22,17],[20,19,20,20],[20,21,20,22],[20,26,20,27],[20,29,20,30],[20,31,20,32],[21,11,21,12],[21,16,21,17],[20,11,20,12],[20,16,20,17],[23,19,23,20],[23,21,23,22],[23,26,23,27],[23,29,23,30],[23,31,23,32],[24,11,24,12],[24,16,24,17],[22,19,22,20],[22,21,22,22],[22,26,22,27],[22,29,22,30],[22,31,22,32],[23,11,23,12],[23,16,23,17],[25,19,25,20],[25,21,25,22],[25,26,25,27],[25,29,25,30],[25,31,25,32],[26,11,26,12],[26,16,26,17],[24,19,24,20],[24,21,24,22],[24,26,24,27],[24,29,24,30],[24,31,24,32],[25,11,25,12],[25,16,25,17],[27,19,27,20],[27,21,27,22],[27,26,27,27],[27,29,27,30],[27,31,27,32],[28,11,28,12],[28,16,28,17],[26,19,26,20],[26,21,26,22],[26,26,26,27],[26,29,26,30],[26,31,26,32],[27,11,27,12],[27,16,27,17],[29,19,29,20],[29,21,29,22],[29,26,29,27],[29,29,29,30],[29,31,29,32],[30,11,30,12],[30,16,30,17],[28,19,28,20],[28,21,28,22],[28,26,28,27],[28,29,28,30],[28,31,28,32],[29,11,29,12],[29,16,29,17],[31,19,31,20],[31,21,31,22],[31,26,31,27],[31,29,31,30],[31,31,31,32],[32,11,32,12],[32,16,32,17],[30,19,30,20],[30,21,30,22],[30,26,30,27],[30,29,30,30],[30,31,30,32],[31,11,31,12],[31,16,31,17],[33,31,33,32],[34,11,34,12],[34,16,34,17],[32,19,32,20],[32,21,32,22],[32,26,32,27],[32,29,32,30],[32,31,32,32],[33,11,33,12],[33,16,33,17],[34,19,34,20],[34,21,34,22],[34,26,34,27],[34,29,34,30],[34,31,34,32],[33,19,33,20],[33,21,33,22],[33,26,33,27],[33,29,33,30],[37,11,37,12],[37,16,37,17],[35,19,35,20],[35,21,35,22],[35,26,35,27],[35,29,35,30],[35,31,35,32],[36,11,36,12],[36,16,36,17],[35,11,35,12],[35,16,35,17],[41,15,43,15],[41,19,41,20],[38,19,38,20],[38,21,38,22],[38,26,38,27],[38,29,38,30],[38,31,38,32],[39,11,39,12],[39,16,39,17],[38,11,38,12],[38,16,38,17],[43,21,43,22],[43,29,43,30],[43,31,43,32],[41,21,41,22],[41,25,43,25],[41,29,41,30],[41,31,41,32],[42,18,42,22],[42,28,42,32],[43,19,43,20],[39,19,39,20],[39,21,39,22],[39,26,39,27],[39,29,39,30],[39,31,39,32],[37,19,37,20],[37,21,37,22],[37,26,37,27],[37,29,37,30],[37,31,37,32],[36,19,36,20],[36,21,36,22],[36,26,36,27],[36,29,36,30],[36,31,36,32]]}
[]
[null,null,"Hobuste söötmine",null,null,null,"STA"]
[]
[]
[null,0]
[]
[]
[]
[]
[]
[]
[null,null,"Söötade trabimine aastas",null,null,null,null,null,null,null,null,null,null,null,null,"Täiskasvanud hobused",null,"Loomade arv, aastahobused",null,null,null,null,null,null,null,"Noorhobused",null,"Loomade arv, aastahobused"]
[]
[]
[null,null,null,null,null,null,null,null,null,null,null,null,null,null,null,null,null,null,null,null,null,null,null,null,null,null,null,"Kehamass perioodi alguses, kg"]
[null,null,null,null,null,null,null,null,null,null,null,null,null,null,null,null,null,null,null,null,null,null,null,null,null,null,null,"Kehamass perioodi lõpus, kg"]
[null,null,null,null,null,null,null,null,null,null,null,null,null,null,null,null,null,"Karjatamine",null,"Päevi aastas",null,"Tundi päevas",null,null,null,null,null,"Karjatamine",null,"Päevi aastas",null,"Tundi päevas "]
[]
[null,null,"Söödad ","Kogus","KA","KA seeduvus ","TP","P","K",null,null,"Summa (max. 100%)",null,null,null,"Osakaal,% ","KA",null,"TP","P",null,"K",null,null,null,"Osakaal,% ","KA",null,"TP","P",null,"K"]
[null,null,null,"t/aasta",null,"%","t/aasta",null,null,null,null,null,null,null,null,null,"kg/aasta",null,null,null,null,null,null,null,null,null,"kg/aasta"]
[null,null,null,null,{"$f":"IF(D21=0,\"\",VLOOKUP(C21,Feeds!$B$9:$AB$109,23,FALSE)*D21/1000)","v":""},{"$f":"IF(D21=0,\"\",VLOOKUP(C21,Feeds!$B$9:$AB$109,24,FALSE))","v":""},{"$f":"IF(D21=0,\"\",VLOOKUP(C21,Feeds!$B$9:$AB$109,25,FALSE)*D21/1000)","v":""},{"$f":"IF(D21=0,\"\",VLOOKUP(C21,Feeds!$B$9:$AB$109,26,FALSE)*D21/1000)","v":""},{"$f":"IF(D21=0,\"\",VLOOKUP(C21,Feeds!$B$9:$AB$109,27,FALSE)*D21/1000)","v":""},{"$f":"#REF!+#REF!+#REF!+P21+Z21+#REF!","v":{"$error":"#REF!"}},null,{"$f":"IF(P21+Z21 <=100,P21+Z21,\"ERROR, SUM>100%\")","v":0},null,null,{"$f":"IF(#REF!=\"\",0,#REF!*$F$21/100)","v":{"$error":"#REF!"}},null,{"$f":"IF(P21=\"\",\"\",IF($E$21=\"\",\"\",$E$21*P21/100))","v":""},null,{"$f":"IF(P21=\"\",\"\",IF($G$21=\"\",\"\",$G$21*P21/100))","v":""},{"$f":"IF(P21=\"\",\"\",IF($H$21=\"\",\"\",$H$21*P21/100))","v":""},null,{"$f":"IF(P21=\"\",\"\",IF($I$21=\"\",\"\",$I$21*P21/100))","v":""},null,{"$f":"IF(Q21=\"\",0,Q21*$F$21/100)","v":0},null,null,{"$f":"IF(Z21=\"\",\"\",IF($E$21=\"\",\"\",$E$21*Z21/100))","v":""},null,{"$f":"IF(Z21=\"\",\"\",IF($G$21=\"\",\"\",$G$21*Z21/100))","v":""},{"$f":"IF(Z21=\"\",\"\",IF($H$21=\"\",\"\",$H$21*Z21/100))","v":""},null,{"$f":"IF(Z21=\"\",\"\",IF($I$21=\"\",\"\",$I$21*Z21/100))","v":""},null,{"$f":"IF(AA21=\"\",0,AA21*$F$21/100)","v":0},null,null,null,null,null,null,null,null,null,{"$f":"IF(#REF!=\"\",0,#REF!*$F$21/100)","v":{"$error":"#REF!"}}]
[null,null,null,null,{"$f":"IF(D22=0,\"\",VLOOKUP(C22,Feeds!$B$9:$AB$109,23,FALSE)*D22/1000)","v":""},{"$f":"IF(D22=0,\"\",VLOOKUP(C22,Feeds!$B$9:$AB$109,24,FALSE))","v":""},{"$f":"IF(D22=0,\"\",VLOOKUP(C22,Feeds!$B$9:$AB$109,25,FALSE)*D22/1000)","v":""},{"$f":"IF(D22=0,\"\",VLOOKUP(C22,Feeds!$B$9:$AB$109,26,FALSE)*D22/1000)","v":""},{"$f":"IF(D22=0,\"\",VLOOKUP(C22,Feeds!$B$9:$AB$109,27,FALSE)*D22/1000)","v":""},{"$f":"#REF!+#REF!+#REF!+P22+Z22+#REF!","v":{"$error":"#REF!"}},null,{"$f":"IF(P22+Z22 <=100,P22+Z22,\"ERROR, SUM>100%\")","v":0},null,null,{"$f":"IF(#REF!=\"\",0,#REF!*F22/100)","v":{"$error":"#REF!"}},null,{"$f":"IF(P22=\"\",\"\",IF($E$22=\"\",\"\",$E$22*P22/100))","v":""},null,{"$f":"IF(P22=\"\",\"\",IF($G$22=\"\",\"\",$G$22*P22/100))","v":""},{"$f":"IF(P22=\"\",\"\",IF($H$22=\"\",\"\",$H$22*P22/100))","v":""},null,{"$f":"IF(P22=\"\",\"\",IF($I$22=\"\",\"\",$I$22*P22/100))","v":""},null,{"$f":"IF(Q22=\"\",0,Q22*$F$22/100)","v":0},null,null,{"$f":"IF(Z22=\"\",\"\",IF($E$22=\"\",\"\",$E$22*Z22/100))","v":""},null,{"$f":"IF(Z22=\"\",\"\",IF($G$22=\"\",\"\",$G$22*Z22/100))","v":""},{"$f":"IF(Z22=\"\",\"\",IF($H$22=\"\",\"\",$H$22*Z22/100))","v":""},null,{"$f":"IF(Z22=\"\",\"\",IF($I$22=\"\",\"\",$I$22*Z22/100))","v":""},null,{"$f":"IF(AA22=\"\",0,AA22*$F$22/100)","v":0},null,null,null,null,null,null,null,null,null,{"$f":"IF(#REF!=\"\",0,#REF!*$F$22/100)","v":{"$error":"#REF!"}}]
[null,null,null,null,{"$f":"IF(D23=0,\"\",VLOOKUP(C23,Feeds!$B$9:$AB$109,23,FALSE)*D23/1000)","v":""},{"$f":"IF(D23=0,\"\",VLOOKUP(C23,Feeds!$B$9:$AB$109,24,FALSE))","v":""},{"$f":"IF(D23=0,\"\",VLOOKUP(C23,Feeds!$B$9:$AB$109,25,FALSE)*D23/1000)","v":""},{"$f":"IF(D23=0,\"\",VLOOKUP(C23,Feeds!$B$9:$AB$109,26,FALSE)*D23/1000)","v":""},{"$f":"IF(D23=0,\"\",VLOOKUP(C23,Feeds!$B$9:$AB$109,27,FALSE)*D23/1000)","v":""},{"$f":"#REF!+#REF!+#REF!+P23+Z23+#REF!","v":{"$error":"#REF!"}},null,0,null,null,{"$f":"IF(#REF!=\"\",0,#REF!*F23/100)","v":{"$error":"#REF!"}},null,{"$f":"IF(P23=\"\",\"\",IF($E$23=\"\",\"\",$E$23*P23/100))","v":""},null,{"$f":"IF(P23=\"\",\"\",IF($G$23=\"\",\"\",$G$23*P23/100))","v":""},{"$f":"IF(P23=\"\",\"\",IF($H$23=\"\",\"\",$H$23*P23/100))","v":""},null,{"$f":"IF(P23=\"\",\"\",IF($I$23=\"\",\"\",$I$23*P23/100))","v":""},null,{"$f":"IF(Q23=\"\",0,Q23*$F$23/100)","v":0},null,null,{"$f":"IF(Z23=\"\",\"\",IF($E$23=\"\",\"\",$E$23*Z23/100))","v":""},null,{"$f":"IF(Z23=\"\",\"\",IF($G$23=\"\",\"\",$G$23*Z23/100))","v":""},{"$f":"IF(Z23=\"\",\"\",IF($H$23=\"\",\"\",$H$23*Z23/100))","v":""},null,{"$f":"IF(Z23=\"\",\"\",IF($I$23=\"\",\"\",$I$23*Z23/100))","v":""},null,{"$f":"IF(AA23=\"\",0,AA23*$F$23/100)","v":0},null,null,null,null,null,null,null,null,null,{"$f":"IF(#REF!=\"\",0,#REF!*$F$23/100)","v":{"$error":"#REF!"}}]
[null,null,null,null,{"$f":"IF(D24=0,\"\",VLOOKUP(C24,Feeds!$B$9:$AB$109,23,FALSE)*D24/1000)","v":""},{"$f":"IF(D24=0,\"\",VLOOKUP(C24,Feeds!$B$9:$AB$109,24,FALSE))","v":""},{"$f":"IF(D24=0,\"\",VLOOKUP(C24,Feeds!$B$9:$AB$109,25,FALSE)*D24/1000)","v":""},{"$f":"IF(D24=0,\"\",VLOOKUP(C24,Feeds!$B$9:$AB$109,26,FALSE)*D24/1000)","v":""},{"$f":"IF(D24=0,\"\",VLOOKUP(C24,Feeds!$B$9:$AB$109,27,FALSE)*D24/1000)","v":""},{"$f":"#REF!+#REF!+#REF!+P24+Z24+#REF!","v":{"$error":"#REF!"}},null,0,null,null,{"$f":"IF(#REF!=\"\",0,#REF!*F24/100)","v":{"$error":"#REF!"}},null,{"$f":"IF(P24=\"\",\"\",IF($E$24=\"\",\"\",$E$24*P24/100))","v":""},null,{"$f":"IF(P24=\"\",\"\",IF($G$24=\"\",\"\",$G$24*P24/100))","v":""},{"$f":"IF(P24=\"\",\"\",IF($H$24=\"\",\"\",$H$24*P24/100))","v":""},null,{"$f":"IF(P24=\"\",\"\",IF($I$24=\"\",\"\",$I$24*P24/100))","v":""},null,{"$f":"IF(Q24=\"\",0,Q24*$F$24/100)","v":0},null,null,{"$f":"IF(Z24=\"\",\"\",IF($E$24=\"\",\"\",$E$24*Z24/100))","v":""},null,{"$f":"IF(Z24=\"\",\"\",IF($G$24=\"\",\"\",$G$24*Z24/100))","v":""},{"$f":"IF(Z24=\"\",\"\",IF($H$24=\"\",\"\",$H$24*Z24/100))","v":""},null,{"$f":"IF(Z24=\"\",\"\",IF($I$24=\"\",\"\",$I$24*Z24/100))","v":""},null,{"$f":"IF(AA24=\"\",0,AA24*$F$24/100)","v":0},null,null,null,null,null,null,null,null,null,{"$f":"IF(#REF!=\"\",0,#REF!*$F$24/100)","v":{"$error":"#REF!"}}]
[null,null,null,null,{"$f":"IF(D25=0,\"\",VLOOKUP(C25,Feeds!$B$9:$AB$109,23,FALSE)*D25/1000)","v":""},{"$f":"IF(D25=0,\"\",VLOOKUP(C25,Feeds!$B$9:$AB$109,24,FALSE))","v":""},{"$f":"IF(D25=0,\"\",VLOOKUP(C25,Feeds!$B$9:$AB$109,25,FALSE)*D25/1000)","v":""},{"$f":"IF(D25=0,\"\",VLOOKUP(C25,Feeds!$B$9:$AB$109,26,FALSE)*D25/1000)","v":""},{"$f":"IF(D25=0,\"\",VLOOKUP(C25,Feeds!$B$9:$AB$109,27,FALSE)*D25/1000)","v":""},{"$f":"#REF!+#REF!+#REF!+P25+Z25+#REF!","v":{"$error":"#REF!"}},null,0,null,null,{"$f":"IF(#REF!=\"\",0,#REF!*F25/100)","v":{"$error":"#REF!"}},null,{"$f":"IF(P25=\"\",\"\",IF($E$25=\"\",\"\",$E$25*P25/100))","v":""},null,{"$f":"IF(P25=\"\",\"\",IF($G$25=\"\",\"\",$G$25*P25/100))","v":""},{"$f":"IF(P25=\"\",\"\",IF($H$25=\"\",\"\",$H$25*P25/100))","v":""},null,{"$f":"IF(P25=\"\",\"\",IF($I$25=\"\",\"\",$I$25*P25/100))","v":""},null,{"$f":"IF(Q25=\"\",0,Q25*$F$25/100)","v":0},null,null,{"$f":"IF(Z25=\"\",\"\",IF($E$25=\"\",\"\",$E$25*Z25/100))","v":""},null,{"$f":"IF(Z25=\"\",\"\",IF($G$25=\"\",\"\",$G$25*Z25/100))","v":""},{"$f":"IF(Z25=\"\",\"\",IF($H$25=\"\",\"\",$H$25*Z25/100))","v":""},null,{"$f":"IF(Z25=\"\",\"\",IF($I$25=\"\",\"\",$I$25*Z25/100))","v":""},null,{"$f":"IF(AA25=\"\",0,AA25*$F$25/100)","v":0},null,null,null,null,null,null,null,null,null,{"$f":"IF(#REF!=\"\",0,#REF!*$F$25/100)","v":{"$error":"#REF!"}}]
[null,null,null,null,{"$f":"IF(D26=0,\"\",VLOOKUP(C26,Feeds!$B$9:$AB$109,23,FALSE)*D26/1000)","v":""},{"$f":"IF(D26=0,\"\",VLOOKUP(C26,Feeds!$B$9:$AB$109,24,FALSE))","v":""},{"$f":"IF(D26=0,\"\",VLOOKUP(C26,Feeds!$B$9:$AB$109,25,FALSE)*D26/1000)","v":""},{"$f":"IF(D26=0,\"\",VLOOKUP(C26,Feeds!$B$9:$AB$109,26,FALSE)*D26/1000)","v":""},{"$f":"IF(D26=0,\"\",VLOOKUP(C26,Feeds!$B$9:$AB$109,27,FALSE)*D26/1000)","v":""},{"$f":"#REF!+#REF!+#REF!+P26+Z26+#REF!","v":{"$error":"#REF!"}},null,0,null,null,{"$f":"IF(#REF!=\"\",0,#REF!*F26/100)","v":{"$error":"#REF!"}},null,{"$f":"IF(P26=\"\",\"\",IF($E$26=\"\",\"\",$E$26*P26/100))","v":""},null,{"$f":"IF(P26=\"\",\"\",IF($G$26=\"\",\"\",$G$26*P26/100))","v":""},{"$f":"IF(P26=\"\",\"\",IF($H$26=\"\",\"\",$H$26*P26/100))","v":""},null,{"$f":"IF(P26=\"\",\"\",IF($I$26=\"\",\"\",$I$26*P26/100))","v":""},null,{"$f":"IF(Q26=\"\",0,Q26*$F$26/100)","v":0},null,null,{"$f":"IF(Z26=\"\",\"\",IF($E$26=\"\",\"\",$E$26*Z26/100))","v":""},null,{"$f":"IF(Z26=\"\",\"\",IF($G$26=\"\",\"\",$G$26*Z26/100))","v":""},{"$f":"IF(Z26=\"\",\"\",IF($H$26=\"\",\"\",$H$26*Z26/100))","v":""},null,{"$f":"IF(Z26=\"\",\"\",IF($I$26=\"\",\"\",$I$26*Z26/100))","v":""},null,{"$f":"IF(AA26=\"\",0,AA26*$F$26/100)","v":0},null,null,null,null,null,null,null,null,null,{"$f":"IF(#REF!=\"\",0,#REF!*$F$26/100)","v":{"$error":"#REF!"}}]
[null,null,null,null,{"$f":"IF(D27=0,\"\",VLOOKUP(C27,Feeds!$B$9:$AB$109,23,FALSE)*D27/1000)","v":""},{"$f":"IF(D27=0,\"\",VLOOKUP(C27,Feeds!$B$9:$AB$109,24,FALSE))","v":""},{"$f":"IF(D27=0,\"\",VLOOKUP(C27,Feeds!$B$9:$AB$109,25,FALSE)*D27/1000)","v":""},{"$f":"IF(D27=0,\"\",VLOOKUP(C27,Feeds!$B$9:$AB$109,26,FALSE)*D27/1000)","v":""},{"$f":"IF(D27=0,\"\",VLOOKUP(C27,Feeds!$B$9:$AB$109,27,FALSE)*D27/1000)","v":""},{"$f":"#REF!+#REF!+#REF!+P27+Z27+#REF!","v":{"$error":"#REF!"}},null,0,null,null,{"$f":"IF(#REF!=\"\",0,#REF!*F27/100)","v":{"$error":"#REF!"}},null,{"$f":"IF(P27=\"\",\"\",IF(E27=\"\",\"\",E27*P27/100))","v":""},null,{"$f":"IF(P27=\"\",\"\",IF(G27=\"\",\"\",G27*P27/100))","v":""},{"$f":"IF(P27=\"\",\"\",IF(H27=\"\",\"\",H27*P27/100))","v":""},null,{"$f":"IF(P27=\"\",\"\",IF(I27=\"\",\"\",I27*P27/100))","v":""},null,{"$f":"IF(Q27=\"\",0,Q27*$F$27/100)","v":0},null,null,{"$f":"IF(Z27=\"\",\"\",IF(E27=\"\",\"\",E27*Z27/100))","v":""},null,{"$f":"IF(Z27=\"\",\"\",IF(G27=\"\",\"\",G27*Z27/100))","v":""},{"$f":"IF(Z27=\"\",\"\",IF(H27=\"\",\"\",H27*Z27/100))","v":""},null,{"$f":"IF(Z27=\"\",\"\",IF(I27=\"\",\"\",I27*Z27/100))","v":""},null,{"$f":"IF(AA27=\"\",0,AA27*$F$27/100)","v":0},null,null,null,null,null,null,null,null,null,{"$f":"IF(#REF!=\"\",0,#REF!*$F$27/100)","v":{"$error":"#REF!"}}]
[null,null,null,null,{"$f":"IF(D28=0,\"\",VLOOKUP(C28,Feeds!$B$9:$AB$109,23,FALSE)*D28/1000)","v":""},{"$f":"IF(D28=0,\"\",VLOOKUP(C28,Feeds!$B$9:$AB$109,24,FALSE))","v":""},{"$f":"IF(D28=0,\"\",VLOOKUP(C28,Feeds!$B$9:$AB$109,25,FALSE)*D28/1000)","v":""},{"$f":"IF(D28=0,\"\",VLOOKUP(C28,Feeds!$B$9:$AB$109,26,FALSE)*D28/1000)","v":""},{"$f":"IF(D28=0,\"\",VLOOKUP(C28,Feeds!$B$9:$AB$109,27,FALSE)*D28/1000)","v":""},{"$f":"#REF!+#REF!+#REF!+P28+Z28+#REF!","v":{"$error":"#REF!"}},null,0,null,null,{"$f":"IF(#REF!=\"\",0,#REF!*F28/100)","v":{"$error":"#REF!"}},null,"",null,"","",null,"",null,{"$f":"IF(Q28=\"\",0,Q28*F28/100)","v":0},null,null,"",null,"","",null,"",null,{"$f":"IF(AA28=\"\",0,AA28*F28/100)","v":0},null,null,null,null,null,null,null,null,null,{"$f":"IF(#REF!=\"\",0,#REF!*F28/100)","v":{"$error":"#REF!"}}]
[null,null,null,null,{"$f":"IF(D29=0,\"\",VLOOKUP(C29,Feeds!$B$9:$AB$109,23,FALSE)*D29/1000)","v":""},{"$f":"IF(D29=0,\"\",VLOOKUP(C29,Feeds!$B$9:$AB$109,24,FALSE))","v":""},{"$f":"IF(D29=0,\"\",VLOOKUP(C29,Feeds!$B$9:$AB$109,25,FALSE)*D29/1000)","v":""},{"$f":"IF(D29=0,\"\",VLOOKUP(C29,Feeds!$B$9:$AB$109,26,FALSE)*D29/1000)","v":""},{"$f":"IF(D29=0,\"\",VLOOKUP(C29,Feeds!$B$9:$AB$109,27,FALSE)*D29/1000)","v":""},null,null,0,null,null,{"$f":"IF(#REF!=\"\",0,#REF!*F29/100)","v":{"$error":"#REF!"}},null,"",null,"","",null,"",null,0,null,null,"",null,"","",null,"",null,0,null,null,null,null,null,null,null,null,null,{"$f":"IF(#REF!=\"\",0,#REF!*F29/100)","v":{"$error":"#REF!"}}]
[null,null,null,null,{"$f":"IF(D30=0,\"\",VLOOKUP(C30,Feeds!$B$9:$AB$109,23,FALSE)*D30/1000)","v":""},{"$f":"IF(D30=0,\"\",VLOOKUP(C30,Feeds!$B$9:$AB$109,24,FALSE))","v":""},{"$f":"IF(D30=0,\"\",VLOOKUP(C30,Feeds!$B$9:$AB$109,25,FALSE)*D30/1000)","v":""},{"$f":"IF(D30=0,\"\",VLOOKUP(C30,Feeds!$B$9:$AB$109,26,FALSE)*D30/1000)","v":""},{"$f":"IF(D30=0,\"\",VLOOKUP(C30,Feeds!$B$9:$AB$109,27,FALSE)*D30/1000)","v":""},null,null,0,null,null,{"$f":"IF(#REF!=\"\",0,#REF!*F30/100)","v":{"$error":"#REF!"}},null,"",null,"","",null,"",null,0,null,null,"",null,"","",null,"",null,0,null,null,null,null,null,null,null,null,null,{"$f":"IF(#REF!=\"\",0,#REF!*F30/100)","v":{"$error":"#REF!"}}]
[null,null,null,null,{"$f":"IF(D31=0,\"\",VLOOKUP(C31,Feeds!$B$9:$AB$109,23,FALSE)*D31/1000)","v":""},{"$f":"IF(D31=0,\"\",VLOOKUP(C31,Feeds!$B$9:$AB$109,24,FALSE))","v":""},{"$f":"IF(D31=0,\"\",VLOOKUP(C31,Feeds!$B$9:$AB$109,25,FALSE)*D31/1000)","v":""},{"$f":"IF(D31=0,\"\",VLOOKUP(C31,Feeds!$B$9:$AB$109,26,FALSE)*D31/1000)","v":""},{"$f":"IF(D31=0,\"\",VLOOKUP(C31,Feeds!$B$9:$AB$109,27,FALSE)*D31/1000)","v":""},null,null,0,null,null,{"$f":"IF(#REF!=\"\",0,#REF!*F31/100)","v":{"$error":"#REF!"}},null,"",null,"","",null,"",null,0,null,null,"",null,"","",null,"",null,0,null,null,null,null,null,null,null,null,null,{"$f":"IF(#REF!=\"\",0,#REF!*F31/100)","v":{"$error":"#REF!"}}]
[null,null,null,null,{"$f":"IF(D32=0,\"\",VLOOKUP(C32,Feeds!$B$9:$AB$109,23,FALSE)*D32/1000)","v":""},{"$f":"IF(D32=0,\"\",VLOOKUP(C32,Feeds!$B$9:$AB$109,24,FALSE))","v":""},{"$f":"IF(D32=0,\"\",VLOOKUP(C32,Feeds!$B$9:$AB$109,25,FALSE)*D32/1000)","v":""},{"$f":"IF(D32=0,\"\",VLOOKUP(C32,Feeds!$B$9:$AB$109,26,FALSE)*D32/1000)","v":""},{"$f":"IF(D32=0,\"\",VLOOKUP(C32,Feeds!$B$9:$AB$109,27,FALSE)*D32/1000)","v":""},null,null,0,null,null,{"$f":"IF(#REF!=\"\",0,#REF!*F32/100)","v":{"$error":"#REF!"}},null,"",null,"","",null,"",null,0,null,null,"",null,"","",null,"",null,0,null,null,null,null,null,null,null,null,null,{"$f":"IF(#REF!=\"\",0,#REF!*F32/100)","v":{"$error":"#REF!"}}]
[null,null,null,null,{"$f":"IF(D33=0,\"\",VLOOKUP(C33,Feeds!$B$9:$AB$109,23,FALSE)*D33/1000)","v":""},{"$f":"IF(D33=0,\"\",VLOOKUP(C33,Feeds!$B$9:$AB$109,24,FALSE))","v":""},{"$f":"IF(D33=0,\"\",VLOOKUP(C33,Feeds!$B$9:$AB$109,25,FALSE)*D33/1000)","v":""},{"$f":"IF(D33=0,\"\",VLOOKUP(C33,Feeds!$B$9:$AB$109,26,FALSE)*D33/1000)","v":""},{"$f":"IF(D33=0,\"\",VLOOKUP(C33,Feeds!$B$9:$AB$109,27,FALSE)*D33/1000)","v":""},null,null,0,null,null,{"$f":"IF(#REF!=\"\",0,#REF!*F33/100)","v":{"$error":"#REF!"}},null,"",null,"","",null,"",null,0,null,null,"",null,"","",null,"",null,0,null,null,null,null,null,null,null,null,null,{"$f":"IF(#REF!=\"\",0,#REF!*F33/100)","v":{"$error":"#REF!"}}]
[null,null,null,null,{"$f":"IF(D34=0,\"\",VLOOKUP(C34,Feeds!$B$9:$AB$109,23,FALSE)*D34/1000)","v":""},{"$f":"IF(D34=0,\"\",VLOOKUP(C34,Feeds!$B$9:$AB$109,24,FALSE))","v":""},{"$f":"IF(D34=0,\"\",VLOOKUP(C34,Feeds!$B$9:$AB$109,25,FALSE)*D34/1000)","v":""},{"$f":"IF(D34=0,\"\",VLOOKUP(C34,Feeds!$B$9:$AB$109,26,FALSE)*D34/1000)","v":""},{"$f":"IF(D34=0,\"\",VLOOKUP(C34,Feeds!$B$9:$AB$109,27,FALSE)*D34/1000)","v":""},null,null,0,null,null,{"$f":"IF(#REF!=\"\",0,#REF!*F34/100)","v":{"$error":"#REF!"}},null,"",null,"","",null,"",null,0,null,null,"",null,"","",null,"",null,0,null,null,null,null,null,null,null,null,null,{"$f":"IF(#REF!=\"\",0,#REF!*F34/100)","v":{"$error":"#REF!"}}]
[null,null,null,null,{"$f":"IF(D35=0,\"\",VLOOKUP(C35,Feeds!$B$9:$AB$109,23,FALSE)*D35/1000)","v":""},{"$f":"IF(D35=0,\"\",VLOOKUP(C35,Feeds!$B$9:$AB$109,24,FALSE))","v":""},{"$f":"IF(D35=0,\"\",VLOOKUP(C35,Feeds!$B$9:$AB$109,25,FALSE)*D35/1000)","v":""},{"$f":"IF(D35=0,\"\",VLOOKUP(C35,Feeds!$B$9:$AB$109,26,FALSE)*D35/1000)","v":""},{"$f":"IF(D35=0,\"\",VLOOKUP(C35,Feeds!$B$9:$AB$109,27,FALSE)*D35/1000)","v":""},null,null,0,null,null,{"$f":"IF(#REF!=\"\",0,#REF!*F35/100)","v":{"$error":"#REF!"}},null,"",null,"","",null,"",null,0,null,null,"",null,"","",null,"",null,0,null,null,null,null,null,null,null,null,null,{"$f":"IF(#REF!=\"\",0,#REF!*F35/100)","v":{"$error":"#REF!"}}]
[null,null,null,null,{"$f":"IF(D36=0,\"\",VLOOKUP(C36,Feeds!$B$9:$AB$109,23,FALSE)*D36/1000)","v":""},{"$f":"IF(D36=0,\"\",VLOOKUP(C36,Feeds!$B$9:$AB$109,24,FALSE))","v":""},{"$f":"IF(D36=0,\"\",VLOOKUP(C36,Feeds!$B$9:$AB$109,25,FALSE)*D36/1000)","v":""},{"$f":"IF(D36=0,\"\",VLOOKUP(C36,Feeds!$B$9:$AB$109,26,FALSE)*D36/1000)","v":""},{"$f":"IF(D36=0,\"\",VLOOKUP(C36,Feeds!$B$9:$AB$109,27,FALSE)*D36/1000)","v":""},null,null,0,null,null,{"$f":"IF(#REF!=\"\",0,#REF!*F36/100)","v":{"$error":"#REF!"}},null,"",null,"","",null,"",null,0,null,null,"",null,"","",null,"",null,0,null,null,null,null,null,null,null,null,null,{"$f":"IF(#REF!=\"\",0,#REF!*F36/100)","v":{"$error":"#REF!"}}]
[null,null,null,null,{"$f":"IF(D37=0,\"\",VLOOKUP(C37,Feeds!$B$9:$AB$109,23,FALSE)*D37/1000)","v":""},{"$f":"IF(D37=0,\"\",VLOOKUP(C37,Feeds!$B$9:$AB$109,24,FALSE))","v":""},{"$f":"IF(D37=0,\"\",VLOOKUP(C37,Feeds!$B$9:$AB$109,25,FALSE)*D37/1000)","v":""},{"$f":"IF(D37=0,\"\",VLOOKUP(C37,Feeds!$B$9:$AB$109,26,FALSE)*D37/1000)","v":""},{"$f":"IF(D37=0,\"\",VLOOKUP(C37,Feeds!$B$9:$AB$109,27,FALSE)*D37/1000)","v":""},null,null,0,null,null,{"$f":"IF(#REF!=\"\",0,#REF!*F37/100)","v":{"$error":"#REF!"}},null,"",null,"","",null,"",null,0,null,null,"",null,"","",null,"",null,0,null,null,null,null,null,null,null,null,null,{"$f":"IF(#REF!=\"\",0,#REF!*F37/100)","v":{"$error":"#REF!"}}]
[null,null,null,null,{"$f":"IF(D38=0,\"\",VLOOKUP(C38,Feeds!$B$9:$AB$109,23,FALSE)*D38/1000)","v":""},{"$f":"IF(D38=0,\"\",VLOOKUP(C38,Feeds!$B$9:$AB$109,24,FALSE))","v":""},{"$f":"IF(D38=0,\"\",VLOOKUP(C38,Feeds!$B$9:$AB$109,25,FALSE)*D38/1000)","v":""},{"$f":"IF(D38=0,\"\",VLOOKUP(C38,Feeds!$B$9:$AB$109,26,FALSE)*D38/1000)","v":""},{"$f":"IF(D38=0,\"\",VLOOKUP(C38,Feeds!$B$9:$AB$109,27,FALSE)*D38/1000)","v":""},null,null,0,null,null,{"$f":"IF(#REF!=\"\",0,#REF!*F38/100)","v":{"$error":"#REF!"}},null,"",null,"","",null,"",null,0,null,null,"",null,"","",null,"",null,0,null,null,null,null,null,null,null,null,null,{"$f":"IF(#REF!=\"\",0,#REF!*F38/100)","v":{"$error":"#REF!"}}]
[null,null,null,null,{"$f":"IF(D39=0,\"\",VLOOKUP(C39,Feeds!$B$9:$AB$109,23,FALSE)*D39/1000)","v":""},{"$f":"IF(D39=0,\"\",VLOOKUP(C39,Feeds!$B$9:$AB$109,24,FALSE))","v":""},{"$f":"IF(D39=0,\"\",VLOOKUP(C39,Feeds!$B$9:$AB$109,25,FALSE)*D39/1000)","v":""},{"$f":"IF(D39=0,\"\",VLOOKUP(C39,Feeds!$B$9:$AB$109,26,FALSE)*D39/1000)","v":""},{"$f":"IF(D39=0,\"\",VLOOKUP(C39,Feeds!$B$9:$AB$109,27,FALSE)*D39/1000)","v":""},{"$f":"#REF!+#REF!+#REF!+P39+Z39+#REF!","v":{"$error":"#REF!"}},null,0,null,null,{"$f":"IF(#REF!=\"\",0,#REF!*F39/100)","v":{"$error":"#REF!"}},null,"",null,"","",null,"",null,{"$f":"IF(Q39=\"\",0,Q39*$F$39/100)","v":0},null,null,"",null,"","",null,"",null,{"$f":"IF(AA39=\"\",0,AA39*$F$39/100)","v":0},null,null,null,null,null,null,null,null,null,{"$f":"IF(#REF!=\"\",0,#REF!*$F$39/100)","v":{"$error":"#REF!"}}]
[null,null,null,null,{"$f":"IF(D40=0,\"\",VLOOKUP(C40,Feeds!$B$9:$AB$109,23,FALSE)*D40/1000)","v":""},{"$f":"IF(D40=0,\"\",VLOOKUP(C40,Feeds!$B$9:$AB$109,24,FALSE))","v":""},{"$f":"IF(D40=0,\"\",VLOOKUP(C40,Feeds!$B$9:$AB$109,25,FALSE)*D40/1000)","v":""},{"$f":"IF(D40=0,\"\",VLOOKUP(C40,Feeds!$B$9:$AB$109,26,FALSE)*D40/1000)","v":""},{"$f":"IF(D40=0,\"\",VLOOKUP(C40,Feeds!$B$9:$AB$109,27,FALSE)*D40/1000)","v":""},{"$f":"#REF!+#REF!+#REF!+P40+Z40+#REF!","v":{"$error":"#REF!"}},null,0,null,null,{"$f":"IF(#REF!=\"\",0,#REF!*F40/100)","v":{"$error":"#REF!"}},null,"",null,"","",null,"",null,{"$f":"IF(Q40=\"\",0,Q40*$F$40/100)","v":0},null,null,"",null,"","",null,"",null,{"$f":"IF(AA40=\"\",0,AA40*$F$40/100)","v":0},null,null,null,null,null,null,null,null,null,{"$f":"IF(#REF!=\"\",0,#REF!*$F$40/100)","v":{"$error":"#REF!"}}]
[]
[null,null,null,null,null,null,null,null,null,null,null,null,null,null,null,"Hobuse kohta aastas","KA","KA seeduvus","TP","P",null,"K",null,null,null,"Noorhobuse kohta aastas","KA","KA seeduvus","TP","P",null,"K"]
[null,null,null,null,null,null,null,null,null,null,null,null,null,null,null,null,"kg","%","g/kg KA",null,null,null,null,null,null,null,"kg","%","g/kg KA"]
[null,null,null,null,null,null,null,null,null,null,null,null,null,null,{"$f":"IF(#REF!=0,0,SUM(O21:O43)*1000/#REF!)","v":{"$error":"#REF!"}},null,{"$f":"IF(T12=0,0,SUM(Q21:Q40)*1000/T12)","v":0},{"$f":"IF(T12=0,0,X44/Q44*100)","v":0},{"$f":"IF(T12=0,0,SUM(S21:S40)/T12*1000*1000/Q44)","v":0},{"$f":"IF(T12=0,0,SUM(T21:T40)/T12*1000*1000/Q44)","v":0},null,{"$f":"IF(T12=0,0,SUM(V21:V40)/T12*1000*1000/Q44)","v":0},null,{"$f":"IF(T12=0,0,SUM(X21:X43)*1000/T12)","v":0},null,null,{"$f":"IF(AD12=0,0,SUM(AA21:AA40)*1000/AD12)","v":0},{"$f":"IF(AD12=0,0,AH44/AA44*100)","v":0},{"$f":"IF(AD12=0,0,SUM(AC21:AC40)/AD12*1000*1000/AA44)","v":0},{"$f":"IF(AD12=0,0,SUM(AD21:AD40)/AD12*1000*1000/AA44)","v":0},null,{"$f":"IF(AD12=0,0,SUM(AF21:AF40)/AD12*1000*1000/AA44)","v":0},null,{"$f":"IF(AD12=0,0,SUM(AH21:AH43)*1000/AD12)","v":0},null,null,null,null,null,null,null,null,null,{"$f":"IF(#REF!=0,0,SUM(AR21:AR43)*1000/#REF!)","v":{"$error":"#REF!"}}]

{"sheet":"Ex animal","index":10,"n_rows":62,"n_cols":107,"rows_kept":62,"cut":false,"hidden":false,"merged":[[40,35,41,42],[42,35,42,42],[43,35,43,42],[44,35,44,42],[37,1,41,2],[39,7,39,20],[39,29,39,30],[40,7,40,9],[40,29,41,29],[40,30,41,30],[41,7,41,20],[42,7,42,9],[44,7,44,30],[37,7,37,94],[38,100,41,100],[38,102,40,102],[38,103,40,103],[38,104,40,104],[38,105,40,105],[38,106,40,106],[40,48,41,48],[40,55,41,67],[41,70,41,76],[41,79,41,86],[41,89,41,91],[41,92,41,94],[41,104,41,106],[37,100,37,106],[38,7,38,30],[38,35,38,67],[38,68,38,94],[39,35,39,42],[39,68,39,76],[39,77,39,86],[39,87,39,94],[4,7,4,94],[7,55,8,67],[7,48,8,48],[5,68,5,94],[6,68,6,76],[6,77,6,86],[6,87,6,94],[8,70,8,76],[5,7,5,30],[6,7,6,15],[7,9,7,15],[6,20,6,30],[19,29,20,29],[19,30,20,30],[20,104,20,106],[20,89,20,91],[20,79,20,86],[19,42,20,42],[8,7,8,9],[20,7,20,20],[8,20,8,30],[3,7,3,106],[15,7,15,106],[24,7,24,106],[14,35,14,42],[20,92,20,94],[18,87,18,94],[18,68,18,76],[18,77,18,86],[20,70,20,76],[16,100,16,106],[17,68,17,94],[17,100,20,100],[17,102,19,102],[17,103,19,103],[17,105,19,105],[17,106,19,106],[17,104,19,104],[17,7,17,30],[18,7,18,20],[23,7,23,9],[21,7,21,9],[4,100,4,106],[5,100,8,100],[5,102,7,102],[29,92,29,94],[25,7,25,94],[27,41,27,42],[5,103,7,103],[5,104,7,104],[18,41,18,42],[19,41,20,41],[9,35,9,42],[10,35,10,42],[11,35,11,42],[12,35,12,42],[13,35,13,42],[16,7,16,94],[19,48,20,48],[19,55,20,67],[27,87,27,94],[27,35,27,36],[29,70,29,76],[29,79,29,86],[29,89,29,91],[28,35,29,36],[27,68,27,76],[18,29,18,30],[19,7,19,9],[5,105,7,105],[5,106,7,106],[8,104,8,106],[8,79,8,86],[8,89,8,91],[8,92,8,94],[25,100,25,106],[26,7,26,30],[26,35,26,67],[26,68,26,94],[26,100,29,100],[26,102,28,102],[26,103,28,103],[26,104,28,104],[26,105,28,105],[26,106,28,106],[29,104,29,106],[6,35,6,42],[7,35,8,42],[5,35,5,67],[17,35,17,67],[18,35,18,36],[19,35,20,35],[19,36,20,36],[35,29,35,30],[35,35,35,36],[33,29,33,30],[33,35,33,36],[34,29,34,30],[34,35,34,36],[31,29,31,30],[31,35,31,36],[30,35,30,36],[30,29,30,30],[32,29,32,30],[32,35,32,36],[27,77,27,86],[28,29,28,30],[28,55,29,67],[28,41,29,41],[28,42,29,42],[30,1,30,2],[31,1,31,2],[28,48,29,48],[27,9,28,9],[27,15,27,30],[27,7,28,7],[29,15,29,30],[32,1,32,2],[33,1,33,2],[34,1,34,2],[35,1,35,2],[1,1,1,2],[4,1,8,2],[9,1,9,2],[10,1,10,2],[11,1,11,2],[12,1,12,2],[13,1,13,2],[14,1,14,2],[16,1,20,2],[25,1,29,2],[2,1,2,2],[50,104,50,106],[51,1,51,2],[51,35,51,42],[52,1,52,2],[52,35,52,42],[46,1,50,2],[46,7,46,94],[46,100,46,106],[47,7,47,30],[47,35,47,67],[47,68,47,94],[47,100,50,100],[47,102,49,102],[47,103,49,103],[47,104,49,104],[47,105,49,105],[47,106,49,106],[48,7,48,15],[48,20,48,30],[48,35,48,42],[48,68,48,76],[48,77,48,86],[48,87,48,94],[49,9,49,15],[57,77,57,86],[57,87,57,94],[58,35,59,42],[58,48,59,48],[58,55,59,67],[59,20,59,30],[53,1,53,2],[53,35,53,42],[50,70,50,76],[50,79,50,86],[50,89,50,91],[50,92,50,94],[49,35,50,42],[49,48,50,48],[49,55,50,67],[50,7,50,9],[50,20,50,30],[61,1,61,2],[61,35,61,42],[56,20,57,30],[56,7,59,15],[59,70,59,76],[59,79,59,86],[59,89,59,91],[59,92,59,94],[59,104,59,106],[60,1,60,2],[60,35,60,42],[55,1,59,2],[55,7,55,94],[55,100,55,106],[56,35,56,67],[56,68,56,94],[56,100,59,100],[56,102,58,102],[56,103,58,103],[56,104,58,104],[56,105,58,105],[56,106,58,106],[57,35,57,42],[57,68,57,76]]}
[]
[null,"Väljaheited (looma tasemel)"]
[]
[]
[null,"Looma liik ja vanuse- või toodangurühm",null,null,null,null,null,"Ex-animal",null,null,null,null,null,null,null,null,null,null,null,null,null,null,null,null,null,null,null,null,null,null,null,null,null,null,null,null,null,null,null,null,null,null,null,null,null,null,null,null,null,null,null,null,null,null,null,null,null,null,null,null,null,null,null,null,null,null,null,null,null,null,null,null,null,null,null,null,null,null,null,null,null,null,null,null,null,null,null,null,null,null,null,null,null,null,null,null,null,null,null,null,"Karja kohta kokku"]
[null,null,null,null,null,null,null,"Toodang",null,null,null,null,null,null,null,null,null,null,null,null,null,null,null,null,null,null,null,null,null,null,null,null,null,null,null,"Sööt",null,null,null,null,null,null,null,null,null,null,null,null,null,null,null,null,null,null,null,null,null,null,null,null,null,null,null,null,null,null,null,null,"Väljaheited (ex animal)",null,null,null,null,null,null,null,null,null,null,null,null,null,null,null,null,null,null,null,null,null,null,null,null,null,null,null,null,null,null,null,"Loomade arv (toodetud või aastaloomi)",null,"Kogus","KA","N","P","K"]
[null,null,null,null,null,null,null,"Piim ",null,null,null,null,null,null,null,null,null,null,null,null,"Juurdekasv",null,null,null,null,null,null,null,null,null,null,null,null,null,null,"KA",null,null,null,null,null,null,null,null,null,null,null,null,"KA seeduvus",null,null,null,null,null,null,"TP","TMR","AFC","TMR","AFC",null,"P","TMR","AFC","TMR","AFC",null,"K","Roe",null,null,null,null,null,null,null,null,"Uriin",null,null,null,null,null,null,null,null,null,"Kokku"]
[null,null,null,null,null,null,null,"Kogus",null,"Valk",null,null,null,null,null,null,null,null,null,null,"Algkaal","TMR","AFC","TMR","AFC","TMR","AFC","TMR","AFC","Lõppkaal","Juurdekasv",null,null,null,null,"kg/aasta",null,null,null,null,null,null,null,null,null,null,null,null,"%",null,null,null,null,null,null,"g/kg KA",null,null,null,null,null,null,null,null,null,null,null,null,"Kogus","KA","N","P",null,null,null,null,"K","Kogus","KA","N",null,null,null,null,null,"P","K","Kogus","KA","N","P","K","N","P","K"]
[null,null,null,"TMR","AFC","TMR","AFC","kg/aastalehm",null,null,"TMR","AFC","TMR","AFC",null,"%","TMR","AFC","TMR","AFC","kg",null,null,null,null,null,null,null,null,null,null,"TMR","AFC","TMR","AFC",null,null,null,null,null,null,null,null,null,"TMR","AFC","TMR","AFC",null,"TMR","AFC","TMR","AFC",null,null,null,null,null,null,null,null,null,null,null,null,null,null,null,"t/aasta","%","kg/aasta",null,null,null,null,null,null,"t/aasta","%","kg/aasta",null,null,null,null,null,null,null,"t/aasta","%","kg/aasta",null,null,"kg/t",null,null,null,"TMR","AFC","TMR","AFC",null,null,"t/aasta","%","t/aasta"]
[null,"Piimalehmad",null,{"$f":"IF(B10='FeedIn cattle (TMR)'!C14,'FeedIn cattle (TMR)'!L15,0)","v":0},{"$f":"IF(B10='FeedIn cattle (AFC)'!O12,'FeedIn cattle (AFC)'!S13,0)","v":10000},{"$f":"IF('FeedIn cattle (TMR)'!B5=0,D10,0)","v":0},{"$f":"IF('FeedIn cattle (AFC)'!B5=0,E10,0)","v":0},{"$f":"IF(G10=0,F10,G10)","v":0},{"$f":"H10/365","v":0},{"$f":"H10*P10/100","v":0},{"$f":"IF('Ex animal'!B10='FeedIn cattle (TMR)'!C14,'FeedIn cattle (TMR)'!L16,0)","v":0},{"$f":"IF(B10='FeedIn cattle (AFC)'!O12,'FeedIn cattle (AFC)'!S14,0)","v":3.2},{"$f":"IF('FeedIn cattle (TMR)'!B5=0,K10,0)","v":0},{"$f":"IF('FeedIn cattle (AFC)'!B5=0,L10,0)","v":0},{"$f":"I10*P10/100/6.38*1000","v":0},{"$f":"IF(N10=0,M10,N10)","v":0},{"$f":"IF(B10='FeedIn cattle (TMR)'!C14,'FeedIn cattle (TMR)'!L17,0)","v":0},{"$f":"IF(B10='FeedIn cattle (AFC)'!O12,'FeedIn cattle (AFC)'!S15,0)","v":600},{"$f":"IF('FeedIn cattle (TMR)'!B5=0,Q10,0)","v":0},{"$f":"IF('FeedIn cattle (AFC)'!B5=0,R10,0)","v":0},{"$f":"IF(T10=0,S10,T10)","v":0},{"$f":"IF(B10='FeedIn cattle (TMR)'!C14,'FeedIn cattle (TMR)'!L18,0)","v":0},{"$f":"IF(B10='FeedIn cattle (AFC)'!O12,'FeedIn cattle (AFC)'!S16,0)","v":640},{"$f":"IF('FeedIn cattle (TMR)'!B5=0,V10,0)","v":0},{"$f":"IF('FeedIn cattle (AFC)'!B5=0,W10,0)","v":0},null,null,null,null,{"$f":"IF(Y10=0,X10,Y10)","v":0},{"$f":"AD10-U10","v":0},{"$f":"IF(B10='FeedIn cattle (TMR)'!C14,'FeedIn cattle (TMR)'!E177,0)","v":0},{"$f":"IF(B10='FeedIn cattle (AFC)'!O12,'FeedIn cattle (AFC)'!P55,0)","v":0},{"$f":"IF('FeedIn cattle (TMR)'!B5=0,AF10,0)","v":0},{"$f":"IF('FeedIn cattle (AFC)'!B5=0,AG10,0)","v":0},{"$f":"IF(AI10=0,AH10,AI10)","v":0},null,null,null,null,null,null,null,{"$f":"AJ10/365","v":0},{"$f":"IF(B10='FeedIn cattle (TMR)'!C14,'FeedIn cattle (TMR)'!F177,0)","v":0},{"$f":"IF(B10='FeedIn cattle (AFC)'!O12,'FeedIn cattle (AFC)'!Q55,0)","v":{"$error":"#DIV/0!"}},{"$f":"IF('FeedIn cattle (TMR)'!B5=0,AS10,0)","v":0},{"$f":"IF('FeedIn cattle (AFC)'!B5=0,AT10,0)","v":0},{"$f":"IF(AV10=0,AU10,AV10)","v":0},{"$f":"IF(B10='FeedIn cattle (TMR)'!$C$14,'FeedIn cattle (TMR)'!$G$177,0)","v":0},{"$f":"IF(B10='FeedIn cattle (AFC)'!$O$12,'FeedIn cattle (AFC)'!$R$55,0)","v":{"$error":"#DIV/0!"}},{"$f":"IF('FeedIn cattle (TMR)'!B5=0,AX10,0)","v":0},{"$f":"IF('FeedIn cattle (AFC)'!B5=0,AY10,0)","v":0},{"$f":"AR10*BD10/6.25","v":0},{"$f":"AJ10*BD10/1000/6.25","v":0},{"$f":"IF(BA10=0,AZ10,BA10)","v":0},{"$f":"IF(B10='FeedIn cattle (TMR)'!$C$14,'FeedIn cattle (TMR)'!$H$177,0)","v":0},{"$f":"IF(B10='FeedIn cattle (AFC)'!$O$12,'FeedIn cattle (AFC)'!$S$55,0)","v":{"$error":"#DIV/0!"}},{"$f":"IF('FeedIn cattle (TMR)'!B5=0,BE10,0)","v":0},{"$f":"IF('FeedIn cattle (AFC)'!B5=0,BF10,0)","v":0},{"$f":"AJ10*BJ10/1000","v":0},{"$f":"IF(BH10=0,BG10,BH10)","v":0},{"$f":"IF(B10='FeedIn cattle (TMR)'!$C$14,'FeedIn cattle (TMR)'!$I$177,0)","v":0},{"$f":"IF(B10='FeedIn cattle (AFC)'!$O$12,'FeedIn cattle (AFC)'!$U$55,0)","v":{"$error":"#DIV/0!"}},{"$f":"IF('FeedIn cattle (TMR)'!B5=0,BK10,0)","v":0},{"$f":"IF('FeedIn cattle (AFC)'!B5=0,BL10,0)","v":0},{"$f":"BP10*AJ10/1000","v":0},{"$f":"IF(BN10=0,BM10,BN10)","v":0},{"$f":"IF(CW10=0,0,AJ10*(1-AW10/100)/(BR10/100)/1000)","v":0},{"$f":"IF(AJ10=0,0,'Additional information'!Q7)","v":0},{"$f":"IF(BD10=0,0,(BB10/(0.04*BB10)+(1.8*AR10^2/6.25)+(20*AR10/6.25))*365/1000)","v":0},{"$f":"IF(BJ10=0,0,BI10-CH10-'Additional information'!L15*H10/1000-'Additional information'!L10*AE10/1000-'Additional information'!L7*'Additional information'!L8*'Additional information'!L13/1000)","v":0},{"$f":"IF(B10='FeedIn cattle (TMR)'!$C$14,'Ex animal'!AJ10*'Additional information'!L18/1000,0)","v":0},{"$f":"IF(B10='FeedIn cattle (AFC)'!$O$12,'Ex animal'!AJ10*'Additional information'!L18/1000,0)","v":0},{"$f":"IF('FeedIn cattle (TMR)'!B5=0,BU10,0)","v":0},{"$f":"IF('FeedIn cattle (AFC)'!B5=0,BV10,0)","v":0},{"$f":"IF(BX10=0,BW10,BX10)","v":0},{"$f":"BQ10/VLOOKUP(B10,'Additional information'!$AE$7:$AF$21,2,FALSE)","v":0},{"$f":"IF(AJ10=0,0,'Additional information'!R7)","v":0},{"$f":"IF(BD10=0,0,BC10-BS10-(J10/6.38)-('Additional information'!L9*AE10/1000)-('Additional information'!L7*'Additional information'!L8*'Additional information'!L12/1000))","v":0},{"$f":"#REF!","v":{"$error":"#REF!"}},{"$f":"IF(B10='FeedIn cattle (TMR)'!$C$14,'FeedIn cattle (TMR)'!$L$17*'Additional information'!L17*365/1000/1000,0)","v":0},{"$f":"IF(B10='FeedIn cattle (AFC)'!$O$12,'FeedIn cattle (AFC)'!$S$15*'Additional information'!L17*365/1000/1000,0)","v":0.65700000000000003},{"$f":"IF('FeedIn cattle (TMR)'!B5=0,CD10,0)","v":0},{"$f":"IF('FeedIn cattle (AFC)'!B5=0,CE10,0)","v":0},{"$f":"IF(CG10=0,CF10,CG10)","v":0},{"$f":"IF(BP10=0,0,BO10-BY10-H10*'Additional information'!L16/1000-AE10*'Additional information'!L11/1000-'Additional information'!L7*'Additional information'!L8*'Additional information'!L14/1000)","v":0},{"$f":"BQ10+BZ10","v":0},{"$f":"IF(CJ10=0,0,(BQ10*BR10/100+BZ10*CA10/100)/CJ10*100)","v":0},{"$f":"IF(BD10=0,0,BS10+CB10)","v":0},{"$f":"IF(BJ10=0,0,BT10+CH10)","v":0},{"$f":"IF(BP10=0,0,BY10+CI10)","v":0},{"$f":"IF(CJ10=0,\"\",CL10/CJ10)","v":""},{"$f":"IF(CJ10=0,\"\",CM10/CJ10)","v":""},{"$f":"IF(CJ10=0,\"\",CN10/CJ10)","v":""},null,{"$f":"IF(B10='FeedIn cattle (TMR)'!$C$14,'FeedIn cattle (TMR)'!$L$14,0)","v":0},{"$f":"IF(B10='FeedIn cattle (AFC)'!$O$12,'FeedIn cattle (AFC)'!$S$12,0)","v":1},{"$f":"IF('FeedIn cattle (TMR)'!B5=0,CS10,0)","v":0},{"$f":"IF('FeedIn cattle (AFC)'!B5=0,CT10,0)","v":0},{"$f":"IF(CV10=0,CU10,CV10)","v":0},{"$f":"CW10+0.0000001","v":9.9999999999999995E-8},{"$f":"IF(CJ10=0,0,CX10*CJ10)","v":0},{"$f":"IF(CK10=0,0,CK10)","v":0},{"$f":"IF(CL10=0,0,CX10*CL10/1000)","v":0},{"$f":"IF(CM10=0,0,CM10*CX10/1000)","v":0},{"$f":"IF(CN10=0,0,CN10*CX10/1000)","v":0}]
[null,"Lehmvasikad (vanus kuni 6 kuud)",null,null,null,null,null,null,null,null,null,null,null,null,null,null,{"$f":"IF(B11='FeedIn cattle (TMR)'!$AP$14,'FeedIn cattle (TMR)'!$AY$17,0)","v":0},{"$f":"IF(B11='FeedIn cattle (AFC)'!$AS$12,'FeedIn cattle (AFC)'!$AW$15,0)","v":40},{"$f":"IF('FeedIn cattle (TMR)'!B5=0,Q11,0)","v":0},{"$f":"IF('FeedIn cattle (AFC)'!B5=0,R11,0)","v":0},0,{"$f":"IF(B11='FeedIn cattle (TMR)'!$AP$14,'FeedIn cattle (TMR)'!$AY$18,0)","v":0},{"$f":"IF(B11='FeedIn cattle (AFC)'!$AS$12,'FeedIn cattle (AFC)'!$AW$16,0)","v":120},{"$f":"IF('FeedIn cattle (TMR)'!B5=0,V11,0)","v":0},{"$f":"IF('FeedIn cattle (AFC)'!B5=0,W11,0)","v":0},null,null,null,null,{"$f":"IF(Y11=0,X11,Y11)","v":0},{"$f":"AD11-U11","v":0},{"$f":"IF(B11='FeedIn cattle (TMR)'!$AP$14,'FeedIn cattle (TMR)'!$AR$177,0)","v":0},{"$f":"IF(B11='FeedIn cattle (AFC)'!$AS$12,'FeedIn cattle (AFC)'!$AT$55,0)","v":0},{"$f":"IF('FeedIn cattle (TMR)'!B5=0,AF11,0)","v":0},{"$f":"IF('FeedIn cattle (AFC)'!B5=0,AG11,0)","v":0},{"$f":"IF(AI11=0,AH11,AI11)","v":0},null,null,null,null,null,null,null,{"$f":"AJ11/180","v":0},{"$f":"IF(B11='FeedIn cattle (TMR)'!$AP$14,'FeedIn cattle (TMR)'!$AS$177,0)","v":0},{"$f":"IF(B11='FeedIn cattle (AFC)'!$AS$12,'FeedIn cattle (AFC)'!$AU$55,0)","v":0},{"$f":"IF('FeedIn cattle (TMR)'!B5=0,AS11,0)","v":0},{"$f":"IF('FeedIn cattle (AFC)'!B5=0,AT11,0)","v":0},{"$f":"IF(AV11=0,AU11,AV11)","v":0},{"$f":"IF(B11='FeedIn cattle (TMR)'!$AP$14,'FeedIn cattle (TMR)'!$AT$177,0)","v":0},{"$f":"IF(B11='FeedIn cattle (AFC)'!$AS$12,'FeedIn cattle (AFC)'!$AV$55,0)","v":0},{"$f":"IF('FeedIn cattle (TMR)'!B5=0,AX11,0)","v":0},{"$f":"IF('FeedIn cattle (AFC)'!B5=0,AY11,0)","v":0},{"$f":"AR11*BD11/6.25","v":0},{"$f":"AJ11*BD11/1000/6.25","v":0},{"$f":"IF(BA11=0,AZ11,BA11)","v":0},{"$f":"IF(B11='FeedIn cattle (TMR)'!$AP$14,'FeedIn cattle (TMR)'!$AU$177,0)","v":0},{"$f":"IF(B11='FeedIn cattle (AFC)'!$AS$12,'FeedIn cattle (AFC)'!$AW$55,0)","v":0},{"$f":"IF('FeedIn cattle (TMR)'!B5=0,BE11,0)","v":0},{"$f":"IF('FeedIn cattle (AFC)'!B5=0,BF11,0)","v":0},{"$f":"AJ11*BJ11/1000","v":0},{"$f":"IF(BH11=0,BG11,BH11)","v":0},{"$f":"IF(B11='FeedIn cattle (TMR)'!$AP$14,'FeedIn cattle (TMR)'!$AV$177,0)","v":0},{"$f":"IF(B11='FeedIn cattle (AFC)'!$AS$12,'FeedIn cattle (AFC)'!$AY$55,0)","v":0},{"$f":"IF('FeedIn cattle (TMR)'!B5=0,BK11,0)","v":0},{"$f":"IF('FeedIn cattle (AFC)'!B5=0,BL11,0)","v":0},{"$f":"BP11*AJ11/1000","v":0},{"$f":"IF(BN11=0,BM11,BN11)","v":0},0,{"$f":"IF(AJ11=0,0,'Additional information'!Q8)","v":0},{"$f":"IF(BD11=0,0,((AJ11/365*BD11/6.25)-(AJ11/365*(0.93*BD11-30))/6.25)*365/1000)","v":0},{"$f":"IF(BJ11=0,0,BI11-CH11-(AE11*'Additional information'!L20)/1000)","v":0},null,null,null,null,{"$f":"IF(BP11=0,0,AJ11*'Additional information'!L23/1000)","v":0},{"$f":"BQ11/VLOOKUP(B11,'Additional information'!$AE$7:$AF$21,2,FALSE)","v":0},{"$f":"IF(AJ11=0,0,'Additional information'!R8)","v":0},{"$f":"IF(BD11=0,0,BC11-BS11-('Additional information'!L19*AE11/1000))","v":0},{"$f":"#REF!","v":{"$error":"#REF!"}},null,null,null,null,{"$f":"IF(BJ11=0,0,BI11*'Additional information'!L22/100)","v":0},{"$f":"IF(BP11=0,0,BO11-BY11-AE11*'Additional information'!L21/1000)","v":0},{"$f":"BQ11+BZ11","v":0},0,0,0,{"$f":"IF(BP11=0,0,BY11+CI11)","v":0},{"$f":"IF(CJ11=0,\"\",CL11/CJ11)","v":""},"","",null,{"$f":"IF(B11='FeedIn cattle (TMR)'!$AP$14,'FeedIn cattle (TMR)'!$AY$14,0)","v":0},{"$f":"IF(B11='FeedIn cattle (AFC)'!$AS$12,'FeedIn cattle (AFC)'!$AW$12,0)","v":0},{"$f":"IF('FeedIn cattle (TMR)'!B5=0,CS11,0)","v":0},{"$f":"IF('FeedIn cattle (AFC)'!B5=0,CT11,0)","v":0},0,{"$f":"CW11+0.0000001","v":9.9999999999999995E-8},{"$f":"IF(CJ11=0,0,CX11*CJ11)","v":0},0,{"$f":"IF(CL11=0,0,CX11*CL11/1000)","v":0},0,0]
[null,"Pullvasikad (vanus kuni 6 kuud)",null,null,null,null,null,null,null,null,null,null,null,null,null,null,{"$f":"IF(B12='FeedIn cattle (TMR)'!$BC$14,'FeedIn cattle (TMR)'!$BL$17,0)","v":0},{"$f":"IF(B12='FeedIn cattle (AFC)'!$BC$12,'FeedIn cattle (AFC)'!$BG$15,0)","v":0},{"$f":"IF('FeedIn cattle (TMR)'!B5=0,Q12,0)","v":0},{"$f":"IF('FeedIn cattle (AFC)'!B5=0,R12,0)","v":0},0,{"$f":"IF(B12='FeedIn cattle (TMR)'!$BC$14,'FeedIn cattle (TMR)'!$BL$18,0)","v":0},{"$f":"IF(B12='FeedIn cattle (AFC)'!$BC$12,'FeedIn cattle (AFC)'!$BG$16,0)","v":0},{"$f":"IF('FeedIn cattle (TMR)'!B5=0,V12,0)","v":0},{"$f":"IF('FeedIn cattle (AFC)'!B5=0,W12,0)","v":0},null,null,null,null,{"$f":"IF(Y12=0,X12,Y12)","v":0},0,{"$f":"IF(B12='FeedIn cattle (TMR)'!$BC$14,'FeedIn cattle (TMR)'!$BE$177,0)","v":0},{"$f":"IF(B12='FeedIn cattle (AFC)'!$BC$12,'FeedIn cattle (AFC)'!$BD$55,0)","v":0},{"$f":"IF('FeedIn cattle (TMR)'!B5=0,AF12,0)","v":0},{"$f":"IF('FeedIn cattle (AFC)'!B5=0,AG12,0)","v":0},0,null,null,null,null,null,null,null,{"$f":"AJ12/180","v":0},{"$f":"IF(B12='FeedIn cattle (TMR)'!$BC$14,'FeedIn cattle (TMR)'!$BF$177,0)","v":0},{"$f":"IF(B12='FeedIn cattle (AFC)'!$BC$12,'FeedIn cattle (AFC)'!$BE$55,0)","v":0},{"$f":"IF('FeedIn cattle (TMR)'!B5=0,AS12,0)","v":0},{"$f":"IF('FeedIn cattle (AFC)'!B5=0,AT12,0)","v":0},0,{"$f":"IF(B12='FeedIn cattle (TMR)'!$BC$14,'FeedIn cattle (TMR)'!$BG$177,0)","v":0},{"$f":"IF(B12='FeedIn cattle (AFC)'!$BC$12,'FeedIn cattle (AFC)'!$BF$55,0)","v":0},{"$f":"IF('FeedIn cattle (TMR)'!B5=0,AX12,0)","v":0},{"$f":"IF('FeedIn cattle (AFC)'!B5=0,AY12,0)","v":0},0,0,0,{"$f":"IF(B12='FeedIn cattle (TMR)'!$BC$14,'FeedIn cattle (TMR)'!$BH$177,0)","v":0},{"$f":"IF(B12='FeedIn cattle (AFC)'!$BC$12,'FeedIn cattle (AFC)'!$BG$55,0)","v":0},{"$f":"IF('FeedIn cattle (TMR)'!B5=0,BE12,0)","v":0},{"$f":"IF('FeedIn cattle (AFC)'!B5=0,BF12,0)","v":0},0,{"$f":"IF(BH12=0,BG12,BH12)","v":0},{"$f":"IF(B12='FeedIn cattle (TMR)'!$BC$14,'FeedIn cattle (TMR)'!$BI$177,0)","v":0},{"$f":"IF(B12='FeedIn cattle (AFC)'!$BC$12,'FeedIn cattle (AFC)'!$BI$55,0)","v":0},{"$f":"IF('FeedIn cattle (TMR)'!B5=0,BK12,0)","v":0},{"$f":"IF('FeedIn cattle (AFC)'!B5=0,BL12,0)","v":0},0,{"$f":"IF(BN12=0,BM12,BN12)","v":0},{"$f":"IF(CW12=0,0,AJ12*(1-AW12/100)/(BR12/100)/1000)","v":0},{"$f":"IF(AJ12=0,0,'Additional information'!Q9)","v":0},{"$f":"IF(BD12=0,0,((AJ12/180*BD12/6.25)-(AJ12/180*(0.93*BD12-30))/6.25)*180/1000)","v":0},{"$f":"IF(BJ12=0,0,BI12-CH12-(AE12*'Additional information'!L25)/1000)","v":0},null,null,null,null,{"$f":"IF(BP12=0,0,AJ12*'Additional information'!L28/1000)","v":0},{"$f":"BQ12/VLOOKUP(B12,'Additional information'!AE7:AF21,2,FALSE)","v":0},{"$f":"IF(AJ12=0,0,'Additional information'!R9)","v":0},{"$f":"IF(BD12=0,0,BC12-BS12-('Additional information'!L24*AE12/1000))","v":0},{"$f":"#REF!","v":{"$error":"#REF!"}},null,null,null,null,{"$f":"IF(BJ12=0,0,BI12*'Additional information'!L27/100)","v":0},{"$f":"IF(BP12=0,0,BO12-BY12-AE12*'Additional information'!L26/1000)","v":0},0,{"$f":"IF(CJ12=0,0,(BQ12*BR12/100+BZ12*CA12/100)/CJ12*100)","v":0},0,0,{"$f":"IF(BP12=0,0,BY12+CI12)","v":0},"","","",null,{"$f":"IF(B12='FeedIn cattle (TMR)'!$BC$14,'FeedIn cattle (TMR)'!$BL$14,0)","v":0},{"$f":"IF(B12='FeedIn cattle (AFC)'!$BC$12,'FeedIn cattle (AFC)'!$BG$12,0)","v":0},{"$f":"IF('FeedIn cattle (TMR)'!B5=0,CS12,0)","v":0},{"$f":"IF('FeedIn cattle (AFC)'!B5=0,CT12,0)","v":0},0,9.9999999999999995E-8,0,0,0,0,0]
[null,"Lehmmullikad (vanus 6 kuud kuni poegimine)",null,null,null,null,null,null,null,null,null,null,null,null,null,null,{"$f":"IF(B13='FeedIn cattle (TMR)'!$P$14,'FeedIn cattle (TMR)'!$Y$17,0)","v":0},{"$f":"IF(B13='FeedIn cattle (AFC)'!$Y$12,'FeedIn cattle (AFC)'!$AC$15,0)","v":0},{"$f":"IF('FeedIn cattle (TMR)'!B5=0,Q13,0)","v":0},{"$f":"IF('FeedIn cattle (AFC)'!B5=0,R13,0)","v":0},{"$f":"IF(T13=0,S13,T13)","v":0},{"$f":"IF(B13='FeedIn cattle (TMR)'!$P$14,'FeedIn cattle (TMR)'!$Y$18,0)","v":0},{"$f":"IF(B13='FeedIn cattle (AFC)'!$Y$12,'FeedIn cattle (AFC)'!$AC$16,0)","v":0},{"$f":"IF('FeedIn cattle (TMR)'!B5=0,V13,0)","v":0},{"$f":"IF('FeedIn cattle (AFC)'!B5=0,W13,0)","v":0},{"$f":"IF(B13='FeedIn cattle (TMR)'!$P$14,'FeedIn cattle (TMR)'!$Y$177/30,0)","v":0},{"$f":"IF(B13='FeedIn cattle (AFC)'!$Y$12,'FeedIn cattle (AFC)'!$AC$14,0)","v":0},{"$f":"IF('FeedIn cattle (TMR)'!B5=0,Z13,0)","v":0},{"$f":"IF('FeedIn cattle (AFC)'!B5=0,AA13,0)","v":0},{"$f":"IF(Y13=0,X13,Y13)","v":0},{"$f":"IF(AB13=0,(Y13-T13)/(AC13-6)*12,(X13-S13)/(AB13-6)*12)","v":0},{"$f":"IF(B13='FeedIn cattle (TMR)'!$P$14,'FeedIn cattle (TMR)'!$R$177,0)","v":0},{"$f":"IF(B13='FeedIn cattle (AFC)'!$Y$12,'FeedIn cattle (AFC)'!$Z$55,0)","v":0},{"$f":"IF('FeedIn cattle (TMR)'!B5=0,AF13,0)","v":0},{"$f":"IF('FeedIn cattle (AFC)'!B5=0,AG13,0)","v":0},{"$f":"IF(AI13=0,AH13,AI13)","v":0},null,null,null,null,null,null,null,{"$f":"AJ13/365","v":0},{"$f":"IF(B13='FeedIn cattle (TMR)'!$P$14,'FeedIn cattle (TMR)'!$S$177,0)","v":0},{"$f":"IF(B13='FeedIn cattle (AFC)'!$Y$12,'FeedIn cattle (AFC)'!$AA$55,0)","v":0},{"$f":"IF('FeedIn cattle (TMR)'!B5=0,AS13,0)","v":0},{"$f":"IF('FeedIn cattle (AFC)'!B5=0,AT13,0)","v":0},{"$f":"IF(AV13=0,AU13,AV13)","v":0},{"$f":"IF(B13='FeedIn cattle (TMR)'!$P$14,'FeedIn cattle (TMR)'!$T$177,0)","v":0},{"$f":"IF(B13='FeedIn cattle (AFC)'!$Y$12,'FeedIn cattle (AFC)'!$AB$55,0)","v":0},{"$f":"IF('FeedIn cattle (TMR)'!B5=0,AX13,0)","v":0},{"$f":"IF('FeedIn cattle (AFC)'!B5=0,AY13,0)","v":0},0,0,{"$f":"IF(BA13=0,AZ13,BA13)","v":0},{"$f":"IF(B13='FeedIn cattle (TMR)'!$P$14,'FeedIn cattle (TMR)'!$U$177,0)","v":0},{"$f":"IF(B13='FeedIn cattle (AFC)'!$Y$12,'FeedIn cattle (AFC)'!$AC$55,0)","v":0},{"$f":"IF('FeedIn cattle (TMR)'!B5=0,BE13,0)","v":0},{"$f":"IF('FeedIn cattle (AFC)'!B5=0,BF13,0)","v":0},0,0,{"$f":"IF(B13='FeedIn cattle (TMR)'!$P$14,'FeedIn cattle (TMR)'!$V$177,0)","v":0},{"$f":"IF(B13='FeedIn cattle (AFC)'!$Y$12,'FeedIn cattle (AFC)'!$AE$55,0)","v":0},{"$f":"IF('FeedIn cattle (TMR)'!B5=0,BK13,0)","v":0},{"$f":"IF('FeedIn cattle (AFC)'!B5=0,BL13,0)","v":0},0,0,0,{"$f":"IF(AJ13=0,0,'Additional information'!Q10)","v":0},{"$f":"IF(BD13=0,0,((AJ13/365*BD13/6.25)-(AJ13/365*(0.93*BD13-30))/6.25)*365/1000)","v":0},{"$f":"IF(BJ13=0,0,BI13-CH13-'Additional information'!L32*AE13/1000-'Additional information'!L29*'Additional information'!L30*'Additional information'!L35/1000)","v":0},null,null,null,null,{"$f":"IF(BP13=0,0,AJ13*'Additional information'!L38/1000)","v":0},{"$f":"BQ13/VLOOKUP(B13,'Additional information'!AE7:AF21,2,FALSE)","v":0},{"$f":"IF(AJ13=0,0,'Additional information'!R10)","v":0},{"$f":"IF(BD13=0,0,BC13-BS13-('Additional information'!L31*AE13/1000)-('Additional information'!L29*'Additional information'!L30*'Additional information'!L34/1000))","v":0},{"$f":"#REF!","v":{"$error":"#REF!"}},null,null,null,null,{"$f":"IF(BJ13=0,0,BI13*'Additional information'!L37/100)","v":0},{"$f":"IF(BP13=0,0,BO13-BY13-AE13*'Additional information'!L33/1000-'Additional information'!L29*'Additional information'!L30*'Additional information'!L36/1000)","v":0},0,0,0,0,{"$f":"IF(BP13=0,0,BY13+CI13)","v":0},"","","",null,{"$f":"IF(B13='FeedIn cattle (TMR)'!$P$14,'FeedIn cattle (TMR)'!$Y$14,0)","v":0},{"$f":"IF(B13='FeedIn cattle (AFC)'!$Y$12,'FeedIn cattle (AFC)'!$AC$12,0)","v":0},{"$f":"IF('FeedIn cattle (TMR)'!B5=0,CS13,0)","v":0},{"$f":"IF('FeedIn cattle (AFC)'!B5=0,CT13,0)","v":0},0,9.9999999999999995E-8,0,0,0,0,0]
[null,"Lihaveised (vanus 6 kuud kuni realiseerimine)",null,null,null,null,null,null,null,null,null,null,null,null,null,null,{"$f":"IF(B14='FeedIn cattle (TMR)'!$AC$14,'FeedIn cattle (TMR)'!$AL$17,0)","v":0},{"$f":"IF(B14='FeedIn cattle (AFC)'!$AI$12,'FeedIn cattle (AFC)'!$AM$15,0)","v":0},{"$f":"IF('FeedIn cattle (TMR)'!B5=0,Q14,0)","v":0},{"$f":"IF('FeedIn cattle (AFC)'!B5=0,R14,0)","v":0},{"$f":"IF(T14=0,S14,T14)","v":0},{"$f":"IF(B14='FeedIn cattle (TMR)'!$AC$14,'FeedIn cattle (TMR)'!$AL$18,0)","v":0},{"$f":"IF(B14='FeedIn cattle (AFC)'!$AI$12,'FeedIn cattle (AFC)'!$AM$16,0)","v":0},{"$f":"IF('FeedIn cattle (TMR)'!B5=0,V14,0)","v":0},{"$f":"IF('FeedIn cattle (AFC)'!B5=0,W14,0)","v":0},{"$f":"IF(B14='FeedIn cattle (TMR)'!$AC$14,'FeedIn cattle (TMR)'!$AL$177/30,0)","v":0},{"$f":"IF(B14='FeedIn cattle (AFC)'!$AI$12,'FeedIn cattle (AFC)'!$AM$14/30,0)","v":0},{"$f":"IF('FeedIn cattle (TMR)'!B5=0,Z14,0)","v":0},{"$f":"IF('FeedIn cattle (AFC)'!B5=0,AA14,0)","v":0},{"$f":"IF(Y14=0,X14,Y14)","v":0},{"$f":"IF(AB14=0,IF(AC14-6<12,(Y14-T14)/(AC14-6)*(AC14-6),(Y14-T14)/(AC14-6)*12),IF(AB14-6<12,(X14-S14)/(AB14-6)*(AB14-6),(X14-S14)/(AB14-6)*12))","v":0},{"$f":"IF(B14='FeedIn cattle (TMR)'!$AC$14,'FeedIn cattle (TMR)'!$AE$177,0)","v":0},{"$f":"IF(B14='FeedIn cattle (AFC)'!$AI$12,'FeedIn cattle (AFC)'!$AJ$55,0)","v":0},{"$f":"IF('FeedIn cattle (TMR)'!B5=0,AF14,0)","v":0},{"$f":"IF('FeedIn cattle (AFC)'!B5=0,AG14,0)","v":0},{"$f":"IF(AI14=0,AH14,AI14)","v":0},null,null,null,null,null,null,null,{"$f":"AJ14/365","v":0},{"$f":"IF(B14='FeedIn cattle (TMR)'!$AC$14,'FeedIn cattle (TMR)'!$AF$177,0)","v":0},{"$f":"IF(B14='FeedIn cattle (AFC)'!$AI$12,'FeedIn cattle (AFC)'!$AK$55,0)","v":0},{"$f":"IF('FeedIn cattle (TMR)'!B5=0,AS14,0)","v":0},{"$f":"IF('FeedIn cattle (AFC)'!B5=0,AT14,0)","v":0},0,{"$f":"IF(B14='FeedIn cattle (TMR)'!$AC$14,'FeedIn cattle (TMR)'!$AG$177,0)","v":0},{"$f":"IF(B14='FeedIn cattle (AFC)'!$AI$12,'FeedIn cattle (AFC)'!$AL$55,0)","v":0},{"$f":"IF('FeedIn cattle (TMR)'!B5=0,AX14,0)","v":0},{"$f":"IF('FeedIn cattle (AFC)'!B5=0,AY14,0)","v":0},{"$f":"AR14*BD14/6.25","v":0},{"$f":"AJ14*BD14/1000/6.25","v":0},0,{"$f":"IF(B14='FeedIn cattle (TMR)'!$AC$14,'FeedIn cattle (TMR)'!$AH$177,0)","v":0},{"$f":"IF(B14='FeedIn cattle (AFC)'!$AI$12,'FeedIn cattle (AFC)'!$AM$55,0)","v":0},{"$f":"IF('FeedIn cattle (TMR)'!B5=0,BE14,0)","v":0},{"$f":"IF('FeedIn cattle (AFC)'!B5=0,BF14,0)","v":0},{"$f":"AJ14*BJ14/1000","v":0},{"$f":"IF(BH14=0,BG14,BH14)","v":0},{"$f":"IF(B14='FeedIn cattle (TMR)'!$AC$14,'FeedIn cattle (TMR)'!$AI$177,0)","v":0},{"$f":"IF(B14='FeedIn cattle (AFC)'!$AI$12,'FeedIn cattle (AFC)'!$AO$55,0)","v":0},{"$f":"IF('FeedIn cattle (TMR)'!B5=0,BK14,0)","v":0},{"$f":"IF('FeedIn cattle (AFC)'!B5=0,BL14,0)","v":0},0,{"$f":"IF(BN14=0,BM14,BN14)","v":0},0,{"$f":"IF(AJ14=0,0,'Additional information'!Q11)","v":0},{"$f":"IF(BD14=0,0,((AJ14/365*BD14/6.25)-(AJ14/365*(0.93*BD14-30))/6.25)*365/1000)","v":0},{"$f":"IF(BJ14=0,0,BI14-CH14-(AE14*'Additional information'!L40)/1000)","v":0},null,null,null,null,{"$f":"IF(BP14=0,0,AJ14*'Additional information'!L43/1000)","v":0},{"$f":"BQ14/VLOOKUP(B14,'Additional information'!AE7:AF21,2,FALSE)","v":0},{"$f":"IF(AJ14=0,0,'Additional information'!R11)","v":0},{"$f":"IF(BD14=0,0,BC14-BS14-('Additional information'!L39*AE14/1000))","v":0},{"$f":"#REF!","v":{"$error":"#REF!"}},null,null,null,null,{"$f":"IF(BJ14=0,0,BI14*'Additional information'!L42/100)","v":0},{"$f":"IF(BP14=0,0,BO14-BY14-AE14*'Additional information'!L41/1000)","v":0},0,0,0,0,{"$f":"IF(BP14=0,0,BY14+CI14)","v":0},"","","",null,{"$f":"IF(B14='FeedIn cattle (TMR)'!$AC$14,'FeedIn cattle (TMR)'!$AL$14,0)","v":0},{"$f":"IF(B14='FeedIn cattle (AFC)'!$AI$12,'FeedIn cattle (AFC)'!$AM$12,0)","v":0},{"$f":"IF('FeedIn cattle (TMR)'!B5=0,CS14,0)","v":0},{"$f":"IF('FeedIn cattle (AFC)'!B5=0,CT14,0)","v":0},0,9.9999999999999995E-8,0,0,0,0,0]
[null,"Ammlehmad",null,null,null,null,null,null,null,null,null,null,null,null,null,null,{"$f":"IF(B15='FeedIn cattle (TMR)'!$BP$14,'FeedIn cattle (TMR)'!$BY$17,0)","v":0},{"$f":"IF(B15='FeedIn cattle (AFC)'!$BM$12,'FeedIn cattle (AFC)'!$BQ$15,0)","v":0},{"$f":"IF('FeedIn cattle (TMR)'!B5=0,Q15,0)","v":0},{"$f":"IF('FeedIn cattle (AFC)'!B5=0,R15,0)","v":0},{"$f":"IF(T15=0,S15,T15)","v":0},{"$f":"IF(B15='FeedIn cattle (TMR)'!$BP$14,'FeedIn cattle (TMR)'!$BY$18,0)","v":0},{"$f":"IF(B15='FeedIn cattle (AFC)'!$BM$12,'FeedIn cattle (AFC)'!$BQ$16,0)","v":0},{"$f":"IF('FeedIn cattle (TMR)'!B5=0,V15,0)","v":0},{"$f":"IF('FeedIn cattle (AFC)'!B5=0,W15,0)","v":0},null,null,null,null,{"$f":"IF(Y15=0,X15,Y15)","v":0},{"$f":"AD15-U15","v":0},{"$f":"IF(B15='FeedIn cattle (TMR)'!$BP$14,'FeedIn cattle (TMR)'!$BR$177,0)","v":0},{"$f":"IF(B15='FeedIn cattle (AFC)'!$BM$12,'FeedIn cattle (AFC)'!$BN$55,0)","v":0},{"$f":"IF('FeedIn cattle (TMR)'!B5=0,AF15,0)","v":0},{"$f":"IF('FeedIn cattle (AFC)'!B5=0,AG15,0)","v":0},{"$f":"IF(AI15=0,AH15,AI15)","v":0},null,null,null,null,null,null,null,{"$f":"AJ15/365","v":0},{"$f":"IF(B15='FeedIn cattle (TMR)'!$BP$14,'FeedIn cattle (TMR)'!$BS$177,0)","v":0},{"$f":"IF(B15='FeedIn cattle (AFC)'!$BM$12,'FeedIn cattle (AFC)'!$BO$55,0)","v":0},{"$f":"IF('FeedIn cattle (TMR)'!B5=0,AS15,0)","v":0},{"$f":"IF('FeedIn cattle (AFC)'!B5=0,AT15,0)","v":0},{"$f":"IF(AV15=0,AU15,AV15)","v":0},{"$f":"IF(B15='FeedIn cattle (TMR)'!$BP$14,'FeedIn cattle (TMR)'!$BT$177,0)","v":0},{"$f":"IF(B15='FeedIn cattle (AFC)'!$BM$12,'FeedIn cattle (AFC)'!$BP$55,0)","v":0},{"$f":"IF('FeedIn cattle (TMR)'!B5=0,AX15,0)","v":0},{"$f":"IF('FeedIn cattle (AFC)'!B5=0,AY15,0)","v":0},{"$f":"AR15*BD15/6.25","v":0},{"$f":"AJ15*BD15/1000/6.25","v":0},0,{"$f":"IF(B15='FeedIn cattle (TMR)'!$BP$14,'FeedIn cattle (TMR)'!$BU$177,0)","v":0},{"$f":"IF(B15='FeedIn cattle (AFC)'!$BM$12,'FeedIn cattle (AFC)'!$BQ$55,0)","v":0},{"$f":"IF('FeedIn cattle (TMR)'!B5=0,BE15,0)","v":0},{"$f":"IF('FeedIn cattle (AFC)'!B5=0,BF15,0)","v":0},{"$f":"AJ15*BJ15/1000","v":0},{"$f":"IF(BH15=0,BG15,BH15)","v":0},{"$f":"IF(B15='FeedIn cattle (TMR)'!$BP$14,'FeedIn cattle (TMR)'!$BV$177,0)","v":0},{"$f":"IF(B15='FeedIn cattle (AFC)'!$BM$12,'FeedIn cattle (AFC)'!$BS$55,0)","v":0},{"$f":"IF('FeedIn cattle (TMR)'!B5=0,BK15,0)","v":0},{"$f":"IF('FeedIn cattle (AFC)'!B5=0,BL15,0)","v":0},0,{"$f":"IF(BN15=0,BM15,BN15)","v":0},0,{"$f":"IF(AJ15=0,0,'Additional information'!Q12)","v":0},{"$f":"IF(BD15=0,0,((AJ15/365*BD15/6.25)-(AJ15/365*(0.93*BD15-30))/6.25)*365/1000)","v":0},{"$f":"IF(BJ15=0,0,BI15-CH15-'Additional information'!L47*AE15/1000-'Additional information'!L44*'Additional information'!L45*'Additional information'!L50/1000)","v":0},null,null,null,null,{"$f":"IF(BP15=0,0,AJ15*'Additional information'!L53/1000)","v":0},{"$f":"BQ15/VLOOKUP(B15,'Additional information'!AE7:AF21,2,FALSE)","v":0},{"$f":"IF(AJ15=0,0,'Additional information'!R12)","v":0},{"$f":"IF(BD15=0,0,BC15-BS15-('Additional information'!L46*AE15/1000)-('Additional information'!L44*'Additional information'!L45*'Additional information'!L49/1000))","v":0},{"$f":"#REF!","v":{"$error":"#REF!"}},null,null,null,null,{"$f":"IF(BJ15=0,0,BI15*'Additional information'!L52/100)","v":0},{"$f":"IF(BP15=0,0,BO15-BY15-AE15*'Additional information'!L48/1000-'Additional information'!L44*'Additional information'!L45*'Additional information'!L51/1000)","v":0},{"$f":"BQ15+BZ15","v":0},0,{"$f":"IF(BD15=0,0,BS15+CB15)","v":0},{"$f":"IF(BJ15=0,0,BT15+CH15)","v":0},0,{"$f":"IF(CJ15=0,\"\",CL15/CJ15)","v":""},"","",null,{"$f":"IF(B15='FeedIn cattle (TMR)'!$BP$14,'FeedIn cattle (TMR)'!$BY$14,0)","v":0},{"$f":"IF(B15='FeedIn cattle (AFC)'!$BM$12,'FeedIn cattle (AFC)'!$BQ$12,0)","v":0},{"$f":"IF('FeedIn cattle (TMR)'!B5=0,CS15,0)","v":0},{"$f":"IF('FeedIn cattle (AFC)'!B5=0,CT15,0)","v":0},0,9.9999999999999995E-8,0,0,0,0,0]
[]
[null,"Looma liik ja vanuse- või toodangurühm",null,null,null,null,null,"Ex-animal",null,null,null,null,null,null,null,null,null,null,null,null,null,null,null,null,null,null,null,null,null,null,null,null,null,null,null,null,null,null,null,null,null,null,null,null,null,null,null,null,null,null,null,null,null,null,null,null,null,null,null,null,null,null,null,null,null,null,null,null,null,null,null,null,null,null,null,null,null,null,null,null,null,null,null,null,null,null,null,null,null,null,null,null,null,null,null,null,null,null,null,null,"Karja kohta kokku"]
[null,null,null,null,null,null,null,"Toodang",null,null,null,null,null,null,null,null,null,null,null,null,null,null,null,null,null,null,null,null,null,null,null,null,null,null,null,"Sööt",null,null,null,null,null,null,null,null,null,null,null,null,null,null,null,null,null,null,null,null,null,null,null,null,null,null,null,null,null,null,null,null,"Väljaheited (ex animal)",null,null,null,null,null,null,null,null,null,null,null,null,null,null,null,null,null,null,null,null,null,null,null,null,null,null,null,null,null,null,null,"Loomade arv (toodetud või aastaloomi)",null,"Kogus","KA","N","P","K"]
[null,null,null,null,null,null,null,"Juuredkasv",null,null,null,null,null,null,null,null,null,null,null,null,null,null,null,null,null,null,null,null,null,"Võõrutatud põrsaid",null,null,null,null,null,"kg",null,null,null,null,null,"KA",null,null,null,null,null,null,"KA seeduvus",null,null,null,null,null,null,"TP","INT","AFC","INT","AFC",null,"P","INT","AFC","INT","AFC",null,"K","Roe",null,null,null,null,null,null,null,null,"Uriin",null,null,null,null,null,null,null,null,null,"Kokku"]
[null,null,null,null,null,null,null,"Algkaal",null,null,"INT","AFC","INT","AFC",null,"Lõppkaal",null,null,null,null,"Juurdekasv",null,null,null,null,null,null,null,null,"Arv aastas","Põrsa kehamass võõrutamisel, kg",null,null,null,null,"juurdekasv","kokku",null,null,null,null,"%","kg/aasta",null,null,null,null,null,"%",null,null,null,null,null,null,"g/kg ",null,null,null,null,null,null,null,null,null,null,null,null,"Kogus","KA","N","P",null,null,null,null,"K","Kogus","KA","N",null,null,null,null,null,"P","K","Kogus","KA","N","P","K","N","P","K"]
[null,null,null,"INT","AFC","INT","AFC","kg",null,null,null,null,null,null,null,null,null,null,null,null,null,"INT","AFC","INT","AFC","INT","AFC","INT","AFC",null,null,"INT","AFC","INT","AFC",null,null,"INT","AFC","INT","AFC",null,null,null,"INT","AFC","INT","AFC",null,"INT","AFC","INT","AFC",null,null,null,null,null,null,null,null,null,null,null,null,null,null,null,"t/aasta","%","kg/aasta",null,null,null,null,null,null,"t/aasta","%","kg/aasta",null,null,null,null,null,null,null,"t/aasta","%","kg/aasta",null,null,"kg/t",null,null,null,"INT","AFC","INT","AFC",null,null,"t/aasta","%","t/aasta"]
[null,"Nuumsead",null,{"$f":"IF(B22='FeedIn pigs (Intensive)'!$C$6,'FeedIn pigs (Intensive)'!$G$7,0)","v":0},{"$f":"IF(B22='Feedin pigs (AFC)'!$O$6,'Feedin pigs (AFC)'!$T$7,0)","v":0},{"$f":"IF('FeedIn pigs (Intensive)'!B5=0,D22,0)","v":0},{"$f":"IF('Feedin pigs (AFC)'!B5=0,E22,0)","v":0},{"$f":"IF(G22=0,F22,G22)","v":0},null,null,{"$f":"IF(B22='FeedIn pigs (Intensive)'!$C$6,'FeedIn pigs (Intensive)'!$G$8,0)","v":0},{"$f":"IF(B22='Feedin pigs (AFC)'!$O$6,'Feedin pigs (AFC)'!$T$8,0)","v":0},{"$f":"IF('FeedIn pigs (Intensive)'!B5=0,K22,0)","v":0},{"$f":"IF('Feedin pigs (AFC)'!B5=0,L22,0)","v":0},null,{"$f":"IF(N22=0,M22,N22)","v":0},null,null,null,null,{"$f":"P22-H22","v":0},null,null,null,null,null,null,null,null,null,null,{"$f":"IF(B22='FeedIn pigs (Intensive)'!$C$6,'FeedIn pigs (Intensive)'!$D$108,0)","v":0},{"$f":"IF(B22='Feedin pigs (AFC)'!$O$6,'Feedin pigs (AFC)'!$P$37,0)","v":0},{"$f":"IF('FeedIn pigs (Intensive)'!B5=0,AF22,0)","v":0},{"$f":"IF('Feedin pigs (AFC)'!B5=0,AG22,0)","v":0},{"$f":"IF(AK22=0,0,AK22/U22)","v":0},{"$f":"IF(AI22=0,AH22,AI22)","v":0},{"$f":"IF(B22='FeedIn pigs (Intensive)'!$C$6,'FeedIn pigs (Intensive)'!$E$108,0)","v":0},{"$f":"IF(B22='Feedin pigs (AFC)'!$O$6,'Feedin pigs (AFC)'!$Q$37,0)","v":0},{"$f":"IF('FeedIn pigs (Intensive)'!B5=0,AL22,0)","v":0},{"$f":"IF('Feedin pigs (AFC)'!B5=0,AM22,0)","v":0},{"$f":"IF(AK22=0,0,AQ22/AK22*100)","v":0},{"$f":"IF(AO22=0,AN22,AO22)","v":0},null,{"$f":"IF(B22='FeedIn pigs (Intensive)'!$C$6,'FeedIn pigs (Intensive)'!$F$108,0)","v":0},{"$f":"IF(B22='Feedin pigs (AFC)'!$O$6,'Feedin pigs (AFC)'!$R$37,0)","v":0},{"$f":"IF('FeedIn pigs (Intensive)'!B5=0,AS22,0)","v":0},{"$f":"IF('Feedin pigs (AFC)'!B5=0,AT22,0)","v":0},{"$f":"IF(AV22=0,AU22,AV22)","v":0},{"$f":"IF(B22='FeedIn pigs (Intensive)'!$C$6,'FeedIn pigs (Intensive)'!$G$108,0)","v":0},{"$f":"IF(B22='Feedin pigs (AFC)'!$O$6,'Feedin pigs (AFC)'!$S$37,0)","v":0},{"$f":"IF('FeedIn pigs (Intensive)'!B5=0,AX22,0)","v":0},{"$f":"IF('Feedin pigs (AFC)'!B5=0,AY22,0)","v":0},null,null,{"$f":"IF(BA22=0,AZ22,BA22)","v":0},{"$f":"IF(B22='FeedIn pigs (Intensive)'!$C$6,'FeedIn pigs (Intensive)'!$H$108,0)","v":0},{"$f":"IF(B22='Feedin pigs (AFC)'!$O$6,'Feedin pigs (AFC)'!$T$37,0)","v":0},{"$f":"IF('FeedIn pigs (Intensive)'!B5=0,BE22,0)","v":0},{"$f":"IF('Feedin pigs (AFC)'!B5=0,BF22,0)","v":0},null,{"$f":"IF(BH22=0,BG22,BH22)","v":0},{"$f":"IF(B22='FeedIn pigs (Intensive)'!$C$6,'FeedIn pigs (Intensive)'!$I$108,0)","v":0},{"$f":"IF(B22='Feedin pigs (AFC)'!$O$6,'Feedin pigs (AFC)'!$V$37,0)","v":0},{"$f":"IF('FeedIn pigs (Intensive)'!B5=0,BK22,0)","v":0},{"$f":"IF('Feedin pigs (AFC)'!B5=0,BL22,0)","v":0},null,{"$f":"IF(BN22=0,BM22,BN22)","v":0},{"$f":"IF(CW22=0,0,AQ22*(1-AW22/100)/(BR22/100)/1000)","v":0},{"$f":"IF(AK22=0,0,'Additional information'!Q13)","v":0},{"$f":"AJ22*U22*BD22/6.25/1000*(1-'Additional information'!L57/100)","v":0},{"$f":"AJ22*U22*BJ22/1000*(1-'Additional information'!L58/100)","v":0},null,null,null,null,{"$f":"AJ22*U22*BP22/1000*(1-'Additional information'!L59/100)","v":0},{"$f":"BQ22/VLOOKUP(B22,'Additional information'!AE7:AF21,2,FALSE)","v":0},{"$f":"IF(AK22=0,0,'Additional information'!R13)","v":0},{"$f":"AJ22*U22*BD22/6.25/1000-BS22-(U22*'Additional information'!L54/1000)","v":0},{"$f":"#REF!","v":{"$error":"#REF!"}},null,null,null,null,{"$f":"AJ22*U22*BJ22/1000-BT22-(U22*'Additional information'!L55/1000)","v":0},{"$f":"AJ22*U22*BP22/1000-BY22-(U22*'Additional information'!L56/1000)","v":0},{"$f":"BQ22+BZ22","v":0},{"$f":"IF(CJ22=0,0,(BQ22*BR22/100+BZ22*CA22/100)/CJ22*100)","v":0},{"$f":"BS22+CB22","v":0},{"$f":"BT22+CH22","v":0},{"$f":"BY22+CI22","v":0},{"$f":"IF(CJ22=0,\"\",CL22/CJ22)","v":""},{"$f":"IF(CJ22=0,\"\",CM22/CJ22)","v":""},{"$f":"IF(CJ22=0,\"\",CN22/CJ22)","v":""},null,{"$f":"IF(B22='FeedIn pigs (Intensive)'!$C$6,'FeedIn pigs (Intensive)'!$G$6,0)","v":0},{"$f":"IF(B22='Feedin pigs (AFC)'!$O$6,'Feedin pigs (AFC)'!$T$6,0)","v":0},{"$f":"IF('FeedIn pigs (Intensive)'!B5=0,CS22,0)","v":0},{"$f":"IF('Feedin pigs (AFC)'!B5=0,CT22,0)","v":0},{"$f":"IF(CV22=0,CU22,CV22)","v":0},{"$f":"CW22+0.0000001","v":9.9999999999999995E-8},{"$f":"CX22*CJ22","v":0},{"$f":"CK22","v":0},{"$f":"CX22*CL22/1000","v":0},{"$f":"CM22*CX22/1000","v":0},{"$f":"CN22*CX22/1000","v":0}]
[null,"Emised                                           Free and gestation period",null,null,null,null,null,null,null,null,null,null,null,null,null,null,null,null,null,null,null,{"$f":"IF(B23='FeedIn pigs (Intensive)'!$Y$6,'FeedIn pigs (Intensive)'!$AC$7,0)","v":0},{"$f":"IF(B23='Feedin pigs (AFC)'!$AK$6,'Feedin pigs (AFC)'!$AP$7,0)","v":0},{"$f":"IF('FeedIn pigs (Intensive)'!B5=0,V23,0)","v":0},{"$f":"IF('Feedin pigs (AFC)'!B5=0,W23,0)","v":0},{"$f":"IF(B23='FeedIn pigs (Intensive)'!$Y$6,'FeedIn pigs (Intensive)'!$AC$8,0)","v":0},{"$f":"IF(B23='Feedin pigs (AFC)'!$AK$6,'Feedin pigs (AFC)'!$AP$8,0)","v":0},{"$f":"IF('FeedIn pigs (Intensive)'!B5=0,Z23,0)","v":0},{"$f":"IF('Feedin pigs (AFC)'!B5=0,AA23,0)","v":0},{"$f":"IF(Y23=0,X23,Y23)","v":0},{"$f":"IF(AC23=0,AB23,AC23)","v":0},{"$f":"IF(B23='FeedIn pigs (Intensive)'!$Y$6,'FeedIn pigs (Intensive)'!$Z$108,0)","v":2555},{"$f":"IF(B23='Feedin pigs (AFC)'!$AK$6,'Feedin pigs (AFC)'!$AL$37,0)","v":0},{"$f":"IF('FeedIn pigs (Intensive)'!B5=0,AF23,0)","v":0},{"$f":"IF('Feedin pigs (AFC)'!B5=0,AG23,0)","v":0},null,{"$f":"IF(AI23=0,AH23,AI23)","v":0},{"$f":"IF(B23='FeedIn pigs (Intensive)'!$Y$6,'FeedIn pigs (Intensive)'!$AA$108,0)","v":{"$error":"#N/A"}},{"$f":"IF(B23='Feedin pigs (AFC)'!$AK$6,'Feedin pigs (AFC)'!$AM$37,0)","v":0},{"$f":"IF('FeedIn pigs (Intensive)'!B5=0,AL23,0)","v":0},{"$f":"IF('Feedin pigs (AFC)'!B5=0,AM23,0)","v":0},{"$f":"IF(AK23=0,0,AQ23/AK23*100)","v":0},{"$f":"IF(AO23=0,AN23,AO23)","v":0},null,{"$f":"IF(B23='FeedIn pigs (Intensive)'!$Y$6,'FeedIn pigs (Intensive)'!$AB$108,0)","v":{"$error":"#N/A"}},{"$f":"IF(B23='Feedin pigs (AFC)'!$AK$6,'Feedin pigs (AFC)'!$AN$37,0)","v":0},{"$f":"IF('FeedIn pigs (Intensive)'!B5=0,AS23,0)","v":0},{"$f":"IF('Feedin pigs (AFC)'!B5=0,AT23,0)","v":0},{"$f":"IF(AV23=0,AU23,AV23)","v":0},{"$f":"IF(B23='FeedIn pigs (Intensive)'!$Y$6,'FeedIn pigs (Intensive)'!$AC$108,0)","v":{"$error":"#N/A"}},{"$f":"IF(B23='Feedin pigs (AFC)'!$AK$6,'Feedin pigs (AFC)'!$AO$37,0)","v":0},{"$f":"IF('FeedIn pigs (Intensive)'!B5=0,AX23,0)","v":0},{"$f":"IF('Feedin pigs (AFC)'!B5=0,AY23,0)","v":0},null,null,{"$f":"IF(BA23=0,AZ23,BA23)","v":0},{"$f":"IF(B23='FeedIn pigs (Intensive)'!$Y$6,'FeedIn pigs (Intensive)'!$AD$108,0)","v":{"$error":"#N/A"}},{"$f":"IF(B23='Feedin pigs (AFC)'!$AK$6,'Feedin pigs (AFC)'!$AP$37,0)","v":0},{"$f":"IF('FeedIn pigs (Intensive)'!B5=0,BE23,0)","v":0},{"$f":"IF('Feedin pigs (AFC)'!B5=0,BF23,0)","v":0},null,{"$f":"IF(BH23=0,BG23,BH23)","v":0},{"$f":"IF(B23='FeedIn pigs (Intensive)'!$Y$6,'FeedIn pigs (Intensive)'!$AE$108,0)","v":{"$error":"#N/A"}},{"$f":"IF(B23='Feedin pigs (AFC)'!$AK$6,'Feedin pigs (AFC)'!$AR$37,0)","v":0},{"$f":"IF('FeedIn pigs (Intensive)'!B5=0,BK23,0)","v":0},{"$f":"IF('Feedin pigs (AFC)'!B5=0,BL23,0)","v":0},null,{"$f":"IF(BN23=0,BM23,BN23)","v":0},{"$f":"IF(CW23=0,0,AQ23*(1-AW23/100)/(BR23/100)/1000)","v":0},{"$f":"IF(AK23=0,0,'Additional information'!Q14)","v":0},{"$f":"AK23*BD23/6.25/1000*(1-'Additional information'!L69/100)","v":0},{"$f":"AK23*BJ23/1000*(1-'Additional information'!L70/100)","v":0},null,null,null,null,{"$f":"AK23*BP23/1000*(1-'Additional information'!L71/100)","v":0},{"$f":"BQ23/VLOOKUP(B23,'Additional information'!AE7:AF21,2,FALSE)","v":0},{"$f":"IF(AK23=0,0,'Additional information'!R14)","v":0},{"$f":"AK23*BD23/6.25/1000-BS23-(AD23*AE23*'Additional information'!L66/1000)","v":0},{"$f":"#REF!","v":{"$error":"#REF!"}},null,null,null,null,{"$f":"AK23*BJ23/1000-BT23-(AD23*AE23*'Additional information'!L67/1000)","v":0},{"$f":"AK23*BP23/1000-BY23-(AD23*AE23*'Additional information'!L68/1000)","v":0},{"$f":"BQ23+BZ23","v":0},{"$f":"IF(CJ23=0,0,(BQ23*BR23/100+BZ23*CA23/100)/CJ23*100)","v":0},{"$f":"BS23+CB23","v":0},{"$f":"BT23+CH23","v":0},{"$f":"BY23+CI23","v":0},{"$f":"IF(CJ23=0,\"\",CL23/CJ23)","v":""},"","",null,{"$f":"IF(B23='FeedIn pigs (Intensive)'!$Y$6,'FeedIn pigs (Intensive)'!$AC$6,0)","v":0},{"$f":"IF(B23='Feedin pigs (AFC)'!$AK$6,'Feedin pigs (AFC)'!$AP$6,0)","v":0},{"$f":"IF('FeedIn pigs (Intensive)'!B5=0,CS23,0)","v":0},{"$f":"IF('Feedin pigs (AFC)'!B5=0,CT23,0)","v":0},{"$f":"IF(CV23=0,CU23,CV23)","v":0},{"$f":"CW23+0.0000001","v":9.9999999999999995E-8},{"$f":"CX23*CJ23","v":0},{"$f":"CK23","v":0},{"$f":"CX23*CL23/1000","v":0},{"$f":"CM23*CX23/1000","v":0},{"$f":"CN23*CX23/1000","v":0}]
[null,"Võõrdepõrsad",null,{"$f":"IF(B24='FeedIn pigs (Intensive)'!$N$6,'FeedIn pigs (Intensive)'!$R$7,0)","v":0},{"$f":"IF(B24='Feedin pigs (AFC)'!$Z$6,'Feedin pigs (AFC)'!$AE$7,0)","v":0},{"$f":"IF('FeedIn pigs (Intensive)'!B5=0,D24,0)","v":0},{"$f":"IF('Feedin pigs (AFC)'!B5=0,E24,0)","v":0},{"$f":"IF(G24=0,F24,G24)","v":0},null,null,{"$f":"IF(B24='FeedIn pigs (Intensive)'!$N$6,'FeedIn pigs (Intensive)'!$R$8,0)","v":0},{"$f":"IF(B24='Feedin pigs (AFC)'!$Z$6,'Feedin pigs (AFC)'!$AE$8,0)","v":0},{"$f":"IF('FeedIn pigs (Intensive)'!B5=0,K24,0)","v":0},{"$f":"IF('Feedin pigs (AFC)'!B5=0,L24,0)","v":0},null,{"$f":"IF(N24=0,M24,N24)","v":0},null,null,null,null,{"$f":"P24-H24","v":0},null,null,null,null,null,null,null,null,null,null,{"$f":"IF(B24='FeedIn pigs (Intensive)'!$N$6,'FeedIn pigs (Intensive)'!$O$108,0)","v":0},{"$f":"IF(B24='Feedin pigs (AFC)'!$Z$6,'Feedin pigs (AFC)'!$AA$37,0)","v":0},{"$f":"IF('FeedIn pigs (Intensive)'!B5=0,AF24,0)","v":0},{"$f":"IF('Feedin pigs (AFC)'!B5=0,AG24,0)","v":0},{"$f":"IF(AK24=0,0,AK24/U24)","v":0},{"$f":"IF(AI24=0,AH24,AI24)","v":0},{"$f":"IF(B24='FeedIn pigs (Intensive)'!$N$6,'FeedIn pigs (Intensive)'!$P$108,0)","v":0},{"$f":"IF(B24='Feedin pigs (AFC)'!$Z$6,'Feedin pigs (AFC)'!$AB$37,0)","v":0},{"$f":"IF('FeedIn pigs (Intensive)'!B5=0,AL24,0)","v":0},{"$f":"IF('Feedin pigs (AFC)'!B5=0,AM24,0)","v":0},{"$f":"IF(AK24=0,0,AQ24/AK24*100)","v":0},{"$f":"IF(AO24=0,AN24,AO24)","v":0},null,{"$f":"IF(B24='FeedIn pigs (Intensive)'!$N$6,'FeedIn pigs (Intensive)'!Q108,0)","v":0},{"$f":"IF(B24='Feedin pigs (AFC)'!$Z$6,'Feedin pigs (AFC)'!$AC$37,0)","v":0},{"$f":"IF('FeedIn pigs (Intensive)'!B5=0,AS24,0)","v":0},{"$f":"IF('Feedin pigs (AFC)'!B5=0,AT24,0)","v":0},{"$f":"IF(AV24=0,AU24,AV24)","v":0},{"$f":"IF(B24='FeedIn pigs (Intensive)'!$N$6,'FeedIn pigs (Intensive)'!$R$108,0)","v":0},{"$f":"IF(B24='Feedin pigs (AFC)'!$Z$6,'Feedin pigs (AFC)'!$AD$37,0)","v":0},{"$f":"IF('FeedIn pigs (Intensive)'!B5=0,AX24,0)","v":0},{"$f":"IF('Feedin pigs (AFC)'!B5=0,AY24,0)","v":0},null,null,{"$f":"IF(BA24=0,AZ24,BA24)","v":0},{"$f":"IF(B24='FeedIn pigs (Intensive)'!$N$6,'FeedIn pigs (Intensive)'!$S$108,0)","v":0},{"$f":"IF(B24='Feedin pigs (AFC)'!$Z$6,'Feedin pigs (AFC)'!$AE$37,0)","v":0},{"$f":"IF('FeedIn pigs (Intensive)'!B5=0,BE24,0)","v":0},{"$f":"IF('Feedin pigs (AFC)'!B5=0,BF24,0)","v":0},null,{"$f":"IF(BH24=0,BG24,BH24)","v":0},{"$f":"IF(B24='FeedIn pigs (Intensive)'!$N$6,'FeedIn pigs (Intensive)'!$T$108,0)","v":0},{"$f":"IF(B24='Feedin pigs (AFC)'!$Z$6,'Feedin pigs (AFC)'!$AG$37,0)","v":0},{"$f":"IF('FeedIn pigs (Intensive)'!B5=0,BK24,0)","v":0},{"$f":"IF('Feedin pigs (AFC)'!B5=0,BL24,0)","v":0},null,{"$f":"IF(BN24=0,BM24,BN24)","v":0},{"$f":"IF(CW24=0,0,AQ24*(1-AW24/100)/(BR24/100)/1000)","v":0},{"$f":"IF(AK24=0,0,'Additional information'!Q15)","v":0},{"$f":"AJ24*U24*BD24/6.25/1000*(1-'Additional information'!L63/100)","v":0},{"$f":"AJ24*U24*BJ24/1000*(1-'Additional information'!L64/100)","v":0},null,null,null,null,{"$f":"AJ24*U24*BP24/1000*(1-'Additional information'!L65/100)","v":0},{"$f":"BQ24/VLOOKUP(B24,'Additional information'!AE7:AF21,2,FALSE)","v":0},{"$f":"IF(AK24=0,0,'Additional information'!R15)","v":0},{"$f":"AJ24*U24*BD24/6.25/1000-BS24-(U24*'Additional information'!L60/1000)","v":0},{"$f":"#REF!","v":{"$error":"#REF!"}},null,null,null,null,{"$f":"AJ24*U24*BJ24/1000-BT24-(U24*'Additional information'!L61/1000)","v":0},{"$f":"AJ24*U24*BP24/1000-BY24-(U24*'Additional information'!L56/1000)","v":0},{"$f":"BQ24+BZ24","v":0},{"$f":"IF(CJ24=0,0,(BQ24*BR24/100+BZ24*CA24/100)/CJ24*100)","v":0},{"$f":"BS24+CB24","v":0},{"$f":"BT24+CH24","v":0},{"$f":"BY24+CI24","v":0},{"$f":"IF(CJ24=0,\"\",CL24/CJ24)","v":""},{"$f":"IF(CJ24=0,\"\",CM24/CJ24)","v":""},{"$f":"IF(CJ24=0,\"\",CN24/CJ24)","v":""},null,{"$f":"IF(B24='FeedIn pigs (Intensive)'!$N$6,'FeedIn pigs (Intensive)'!$R$6,0)","v":0},{"$f":"IF(B24='Feedin pigs (AFC)'!$Z$6,'Feedin pigs (AFC)'!AE6,0)","v":0},{"$f":"IF('FeedIn pigs (Intensive)'!B5=0,CS24,0)","v":0},{"$f":"IF('Feedin pigs (AFC)'!B5=0,CT24,0)","v":0},{"$f":"IF(CV24=0,CU24,CV24)","v":0},{"$f":"CW24+0.0000001","v":9.9999999999999995E-8},{"$f":"CX24*CJ24","v":0},{"$f":"CK24","v":0},{"$f":"CX24*CL24/1000","v":0},{"$f":"CM24*CX24/1000","v":0},{"$f":"CN24*CX24/1000","v":0}]
[]
[null,"Looma liik ja vanuse- või toodangurühm",null,null,null,null,null,"Ex-animal",null,null,null,null,null,null,null,null,null,null,null,null,null,null,null,null,null,null,null,null,null,null,null,null,null,null,null,null,null,null,null,null,null,null,null,null,null,null,null,null,null,null,null,null,null,null,null,null,null,null,null,null,null,null,null,null,null,null,null,null,null,null,null,null,null,null,null,null,null,null,null,null,null,null,null,null,null,null,null,null,null,null,null,null,null,null,null,null,null,null,null,null,"Karja kohta kokku"]
[null,null,null,null,null,null,null,"Toodang (ühe linnu kohta)",null,null,null,null,null,null,null,null,null,null,null,null,null,null,null,null,null,null,null,null,null,null,null,null,null,null,null,"Sööt (ühe linnu kohta)",null,null,null,null,null,null,null,null,null,null,null,null,null,null,null,null,null,null,null,null,null,null,null,null,null,null,null,null,null,null,null,null,"Väljaheited (ex animal) kanabroilerid - 1000 linnu kohta; munakanad ja noorlinnud - 100 linnu kohta",null,null,null,null,null,null,null,null,null,null,null,null,null,null,null,null,null,null,null,null,null,null,null,null,null,null,null,null,null,null,null,"Lindude arv (toodetud või aastalindu)",null,"Kogus","KA","N","P","K"]
[null,null,null,null,null,null,null,"Munatoodang",null,"Üleskasvatamis-periood",null,null,null,null,null,"Juurdekasv",null,null,null,null,null,null,null,null,null,null,null,null,null,null,null,null,null,null,null,"kg",null,null,null,null,null,"KA",null,null,null,null,null,null,"KA seeduvus",null,null,null,null,null,null,"TP","INT","AFC","INT","AFC",null,"P","INT","AFC","INT","AFC",null,"K","Roe",null,null,null,null,null,null,null,null,"Uriin",null,null,null,null,null,null,null,null,null,"Kogus"]
[null,null,null,null,null,null,null,null,null,null,null,null,null,null,null,"Algkaal","INT","AFC","INT","AFC","Lõppkaal",null,null,null,null,null,null,null,null,"Juurdekasv",null,null,null,null,null,"kokku",null,null,null,null,null,"%","kg",null,null,null,null,null,"%",null,null,null,null,null,null,"g/kg ",null,null,null,null,null,null,null,null,null,null,null,null,"Kogus","KA","N","P",null,null,null,null,"K","Kogus","KA","N",null,null,null,null,null,"P","K","Kogus","KA","N","P","K","N","P","K"]
[null,null,null,"INT","AFC","INT","AFC","kg/aastalind",null,"päeva","INT","AFC","INT","AFC",null,"kg",null,null,null,null,null,null,null,null,null,null,null,null,null,null,null,"INT","AFC","INT","AFC",null,null,"INT","AFC","INT","AFC",null,null,null,"INT","AFC","INT","AFC",null,"INT","AFC","INT","AFC",null,null,null,null,null,null,null,null,null,null,null,null,null,null,null,"t/aasta","%","kg/aasta",null,null,null,null,null,null,"kg","%","kg/aasta",null,null,null,null,null,null,null,"t/aasta","%","kg/aasta",null,null,"kg/t",null,null,null,"INT","AFC","INT","AFC",null,null,"t/aasta","%","t/aasta"]
[null,"Kanabroilerid",null,{"$f":"IF(B31='FeedIn poultry (Intensive)'!$N$6,'FeedIn poultry (Intensive)'!$W$110,0)","v":0},{"$f":"IF(B31='Feedin poultry (AFC)'!$Z$6,'Feedin poultry (AFC)'!$AE$11,0)","v":0},{"$f":"IF('FeedIn poultry (Intensive)'!B5=0,D31,0)","v":0},{"$f":"IF('Feedin poultry (AFC)'!B5=0,E31,0)","v":0},null,null,{"$f":"IF(G31=0,F31,G31)","v":0},{"$f":"IF(B31='FeedIn poultry (Intensive)'!$N$6,'FeedIn poultry (Intensive)'!$R$9,0)","v":0},{"$f":"IF(B31='Feedin poultry (AFC)'!$Z$6,'Feedin poultry (AFC)'!$AE$9,0)","v":0},{"$f":"IF('FeedIn poultry (Intensive)'!B5=0,K31,0)","v":0},{"$f":"IF('Feedin poultry (AFC)'!B5=0,L31,0)","v":0},null,{"$f":"IF(N31=0,M31,N31)","v":0},{"$f":"IF(B31='FeedIn poultry (Intensive)'!$N$6,'FeedIn poultry (Intensive)'!$R$10,0)","v":0},{"$f":"IF(B31='Feedin poultry (AFC)'!$Z$6,'Feedin poultry (AFC)'!$AE$10,0)","v":0},{"$f":"IF('FeedIn poultry (Intensive)'!B5=0,Q31,0)","v":0},{"$f":"IF('Feedin poultry (AFC)'!B5=0,R31,0)","v":0},{"$f":"IF(T31=0,S31,T31)","v":0},null,null,null,null,null,null,null,null,{"$f":"U31-P31","v":0},null,{"$f":"IF(B31='FeedIn poultry (Intensive)'!$N$6,'FeedIn poultry (Intensive)'!$O$110,0)","v":0},{"$f":"IF(B31='Feedin poultry (AFC)'!$Z$6,'Feedin poultry (AFC)'!$AA$39,0)","v":0},{"$f":"IF('FeedIn poultry (Intensive)'!B5=0,AF31,0)","v":0},{"$f":"IF('Feedin poultry (AFC)'!B5=0,AG31,0)","v":0},{"$f":"IF(AI31=0,AH31,AI31)","v":0},null,{"$f":"IF(B31='FeedIn poultry (Intensive)'!$N$6,'FeedIn poultry (Intensive)'!$P$112,0)","v":0},{"$f":"IF(B31='Feedin poultry (AFC)'!$Z$6,'Feedin poultry (AFC)'!$AB$41,0)","v":0},{"$f":"IF('FeedIn poultry (Intensive)'!B5=0,AL31,0)","v":0},{"$f":"IF('Feedin poultry (AFC)'!B5=0,AM31,0)","v":0},{"$f":"IF(AO31=0,AN31,AO31)","v":0},{"$f":"AJ31*AP31/100","v":0},null,{"$f":"IF(B31='FeedIn poultry (Intensive)'!$N$6,'FeedIn poultry (Intensive)'!$Q$110,0)","v":0},{"$f":"IF(B31='Feedin poultry (AFC)'!$Z$6,'Feedin poultry (AFC)'!$AC$39,0)","v":0},{"$f":"IF('FeedIn poultry (Intensive)'!B5=0,AS31,0)","v":0},{"$f":"IF('Feedin poultry (AFC)'!B5=0,AT31,0)","v":0},{"$f":"IF(AV31=0,AU31,AV31)","v":0},{"$f":"IF(B31='FeedIn poultry (Intensive)'!$N$6,'FeedIn poultry (Intensive)'!$R$110,0)","v":0},{"$f":"IF(B31='Feedin poultry (AFC)'!$Z$6,'Feedin poultry (AFC)'!$AD$39,0)","v":0},{"$f":"IF('FeedIn poultry (Intensive)'!B5=0,AX31,0)","v":0},{"$f":"IF('Feedin poultry (AFC)'!B5=0,AY31,0)","v":0},null,null,{"$f":"IF(BA31=0,AZ31,BA31)","v":0},{"$f":"IF(B31='FeedIn poultry (Intensive)'!$N$6,'FeedIn poultry (Intensive)'!$S$110,0)","v":0},{"$f":"IF(B31='Feedin poultry (AFC)'!$Z$6,'Feedin poultry (AFC)'!$AE$39,0)","v":0},{"$f":"IF('FeedIn poultry (Intensive)'!B5=0,BE31,0)","v":0},{"$f":"IF('Feedin poultry (AFC)'!B5=0,BF31,0)","v":0},null,{"$f":"IF(BH31=0,BG31,BH31)","v":0},{"$f":"IF(B31='FeedIn poultry (Intensive)'!$N$6,'FeedIn poultry (Intensive)'!$T$110,0)","v":0},{"$f":"IF(B31='Feedin poultry (AFC)'!$Z$6,'Feedin poultry (AFC)'!$AG$39,0)","v":0},{"$f":"IF('FeedIn poultry (Intensive)'!B5=0,BK31,0)","v":0},{"$f":"IF('Feedin poultry (AFC)'!B5=0,BL31,0)","v":0},null,{"$f":"IF(BN31=0,BM31,BN31)","v":0},{"$f":"IF(CW31=0,0,AJ31*AP31/100*(1-AW31/100)/(BR31/100))","v":0},{"$f":"IF(AJ31=0,0,'Additional information'!Q16)","v":0},{"$f":"(AJ31*BD31/6.25/1000-AD31*'Additional information'!L72/1000)*1000","v":0},{"$f":"(AJ31*BJ31/1000-AD31*'Additional information'!L73/1000)*1000","v":0},null,null,null,null,{"$f":"(AJ31*BP31/1000-AD31*'Additional information'!L74/1000)*1000","v":0},null,null,null,{"$f":"#REF!","v":{"$error":"#REF!"}},null,null,null,null,null,null,{"$f":"BQ31","v":0},{"$f":"IF(CJ31=0,0,(BQ31*BR31/100+BZ31*CA31/100)/CJ31*100)","v":0},{"$f":"BS31","v":0},0,{"$f":"BY31","v":0},{"$f":"IF(CJ31=0,\"\",CL31/CJ31)","v":""},{"$f":"IF(CJ31=0,\"\",CM31/CJ31)","v":""},{"$f":"IF(CJ31=0,\"\",CN31/CJ31)","v":""},null,{"$f":"IF(B31='FeedIn poultry (Intensive)'!$N$6,'FeedIn poultry (Intensive)'!$R$6,0)","v":0},{"$f":"IF(B31='Feedin poultry (AFC)'!$Z$6,'Feedin poultry (AFC)'!$AE$6,0)","v":0},{"$f":"IF('FeedIn poultry (Intensive)'!B5=0,CS31,0)","v":0},{"$f":"IF('Feedin poultry (AFC)'!B5=0,CT31,0)","v":0},{"$f":"IF(CV31=0,CU31,CV31)","v":0},{"$f":"CW31+0.0000001","v":9.9999999999999995E-8},{"$f":"CX31*CJ31/1000","v":0},{"$f":"CK31","v":0},{"$f":"CX31*CL31/1000/1000","v":0},{"$f":"CM31*CX31/1000/1000","v":0},{"$f":"CN31*CX31/1000/1000","v":0}]
[null,"Puurikanad",null,{"$f":"IF(B32='FeedIn poultry (Intensive)'!$G$6,'FeedIn poultry (Intensive)'!$G$8,0)","v":0},{"$f":"IF(B32='Feedin poultry (AFC)'!$T$6,'Feedin poultry (AFC)'!$T$8,0)","v":0},{"$f":"IF('FeedIn poultry (Intensive)'!B5=0,D32,0)","v":0},{"$f":"IF('Feedin poultry (AFC)'!B5=0,E32,0)","v":0},{"$f":"IF(G32=0,F32,G32)","v":0},null,null,{"$f":"IF(B32='FeedIn poultry (Intensive)'!$G$6,'FeedIn poultry (Intensive)'!$G$9,0)","v":0},{"$f":"IF(B32='Feedin poultry (AFC)'!$T$6,'Feedin poultry (AFC)'!$T$9,0)","v":0},{"$f":"IF('FeedIn poultry (Intensive)'!B5=0,K32,0)","v":0},{"$f":"IF('Feedin poultry (AFC)'!B5=0,L32,0)","v":0},null,{"$f":"IF(N32=0,M32,N32)","v":0},{"$f":"IF(B32='FeedIn poultry (Intensive)'!$G$6,'FeedIn poultry (Intensive)'!$G$10,0)","v":0},{"$f":"IF(B32='Feedin poultry (AFC)'!$T$6,'Feedin poultry (AFC)'!$T$10,0)","v":0},{"$f":"IF('FeedIn poultry (Intensive)'!B5=0,Q32,0)","v":0},{"$f":"IF('Feedin poultry (AFC)'!B5=0,R32,0)","v":0},{"$f":"IF(T32=0,S32,T32)","v":0},null,null,null,null,null,null,null,null,{"$f":"U32-P32","v":0},null,{"$f":"IF(B32='FeedIn poultry (Intensive)'!$G$6,'FeedIn poultry (Intensive)'!$D$110,0)","v":0},{"$f":"IF(B32='Feedin poultry (AFC)'!$T$6,'Feedin poultry (AFC)'!$P$39,0)","v":0},{"$f":"IF('FeedIn poultry (Intensive)'!B5=0,AF32,0)","v":0},{"$f":"IF('Feedin poultry (AFC)'!B5=0,AG32,0)","v":0},{"$f":"IF(AI32=0,AH32,AI32)","v":0},null,{"$f":"IF(B32='FeedIn poultry (Intensive)'!$G$6,'FeedIn poultry (Intensive)'!$E$112,0)","v":0},{"$f":"IF(B32='Feedin poultry (AFC)'!$T$6,'Feedin poultry (AFC)'!$Q$41,0)","v":0},{"$f":"IF('FeedIn poultry (Intensive)'!B5=0,AL32,0)","v":0},{"$f":"IF('Feedin poultry (AFC)'!B5=0,AM32,0)","v":0},{"$f":"IF(AO32=0,AN32,AO32)","v":0},0,null,{"$f":"IF(B32='FeedIn poultry (Intensive)'!$G$6,'FeedIn poultry (Intensive)'!$F$110,0)","v":0},{"$f":"IF(B32='Feedin poultry (AFC)'!$T$6,'Feedin poultry (AFC)'!$R$39,0)","v":0},{"$f":"IF('FeedIn poultry (Intensive)'!B5=0,AS32,0)","v":0},{"$f":"IF('Feedin poultry (AFC)'!B5=0,AT32,0)","v":0},{"$f":"IF(AV32=0,AU32,AV32)","v":0},{"$f":"IF(B32='FeedIn poultry (Intensive)'!$G$6,'FeedIn poultry (Intensive)'!$G$110,0)","v":0},{"$f":"IF(B32='Feedin poultry (AFC)'!$T$6,'Feedin poultry (AFC)'!$S$39,0)","v":0},{"$f":"IF('FeedIn poultry (Intensive)'!B5=0,AX32,0)","v":0},{"$f":"IF('Feedin poultry (AFC)'!B5=0,AY32,0)","v":0},null,null,{"$f":"IF(BA32=0,AZ32,BA32)","v":0},{"$f":"IF(B32='FeedIn poultry (Intensive)'!$G$6,'FeedIn poultry (Intensive)'!$H$110,0)","v":0},{"$f":"IF(B32='Feedin poultry (AFC)'!$T$6,'Feedin poultry (AFC)'!$T$39,0)","v":0},{"$f":"IF('FeedIn poultry (Intensive)'!B5=0,BE32,0)","v":0},{"$f":"IF('Feedin poultry (AFC)'!B5=0,BF32,0)","v":0},null,{"$f":"IF(BH32=0,BG32,BH32)","v":0},{"$f":"IF(B32='FeedIn poultry (Intensive)'!$G$6,'FeedIn poultry (Intensive)'!$I$110,0)","v":0},{"$f":"IF(B32='Feedin poultry (AFC)'!$T$6,'Feedin poultry (AFC)'!$V$39,0)","v":0},{"$f":"IF('FeedIn poultry (Intensive)'!B5=0,BK32,0)","v":0},{"$f":"IF('Feedin poultry (AFC)'!B5=0,BL32,0)","v":0},null,{"$f":"IF(BN32=0,BM32,BN32)","v":0},{"$f":"IF(CW32=0,0,(AJ32*AP32/100*(1-AW32/100)/(BR32/100))/10)","v":0},{"$f":"IF(AJ32=0,0,'Additional information'!$Q$18)","v":0},{"$f":"(AJ32*BD32/6.25/1000-AD32*'Additional information'!L78/1000-H32*'Additional information'!L81/1000)*100","v":0},{"$f":"(AJ32*BJ32/1000-AD32*'Additional information'!L79/1000-H32*'Additional information'!L82/1000)*100","v":0},null,null,null,null,{"$f":"(AJ32*BP32/1000-AD32*'Additional information'!L80/1000-H32*'Additional information'!L83/1000)*100","v":0},null,null,null,{"$f":"#REF!","v":{"$error":"#REF!"}},null,null,null,null,null,null,{"$f":"BQ32","v":0},0,0,0,{"$f":"BY32","v":0},"",{"$f":"IF(CJ32=0,\"\",CM32/CJ32)","v":""},{"$f":"IF(CJ32=0,\"\",CN32/CJ32)","v":""},null,{"$f":"IF(B32='FeedIn poultry (Intensive)'!$G$6,'FeedIn poultry (Intensive)'!$G$7,0)","v":0},{"$f":"IF(B32='Feedin poultry (AFC)'!$T$6,'Feedin poultry (AFC)'!$T$7,0)","v":0},{"$f":"IF('FeedIn poultry (Intensive)'!B5=0,CS32,0)","v":0},{"$f":"IF('Feedin poultry (AFC)'!B5=0,CT32,0)","v":0},{"$f":"IF(CV32=0,CU32,CV32)","v":0},9.9999999999999995E-8,{"$f":"CX32*CJ32/100","v":0},{"$f":"CK32","v":0},{"$f":"CX32*CL32/100/1000","v":0},{"$f":"CM32*CX32/100/1000","v":0},{"$f":"CN32*CX32/100/1000","v":0}]
[null,"Õrrekanad",null,{"$f":"IF(B33='FeedIn poultry (Intensive)'!$G$6,'FeedIn poultry (Intensive)'!$G$8,0)","v":0},{"$f":"IF(B33='Feedin poultry (AFC)'!$T$6,'Feedin poultry (AFC)'!$T$8,0)","v":0},{"$f":"IF('FeedIn poultry (Intensive)'!B5=0,D33,0)","v":0},{"$f":"IF('Feedin poultry (AFC)'!B5=0,E33,0)","v":0},{"$f":"IF(G33=0,F33,G33)","v":0},null,null,{"$f":"IF(B33='FeedIn poultry (Intensive)'!$G$6,'FeedIn poultry (Intensive)'!$G$9,0)","v":0},{"$f":"IF(B33='Feedin poultry (AFC)'!$T$6,'Feedin poultry (AFC)'!$T$9,0)","v":0},{"$f":"IF('FeedIn poultry (Intensive)'!B5=0,K33,0)","v":0},{"$f":"IF('Feedin poultry (AFC)'!B5=0,L33,0)","v":0},null,{"$f":"IF(N33=0,M33,N33)","v":0},{"$f":"IF(B33='FeedIn poultry (Intensive)'!$G$6,'FeedIn poultry (Intensive)'!$G$10,0)","v":0},{"$f":"IF(B33='Feedin poultry (AFC)'!$T$6,'Feedin poultry (AFC)'!$T$10,0)","v":0},{"$f":"IF('FeedIn poultry (Intensive)'!B5=0,Q33,0)","v":0},{"$f":"IF('Feedin poultry (AFC)'!B5=0,R33,0)","v":0},{"$f":"IF(T33=0,S33,T33)","v":0},null,null,null,null,null,null,null,null,0,null,{"$f":"IF(B33='FeedIn poultry (Intensive)'!$G$6,'FeedIn poultry (Intensive)'!$D$110,0)","v":0},{"$f":"IF(B33='Feedin poultry (AFC)'!$T$6,'Feedin poultry (AFC)'!$P$39,0)","v":0},{"$f":"IF('FeedIn poultry (Intensive)'!B5=0,AF33,0)","v":0},{"$f":"IF('Feedin poultry (AFC)'!B5=0,AG33,0)","v":0},{"$f":"IF(AI33=0,AH33,AI33)","v":0},null,{"$f":"IF(B33='FeedIn poultry (Intensive)'!$G$6,'FeedIn poultry (Intensive)'!$E$112,0)","v":0},{"$f":"IF(B33='Feedin poultry (AFC)'!$T$6,'Feedin poultry (AFC)'!$Q$41,0)","v":0},{"$f":"IF('FeedIn poultry (Intensive)'!B5=0,AL33,0)","v":0},{"$f":"IF('Feedin poultry (AFC)'!B5=0,AM33,0)","v":0},{"$f":"IF(AO33=0,AN33,AO33)","v":0},0,null,{"$f":"IF(B33='FeedIn poultry (Intensive)'!$G$6,'FeedIn poultry (Intensive)'!$F$110,0)","v":0},{"$f":"IF(B33='Feedin poultry (AFC)'!$T$6,'Feedin poultry (AFC)'!$R$39,0)","v":0},{"$f":"IF('FeedIn poultry (Intensive)'!B5=0,AS33,0)","v":0},{"$f":"IF('Feedin poultry (AFC)'!B5=0,AT33,0)","v":0},{"$f":"IF(AV33=0,AU33,AV33)","v":0},{"$f":"IF(B33='FeedIn poultry (Intensive)'!$G$6,'FeedIn poultry (Intensive)'!$G$110,0)","v":0},{"$f":"IF(B33='Feedin poultry (AFC)'!$T$6,'Feedin poultry (AFC)'!$S$39,0)","v":0},{"$f":"IF('FeedIn poultry (Intensive)'!B5=0,AX33,0)","v":0},{"$f":"IF('Feedin poultry (AFC)'!B5=0,AY33,0)","v":0},null,null,{"$f":"IF(BA33=0,AZ33,BA33)","v":0},{"$f":"IF(B33='FeedIn poultry (Intensive)'!$G$6,'FeedIn poultry (Intensive)'!$H$110,0)","v":0},{"$f":"IF(B33='Feedin poultry (AFC)'!$T$6,'Feedin poultry (AFC)'!$T$39,0)","v":0},{"$f":"IF('FeedIn poultry (Intensive)'!B5=0,BE33,0)","v":0},{"$f":"IF('Feedin poultry (AFC)'!B5=0,BF33,0)","v":0},null,{"$f":"IF(BH33=0,BG33,BH33)","v":0},{"$f":"IF(B33='FeedIn poultry (Intensive)'!$G$6,'FeedIn poultry (Intensive)'!$I$110,0)","v":0},{"$f":"IF(B33='Feedin poultry (AFC)'!$T$6,'Feedin poultry (AFC)'!$V$39,0)","v":0},{"$f":"IF('FeedIn poultry (Intensive)'!B5=0,BK33,0)","v":0},{"$f":"IF('Feedin poultry (AFC)'!B5=0,BL33,0)","v":0},null,{"$f":"IF(BN33=0,BM33,BN33)","v":0},{"$f":"IF(CW33=0,0,(AJ33*AP33/100*(1-AW33/100)/(BR33/100))/10)","v":0},{"$f":"IF(AJ33=0,0,'Additional information'!$Q$18)","v":0},{"$f":"(AJ33*BD33/6.25/1000-AD33*'Additional information'!L78/1000-H33*'Additional information'!L81/1000)*100","v":0},{"$f":"(AJ33*BJ33/1000-AD33*'Additional information'!L79/1000-H33*'Additional information'!L82/1000)*100","v":0},null,null,null,null,{"$f":"(AJ33*BP33/1000-AD33*'Additional information'!L80/1000-H33*'Additional information'!L83/1000)*100","v":0},null,null,null,{"$f":"#REF!","v":{"$error":"#REF!"}},null,null,null,null,null,null,{"$f":"BQ33","v":0},0,0,0,{"$f":"BY33","v":0},"","","",null,{"$f":"IF(B33='FeedIn poultry (Intensive)'!$G$6,'FeedIn poultry (Intensive)'!$G$7,0)","v":0},{"$f":"IF(B33='Feedin poultry (AFC)'!$T$6,'Feedin poultry (AFC)'!$T$7,0)","v":0},{"$f":"IF('FeedIn poultry (Intensive)'!B5=0,CS33,0)","v":0},{"$f":"IF('Feedin poultry (AFC)'!B5=0,CT33,0)","v":0},0,9.9999999999999995E-8,{"$f":"CX33*CJ33/100","v":0},{"$f":"CK33","v":0},{"$f":"CX33*CL33/100/1000","v":0},{"$f":"CM33*CX33/100/1000","v":0},{"$f":"CN33*CX33/100/1000","v":0}]
[null,"Vabapidamisel kanad (pääs jalutusalale)",null,{"$f":"IF(B34='FeedIn poultry (Intensive)'!$G$6,'FeedIn poultry (Intensive)'!$G$8,0)","v":0},{"$f":"IF(B34='Feedin poultry (AFC)'!$T$6,'Feedin poultry (AFC)'!$T$8,0)","v":0},{"$f":"IF('FeedIn poultry (Intensive)'!B5=0,D34,0)","v":0},{"$f":"IF('Feedin poultry (AFC)'!B5=0,E34,0)","v":0},0,null,null,{"$f":"IF(B34='FeedIn poultry (Intensive)'!$G$6,'FeedIn poultry (Intensive)'!$G$9,0)","v":0},{"$f":"IF(B34='Feedin poultry (AFC)'!$T$6,'Feedin poultry (AFC)'!$T$9,0)","v":0},{"$f":"IF('FeedIn poultry (Intensive)'!B5=0,K34,0)","v":0},{"$f":"IF('Feedin poultry (AFC)'!B5=0,L34,0)","v":0},null,{"$f":"IF(N34=0,M34,N34)","v":0},{"$f":"IF(B34='FeedIn poultry (Intensive)'!$G$6,'FeedIn poultry (Intensive)'!$G$10,0)","v":0},{"$f":"IF(B34='Feedin poultry (AFC)'!$T$6,'Feedin poultry (AFC)'!$T$10,0)","v":0},{"$f":"IF('FeedIn poultry (Intensive)'!B5=0,Q34,0)","v":0},{"$f":"IF('Feedin poultry (AFC)'!B5=0,R34,0)","v":0},0,null,null,null,null,null,null,null,null,0,null,{"$f":"IF(B34='FeedIn poultry (Intensive)'!$G$6,'FeedIn poultry (Intensive)'!$D$110,0)","v":0},{"$f":"IF(B34='Feedin poultry (AFC)'!$T$6,'Feedin poultry (AFC)'!$P$39,0)","v":0},{"$f":"IF('FeedIn poultry (Intensive)'!B5=0,AF34,0)","v":0},{"$f":"IF('Feedin poultry (AFC)'!B5=0,AG34,0)","v":0},0,null,{"$f":"IF(B34='FeedIn poultry (Intensive)'!$G$6,'FeedIn poultry (Intensive)'!$E$112,0)","v":0},{"$f":"IF(B34='Feedin poultry (AFC)'!$T$6,'Feedin poultry (AFC)'!$Q$41,0)","v":0},{"$f":"IF('FeedIn poultry (Intensive)'!B5=0,AL34,0)","v":0},{"$f":"IF('Feedin poultry (AFC)'!B5=0,AM34,0)","v":0},0,{"$f":"AJ34*AP34/100","v":0},null,{"$f":"IF(B34='FeedIn poultry (Intensive)'!$G$6,'FeedIn poultry (Intensive)'!$F$110,0)","v":0},{"$f":"IF(B34='Feedin poultry (AFC)'!$T$6,'Feedin poultry (AFC)'!$R$39,0)","v":0},{"$f":"IF('FeedIn poultry (Intensive)'!B5=0,AS34,0)","v":0},{"$f":"IF('Feedin poultry (AFC)'!B5=0,AT34,0)","v":0},0,{"$f":"IF(B34='FeedIn poultry (Intensive)'!$G$6,'FeedIn poultry (Intensive)'!$G$110,0)","v":0},{"$f":"IF(B34='Feedin poultry (AFC)'!$T$6,'Feedin poultry (AFC)'!$S$39,0)","v":0},{"$f":"IF('FeedIn poultry (Intensive)'!B5=0,AX34,0)","v":0},{"$f":"IF('Feedin poultry (AFC)'!B5=0,AY34,0)","v":0},null,null,0,{"$f":"IF(B34='FeedIn poultry (Intensive)'!$G$6,'FeedIn poultry (Intensive)'!$H$110,0)","v":0},{"$f":"IF(B34='Feedin poultry (AFC)'!$T$6,'Feedin poultry (AFC)'!$T$39,0)","v":0},{"$f":"IF('FeedIn poultry (Intensive)'!B5=0,BE34,0)","v":0},{"$f":"IF('Feedin poultry (AFC)'!B5=0,BF34,0)","v":0},null,0,{"$f":"IF(B34='FeedIn poultry (Intensive)'!$G$6,'FeedIn poultry (Intensive)'!$I$110,0)","v":0},{"$f":"IF(B34='Feedin poultry (AFC)'!$T$6,'Feedin poultry (AFC)'!$V$39,0)","v":0},{"$f":"IF('FeedIn poultry (Intensive)'!B5=0,BK34,0)","v":0},{"$f":"IF('Feedin poultry (AFC)'!B5=0,BL34,0)","v":0},null,0,{"$f":"IF(CW34=0,0,(AJ34*AP34/100*(1-AW34/100)/(BR34/100))/10)","v":0},{"$f":"IF(AJ34=0,0,'Additional information'!$Q$18)","v":0},{"$f":"(AJ34*BD34/6.25/1000-AD34*'Additional information'!L78/1000-H34*'Additional information'!L81/1000)*100","v":0},{"$f":"(AJ34*BJ34/1000-AD34*'Additional information'!L79/1000-H34*'Additional information'!L82/1000)*100","v":0},null,null,null,null,{"$f":"(AJ34*BP34/1000-AD34*'Additional information'!L80/1000-H34*'Additional information'!L83/1000)*100","v":0},null,null,null,{"$f":"#REF!","v":{"$error":"#REF!"}},null,null,null,null,null,null,{"$f":"BQ34","v":0},0,{"$f":"BS34","v":0},{"$f":"BT34","v":0},{"$f":"BY34","v":0},"","","",null,{"$f":"IF(B34='FeedIn poultry (Intensive)'!$G$6,'FeedIn poultry (Intensive)'!$G$7,0)","v":0},{"$f":"IF(B34='Feedin poultry (AFC)'!$T$6,'Feedin poultry (AFC)'!$T$7,0)","v":0},{"$f":"IF('FeedIn poultry (Intensive)'!B5=0,CS34,0)","v":0},{"$f":"IF('Feedin poultry (AFC)'!B5=0,CT34,0)","v":0},{"$f":"IF(CV34=0,CU34,CV34)","v":0},9.9999999999999995E-8,{"$f":"CX34*CJ34/100","v":0},{"$f":"CK34","v":0},{"$f":"CX34*CL34/100/1000","v":0},{"$f":"CM34*CX34/100/1000","v":0},{"$f":"CN34*CX34/100/1000","v":0}]
[null,"Mahekanad",null,{"$f":"IF(B35='FeedIn poultry (Intensive)'!$G$6,'FeedIn poultry (Intensive)'!$G$8,0)","v":0},{"$f":"IF(B35='Feedin poultry (AFC)'!$T$6,'Feedin poultry (AFC)'!$T$8,0)","v":0},{"$f":"IF('FeedIn poultry (Intensive)'!B5=0,D35,0)","v":0},{"$f":"IF('Feedin poultry (AFC)'!B5=0,E35,0)","v":0},0,null,null,{"$f":"IF(B35='FeedIn poultry (Intensive)'!$G$6,'FeedIn poultry (Intensive)'!$G$9,0)","v":0},{"$f":"IF(B35='Feedin poultry (AFC)'!$T$6,'Feedin poultry (AFC)'!$T$9,0)","v":0},{"$f":"IF('FeedIn poultry (Intensive)'!B5=0,K35,0)","v":0},{"$f":"IF('Feedin poultry (AFC)'!B5=0,L35,0)","v":0},null,0,{"$f":"IF(B35='FeedIn poultry (Intensive)'!$G$6,'FeedIn poultry (Intensive)'!$G$10,0)","v":0},{"$f":"IF(B35='Feedin poultry (AFC)'!$T$6,'Feedin poultry (AFC)'!$T$10,0)","v":0},{"$f":"IF('FeedIn poultry (Intensive)'!B5=0,Q35,0)","v":0},{"$f":"IF('Feedin poultry (AFC)'!B5=0,R35,0)","v":0},0,null,null,null,null,null,null,null,null,0,null,{"$f":"IF(B35='FeedIn poultry (Intensive)'!$G$6,'FeedIn poultry (Intensive)'!$D$110,0)","v":0},{"$f":"IF(B35='Feedin poultry (AFC)'!$T$6,'Feedin poultry (AFC)'!$P$39,0)","v":0},{"$f":"IF('FeedIn poultry (Intensive)'!B5=0,AF35,0)","v":0},{"$f":"IF('Feedin poultry (AFC)'!B5=0,AG35,0)","v":0},0,null,{"$f":"IF(B35='FeedIn poultry (Intensive)'!$G$6,'FeedIn poultry (Intensive)'!$E$112,0)","v":0},{"$f":"IF(B35='Feedin poultry (AFC)'!$T$6,'Feedin poultry (AFC)'!$Q$41,0)","v":0},{"$f":"IF('FeedIn poultry (Intensive)'!B5=0,AL35,0)","v":0},{"$f":"IF('Feedin poultry (AFC)'!B5=0,AM35,0)","v":0},0,{"$f":"AJ35*AP35/100","v":0},null,{"$f":"IF(B35='FeedIn poultry (Intensive)'!$G$6,'FeedIn poultry (Intensive)'!$F$110,0)","v":0},{"$f":"IF(B35='Feedin poultry (AFC)'!$T$6,'Feedin poultry (AFC)'!$R$39,0)","v":0},{"$f":"IF('FeedIn poultry (Intensive)'!B5=0,AS35,0)","v":0},{"$f":"IF('Feedin poultry (AFC)'!B5=0,AT35,0)","v":0},0,{"$f":"IF(B35='FeedIn poultry (Intensive)'!$G$6,'FeedIn poultry (Intensive)'!$G$110,0)","v":0},{"$f":"IF(B35='Feedin poultry (AFC)'!$T$6,'Feedin poultry (AFC)'!$S$39,0)","v":0},{"$f":"IF('FeedIn poultry (Intensive)'!B5=0,AX35,0)","v":0},{"$f":"IF('Feedin poultry (AFC)'!B5=0,AY35,0)","v":0},null,null,0,{"$f":"IF(B35='FeedIn poultry (Intensive)'!$G$6,'FeedIn poultry (Intensive)'!$H$110,0)","v":0},{"$f":"IF(B35='Feedin poultry (AFC)'!$T$6,'Feedin poultry (AFC)'!$T$39,0)","v":0},{"$f":"IF('FeedIn poultry (Intensive)'!B5=0,BE35,0)","v":0},{"$f":"IF('Feedin poultry (AFC)'!B5=0,BF35,0)","v":0},null,0,{"$f":"IF(B35='FeedIn poultry (Intensive)'!$G$6,'FeedIn poultry (Intensive)'!$I$110,0)","v":0},{"$f":"IF(B35='Feedin poultry (AFC)'!$T$6,'Feedin poultry (AFC)'!$V$39,0)","v":0},{"$f":"IF('FeedIn poultry (Intensive)'!B5=0,BK35,0)","v":0},{"$f":"IF('Feedin poultry (AFC)'!B5=0,BL35,0)","v":0},null,0,{"$f":"IF(CW35=0,0,(AJ35*AP35/100*(1-AW35/100)/(BR35/100))/10)","v":0},{"$f":"IF(AJ35=0,0,'Additional information'!$Q$18)","v":0},{"$f":"(AJ35*BD35/6.25/1000-AD35*'Additional information'!L78/1000-H35*'Additional information'!L81/1000)*100","v":0},{"$f":"(AJ35*BJ35/1000-AD35*'Additional information'!L79/1000-H35*'Additional information'!L82/1000)*100","v":0},null,null,null,null,{"$f":"(AJ35*BP35/1000-AD35*'Additional information'!L80/1000-H35*'Additional information'!L83/1000)*100","v":0},null,null,null,{"$f":"#REF!","v":{"$error":"#REF!"}},null,null,null,null,null,null,{"$f":"BQ35","v":0},0,{"$f":"BS35","v":0},0,{"$f":"BY35","v":0},"",{"$f":"IF(CJ35=0,\"\",CM35/CJ35)","v":""},{"$f":"IF(CJ35=0,\"\",CN35/CJ35)","v":""},null,{"$f":"IF(B35='FeedIn poultry (Intensive)'!$G$6,'FeedIn poultry (Intensive)'!$G$7,0)","v":0},{"$f":"IF(B35='Feedin poultry (AFC)'!$T$6,'Feedin poultry (AFC)'!$T$7,0)","v":0},{"$f":"IF('FeedIn poultry (Intensive)'!B5=0,CS35,0)","v":0},{"$f":"IF('Feedin poultry (AFC)'!B5=0,CT35,0)","v":0},{"$f":"IF(CV35=0,CU35,CV35)","v":0},9.9999999999999995E-8,{"$f":"CX35*CJ35/100","v":0},{"$f":"CK35","v":0},{"$f":"CX35*CL35/100/1000","v":0},{"$f":"CM35*CX35/100/1000","v":0},{"$f":"CN35*CX35/100/1000","v":0}]
[null,"Noorlinnud",null,{"$f":"IF(B36='FeedIn poultry (Intensive)'!$Y$6,'FeedIn poultry (Intensive)'!$AH$110,0)","v":0},{"$f":"IF(B36='Feedin poultry (AFC)'!$AK$6,'Feedin poultry (AFC)'!$AP$11,0)","v":0},{"$f":"IF('FeedIn poultry (Intensive)'!B5=0,D36,0)","v":0},{"$f":"IF('Feedin poultry (AFC)'!B5=0,E36,0)","v":0},null,null,{"$f":"IF(G36=0,F36,G36)","v":0},{"$f":"IF(B36='FeedIn poultry (Intensive)'!$Y$6,'FeedIn poultry (Intensive)'!$AC$9,0)","v":0},{"$f":"IF(B36='Feedin poultry (AFC)'!$AK$6,'Feedin poultry (AFC)'!$AP$9,0)","v":0},{"$f":"IF('FeedIn poultry (Intensive)'!B5=0,K36,0)","v":0},{"$f":"IF('Feedin poultry (AFC)'!B5=0,L36,0)","v":0},null,{"$f":"IF(N36=0,M36,N36)","v":0},{"$f":"IF(B36='FeedIn poultry (Intensive)'!$Y$6,'FeedIn poultry (Intensive)'!$AC$10,0)","v":0},{"$f":"IF(B36='Feedin poultry (AFC)'!$AK$6,'Feedin poultry (AFC)'!$AP$10,0)","v":0},{"$f":"IF('FeedIn poultry (Intensive)'!B5=0,Q36,0)","v":0},{"$f":"IF('Feedin poultry (AFC)'!B5=0,R36,0)","v":0},{"$f":"IF(T36=0,S36,T36)","v":0},null,null,null,null,null,null,null,null,0,null,{"$f":"IF(B36='FeedIn poultry (Intensive)'!$Y$6,'FeedIn poultry (Intensive)'!$Z$110,0)","v":0},{"$f":"IF(B36='Feedin poultry (AFC)'!$AK$6,'Feedin poultry (AFC)'!$AL$39,0)","v":0},{"$f":"IF('FeedIn poultry (Intensive)'!B5=0,AF36,0)","v":0},{"$f":"IF('Feedin poultry (AFC)'!B5=0,AG36,0)","v":0},{"$f":"IF(AI36=0,AH36,AI36)","v":0},null,{"$f":"IF(B36='FeedIn poultry (Intensive)'!$Y$6,'FeedIn poultry (Intensive)'!$AA$112,0)","v":0},{"$f":"IF(B36='Feedin poultry (AFC)'!$AK$6,'Feedin poultry (AFC)'!$AM$41,0)","v":0},{"$f":"IF('FeedIn poultry (Intensive)'!B5=0,AL36,0)","v":0},{"$f":"IF('Feedin poultry (AFC)'!B5=0,AM36,0)","v":0},{"$f":"IF(AO36=0,AN36,AO36)","v":0},{"$f":"AJ36*AP36/100","v":0},null,{"$f":"IF(B36='FeedIn poultry (Intensive)'!$Y$6,'FeedIn poultry (Intensive)'!$AB$110,0)","v":0},{"$f":"IF(B36='Feedin poultry (AFC)'!$AK$6,'Feedin poultry (AFC)'!$AN$39,0)","v":0},{"$f":"IF('FeedIn poultry (Intensive)'!B5=0,AS36,0)","v":0},{"$f":"IF('Feedin poultry (AFC)'!B5=0,AT36,0)","v":0},{"$f":"IF(AV36=0,AU36,AV36)","v":0},{"$f":"IF(B36='FeedIn poultry (Intensive)'!$Y$6,'FeedIn poultry (Intensive)'!$AC$110,0)","v":0},{"$f":"IF(B36='Feedin poultry (AFC)'!$AK$6,'Feedin poultry (AFC)'!$AO$39,0)","v":0},{"$f":"IF('FeedIn poultry (Intensive)'!B5=0,AX36,0)","v":0},{"$f":"IF('Feedin poultry (AFC)'!B5=0,AY36,0)","v":0},null,null,{"$f":"IF(BA36=0,AZ36,BA36)","v":0},{"$f":"IF(B36='FeedIn poultry (Intensive)'!$Y$6,'FeedIn poultry (Intensive)'!$AD$110,0)","v":0},{"$f":"IF(B36='Feedin poultry (AFC)'!$AK$6,'Feedin poultry (AFC)'!$AP$39,0)","v":0},{"$f":"IF('FeedIn poultry (Intensive)'!B5=0,BE36,0)","v":0},{"$f":"IF('Feedin poultry (AFC)'!B5=0,BF36,0)","v":0},null,{"$f":"IF(BH36=0,BG36,BH36)","v":0},{"$f":"IF(B36='FeedIn poultry (Intensive)'!$Y$6,'FeedIn poultry (Intensive)'!$AE$110,0)","v":0},{"$f":"IF(B36='Feedin poultry (AFC)'!$AK$6,'Feedin poultry (AFC)'!$AR$39,0)","v":0},{"$f":"IF('FeedIn poultry (Intensive)'!B5=0,BK36,0)","v":0},{"$f":"IF('Feedin poultry (AFC)'!B5=0,BL36,0)","v":0},null,{"$f":"IF(BN36=0,BM36,BN36)","v":0},{"$f":"IF(CW36=0,0,AJ36*AP36/100*(1-AW36/100)/(BR36/100))/10","v":0},{"$f":"IF(AJ36=0,0,'Additional information'!Q17)","v":0},{"$f":"(AJ36*BD36/6.25/1000-AD36*'Additional information'!L75/1000)*100","v":0},{"$f":"(AJ36*BJ36/1000-AD36*'Additional information'!L76/1000)*100","v":0},null,null,null,null,{"$f":"(AJ36*BP36/1000-AD36*'Additional information'!L77/1000)*100","v":0},null,null,null,{"$f":"#REF!","v":{"$error":"#REF!"}},null,null,null,null,null,null,{"$f":"BQ36","v":0},0,{"$f":"BS36","v":0},{"$f":"BT36","v":0},{"$f":"BY36","v":0},"",{"$f":"IF(CJ36=0,\"\",CM36/CJ36)","v":""},{"$f":"IF(CJ36=0,\"\",CN36/CJ36)","v":""},null,{"$f":"IF(B36='FeedIn poultry (Intensive)'!$Y$6,'FeedIn poultry (Intensive)'!$AC$6,0)","v":0},{"$f":"IF(B36='Feedin poultry (AFC)'!$AK$6,'Feedin poultry (AFC)'!$AP$6,0)","v":0},{"$f":"IF('FeedIn poultry (Intensive)'!B5=0,CS36,0)","v":0},{"$f":"IF('Feedin poultry (AFC)'!B5=0,CT36,0)","v":0},{"$f":"IF(CV36=0,CU36,CV36)","v":0},9.9999999999999995E-8,{"$f":"CX36*CJ36/100","v":0},{"$f":"CK36","v":0},{"$f":"CX36*CL36/100/1000","v":0},{"$f":"CM36*CX36/100/1000","v":0},{"$f":"CN36*CX36/100/1000","v":0}]
[]
[null,"Looma liik ja vanuse- või toodangurühm",null,null,null,null,null,"Ex-animal",null,null,null,null,null,null,null,null,null,null,null,null,null,null,null,null,null,null,null,null,null,null,null,null,null,null,null,null,null,null,null,null,null,null,null,null,null,null,null,null,null,null,null,null,null,null,null,null,null,null,null,null,null,null,null,null,null,null,null,null,null,null,null,null,null,null,null,null,null,null,null,null,null,null,null,null,null,null,null,null,null,null,null,null,null,null,null,null,null,null,null,null,"Karja kohta kokku"]
[null,null,null,null,null,null,null,"Toodang",null,null,null,null,null,null,null,null,null,null,null,null,null,null,null,null,null,null,null,null,null,null,null,null,null,null,null,"Sööt",null,null,null,null,null,null,null,null,null,null,null,null,null,null,null,null,null,null,null,null,null,null,null,null,null,null,null,null,null,null,null,null,"Väljaheited (ex animal)",null,null,null,null,null,null,null,null,null,null,null,null,null,null,null,null,null,null,null,null,null,null,null,null,null,null,null,null,null,null,null,"Loomade arv (toodetud või aastaloomi)",null,"Kogus","KA","N","P","K"]
[null,null,null,null,null,null,null,"Juurdekasv",null,null,null,null,null,null,null,null,null,null,null,null,null,null,null,null,null,null,null,null,null,"Võõrutatud tallesid",null,null,null,null,null,"KA",null,null,null,null,null,null,null,null,null,null,null,null,"KA seeduvus",null,null,null,null,null,null,"TP","INT","AFC","INT","AFC",null,"P","INT","AFC","INT","AFC",null,"K","Roe",null,null,null,null,null,null,null,null,"Uriin",null,null,null,null,null,null,null,null,null,"Kokku"]
[null,null,null,null,null,null,null,"Algkaal",null,null,"INT","AFC","INT","AFC",null,"Lõppkaal",null,null,null,null,"Juurdekasv",null,null,null,null,null,null,null,null,"Arv aastas","Talle kehamass võõrutamisel, kg",null,null,null,null,"kg/aasta",null,null,null,null,null,null,null,null,null,null,null,null,"%",null,null,null,null,null,null,"g/kg KA",null,null,null,null,null,null,null,null,null,null,null,null,"Kogus","KA","N","P",null,null,null,null,"K","Kogus","KA","N",null,null,null,null,null,"P","K","Kogus","KA","N","P","K","N","P","K"]
[null,null,null,"INT","AFC","INT","AFC","kg",null,null,null,null,null,null,null,null,null,null,null,null,null,"INT","AFC","INT","AFC","INT","AFC","INT","AFC",null,null,"INT","AFC","INT","AFC",null,null,null,null,null,null,null,null,null,"INT","AFC","INT","AFC",null,"INT","AFC","INT","AFC",null,null,null,null,null,null,null,null,null,null,null,null,null,null,null,"t/aasta","%","kg/aasta",null,null,null,null,null,null,"t/aasta","%","kg/aasta",null,null,null,null,null,null,null,"t/aasta","%","kg/aasta",null,null,"kg/t",null,null,null,"INT","AFC","INT","AFC",null,null,"t/aasta","%","t/aasta"]
[null,"Noorlambad",null,0,{"$f":"IF($B$43='Feedin sheep (AFC)'!Z12,'Feedin sheep (AFC)'!AD15,0)","v":0},0,{"$f":"IF('Feedin sheep (AFC)'!B5=0,E43,0)","v":0},{"$f":"IF(G43=0,F43,G43)","v":0},null,null,0,{"$f":"IF($B$43='Feedin sheep (AFC)'!$Z$12,'Feedin sheep (AFC)'!AD16,0)","v":0},{"$f":"IF('FeedIn pigs (Intensive)'!B26=0,K43,0)","v":0},{"$f":"IF('Feedin sheep (AFC)'!B5=0,L43,0)","v":0},null,{"$f":"IF(N43=0,M43,N43)","v":0},null,null,null,null,{"$f":"P43-H43","v":0},null,null,null,null,null,null,null,null,null,null,0,{"$f":"IF(B43='Feedin sheep (AFC)'!$Z$12,'Feedin sheep (AFC)'!$AA$44,0)","v":0},0,{"$f":"IF('Feedin sheep (AFC)'!B5=0,AG43,0)","v":0},{"$f":"IF(AI43=0,AH43,AI43)","v":0},null,null,null,null,null,null,null,null,0,{"$f":"IF(B43='Feedin sheep (AFC)'!$Z$12,'Feedin sheep (AFC)'!$AB$44,0)","v":0},0,{"$f":"IF('Feedin sheep (AFC)'!$B$5=0,AT43,0)","v":0},{"$f":"IF(AV43=0,AU43,AV43)","v":0},0,{"$f":"IF(B43='Feedin sheep (AFC)'!$Z$12,'Feedin sheep (AFC)'!$AC$44,0)","v":0},0,{"$f":"IF('Feedin sheep (AFC)'!$B$5=0,AY43,0)","v":0},null,null,{"$f":"IF(BA43=0,AZ43,BA43)","v":0},0,{"$f":"IF(B43='Feedin sheep (AFC)'!$Z$12,'Feedin sheep (AFC)'!$AD$44,0)","v":0},0,{"$f":"IF('Feedin sheep (AFC)'!$B$5=0,BF43,0)","v":0},null,{"$f":"IF(BH43=0,BG43,BH43)","v":0},0,{"$f":"IF(B43='Feedin sheep (AFC)'!$Z$12,'Feedin sheep (AFC)'!$AF$44,0)","v":0},0,{"$f":"IF('Feedin sheep (AFC)'!$B$5=0,BL43,0)","v":0},null,{"$f":"IF(BN43=0,BM43,BN43)","v":0},{"$f":"IF(CW43=0,0,AJ43*(1-AW43/100)/(BR43/100)/1000)","v":0},{"$f":"IF(AJ43=0,0,'Additional information'!$Q$19)","v":0},{"$f":"AJ43*BD43/6.25/1000*(1-'Additional information'!$L$97/100)","v":0},{"$f":"AJ43*BJ43/1000*(1-'Additional information'!$L$98/100)","v":0},null,null,null,null,{"$f":"AJ43*BP43/1000*(1-'Additional information'!$L$99/100)","v":0},{"$f":"AJ43*VLOOKUP(B43,'Additional information'!$AE$7:$AF$21,2,FALSE)/1000","v":0},{"$f":"IF(AJ43=0,0,'Additional information'!$R$19)","v":0},{"$f":"AJ43*BD43/6.25/1000-BS43-(U43*'Additional information'!$L$94/1000)","v":0},{"$f":"#REF!","v":{"$error":"#REF!"}},null,null,null,null,{"$f":"AJ43*BJ43/1000-BT43-(U43*'Additional information'!$L$95/1000)","v":0},{"$f":"AJ43*BP43/1000-BY43-(U43*'Additional information'!$L$96/1000)","v":0},{"$f":"BQ43+BZ43","v":0},{"$f":"IF(CJ43=0,0,(BQ43*BR43/100+BZ43*CA43/100)/CJ43*100)","v":0},{"$f":"BS43+CB43","v":0},{"$f":"BT43+CH43","v":0},{"$f":"BY43+CI43","v":0},{"$f":"IF(CJ43=0,\"\",CL43/CJ43)","v":""},{"$f":"IF(CJ43=0,\"\",CM43/CJ43)","v":""},{"$f":"IF(CJ43=0,\"\",CN43/CJ43)","v":""},null,0,{"$f":"IF(B43='Feedin sheep (AFC)'!$Z$12,'Feedin sheep (AFC)'!$AD$12,0)","v":0},0,{"$f":"IF('Feedin sheep (AFC)'!$B$5=0,CT43,0)","v":0},{"$f":"IF(CV43=0,CU43,CV43)","v":0},{"$f":"CW43+0.0000001","v":9.9999999999999995E-8},{"$f":"CX43*CJ43","v":0},{"$f":"CK43","v":0},{"$f":"CX43*CL43/1000","v":0},{"$f":"CM43*CX43/1000","v":0},{"$f":"CN43*CX43/1000","v":0}]
[null,"Uted koos talledega",null,null,null,null,null,null,null,null,null,null,null,null,null,null,null,null,null,null,null,0,{"$f":"IF(B44='Feedin sheep (AFC)'!P12,'Feedin sheep (AFC)'!T14,0)","v":0},0,{"$f":"IF('Feedin sheep (AFC)'!B5=0,W44,0)","v":0},0,{"$f":"IF(B44='Feedin sheep (AFC)'!P12,'Feedin sheep (AFC)'!T16,0)","v":0},0,{"$f":"IF('Feedin sheep (AFC)'!B5=0,AA44,0)","v":0},{"$f":"IF(Y44=0,X44,Y44)","v":0},{"$f":"IF(AC44=0,AB44,AC44)","v":0},0,{"$f":"IF(B44='Feedin sheep (AFC)'!$P$12,'Feedin sheep (AFC)'!$Q$44,0)","v":0},{"$f":"IF('FeedIn pigs (Intensive)'!B26=0,AF44,0)","v":0},{"$f":"IF('Feedin sheep (AFC)'!$B$5=0,AG44,0)","v":0},{"$f":"IF(AI44=0,AH44,AI44)","v":0},null,null,null,null,null,null,null,null,0,{"$f":"IF(B44='Feedin sheep (AFC)'!$P$12,'Feedin sheep (AFC)'!$R$44,0)","v":0},0,{"$f":"IF('Feedin sheep (AFC)'!$B$5=0,AT44,0)","v":0},{"$f":"IF(AV44=0,AU44,AV44)","v":0},0,{"$f":"IF(B44='Feedin sheep (AFC)'!$P$12,'Feedin sheep (AFC)'!$S$44,0)","v":0},0,{"$f":"IF('Feedin sheep (AFC)'!$B$5=0,AY44,0)","v":0},null,null,{"$f":"IF(BA44=0,AZ44,BA44)","v":0},0,{"$f":"IF(B44='Feedin sheep (AFC)'!$P$12,'Feedin sheep (AFC)'!$T$44,0)","v":0},0,{"$f":"IF('Feedin sheep (AFC)'!$B$5=0,BF44,0)","v":0},null,{"$f":"IF(BH44=0,BG44,BH44)","v":0},0,{"$f":"IF(B44='Feedin sheep (AFC)'!$P$12,'Feedin sheep (AFC)'!$V$44,0)","v":0},0,{"$f":"IF('Feedin sheep (AFC)'!$B$5=0,BL44,0)","v":0},null,{"$f":"IF(BN44=0,BM44,BN44)","v":0},{"$f":"IF(CW44=0,0,AJ44*(1-AW44/100)/(BR44/100)/1000)","v":0},{"$f":"IF(AJ44=0,0,'Additional information'!$Q$19)","v":0},{"$f":"AJ44*BD44/6.25/1000*(1-'Additional information'!$L$91/100)","v":0},{"$f":"AJ44*BJ44/1000*(1-'Additional information'!$L$92/100)","v":0},null,null,null,null,{"$f":"AJ44*BP44/1000*(1-'Additional information'!$L$93/100)","v":0},{"$f":"AJ44*VLOOKUP(B44,'Additional information'!$AE$7:$AF$21,2,FALSE)/1000","v":0},{"$f":"IF(AJ44=0,0,'Additional information'!$R$19)","v":0},{"$f":"AJ44*BD44/6.25/1000-BS44-(AD44*AE44*'Additional information'!$L$88/1000)-(AD44*'Additional information'!L85*'Additional information'!L85/1000)","v":0},{"$f":"#REF!","v":{"$error":"#REF!"}},null,null,null,null,{"$f":"AJ44*BJ44/1000-BT44-(AD44*AE44*'Additional information'!$L$89/1000)-(AD44*'Additional information'!L84*'Additional information'!L86/1000)","v":0},{"$f":"AJ44*BP44/1000-BY44-(AD44*AE44*'Additional information'!$L$90/1000)-(AD44*'Additional information'!L84*'Additional information'!L87/1000)","v":0},{"$f":"BQ44+BZ44","v":0},{"$f":"IF(CJ44=0,0,(BQ44*BR44/100+BZ44*CA44/100)/CJ44*100)","v":0},{"$f":"BS44+CB44","v":0},{"$f":"BT44+CH44","v":0},{"$f":"BY44+CI44","v":0},{"$f":"IF(CJ44=0,\"\",CL44/CJ44)","v":""},"","",null,0,{"$f":"IF(B44='Feedin sheep (AFC)'!$P$12,'Feedin sheep (AFC)'!$T$12,0)","v":0},{"$f":"IF('FeedIn pigs (Intensive)'!B26=0,CS44,0)","v":0},{"$f":"IF('Feedin sheep (AFC)'!$B$5=0,CT44,0)","v":0},{"$f":"IF(CV44=0,CU44,CV44)","v":0},{"$f":"CW44+0.0000001","v":9.9999999999999995E-8},{"$f":"CX44*CJ44","v":0},{"$f":"CK44","v":0},{"$f":"CX44*CL44/1000","v":0},{"$f":"CM44*CX44/1000","v":0},{"$f":"CN44*CX44/1000","v":0}]
[null,"Jäärad",null,{"$f":"IF(B45='FeedIn pigs (Intensive)'!$N$6,'FeedIn pigs (Intensive)'!$R$7,0)","v":0},{"$f":"IF(B45='Feedin pigs (AFC)'!$Z$6,'Feedin pigs (AFC)'!$AE$7,0)","v":0},{"$f":"IF('FeedIn pigs (Intensive)'!B26=0,D45,0)","v":0},{"$f":"IF('Feedin pigs (AFC)'!B26=0,E45,0)","v":0},null,null,null,null,null,null,null,null,null,null,null,null,null,null,null,null,null,null,null,null,null,null,null,null,0,{"$f":"IF(B45='Feedin sheep (AFC)'!$AJ$12,'Feedin sheep (AFC)'!$AK$44,0)","v":0},0,{"$f":"IF('Feedin sheep (AFC)'!$B$5=0,AG45,0)","v":0},{"$f":"IF(AI45=0,AH45,AI45)","v":0},null,null,null,null,null,null,null,null,0,{"$f":"IF(B45='Feedin sheep (AFC)'!$AJ$12,'Feedin sheep (AFC)'!$AL$44,0)","v":0},0,{"$f":"IF('Feedin sheep (AFC)'!$B$5=0,AT45,0)","v":0},{"$f":"IF(AV45=0,AU45,AV45)","v":0},0,{"$f":"IF(B45='Feedin sheep (AFC)'!$AJ$12,'Feedin sheep (AFC)'!$AM$44,0)","v":0},0,{"$f":"IF('Feedin sheep (AFC)'!$B$5=0,AY45,0)","v":0},null,null,{"$f":"IF(BA45=0,AZ45,BA45)","v":0},0,{"$f":"IF(B45='Feedin sheep (AFC)'!$AJ$12,'Feedin sheep (AFC)'!$AN$44,0)","v":0},0,{"$f":"IF('Feedin sheep (AFC)'!$B$5=0,BF45,0)","v":0},null,{"$f":"IF(BH45=0,BG45,BH45)","v":0},0,{"$f":"IF(B45='Feedin sheep (AFC)'!$AJ$12,'Feedin sheep (AFC)'!$AP$44,0)","v":0},0,{"$f":"IF('Feedin sheep (AFC)'!$B$5=0,BL45,0)","v":0},null,{"$f":"IF(BN45=0,BM45,BN45)","v":0},{"$f":"IF(CW45=0,0,AJ45*(1-AW45/100)/(BR45/100)/1000)","v":0},{"$f":"IF(AJ45=0,0,'Additional information'!$Q$19)","v":0},{"$f":"AJ45*BD45/6.25/1000*(1-'Additional information'!$L$103/100)","v":0},{"$f":"AJ45*BJ45/1000*(1-'Additional information'!$L$104/100)","v":0},null,null,null,null,{"$f":"AJ45*BP45/1000*(1-'Additional information'!$L$105/100)","v":0},{"$f":"AJ45*VLOOKUP(B45,'Additional information'!$AE$7:$AF$21,2,FALSE)/1000","v":0},{"$f":"IF(AJ45=0,0,'Additional information'!$R$19)","v":0},{"$f":"AJ45*BD45/6.25/1000-BS45-(U45*'Additional information'!$L$100/1000)","v":0},{"$f":"#REF!","v":{"$error":"#REF!"}},null,null,null,null,{"$f":"AJ45*BJ45/1000-BT45-(U45*'Additional information'!$L$101/1000)","v":0},{"$f":"AJ45*BP45/1000-BY45-(U45*'Additional information'!$L$102/1000)","v":0},{"$f":"BQ45+BZ45","v":0},{"$f":"IF(CJ45=0,0,(BQ45*BR45/100+BZ45*CA45/100)/CJ45*100)","v":0},{"$f":"BS45+CB45","v":0},{"$f":"BT45+CH45","v":0},{"$f":"BY45+CI45","v":0},{"$f":"IF(CJ45=0,\"\",CL45/CJ45)","v":""},{"$f":"IF(CJ45=0,\"\",CM45/CJ45)","v":""},{"$f":"IF(CJ45=0,\"\",CN45/CJ45)","v":""},null,0,{"$f":"IF(B45='Feedin sheep (AFC)'!$AJ$12,'Feedin sheep (AFC)'!$AN$12,0)","v":0},0,{"$f":"IF('Feedin sheep (AFC)'!$B$5=0,CT45,0)","v":0},{"$f":"IF(CV45=0,CU45,CV45)","v":0},{"$f":"CW45+0.0000001","v":9.9999999999999995E-8},{"$f":"CX45*CJ45","v":0},{"$f":"CK45","v":0},{"$f":"CX45*CL45/1000","v":0},{"$f":"CM45*CX45/1000","v":0},{"$f":"CN45*CX45/1000","v":0}]
[]
[null,"Looma liik ja vanuse- või toodangurühm",null,null,null,null,null,"Ex-animal",null,null,null,null,null,null,null,null,null,null,null,null,null,null,null,null,null,null,null,null,null,null,null,null,null,null,null,null,null,null,null,null,null,null,null,null,null,null,null,null,null,null,null,null,null,null,null,null,null,null,null,null,null,null,null,null,null,null,null,null,null,null,null,null,null,null,null,null,null,null,null,null,null,null,null,null,null,null,null,null,null,null,null,null,null,null,null,null,null,null,null,null,"Karja kohta kokku"]
[null,null,null,null,null,null,null,"Toodang",null,null,null,null,null,null,null,null,null,null,null,null,null,null,null,null,null,null,null,null,null,null,null,null,null,null,null,"Sööt",null,null,null,null,null,null,null,null,null,null,null,null,null,null,null,null,null,null,null,null,null,null,null,null,null,null,null,null,null,null,null,null,"Väljaheited (ex animal)",null,null,null,null,null,null,null,null,null,null,null,null,null,null,null,null,null,null,null,null,null,null,null,null,null,null,null,null,null,null,null,"Loomade arv (toodetud või aastaloomi)",null,"Kogus","KA","N","P","K"]
[null,null,null,null,null,null,null,"Piim ",null,null,null,null,null,null,null,null,null,null,null,null,"Juurdekasv",null,null,null,null,null,null,null,null,null,null,null,null,null,null,"KA",null,null,null,null,null,null,null,null,null,null,null,null,"KA seeduvus",null,null,null,null,null,null,"TP","TMR","AFC","TMR","AFC",null,"P","TMR","AFC","TMR","AFC",null,"K","Roe",null,null,null,null,null,null,null,null,"Uriin",null,null,null,null,null,null,null,null,null,"Kokku"]
[null,null,null,null,null,null,null,"Kogus",null,"Valk",null,null,null,null,null,null,null,null,null,null,"Algkaal","TMR","AFC","TMR","AFC","TMR","AFC","TMR","AFC","Lõppkaal","Juurdekasv",null,null,null,null,"kg/aasta",null,null,null,null,null,null,null,null,null,null,null,null,"%",null,null,null,null,null,null,"g/kg KA",null,null,null,null,null,null,null,null,null,null,null,null,"Kogus","KA","N","P",null,null,null,null,"K","Kogus","KA","N",null,null,null,null,null,"P","K","Kogus","KA","N","P","K","N","P","K"]
[null,null,null,"TMR","AFC","TMR","AFC","kg/aastakits",null,null,"TMR","AFC","TMR","AFC",null,"%","TMR","AFC","TMR","AFC","kg",null,null,null,null,null,null,null,null,null,null,"TMR","AFC","TMR","AFC",null,null,null,null,null,null,null,null,null,"TMR","AFC","TMR","AFC",null,"TMR","AFC","TMR","AFC",null,null,null,null,null,null,null,null,null,null,null,null,null,null,null,"t/aasta","%","kg/aasta",null,null,null,null,null,null,"t/aasta","%","kg/aasta",null,null,null,null,null,null,null,"t/aasta","%","kg/aasta",null,null,"kg/t",null,null,null,"TMR","AFC","TMR","AFC",null,null,"t/aasta","%","t/aasta"]
[null,"Lüpsikitsed koos talledega",null,0,{"$f":"IF(B52='Feedin goats (AFC)'!P12,'Feedin goats (AFC)'!T13,0)","v":0},0,{"$f":"IF('Feedin goats (AFC)'!B5=0,E52,0)","v":0},{"$f":"IF(G52=0,F52,G52)","v":0},{"$f":"H52/365","v":0},{"$f":"H52*P52/100","v":0},0,{"$f":"IF(B52='Feedin goats (AFC)'!P12,'Feedin goats (AFC)'!T14,0)","v":0},0,{"$f":"IF('Feedin goats (AFC)'!B5=0,L52,0)","v":0},{"$f":"I52*P52/100/6.38*1000","v":0},{"$f":"IF(N52=0,M52,N52)","v":0},0,{"$f":"IF(B52='Feedin goats (AFC)'!P12,'Feedin goats (AFC)'!T15,0)","v":0},0,{"$f":"IF('Feedin goats (AFC)'!$B$5=0,R52,0)","v":0},{"$f":"IF(T52=0,S52,T52)","v":0},0,{"$f":"IF(B52='Feedin goats (AFC)'!P12,'Feedin goats (AFC)'!T16,0)","v":0},0,{"$f":"IF('Feedin goats (AFC)'!$B$5=0,W52,0)","v":0},null,null,null,null,{"$f":"IF(Y52=0,X52,Y52)","v":0},{"$f":"AD52-U52","v":0},0,{"$f":"IF(B52='Feedin goats (AFC)'!P12,'Feedin goats (AFC)'!Q44,0)","v":0},0,{"$f":"IF('Feedin goats (AFC)'!$B$5=0,AG52,0)","v":0},{"$f":"IF(AI52=0,AH52,AI52)","v":0},null,null,null,null,null,null,null,{"$f":"AJ52/365","v":0},0,{"$f":"IF(B52='Feedin goats (AFC)'!P12,'Feedin goats (AFC)'!R44,0)","v":0},0,{"$f":"IF('Feedin goats (AFC)'!$B$5=0,AT52,0)","v":0},{"$f":"IF(AV52=0,AU52,AV52)","v":0},0,{"$f":"IF(B52='Feedin goats (AFC)'!P12,'Feedin goats (AFC)'!S44,0)","v":0},0,{"$f":"IF('Feedin goats (AFC)'!$B$5=0,AY52,0)","v":0},{"$f":"AR52*BD52/6.25","v":0},{"$f":"AJ52*BD52/1000/6.25","v":0},{"$f":"IF(BA52=0,AZ52,BA52)","v":0},0,{"$f":"IF(B52='Feedin goats (AFC)'!P12,'Feedin goats (AFC)'!T44,0)","v":0},0,{"$f":"IF('Feedin goats (AFC)'!$B$5=0,BF52,0)","v":0},{"$f":"AJ52*BJ52/1000","v":0},{"$f":"IF(BH52=0,BG52,BH52)","v":0},0,{"$f":"IF(B52='Feedin goats (AFC)'!P12,'Feedin goats (AFC)'!V44,0)","v":0},0,{"$f":"IF('Feedin goats (AFC)'!$B$5=0,BL52,0)","v":0},{"$f":"BP52*AJ52/1000","v":0},{"$f":"IF(BN52=0,BM52,BN52)","v":0},{"$f":"IF(CW52=0,0,AJ52*(1-AW52/100)/(BR52/100)/1000)","v":0},{"$f":"IF(AJ52=0,0,'Additional information'!Q20)","v":0},{"$f":"AJ52*BD52/6.25/1000*(1-'Additional information'!$L$114/100)","v":0},{"$f":"AJ52*BJ52/1000*(1-'Additional information'!$L$115/100)","v":0},{"$f":"IF(B52='FeedIn cattle (TMR)'!$C$14,'Ex animal'!AJ52*'Additional information'!L60/1000,0)","v":0},{"$f":"IF(B52='FeedIn cattle (AFC)'!$O$12,'Ex animal'!AJ52*'Additional information'!L60/1000,0)","v":0},{"$f":"IF('FeedIn cattle (TMR)'!B47=0,BU52,0)","v":0},{"$f":"IF('FeedIn cattle (AFC)'!B47=0,BV52,0)","v":0},{"$f":"AJ52*BP52/1000*(1-'Additional information'!$L$116/100)","v":0},{"$f":"AJ52*VLOOKUP(B52,'Additional information'!$AE$7:$AF$24,2,FALSE)/1000","v":0},{"$f":"IF(AJ52=0,0,'Additional information'!R20)","v":0},{"$f":"IF(BD52=0,0,BC52-BS52-(J52/6.38)-('Additional information'!L106*AE52/1000))","v":0},{"$f":"#REF!","v":{"$error":"#REF!"}},{"$f":"IF(B52='FeedIn cattle (TMR)'!$C$14,'FeedIn cattle (TMR)'!$L$17*'Additional information'!L59*365/1000/1000,0)","v":0},{"$f":"IF(B52='FeedIn cattle (AFC)'!$O$12,'FeedIn cattle (AFC)'!$S$15*'Additional information'!L59*365/1000/1000,0)","v":0},{"$f":"IF('FeedIn cattle (TMR)'!B47=0,CD52,0)","v":0},{"$f":"IF('FeedIn cattle (AFC)'!B47=0,CE52,0)","v":0},{"$f":"AJ52*BJ52/1000-BT52-(AE52*'Additional information'!$L$107/1000)-(H52*'Additional information'!L109/1000)","v":0},{"$f":"AJ52*BP52/1000-BY52-(AE52*'Additional information'!$L$108/1000)-(H52*'Additional information'!L110/1000)","v":0},{"$f":"BQ52+BZ52","v":0},{"$f":"IF(CJ52=0,0,(BQ52*BR52/100+BZ52*CA52/100)/CJ52*100)","v":0},{"$f":"IF(BD52=0,0,BS52+CB52)","v":0},{"$f":"IF(BJ52=0,0,BT52+CH52)","v":0},{"$f":"IF(BP52=0,0,BY52+CI52)","v":0},{"$f":"IF(CJ52=0,\"\",CL52/CJ52)","v":""},{"$f":"IF(CJ52=0,\"\",CM52/CJ52)","v":""},{"$f":"IF(CJ52=0,\"\",CN52/CJ52)","v":""},null,0,{"$f":"IF(B52='Feedin goats (AFC)'!P12,'Feedin goats (AFC)'!T12,0)","v":0},0,{"$f":"IF('Feedin goats (AFC)'!$B$5=0,CT52,0)","v":0},{"$f":"IF(CV52=0,CU52,CV52)","v":0},{"$f":"CW52+0.0000001","v":9.9999999999999995E-8},{"$f":"IF(CJ52=0,0,CX52*CJ52)","v":0},{"$f":"IF(CK52=0,0,CK52)","v":0},{"$f":"IF(CL52=0,0,CX52*CL52/1000)","v":0},{"$f":"IF(CM52=0,0,CM52*CX52/1000)","v":0},{"$f":"IF(CN52=0,0,CN52*CX52/1000)","v":0}]
[null,"Noorkitsed",null,null,null,null,null,null,null,null,null,null,null,null,null,null,0,{"$f":"IF(B53='Feedin goats (AFC)'!Z12,'Feedin goats (AFC)'!AD15,0)","v":0},0,{"$f":"IF('Feedin goats (AFC)'!$B$5=0,R53,0)","v":0},{"$f":"IF(T53=0,S53,T53)","v":0},0,{"$f":"IF(B53='Feedin goats (AFC)'!Z12,'Feedin goats (AFC)'!AD16,0)","v":0},0,{"$f":"IF('Feedin goats (AFC)'!$B$5=0,W53,0)","v":0},null,null,null,null,{"$f":"IF(Y53=0,X53,Y53)","v":0},{"$f":"AD53-U53","v":0},0,{"$f":"IF(B53='Feedin goats (AFC)'!Z12,'Feedin goats (AFC)'!AA44,0)","v":0},0,{"$f":"IF('Feedin goats (AFC)'!$B$5=0,AG53,0)","v":0},{"$f":"IF(AI53=0,AH53,AI53)","v":0},null,null,null,null,null,null,null,{"$f":"AJ53/365","v":0},0,{"$f":"IF(B53='Feedin goats (AFC)'!Z12,'Feedin goats (AFC)'!AB44,0)","v":0},{"$f":"IF('FeedIn cattle (TMR)'!B47=0,AS53,0)","v":0},{"$f":"IF('Feedin goats (AFC)'!$B$5=0,AT53,0)","v":0},{"$f":"IF(AV53=0,AU53,AV53)","v":0},0,{"$f":"IF(B53='Feedin goats (AFC)'!Z12,'Feedin goats (AFC)'!AC44,0)","v":0},0,{"$f":"IF('Feedin goats (AFC)'!$B$5=0,AY53,0)","v":0},{"$f":"AR53*BD53/6.25","v":0},{"$f":"AJ53*BD53/1000/6.25","v":0},{"$f":"IF(BA53=0,AZ53,BA53)","v":0},0,{"$f":"IF(B53='Feedin goats (AFC)'!Z12,'Feedin goats (AFC)'!AD44,0)","v":0},0,{"$f":"IF('Feedin goats (AFC)'!$B$5=0,BF53,0)","v":0},{"$f":"AJ53*BJ53/1000","v":0},{"$f":"IF(BH53=0,BG53,BH53)","v":0},0,{"$f":"IF(B53='Feedin goats (AFC)'!Z12,'Feedin goats (AFC)'!AF44,0)","v":0},0,{"$f":"IF('Feedin goats (AFC)'!$B$5=0,BL53,0)","v":0},{"$f":"BP53*AJ53/1000","v":0},{"$f":"IF(BN53=0,BM53,BN53)","v":0},{"$f":"IF(CW53=0,0,AJ53*(1-AW53/100)/(BR53/100)/1000)","v":0},{"$f":"IF(AJ53=0,0,'Additional information'!Q20)","v":0},{"$f":"AJ53*BD53/6.25/1000*(1-'Additional information'!$L$120/100)","v":0},{"$f":"AJ53*BJ53/1000*(1-'Additional information'!$L$121/100)","v":0},null,null,null,null,{"$f":"AJ53*BP53/1000*(1-'Additional information'!$L$122/100)","v":0},{"$f":"AJ53*VLOOKUP(B53,'Additional information'!$AE$7:$AF$24,2,FALSE)/1000","v":0},{"$f":"IF(AJ53=0,0,'Additional information'!R20)","v":0},{"$f":"AJ53*BD53/6.25/1000-BS53-(AE53*'Additional information'!$L$117/1000)","v":0},{"$f":"#REF!","v":{"$error":"#REF!"}},null,null,null,null,{"$f":"AJ53*BJ53/1000-BT53-(AE53*'Additional information'!$L$118/1000)","v":0},{"$f":"AJ53*BP53/1000-BY53-(AE53*'Additional information'!$L$119/1000)","v":0},{"$f":"BQ53+BZ53","v":0},0,0,0,{"$f":"IF(BP53=0,0,BY53+CI53)","v":0},{"$f":"IF(CJ53=0,\"\",CL53/CJ53)","v":""},"","",null,0,{"$f":"IF(B53='Feedin goats (AFC)'!Z12,'Feedin goats (AFC)'!AD12,0)","v":0},0,{"$f":"IF('Feedin goats (AFC)'!$B$5=0,CT53,0)","v":0},{"$f":"IF(CV53=0,CU53,CV53)","v":0},{"$f":"CW53+0.0000001","v":9.9999999999999995E-8},{"$f":"IF(CJ53=0,0,CX53*CJ53)","v":0},0,{"$f":"IF(CL53=0,0,CX53*CL53/1000)","v":0},0,0]
[null,"Sikud",null,null,null,null,null,null,null,null,null,null,null,null,null,null,0,{"$f":"IF(B54='Feedin goats (AFC)'!AJ12,'Feedin goats (AFC)'!AN15,0)","v":0},0,{"$f":"IF('Feedin goats (AFC)'!$B$5=0,R54,0)","v":0},{"$f":"IF(T54=0,S54,T54)","v":0},0,{"$f":"IF(B54='Feedin goats (AFC)'!AJ12,'Feedin goats (AFC)'!AN16,0)","v":0},0,{"$f":"IF('Feedin goats (AFC)'!$B$5=0,W54,0)","v":0},null,null,null,null,{"$f":"IF(Y54=0,X54,Y54)","v":0},{"$f":"AD54-U54","v":0},0,{"$f":"IF(B54='Feedin goats (AFC)'!AJ12,'Feedin goats (AFC)'!AK44,0)","v":0},0,{"$f":"IF('Feedin goats (AFC)'!$B$5=0,AG54,0)","v":0},{"$f":"IF(AI54=0,AH54,AI54)","v":0},null,null,null,null,null,null,null,{"$f":"AJ54/365","v":0},0,{"$f":"IF(B54='Feedin goats (AFC)'!AJ12,'Feedin goats (AFC)'!AL44,0)","v":0},0,{"$f":"IF('Feedin goats (AFC)'!$B$5=0,AT54,0)","v":0},{"$f":"IF(AV54=0,AU54,AV54)","v":0},0,{"$f":"IF(B54='Feedin goats (AFC)'!AJ12,'Feedin goats (AFC)'!AM44,0)","v":0},0,{"$f":"IF('Feedin goats (AFC)'!$B$5=0,AY54,0)","v":0},{"$f":"AR54*BD54/6.25","v":0},{"$f":"AJ54*BD54/1000/6.25","v":0},{"$f":"IF(BA54=0,AZ54,BA54)","v":0},0,{"$f":"IF(B54='Feedin goats (AFC)'!AJ12,'Feedin goats (AFC)'!AN44,0)","v":0},0,{"$f":"IF('Feedin goats (AFC)'!$B$5=0,BF54,0)","v":0},{"$f":"AJ54*BJ54/1000","v":0},{"$f":"IF(BH54=0,BG54,BH54)","v":0},0,{"$f":"IF(B54='Feedin goats (AFC)'!AJ12,'Feedin goats (AFC)'!AP44,0)","v":0},0,{"$f":"IF('Feedin goats (AFC)'!$B$5=0,BL54,0)","v":0},{"$f":"BP54*AJ54/1000","v":0},{"$f":"IF(BN54=0,BM54,BN54)","v":0},{"$f":"IF(CW54=0,0,AJ54*(1-AW54/100)/(BR54/100)/1000)","v":0},{"$f":"IF(AJ54=0,0,'Additional information'!Q20)","v":0},{"$f":"AJ54*BD54/6.25/1000*(1-'Additional information'!$L$126/100)","v":0},{"$f":"AJ54*BJ54/1000*(1-'Additional information'!$L$127/100)","v":0},null,null,null,null,{"$f":"AJ54*BP54/1000*(1-'Additional information'!$L$128/100)","v":0},{"$f":"AJ54*VLOOKUP(B54,'Additional information'!$AE$7:$AF$24,2,FALSE)/1000","v":0},{"$f":"IF(AJ54=0,0,'Additional information'!R20)","v":0},{"$f":"AJ54*BD54/6.25/1000-BS54-(AE54*'Additional information'!$L$123/1000)","v":0},{"$f":"#REF!","v":{"$error":"#REF!"}},null,null,null,null,{"$f":"AJ54*BJ54/1000-BT54-(AE54*'Additional information'!$L$124/1000)","v":0},{"$f":"AJ54*BP54/1000-BY54-(AE54*'Additional information'!$L$125/1000)","v":0},{"$f":"BQ54+BZ54","v":0},{"$f":"IF(CJ54=0,0,(BQ54*BR54/100+BZ54*CA54/100)/CJ54*100)","v":0},0,{"$f":"IF(BJ54=0,0,BT54+CH54)","v":0},{"$f":"IF(BP54=0,0,BY54+CI54)","v":0},{"$f":"IF(CJ54=0,\"\",CL54/CJ54)","v":""},"","",null,0,{"$f":"IF(B54='Feedin goats (AFC)'!AJ12,'Feedin goats (AFC)'!AN12,0)","v":0},0,{"$f":"IF('Feedin goats (AFC)'!$B$5=0,CT54,0)","v":0},{"$f":"IF(CV54=0,CU54,CV54)","v":0},9.9999999999999995E-8,0,0,0,0,0]
[]
[null,"Looma liik ja vanuse- või toodangurühm",null,null,null,null,null,"Ex-animal",null,null,null,null,null,null,null,null,null,null,null,null,null,null,null,null,null,null,null,null,null,null,null,null,null,null,null,null,null,null,null,null,null,null,null,null,null,null,null,null,null,null,null,null,null,null,null,null,null,null,null,null,null,null,null,null,null,null,null,null,null,null,null,null,null,null,null,null,null,null,null,null,null,null,null,null,null,null,null,null,null,null,null,null,null,null,null,null,null,null,null,null,"Karja kohta kokku"]
[null,null,null,null,null,null,null,null,null,null,null,null,null,null,null,null,null,null,null,null,"Juurdekasv",null,null,null,null,null,null,null,null,null,null,null,null,null,null,"Sööt",null,null,null,null,null,null,null,null,null,null,null,null,null,null,null,null,null,null,null,null,null,null,null,null,null,null,null,null,null,null,null,null,"Väljaheited (ex animal)",null,null,null,null,null,null,null,null,null,null,null,null,null,null,null,null,null,null,null,null,null,null,null,null,null,null,null,null,null,null,null,"Loomade arv (toodetud või aastaloomi)",null,"Kogus","KA","N","P","K"]
[null,null,null,null,null,null,null,null,null,null,null,null,null,null,null,null,null,null,null,null,null,null,null,null,null,null,null,null,null,null,null,null,null,null,null,"KA",null,null,null,null,null,null,null,null,null,null,null,null,"KA seeduvus",null,null,null,null,null,null,"TP","TMR","AFC","TMR","AFC",null,"P","TMR","AFC","TMR","AFC",null,"K","Roe",null,null,null,null,null,null,null,null,"Uriin",null,null,null,null,null,null,null,null,null,"Kokku"]
[null,null,null,null,null,null,null,null,null,null,null,null,null,null,null,null,null,null,null,null,"Algkaal","TMR","AFC","TMR","AFC","TMR","AFC","TMR","AFC","Lõppkaal","Juurdekasv",null,null,null,null,"kg/aasta",null,null,null,null,null,null,null,null,null,null,null,null,"%",null,null,null,null,null,null,"g/kg KA",null,null,null,null,null,null,null,null,null,null,null,null,"Kogus","KA","N","P",null,null,null,null,"K","Kogus","KA","N",null,null,null,null,null,"P","K","Kogus","KA","N","P","K","N","P","K"]
[null,null,null,"TMR","AFC","TMR","AFC",null,null,null,null,null,null,null,null,null,"TMR","AFC","TMR","AFC","kg",null,null,null,null,null,null,null,null,null,null,"TMR","AFC","TMR","AFC",null,null,null,null,null,null,null,null,null,"TMR","AFC","TMR","AFC",null,"TMR","AFC","TMR","AFC",null,null,null,null,null,null,null,null,null,null,null,null,null,null,null,"t/aasta","%","kg/aasta",null,null,null,null,null,null,"t/aasta","%","kg/aasta",null,null,null,null,null,null,null,"t/aasta","%","kg/aasta",null,null,"kg/t",null,null,null,"TMR","AFC","TMR","AFC",null,null,"t/aasta","%","t/aasta"]
[null,"Noorhobused",null,null,null,null,null,null,null,null,null,null,null,null,null,null,0,{"$f":"IF(B61='Feedin horses (AFC)'!Z12,'Feedin horses (AFC)'!AD15,0)","v":0},0,{"$f":"IF('Feedin horses (AFC)'!$B$5=0,R61,0)","v":0},{"$f":"IF(T61=0,S61,T61)","v":0},0,{"$f":"IF(B61='Feedin horses (AFC)'!Z12,'Feedin horses (AFC)'!AD16,0)","v":0},0,{"$f":"IF('Feedin horses (AFC)'!$B$5=0,W61,0)","v":0},null,null,null,null,{"$f":"IF(Y61=0,X61,Y61)","v":0},{"$f":"AD61-U61","v":0},0,{"$f":"IF(B61='Feedin horses (AFC)'!Z12,'Feedin horses (AFC)'!AA44,0)","v":0},0,{"$f":"IF('Feedin horses (AFC)'!$B$5=0,AG61,0)","v":0},{"$f":"IF(AI61=0,AH61,AI61)","v":0},null,null,null,null,null,null,null,{"$f":"AJ61/365","v":0},0,{"$f":"IF(B61='Feedin horses (AFC)'!Z12,'Feedin horses (AFC)'!AB44,0)","v":0},{"$f":"IF('FeedIn cattle (TMR)'!B56=0,AS61,0)","v":0},{"$f":"IF('Feedin horses (AFC)'!$B$5=0,AT61,0)","v":0},{"$f":"IF(AV61=0,AU61,AV61)","v":0},0,{"$f":"IF(B61='Feedin horses (AFC)'!Z12,'Feedin horses (AFC)'!AC44,0)","v":0},0,{"$f":"IF('Feedin horses (AFC)'!$B$5=0,AY61,0)","v":0},{"$f":"AR61*BD61/6.25","v":0},{"$f":"AJ61*BD61/1000/6.25","v":0},{"$f":"IF(BA61=0,AZ61,BA61)","v":0},0,{"$f":"IF(B61='Feedin horses (AFC)'!Z12,'Feedin horses (AFC)'!AD44,0)","v":0},0,{"$f":"IF('Feedin horses (AFC)'!$B$5=0,BF61,0)","v":0},{"$f":"AJ61*BJ61/1000","v":0},{"$f":"IF(BH61=0,BG61,BH61)","v":0},0,{"$f":"IF(B61='Feedin horses (AFC)'!Z12,'Feedin horses (AFC)'!AF44,0)","v":0},0,{"$f":"IF('Feedin horses (AFC)'!$B$5=0,BL61,0)","v":0},{"$f":"BP61*AJ61/1000","v":0},{"$f":"IF(BN61=0,BM61,BN61)","v":0},{"$f":"IF(CW61=0,0,AJ61*(1-AW61/100)/(BR61/100)/1000)","v":0},{"$f":"IF(AJ61=0,0,'Additional information'!Q21)","v":0},{"$f":"AJ61*BD61/6.25/1000*(1-'Additional information'!$L$132/100)","v":0},{"$f":"AJ61*BJ61/1000*(1-'Additional information'!$L$133/100)","v":0},null,null,null,null,{"$f":"AJ61*BP61/1000*(1-'Additional information'!$L$134/100)","v":0},{"$f":"AJ61*VLOOKUP(B61,'Additional information'!$AE$7:$AF$26,2,FALSE)/1000","v":0},{"$f":"IF(AJ61=0,0,'Additional information'!R21)","v":0},{"$f":"AJ61*BD61/6.25/1000-BS61-(AE61*'Additional information'!$L$129/1000)","v":0},{"$f":"#REF!","v":{"$error":"#REF!"}},null,null,null,null,{"$f":"AJ61*BJ61/1000-BT61-(AE61*'Additional information'!$L$130/1000)","v":0},{"$f":"AJ61*BP61/1000-BY61-(AE61*'Additional information'!$L$131/1000)","v":0},{"$f":"BQ61+BZ61","v":0},{"$f":"IF(CJ61=0,0,(BQ61*BR61/100+BZ61*CA61/100)/CJ61*100)","v":0},{"$f":"IF(BD61=0,0,BS61+CB61)","v":0},{"$f":"IF(BJ61=0,0,BT61+CH61)","v":0},{"$f":"IF(BP61=0,0,BY61+CI61)","v":0},{"$f":"IF(CJ61=0,\"\",CL61/CJ61)","v":""},{"$f":"IF(CJ61=0,\"\",CM61/CJ61)","v":""},{"$f":"IF(CJ61=0,\"\",CN61/CJ61)","v":""},null,0,{"$f":"IF(B61='Feedin horses (AFC)'!Z12,'Feedin horses (AFC)'!AD12,0)","v":0},0,{"$f":"IF('Feedin horses (AFC)'!$B$5=0,CT61,0)","v":0},{"$f":"IF(CV61=0,CU61,CV61)","v":0},{"$f":"CW61+0.0000001","v":9.9999999999999995E-8},{"$f":"IF(CJ61=0,0,CX61*CJ61)","v":0},{"$f":"IF(CK61=0,0,CK61)","v":0},{"$f":"IF(CL61=0,0,CX61*CL61/1000)","v":0},{"$f":"IF(CM61=0,0,CM61*CX61/1000)","v":0},{"$f":"IF(CN61=0,0,CN61*CX61/1000)","v":0}]
[null,"Täiskasvanud hobused",null,null,null,null,null,null,null,null,null,null,null,null,null,null,0,{"$f":"IF(B62='Feedin horses (AFC)'!P12,'Feedin horses (AFC)'!T15,0)","v":0},0,{"$f":"IF('Feedin horses (AFC)'!$B$5=0,R62,0)","v":0},{"$f":"IF(T62=0,S62,T62)","v":0},0,{"$f":"IF(B62='Feedin goats (AFC)'!AJ21,'Feedin goats (AFC)'!AN25,0)","v":0},0,{"$f":"IF('Feedin goats (AFC)'!$B$5=0,W62,0)","v":0},null,null,null,null,{"$f":"IF(Y62=0,X62,Y62)","v":0},{"$f":"AD62-U62","v":0},0,{"$f":"IF(B62='Feedin horses (AFC)'!P12,'Feedin horses (AFC)'!Q44,0)","v":0},0,{"$f":"IF('Feedin horses (AFC)'!$B$5=0,AG62,0)","v":0},{"$f":"IF(AI62=0,AH62,AI62)","v":0},null,null,null,null,null,null,null,{"$f":"AJ62/365","v":0},0,{"$f":"IF(B62='Feedin horses (AFC)'!P12,'Feedin horses (AFC)'!R44,0)","v":0},0,{"$f":"IF('Feedin horses (AFC)'!$B$5=0,AT62,0)","v":0},{"$f":"IF(AV62=0,AU62,AV62)","v":0},0,{"$f":"IF(B62='Feedin horses (AFC)'!P12,'Feedin horses (AFC)'!S44,0)","v":0},0,{"$f":"IF('Feedin horses (AFC)'!$B$5=0,AY62,0)","v":0},{"$f":"AR62*BD62/6.25","v":0},{"$f":"AJ62*BD62/1000/6.25","v":0},{"$f":"IF(BA62=0,AZ62,BA62)","v":0},0,{"$f":"IF(B62='Feedin horses (AFC)'!P12,'Feedin horses (AFC)'!T44,0)","v":0},0,{"$f":"IF('Feedin horses (AFC)'!$B$5=0,BF62,0)","v":0},{"$f":"AJ62*BJ62/1000","v":0},{"$f":"IF(BH62=0,BG62,BH62)","v":0},0,{"$f":"IF(B62='Feedin horses (AFC)'!P12,'Feedin horses (AFC)'!V44,0)","v":0},0,{"$f":"IF('Feedin horses (AFC)'!$B$5=0,BL62,0)","v":0},{"$f":"BP62*AJ62/1000","v":0},{"$f":"IF(BN62=0,BM62,BN62)","v":0},{"$f":"IF(CW62=0,0,AJ62*(1-AW62/100)/(BR62/100)/1000)","v":0},{"$f":"IF(AJ62=0,0,'Additional information'!Q21)","v":0},{"$f":"AJ62*BD62/6.25/1000*(1-'Additional information'!$L$138/100)","v":0},{"$f":"AJ62*BJ62/1000*(1-'Additional information'!$L$139/100)","v":0},null,null,null,null,{"$f":"AJ62*BP62/1000*(1-'Additional information'!$L$140/100)","v":0},{"$f":"AJ62*VLOOKUP(B62,'Additional information'!$AE$7:$AF$26,2,FALSE)/1000","v":0},{"$f":"IF(AJ62=0,0,'Additional information'!R21)","v":0},{"$f":"AJ62*BD62/6.25/1000-BS62-(AE62*'Additional information'!$L$135/1000)","v":0},{"$f":"#REF!","v":{"$error":"#REF!"}},null,null,null,null,{"$f":"AJ62*BJ62/1000-BT62-(AE62*'Additional information'!$L$136/1000)","v":0},{"$f":"AJ62*BP62/1000-BY62-(AE62*'Additional information'!$L$137/1000)","v":0},{"$f":"BQ62+BZ62","v":0},0,0,{"$f":"IF(BJ62=0,0,BT62+CH62)","v":0},{"$f":"IF(BP62=0,0,BY62+CI62)","v":0},{"$f":"IF(CJ62=0,\"\",CL62/CJ62)","v":""},"","",null,0,{"$f":"IF(B62='Feedin horses (AFC)'!P12,'Feedin horses (AFC)'!T12,0)","v":0},0,{"$f":"IF('Feedin horses (AFC)'!$B$5=0,CT62,0)","v":0},{"$f":"IF(CV62=0,CU62,CV62)","v":0},9.9999999999999995E-8,{"$f":"IF(CJ62=0,0,CX62*CJ62)","v":0},0,0,0,0]

{"sheet":" Ex housing and ex storage (MB)","index":11,"n_rows":80,"n_cols":172,"rows_kept":80,"cut":false,"hidden":false,"merged":[[42,118,48,118],[42,170,48,170],[42,171,48,171],[70,128,70,132],[71,128,72,128],[71,131,71,132],[34,118,40,118],[34,171,40,171],[34,170,40,170],[61,128,62,133],[63,128,64,128],[64,131,64,133],[50,118,56,118],[50,170,56,170],[50,171,56,171],[4,118,4,163],[5,121,6,126],[6,156,8,156],[6,155,8,155],[7,130,8,130],[6,143,8,143],[6,133,8,133],[6,153,8,153],[6,128,8,128],[5,128,5,133],[6,151,8,151],[6,148,8,148],[6,139,8,139],[6,129,8,129],[7,124,7,126],[7,121,7,123],[5,118,9,120],[9,121,9,126],[71,110,71,112],[10,1,11,1],[10,2,11,2],[10,4,11,4],[10,5,11,5],[19,2,20,2],[12,109,15,109],[16,109,19,109],[20,109,22,109],[18,104,21,104],[34,104,36,104],[38,104,39,104],[30,104,32,104],[26,109,29,109],[23,104,28,104],[10,104,16,104],[9,108,10,108],[29,110,29,116],[8,6,9,6],[9,82,9,95],[9,98,9,103],[18,118,24,118],[7,46,7,64],[8,46,9,46],[9,56,9,64],[7,6,7,15],[9,13,9,15],[7,4,8,5],[9,18,9,19],[7,20,8,20],[8,35,8,36],[8,37,8,38],[8,39,8,40],[7,18,7,19],[7,98,7,100],[7,101,7,103],[6,130,6,132],[7,131,7,132],[9,158,9,163],[9,154,9,157],[1,1,1,2],[20,110,20,116],[21,110,21,116],[22,110,22,116],[23,116,24,116],[23,110,24,111],[23,112,24,112],[23,113,24,113],[23,114,24,115],[4,1,9,1],[4,2,9,2],[9,109,10,109],[7,71,7,95],[8,97,9,97],[2,1,2,2],[2,3,3,157],[8,71,9,71],[7,3,9,3],[4,3,6,116],[7,108,8,116],[10,118,16,118],[26,110,26,116],[27,110,27,116],[28,110,28,116],[4,117,6,117],[26,118,32,118],[4,170,6,171],[6,157,8,157],[6,154,8,154],[5,158,6,163],[7,158,7,160],[7,161,7,163],[5,135,5,157],[26,171,32,171],[9,130,9,131],[18,170,24,170],[18,171,24,171],[10,170,16,170],[10,171,16,171],[7,170,8,170],[7,171,8,171],[9,170,9,171],[6,149,8,149],[9,148,9,153]]}
[]
[null,"Sõnnik (loomapidamishoone ja sõnnikuhoidla tasemel)"]
[]
[]
[null,"Looma liik ja vanuse- või toodangurühm","Loomade arv (toodetud või aastaloomi)","Loomapidamishoone ",null,null,null,null,null,null,null,null,null,null,null,null,null,null,null,null,null,null,null,null,null,null,null,null,null,null,null,null,null,null,null,null,null,null,null,null,null,null,null,null,null,null,null,null,null,null,null,null,null,null,null,null,null,null,null,null,null,null,null,null,null,null,null,null,null,null,null,null,null,null,null,null,null,null,null,null,null,null,null,null,null,null,null,null,null,null,null,null,null,null,null,null,null,null,null,null,null,null,null,null,null,null,null,null,null,null,null,null,null,null,null,null,null,null,"Hoidla",null,null,null,null,null,null,null,null,null,null,null,null,null,null,null,null,null,null,null,null,null,null,null,null,null,null,null,null,null,null,null,null,null,null,null,null,null,null,null,null,null,null,null,null,null,null,null,null,null,null,null,"Summaarne metaani emissioon"]
[null,null,null,null,null,null,null,null,null,null,null,null,null,null,null,null,null,null,null,null,null,null,null,null,null,null,null,null,null,null,null,null,null,null,null,null,null,null,null,null,null,null,null,null,null,null,null,null,null,null,null,null,null,null,null,null,null,null,null,null,null,null,null,null,null,null,null,null,null,null,null,null,null,null,null,null,null,null,null,null,null,null,null,null,null,null,null,null,null,null,null,null,null,null,null,null,null,null,null,null,null,null,null,null,null,null,null,null,null,null,null,null,null,null,null,null,null,null,"Ladustamise tehnoloogia",null,null,"Kaod",null,null,null,null,null,null,"Ladustamise tingimused",null,null,null,null,null,null,"Tulemused hoidla tasemel",null,null,null,null,null,null,null,null,null,null,null,null,null,null,null,null,null,null,null,null,null,null,"Kaod"]
[null,null,null,null,null,null,null,null,null,null,null,null,null,null,null,null,null,null,null,null,null,null,null,null,null,null,null,null,null,null,null,null,null,null,null,null,null,null,null,null,null,null,null,null,null,null,null,null,null,null,null,null,null,null,null,null,null,null,null,null,null,null,null,null,null,null,null,null,null,null,null,null,null,null,null,null,null,null,null,null,null,null,null,null,null,null,null,null,null,null,null,null,null,null,null,null,null,null,null,null,null,null,null,null,null,null,null,null,null,null,null,null,null,null,null,null,null,null,null,null,null,null,null,null,null,null,null,null,"Hoidla (avatud) pindala","Sademed","Kaod",null,null,"Otse laudast põllule laotatava sõnniku osakaal",null,null,null,null,null,"Kogus",null,null,null,"KA",null,null,null,null,"N","NH4-N",null,"P",null,"K","N","NH4-N","P","K"]
[null,null,null,"Pidamistehnoloogia","Karjatamine",null,"Allapanu",null,null,null,null,null,null,null,null,null,"Tehnoloogiline vesi",null,"Kaod",null,"Urine absorption",null,null,null,null,null,null,null,null,null,null,null,null,null,null,null,null,null,null,null,null,null,null,null,null,null,"Tahesõnnik/Sügavallapanusõnnik",null,null,null,null,null,null,null,null,null,null,null,null,null,null,null,null,null,null,null,null,null,null,null,null,"Virts/Vedelsõnnik",null,null,null,null,null,null,null,null,null,null,null,null,null,null,null,null,null,null,null,null,null,null,null,null,null,"N lendumine","Tahe-/Sügavallapanusõnnik",null,null,"Virts/Vedelsõnnik",null,null,null,null,null,null,"Tulemused loomapidamishoone tasemel ",null,null,null,null,null,null,null,null,null,null,null,null,"Emissioonifaktorid",null,null,"Leostumine",null,null,null,null,null,"KA","Niiskuse aurumine",null,null,null,null,null,null,null,null,null,null,null,null,null,null,null,null,null,null,null,null,null,null,null,null,null,null,"Lendumine ",null,null,"Leostumine ",null,null,null,null,null,null,null,null,"Looma organismist","Sõnnikust"]
[null,null,null,null,null,null,"Tüüp","Kogus","DM",null,null,null,null,"N","P","K","Kogus","DM","N","Kogus",null,null,null,null,null,null,null,null,null,null,null,null,null,null,null,"N",null,"P",null,"K",null,null,null,null,null,null,"t",null,null,null,null,"KA",null,null,null,null,"N",null,null,null,"P",null,null,null,"K",null,null,null,null,null,null,"t",null,null,null,null,"KA",null,null,null,null,null,null,null,"N",null,null,null,null,null,"P",null,null,null,null,null,"K","kg","N","P","K","N","P","K",null,null,null,null,null,null,null,null,null,null,null,null,null,null,null,null,null,"NH3-N","Denitrifikatsioon","N20-N","N","P","K",null,null,null,null,"Sademed","Pinnakihilt",null,null,null,null,null,null,null,null,null,null,null,null,null,null,null,null,null,"L",null,"L",null,null,null,null,null,"NH3-N","N2","N20-N","N","P","K"]
[null,null,null,null,"Päevi aastas","Tunde päevas",null,"kg/loom/päev","%","TMR","AFC",null,null,"t/animal/year",null,null,"t/loom/aasta","%","%",null,"%","TMR","AFC","TMR","AFC","TMR","AFC",null,null,null,null,"TMR","AFC","TMR","AFC","TMR","AFC","TMR","AFC","TMR","AFC","K","P","N",null,null,null,null,null,null,null,"%",null,null,null,null,"t",null,null,null,null,null,null,null,null,null,null,null,null,null,null,null,null,null,null,null,"%",null,null,null,null,null,"t",null,null,null,null,null,null,null,null,null,null,null,null,null,null,null,"kg/t",null,null,null,null,null,null,null,null,null,"Kogus","t","Tahesõnnik ","Virts","Vedelsõnnik","Sügavallapanusõnnik","Sügavallapanusõnnik","Vedelsõnnik","Tahesõnnik",null,null,null,null,"%",null,null,null,null,null,null,"m2","mm/aasta","%",null,"kg/m2","%",null,null,null,null,null,"t",null,null,null,"%","NH3","N2","N20","L","t",null,null,null,null,null,"kg/t",null,null,null,"kg",null,null,null,null,null,null,"TMR","AFC",null,null,null,"t"]
[null,"Piimalehmad",{"$f":"'Ex animal'!CW10","v":0},null,{"$f":"IF('FeedIn cattle (AFC)'!B5=987654321,0,IF(B11='FeedIn cattle (AFC)'!O12,'FeedIn cattle (AFC)'!T17,0))","v":0},{"$f":"IF('FeedIn cattle (AFC)'!B5=987654321,0,IF(B11='FeedIn cattle (AFC)'!O12,'FeedIn cattle (AFC)'!V17,0))","v":0},null,null,{"$f":"IF(G11=\"\",0,VLOOKUP(G11,'Additional information'!$B$8:$F$16,2,FALSE))","v":0},null,null,null,null,{"$f":"IF(G11=\"\",0,VLOOKUP(G11,'Additional information'!$B$8:$F$16,3,FALSE)*'Ex animal'!CW10*H11*(365-AE11)/1000*I11/100/1000)","v":0},{"$f":"IF(G11=\"\",0,VLOOKUP(G11,'Additional information'!$B$8:$F$16,4,FALSE)*'Ex animal'!CW10*H11*(365-AE11)/1000*I11/100/1000)","v":0},{"$f":"IF(G11=\"\",0,VLOOKUP(G11,'Additional information'!$B$8:$F$16,5,FALSE)*'Ex animal'!CW10*H11*(365-AE11)/1000*I11/100/1000)","v":0},null,2.5,{"$f":"IF(D11=\"\",\"\",VLOOKUP(D11,Tehnology!C10:D26,2,FALSE))","v":""},null,null,null,null,null,null,null,null,{"$f":"IF(AB12=0,IF(DC11=5,'Ex animal'!BQ10-'Ex animal'!BQ10*T11/100+'Ex animal'!BZ10*(1-T11/100),IF(DC11=3,'Ex animal'!BQ10-'Ex animal'!BQ10*T11/100+'Ex animal'!BZ10*(1-T11/100),IF(DC11=1,'Ex animal'!BQ10-'Ex animal'!BQ10*T11/100,IF(DC11=4,'Ex animal'!BQ10-'Ex animal'!BQ10*T11/100,0)))),IF(DC11=5,'Ex animal'!BQ10-'Ex animal'!BQ10*T11/100+'Ex animal'!BZ10*T11/100,IF(DC11=3,'Ex animal'!BQ10-'Ex animal'!BQ10*T11/100+'Ex animal'!BZ10*(1-T11/100),IF(DC11=1,'Ex animal'!BQ10-'Ex animal'!BQ10*T11/100,IF(DC11=4,'Ex animal'!BQ10-'Ex animal'!BQ10*T11/100,0))))-AB12)","v":0},{"$f":"IF(DC11=0,0,AB11)","v":0},{"$f":"IF(DC11=5,Q11,IF(DC11=3,Q11,0))","v":0},{"$f":"E11*F11/24","v":0},null,null,null,null,null,null,null,null,null,null,null,null,null,{"$f":"IF(DC11=2,IF(DC11>0,H11*(365-AE11-M12)/1000-H11*(365-AE11-M12)/1000*T11/100,0),0)","v":0},{"$f":"IF(DC11=2,0,IF(DC11>0,H11*(365-AE11-M12)/1000-H11*(365-AE11-M12)/1000*T11/100,0))","v":0},{"$f":"IF(D11=\"\",\"\",IF(AC11>0,(AC11*'Ex animal'!CW10/365*(365*24-(E11*F11))/24)+(AD11*'Ex animal'!CW10)+(AT11*'Ex animal'!CW10)+BS11*U11/100,0))","v":""},{"$f":"IF(AB12=0,IF(DC11=5,'Ex animal'!BZ10*'Ex animal'!CA10/100-(('Ex animal'!BZ10*'Ex animal'!CA10/100)*T11/100)-(('Ex animal'!BQ10*'Ex animal'!BR10/100)*T11/100)+'Ex animal'!BQ10*'Ex animal'!BR10/100,IF(DC11=3,'Ex animal'!BZ10*'Ex animal'!CA10/100-(('Ex animal'!BZ10*'Ex animal'!CA10/100)*T11/100)-(('Ex animal'!BQ10*'Ex animal'!BR10/100)*T11/100)+'Ex animal'!BQ10*'Ex animal'!BR10/100,IF(DC11=1,'Ex animal'!BQ10*'Ex animal'!BR10/100-(('Ex animal'!BQ10*'Ex animal'!BR10/100)*T11/100),IF(DC11=4,'Ex animal'!BQ10*'Ex animal'!BR10/100-(('Ex animal'!BQ10*'Ex animal'!BR10/100)*T11/100),0)))),IF(DC11=5,'Ex animal'!BZ10*'Ex animal'!CA10/100-(('Ex animal'!BZ10*'Ex animal'!CA10/100)*T11/100)-(('Ex animal'!BQ10*'Ex animal'!BR10/100)*T11/100)+'Ex animal'!BQ10*'Ex animal'!BR10/100,IF(DC11=3,'Ex animal'!BZ10*'Ex animal'!CA10/100-(('Ex animal'!BZ10*'Ex animal'!CA10/100)*T11/100)-(('Ex animal'!BQ10*'Ex animal'!BR10/100)*T11/100)+'Ex animal'!BQ10*'Ex animal'!BR10/100,IF(DC11=1,'Ex animal'!BQ10*'Ex animal'!BR10/100-(('Ex animal'!BQ10*'Ex animal'!BR10/100)*T11/100),IF(DC11=4,'Ex animal'!BQ10*'Ex animal'!BR10/100-(('Ex animal'!BQ10*'Ex animal'!BR10/100)*T11/100),0))))-AV12)","v":0},{"$f":"IF(DC11=0,0,AV11)","v":0},{"$f":"IF(DC11=5,Q11*R11/100,IF(DC11=3,Q11*R11/100,0))","v":0},{"$f":"IF(H11=\"\",0,IF(DC11>0,H11*(365-M12)/1000*I11/100-(H11*(365-M12)/1000*I11/100*T11/100),0))","v":0},{"$f":"IF(D11=\"\",\"\",IF(AU11>0,((AW11*'Ex animal'!CW10/365*(365*24-(E11*F11))/24)+(AX11*'Ex animal'!CW10)+(AY11*'Ex animal'!CW10)+(BS11*BY11/100*U11/100))/AU11*100,0))","v":""},{"$f":"AU11*AZ11/100","v":{"$error":"#VALUE!"}},{"$f":"IF(D12=\"\",IF(DC11=5,'Ex animal'!BS10+'Ex animal'!CB10,IF(DC11=3,'Ex animal'!BS10+'Ex animal'!CB10,IF(DC11=1,'Ex animal'!BS10,IF(DC11=4,'Ex animal'!BS10,0)))),IF(DC11=5,'Ex animal'!BS10+'Ex animal'!CB10,IF(DC11=3,'Ex animal'!BS10+'Ex animal'!CB10,IF(DC11=1,'Ex animal'!BS10,IF(DC11=4,'Ex animal'!BS10,0))))-BB12)","v":0},{"$f":"IF(DC11=0,0,BB11)","v":0},{"$f":"IF(H11=\"\",0,IF(DC11>0,N11,0))","v":0},{"$f":"IF(D11=\"\",\"\",IF(BT11=0,IF(AU11=0,0,IF(BB12=0,IF(DC11=30,(((((BC11/1000*'Ex animal'!CW10/365*(365*24-(E11*F11))/24)+(BD11)))+(CE11*U11/100)-((('Ex animal'!CB10/1000*'Ex animal'!CW10/365*(365*24-(E11*F11))/24)))*S11/100)),((BC11/1000*'Ex animal'!CW10/365*(365*24-(E11*F11))/24)+(BD11))+(CE11*U11/100)),IF(DC11=30,(((((BC11/1000*'Ex animal'!CW10/365*(365*24-(E11*F11))/24)+(BD11)))+(CE11*U11/100)-((('Ex animal'!CB10/1000*'Ex animal'!CW10/365*(365*24-(E11*F11))/24)))*S11/100)),((BC11/1000*'Ex animal'!CW10/365*(365*24-(E11*F11))/24)+(BD11))+(CE11*U11/100))))-(CT11/1000),IF(AU11=0,0,IF(BB12=0,IF(DC11=30,(((((BC11/1000*'Ex animal'!CW10/365*(365*24-(E11*F11))/24)+(BD11)))+(CE11*U11/100)-((('Ex animal'!CB10/1000*'Ex animal'!CW10/365*(365*24-(E11*F11))/24)))*S11/100)),((BC11/1000*'Ex animal'!CW10/365*(365*24-(E11*F11))/24)+(BD11))+(CE11*U11/100)),IF(DC11=30,(((((BC11/1000*'Ex animal'!CW10/365*(365*24-(E11*F11))/24)+(BD11)))+(CE11*U11/100)-((('Ex animal'!CB10/1000*'Ex animal'!CW10/365*(365*24-(E11*F11))/24)))*S11/100)),((BC11/1000*'Ex animal'!CW10/365*(365*24-(E11*F11))/24)+(BD11))+(CE11*U11/100))))))","v":""},{"$f":"IF(DC11=5,'Ex animal'!BT10+'Ex animal'!CH10,IF(DC11=3,'Ex animal'!BT10+'Ex animal'!CH10,IF(DC11=1,'Ex animal'!BT10,IF(DC11=4,'Ex animal'!BT10,0))))","v":0},{"$f":"IF(DC11=0,0,BF11)","v":0},{"$f":"IF(H11=\"\",0,IF(DC11=2,0,O11))","v":0},{"$f":"IF(D11=\"\",\"\",IF(AU11=0,0,IF(D12=\"\",(((BG11/1000*'Ex animal'!CW10/365*(365*24-(E11*F11))/24)+(BH11))+CL11*U11/100)-BF12,((BG11/1000*'Ex animal'!CW10/365*(365*24-(E11*F11))/24)+(BH11))+CL11*U11/100)))","v":""},{"$f":"IF(DC11=5,'Ex animal'!BY10+'Ex animal'!CI10,IF(DC11=3,'Ex animal'!BY10+'Ex animal'!CI10,IF(DC11=1,'Ex animal'!BY10,IF(DC11=4,'Ex animal'!BY10,0))))","v":0},{"$f":"IF(DC11=0,0,BJ11)","v":0},{"$f":"IF(H11=\"\",0,IF(DC11=2,0,P11))","v":0},{"$f":"IF(D11=\"\",\"\",IF(AU11=0,0,((BK11/1000*'Ex animal'!CW10/365*(365*24-(E11*F11))/24)+(BL11))+CR11*U11/100))","v":""},{"$f":"IF(DC11=5,0,IF(DC11=3,0,IF(DC11=1,'Ex animal'!BZ10,IF(DC11=4,'Ex animal'!BZ10,'Ex animal'!BZ10+'Ex animal'!BQ10-AB12))))","v":0},{"$f":"IF(DC11=0,0,BN11)","v":0},{"$f":"IF(DC11=4,Q11,IF(DC11=2,Q11,IF(DC11=1,Q11,0)))","v":0},{"$f":"IF(DC11=0,H11*(365-AE11)/1000,0)","v":0},{"$f":"BS11*U11/100","v":0},{"$f":"(BO11*'Ex animal'!CW10/365*(365*24-(E11*F11))/24)+(BP11*'Ex animal'!CW10)+(BQ11*'Ex animal'!CW10)+AS11","v":0},{"$f":"IF(D11=\"\",\"\",BS11-BR11)","v":""},{"$f":"IF(D12=\"\",IF(DC11=5,0,IF(DC11=3,0,IF(DC11=1,'Ex animal'!BZ10*'Ex animal'!CA10/100,IF(DC11=4,'Ex animal'!BZ10*'Ex animal'!CA10/100,('Ex animal'!BQ10*'Ex animal'!BR10/100+'Ex animal'!BZ10*'Ex animal'!CA10/100))))),IF(DC11=5,0,IF(DC11=3,0,IF(DC11=1,'Ex animal'!BZ10*'Ex animal'!CA10/100,IF(DC11=4,'Ex animal'!BZ10*'Ex animal'!CA10/100,('Ex animal'!BQ10*'Ex animal'!BR10/100+'Ex animal'!BZ10*'Ex animal'!CA10/100)-AW12)))))","v":0},{"$f":"IF(DC11=0,0,BU11)","v":0},{"$f":"IF(DC11=4,Q11*R11/100,IF(DC11=2,Q11*R11/100,IF(DC11=1,Q11*R11/100,0)))","v":0},{"$f":"IF(DC11=2,(H11*(365-AE11))/1000*I11/100,0)","v":0},{"$f":"IF(D11=\"\",\"\",IF(BS11=0,0,((BV11*'Ex animal'!CW10/365*(365*24-(E11*F11))/24)+(BW11*'Ex animal'!CW10)+(BX11*'Ex animal'!CW10))/BS11*100))","v":""},{"$f":"BT11*BY11/100","v":{"$error":"#VALUE!"}},{"$f":"IF(D12=\"\",IF(DC11=5,0,IF(DC11=3,0,IF(DC11=1,'Ex animal'!CB10,IF(DC11=4,'Ex animal'!CB10,'Ex animal'!BS10+'Ex animal'!CB10)))),IF(DC11=5,0,IF(DC11=3,0,IF(DC11=1,'Ex animal'!CB10,IF(DC11=4,'Ex animal'!CB10,'Ex animal'!BS10+'Ex animal'!CB10-BC12)))))","v":0},{"$f":"IF(DC11=0,0,CA11)","v":0},{"$f":"IF(AU11=0,N11,0)","v":0},{"$f":"CE11*U11/100","v":{"$error":"#VALUE!"}},{"$f":"IF(BT11>0,((CB11/1000*'Ex animal'!CW10/365*(365*24-(E11*F11))/24)-(CT11/1000)+(CC11)),0)","v":{"$error":"#VALUE!"}},{"$f":"(('Ex animal'!CB10/1000*'Ex animal'!CW10/365*(365*24-(E11*F11))/24)-(CT11/1000)+(CC11))","v":{"$error":"#VALUE!"}},{"$f":"IF(D11=\"\",\"\",CE11-CD11)","v":""},{"$f":"IF(DC11=5,0,IF(DC11=3,0,IF(DC11=1,'Ex animal'!CH10,IF(DC11=4,'Ex animal'!CH10,'Ex animal'!BT10+'Ex animal'!CH10)))-BG12)","v":0},{"$f":"IF(DC11=0,0,CH11)","v":0},{"$f":"IF(DC11=2,O11,0)","v":0},{"$f":"CL11*U11/100","v":0},{"$f":"((CI11/1000*'Ex animal'!CW10/365*(365*24-(E11*F11))/24)+(CJ11))","v":0},{"$f":"IF(D11=\"\",\"\",CL11-CK11)","v":""},{"$f":"IF(DC11=5,0,IF(DC11=3,0,IF(DC11=1,'Ex animal'!CI10,IF(DC11=4,'Ex animal'!CI10,'Ex animal'!CI10+'Ex animal'!BY10)))-BK12)","v":0},{"$f":"IF(DC11=0,0,CN11)","v":0},{"$f":"IF(DC11=2,P11,0)","v":0},{"$f":"CR11*U11/100","v":0},{"$f":"((CO11/1000*'Ex animal'!CW10/365*(365*24-(E11*F11))/24)+(CP11))","v":0},{"$f":"IF(D11=\"\",\"\",CR11-CQ11)","v":""},{"$f":"IF(D11=\"\",\"\",IF('Ex animal'!CW10=0,0,(('Ex animal'!CB10*S11*'Ex animal'!CW10/100)-('Ex animal'!CB10*S11*'Ex animal'!CW10/100)/365*(E11*F11/24))/365*(365-L12)))","v":""},{"$f":"IF(D11=\"\",\"\",IF(AU11=0,0,BE11*1000/AU11))","v":""},{"$f":"IF(D11=\"\",\"\",IF(AU11=0,0,BI11*1000/AU11))","v":""},{"$f":"IF(D11=\"\",\"\",IF(AU11=0,0,BM11*1000/AU11))","v":""},{"$f":"IF(D11=\"\",\"\",IF(BT11=0,0,CG11*1000/BT11))","v":""},{"$f":"IF(D11=\"\",\"\",IF(BT11=0,0,CM11*1000/BT11))","v":""},{"$f":"IF(D11=\"\",\"\",IF(BT11=0,0,CS11*1000/BT11))","v":""},10,{"$f":"IF(D11=\"\",\"\",VLOOKUP(D11,Tehnology!C10:E26,3,FALSE))","v":""},{"$f":"IF(D11=\"\",\"\",VLOOKUP(DB11,Tehnology!$I$10:$W$53,1,FALSE))","v":""},null,null,null,{"$f":"IF(IF(DC11=1,AU11,0)+IF(DC12=1,AU12,0)+IF(DC13=1,AU13,0)+IF(DC14=1,AU14,0)+IF(DC15=1,AU15,0)+IF(DC16=1,AU16,0)+IF(DC17=1,AU17,0)+IF(DC19=1,AU19,0)+IF(DC20=1,AU20,0)+IF(DC21=1,AU21,0)+IF(DC22=1,AU22,0)+IF(DC24=1,AU24,0)+IF(DC25=1,AU25,0)+IF(DC26=1,AU26,0)+IF(DC27=1,AU27,0)+IF(DC28=1,AU28,0)+IF(DC29=1,AU29,0)+IF(DC31=1,AU31,0)+IF(DC32=1,AU32,0)+IF(DC33=1,AU33,0)+IF(DC35=1,AU35,0)+IF(DC36=1,AU36,0)+IF(DC37=1,AU37,0)+IF(DC39=1,AU39,0)+IF(DC40=1,AU40,0)=0,\"\",IF(DC11=1,AU11,0)+IF(DC12=1,AU12,0)+IF(DC13=1,AU13,0)+IF(DC14=1,AU14,0)+IF(DC15=1,AU15,0)+IF(DC16=1,AU16,0)+IF(DC17=1,AU17,0)+IF(DC19=1,AU19,0+IF(DC20=1,AU20,0)+IF(DC21=1,AU21,0)+IF(DC22=1,AU22,0)+IF(DC24=1,AU24,0)+IF(DC25=1,AU25,0)+IF(DC26=1,AU26,0)+IF(DC27=1,AU27,0)+IF(DC28=1,AU28,0)+IF(DC29=1,AU29,0)+IF(DC31=1,AU31,0)+IF(DC32=1,AU32,0)+IF(DC33=1,AU33,0)+IF(DC35=1,AU35,0)+IF(DC36=1,AU36,0)+IF(DC37=1,AU37,0)+IF(DC39=1,AU39,0)+IF(DC40=1,AU40,0)))","v":""},{"$f":"IF(IF(DC11=1,BT11,0)+IF(DC12=1,BT12,0)+IF(DC13=1,BT13,0)+IF(DC14=1,BT14,0)+IF(DC15=1,BT15,0)+IF(DC16=1,BT16,0)+IF(DC17=1,BT17,0)+IF(DC19=1,BT19,0)+IF(DC20=1,BT20,0)+IF(DC21=1,BT21,0)+IF(DC22=1,BT22,0)+IF(DC24=1,BT24,0)+IF(DC25=1,BT25,0)+IF(DC26=1,BT26,0)+IF(DC27=1,BT27,0)+IF(DC28=1,BT28,0)+IF(DC29=1,BT29,0)+IF(DC31=1,BT31,0)+IF(DC32=1,BT32,0)+IF(DC33=1,BT33,0)+IF(DC35=1,BT35,0)+IF(DC36=1,BT36,0)+IF(DC37=1,BT37,0)+IF(DC39=1,BT39,0)+IF(DC40=1,BT40,0)=0,\"\",IF(DC11=1,BT11,0)+IF(DC12=1,BT12,0)+IF(DC13=1,BT13,0)+IF(DC14=1,BT14,0)+IF(DC15=1,BT15,0)+IF(DC16=1,BT16,0)+IF(DC17=1,BT17,0)+IF(DC19=1,BT19,0)+IF(DC20=1,BT20,0)+IF(DC21=1,BT21,0)+IF(DC22=1,BT22,0)+IF(DC24=1,BT24,0)+IF(DC25=1,BT25,0)+IF(DC26=1,BT26,0)+IF(DC27=1,BT27,0)+IF(DC28=1,BT28,0)+IF(DC29=1,BT29,0)+IF(DC31=1,BT31,0)+IF(DC32=1,BT32,0)+IF(DC33=1,BT33,0)+IF(DC35=1,BT35,0)+IF(DC36=1,BT36,0)+IF(DC37=1,BT37,0)+IF(DC39=1,BT39,0)+IF(DC40=1,BT40,0))","v":""},{"$f":"IF(IF(DC11=2,BT11,0)+IF(DC12=2,BT12,0)+IF(DC13=2,BT13,0)+IF(DC14=2,BT14,0)+IF(DC15=2,BT15,0)+IF(DC16=2,BT16,0)+IF(DC17=2,BT17,0)+IF(DC19=2,BT19,0)+IF(DC20=2,BT20,0)+IF(DC21=2,BT21,0)+IF(DC22=2,BT22,0)+IF(DC24=2,BT24,0)+IF(DC25=2,BT25,0)+IF(DC26=2,BT26,0)+IF(DC27=2,BT27,0)+IF(DC28=2,BT28,0)+IF(DC29=2,BT29,0)+IF(DC31=2,BT31,0)+IF(DC32=2,BT32,0)+IF(DC33=2,BT33,0)+IF(DC35=2,BT35,0)+IF(DC36=2,BT36,0)+IF(DC37=2,BT37,0)+IF(DC39=2,BT39,0)+IF(DC40=2,BT40,0)=0,\"\",IF(DC11=2,BT11,0)+IF(DC12=2,BT12,0)+IF(DC13=2,BT13,0)+IF(DC14=2,BT14,0)+IF(DC15=2,BT15,0)+IF(DC16=2,BT16,0)+IF(DC17=2,BT17,0)+IF(DC19=2,BT19,0)+IF(DC20=2,BT20,0)+IF(DC21=2,BT21,0)+IF(DC22=2,BT22,0)+IF(DC24=2,BT24,0)+IF(DC25=2,BT25,0)+IF(DC26=2,BT26,0)+IF(DC27=2,BT27,0)+IF(DC28=2,BT28,0)+IF(DC29=2,BT29,0)+IF(DC31=2,BT31,0)+IF(DC32=2,BT32,0)+IF(DC33=2,BT33,0)+IF(DC35=2,BT35,0)+IF(DC36=2,BT36,0)+IF(DC37=2,BT37,0)+IF(DC39=2,BT39,0)+IF(DC40=2,BT40,0))","v":""},{"$f":"IF(IF(DC11=3,AU11,0)+IF(DC12=3,AU12,0)+IF(DC13=3,AU13,0)+IF(DC14=3,AU14,0)+IF(DC15=3,AU15,0)+IF(DC16=3,AU16,0)+IF(DC17=3,AU17,0)+IF(DC19=3,AU19,0)+IF(DC20=3,AU20,0)+IF(DC21=3,AU21,0)+IF(DC22=3,AU22,0)+IF(DC24=3,AU24,0)+IF(DC25=3,AU25,0)+IF(DC26=3,AU26,0)+IF(DC27=3,AU27,0)+IF(DC28=3,AU28,0)+IF(DC29=3,AU29,0)+IF(DC31=3,AU31,0)+IF(DC32=3,AU32,0)+IF(DC33=3,AU33,0)+IF(DC35=3,AU35,0)+IF(DC36=3,AU36,0)+IF(DC37=3,AU37,0)+IF(DC39=3,AU39,0)+IF(DC40=3,AU40,0)=0,\"\",IF(DC11=3,AU11,0)+IF(DC12=3,AU12,0)+IF(DC13=3,AU13,0)+IF(DC14=3,AU14,0)+IF(DC15=3,AU15,0)+IF(DC16=3,AU16,0)+IF(DC17=3,AU17,0)+IF(DC19=3,AU19,0)+IF(DC20=3,AU20,0)+IF(DC21=3,AU21,0)+IF(DC22=3,AU22,0)+IF(DC24=3,AU24,0)+IF(DC25=3,AU25,0)+IF(DC26=3,AU26,0)+IF(DC27=3,AU27,0)+IF(DC28=3,AU28,0)+IF(DC29=3,AU29,0)+IF(DC31=3,AU31,0)+IF(DC32=3,AU32,0)+IF(DC33=3,AU33,0)+IF(DC35=3,AU35,0)+IF(DC36=3,AU36,0)+IF(DC37=3,AU37,0)+IF(DC39=3,AU39,0)+IF(DC40=3,AU40,0))","v":""},{"$f":"IF(IF(DC11=4,AU11,0)+IF(DC12=4,AU12,0)+IF(DC13=4,AU13,0)+IF(DC14=4,AU14,0)+IF(DC15=4,AU15,0)+IF(DC16=4,AU16,0)+IF(DC17=4,AU17,0)+IF(DC19=4,AU19,0)+IF(DC20=4,AU20,0)+IF(DC21=4,AU21,0)+IF(DC22=4,AU22,0)+IF(DC24=4,AU24,0)+IF(DC25=4,AU25,0)+IF(DC26=4,AU26,0)+IF(DC27=4,AU27,0)+IF(DC28=4,AU28,0)+IF(DC29=4,AU29,0)+IF(DC31=4,AU31,0)+IF(DC32=4,AU32,0)+IF(DC33=4,AU33,0)+IF(DC35=4,AU35,0)+IF(DC36=4,AU36,0)+IF(DC37=4,AU37,0)+IF(DC39=4,AU39,0)+IF(DC40=4,AU40,0)=0,\"\",IF(DC11=4,AU11,0)+IF(DC12=4,AU12,0)+IF(DC13=4,AU13,0)+IF(DC14=4,AU14,0)+IF(DC15=4,AU15,0)+IF(DC16=4,AU16,0)+IF(DC17=4,AU17,0)+IF(DC19=4,AU19,0)+IF(DC20=4,AU20,0)+IF(DC21=4,AU21,0)+IF(DC22=4,AU22,0)+IF(DC24=4,AU24,0)+IF(DC25=4,AU25,0)+IF(DC26=4,AU26,0)+IF(DC27=4,AU27,0)+IF(DC28=4,AU28,0)+IF(DC29=4,AU29,0)+IF(DC31=4,AU31,0)+IF(DC32=4,AU32,0)+IF(DC33=4,AU33,0)+IF(DC35=4,AU35,0)+IF(DC36=4,AU36,0)+IF(DC37=4,AU37,0)+IF(DC39=4,AU39,0)+IF(DC40=4,AU40,0))","v":""},{"$f":"IF(IF(DC11=4,BT11,0)+IF(DC12=4,BT12,0)+IF(DC13=4,BT13,0)+IF(DC14=4,BT14,0)+IF(DC15=4,BT15,0)+IF(DC16=4,BT16,0)+IF(DC17=4,BT17,0)+IF(DC19=4,BT19,0)+IF(DC20=4,BT20,0)+IF(DC21=4,BT21,0)+IF(DC22=4,BT22,0)+IF(DC24=4,BT24,0)+IF(DC25=4,BT25,0)+IF(DC26=4,BT26,0)+IF(DC27=4,BT27,0)+IF(DC28=4,BT28,0)+IF(DC29=4,BT29,0)+IF(DC31=4,BT31,0)+IF(DC32=4,BT32,0)+IF(DC33=4,BT33,0)+IF(DC35=4,BT35,0)+IF(DC36=4,BT36,0)+IF(DC37=4,BT37,0)+IF(DC39=4,BT39,0)+IF(DC40=4,BT40,0)=0,\"\",IF(DC11=4,BT11,0)+IF(DC12=4,BT12,0)+IF(DC13=4,BT13,0)+IF(DC14=4,BT14,0)+IF(DC15=4,BT15,0)+IF(DC16=4,BT16,0)+IF(DC17=4,BT17,0)+IF(DC19=4,BT19,0)+IF(DC20=4,BT20,0)+IF(DC21=4,BT21,0)+IF(DC22=4,BT22,0)+IF(DC24=4,BT24,0)+IF(DC25=4,BT25,0)+IF(DC26=4,BT26,0)+IF(DC27=4,BT27,0)+IF(DC28=4,BT28,0)+IF(DC29=4,BT29,0)+IF(DC31=4,BT31,0)+IF(DC32=4,BT32,0)+IF(DC33=4,BT33,0)+IF(DC35=4,BT35,0)+IF(DC36=4,BT36,0)+IF(DC37=4,BT37,0)+IF(DC39=4,BT39,0)+IF(DC40=4,BT40,0))","v":""},{"$f":"IF(IF(DC11=5,AU11,0)+IF(DC12=5,AU12,0)+IF(DC13=5,AU13,0)+IF(DC14=5,AU14,0)+IF(DC15=5,AU15,0)+IF(DC16=5,AU16,0)+IF(DC17=5,AU17,0)+IF(DC19=5,AU19,0)+IF(DC20=5,AU20,0)+IF(DC21=5,AU21,0)+IF(DC22=5,AU22,0)+IF(DC24=5,AU24,0)+IF(DC25=5,AU25,0)+IF(DC26=5,AU26,0)+IF(DC27=5,AU27,0)+IF(DC28=5,AU28,0)+IF(DC29=5,AU29,0)+IF(DC31=5,AU31,0)+IF(DC32=5,AU32,0)+IF(DC33=5,AU33,0)+IF(DC35=5,AU35,0)+IF(DC36=5,AU36,0)+IF(DC37=5,AU37,0)+IF(DC39=5,AU39,0)+IF(DC40=5,AU40,0)=0,\"\",IF(DC11=5,AU11,0)+IF(DC12=5,AU12,0)+IF(DC13=5,AU13,0)+IF(DC14=5,AU14,0)+IF(DC15=5,AU15,0)+IF(DC16=5,AU16,0)+IF(DC17=5,AU17,0)+IF(DC19=5,AU19,0)+IF(DC20=5,AU20,0)+IF(DC21=5,AU21,0)+IF(DC22=5,AU22,0)+IF(DC24=5,AU24,0)+IF(DC25=5,AU25,0)+IF(DC26=5,AU26,0)+IF(DC27=5,AU27,0)+IF(DC28=5,AU28,0)+IF(DC29=5,AU29,0)+IF(DC31=5,AU31,0)+IF(DC32=5,AU32,0)+IF(DC33=5,AU33,0)+IF(DC35=5,AU35,0)+IF(DC36=5,AU36,0)+IF(DC37=5,AU37,0)+IF(DC39=5,AU39,0)+IF(DC40=5,AU40,0))","v":""},null,"VEISED",{"$f":"IF(SUM($C$11:$C$17)=0,\"\",IF(SUM($C$11:$C$17)>0,IF(VLOOKUP($DA$11,$DA$11:$DA$33,1,FALSE),IF(DG11=\"\",\"\",\"Tahesõnnik\"),\"\")))","v":""},null,{"$f":"IF(DP11=\"\",\"\",VLOOKUP($DQ$11,Tehnology!$J$10:$K$17,2,FALSE))","v":""},{"$f":"IF(DP11=\"\",\"\",VLOOKUP(DG24,Tehnology!I10:W17,7,FALSE))","v":""},{"$f":"IF(DP11=\"\",\"\",VLOOKUP($DG$24,Tehnology!$I$10:$W$17,9,FALSE))","v":""},{"$f":"IF(DP11=\"\",\"\",VLOOKUP($DQ$11,Tehnology!$J$10:$W$17,12,FALSE))","v":""},{"$f":"IF(DP11=\"\",\"\",VLOOKUP($DQ$11,Tehnology!$J$10:$W$17,13,FALSE))","v":""},{"$f":"IF(DP11=\"\",\"\",VLOOKUP($DQ$11,Tehnology!$J$10:$W$17,14,FALSE))","v":""},null,null,null,null,null,null,null,null,{"$f":"DG11","v":""},{"$f":"EF11+DY11*DZ11/1000","v":{"$error":"#VALUE!"}},{"$f":"EG11-((EK11+DY11*DZ11/1000*0/100)*EA11/100)-EI11","v":{"$error":"#VALUE!"}},{"$f":"IF(DQ11=\"Storage roofed\",DY11*EC11/1000,0)","v":0},{"$f":"IF(DP11=\"\",\"\",EH11-(DY11*DZ11/1000-DY11*DZ11/1000*(1-(EB11/100))))","v":""},{"$f":"IF(DC11=1,BA11,0)+IF(DC13=1,BA13,0)+IF(DC14=1,BA14,0)+IF(DC15=1,BA15,0)+IF(DC16=1,BA16,0)+IF(DC17=1,BA17,0)","v":0},{"$f":"EK11+(DY11*DZ11/1000*0/100)","v":0},{"$f":"EL11-(EL11*EA11/100)","v":0},{"$f":"IF(DP11=\"\",\"\",IF(EJ11=0,0,EM11/EJ11*100))","v":""},{"$f":"DG13*DR11/100","v":{"$error":"#VALUE!"}},{"$f":"DG13*DS11/100","v":{"$error":"#VALUE!"}},{"$f":"DG13*DT11/100","v":{"$error":"#VALUE!"}},{"$f":"DG13*DU11/100","v":{"$error":"#VALUE!"}},{"$f":"IF(DP11=\"\",\"\",DG13-EO11-EP11-EQ11-ER11)","v":""},{"$f":"IF(DP11=\"\",\"\",VLOOKUP($DG$24,Tehnology!$I$10:$W$17,11,FALSE)*ES11)","v":""},{"$f":"DG15*DV11/100","v":{"$error":"#VALUE!"}},{"$f":"IF(DP11=\"\",\"\",DG15-EU11)","v":""},{"$f":"DG16*DW11/100","v":{"$error":"#VALUE!"}},{"$f":"IF(DP11=\"\",\"\",DG16-EW11)","v":""},{"$f":"IF(DP11=\"\",\"\",ES11*1000/EJ11)","v":""},{"$f":"IF(DP11=\"\",\"\",ET11*1000/EJ11)","v":""},{"$f":"IF(DP11=\"\",\"\",EV11*1000/EJ11)","v":""},{"$f":"IF(DP11=\"\",\"\",EX11*1000/EJ11)","v":""},{"$f":"IF(DP11=\"\",\"\",EO11*1000)","v":""},{"$f":"IF(DP11=\"\",\"\",EP11*1000)","v":""},{"$f":"IF(DP11=\"\",\"\",EQ11*1000)","v":""},{"$f":"IF(DP11=\"\",\"\",ER11*1000)","v":""},{"$f":"IF(DP11=\"\",\"\",EU11*1000)","v":""},{"$f":"IF(DP11=\"\",\"\",EW11*1000)","v":""},{"$f":"C11*Tehnology!AB10","v":0},null,null,null,{"$f":"IF(D11=\"\",\"\",IF(AU11=AU11+BT11,C11*Tehnology!AD11,C11*Tehnology!AD11*AU11/(AU11+BT11)))","v":""},{"$f":"IF(D11=\"\",\"\",IF(BT11=0,0,IF(AU11=AU11+BT11,C11*Tehnology!AD10,C11*Tehnology!AD10*BT11/(AU11+BT11))))","v":""},{"$f":"IF(SUM(C11:C17)=0,\"\",SUM(FI11:FI17)/1000)","v":""},{"$f":"IF(SUM(C11:C17)=0,\"\",SUM(FM11:FN17)/1000)","v":""}]
[null,null,null,null,null,null,null,null,{"$f":"IF(G12=\"\",0,VLOOKUP(G12,'Additional information'!$B$8:$F$16,2,FALSE))","v":0},{"$f":"'FeedIn cattle (TMR)'!L144+'FeedIn cattle (TMR)'!L160","v":0},{"$f":"'FeedIn cattle (AFC)'!S58","v":60},{"$f":"IF(D12=\"\",0,IF('FeedIn cattle (TMR)'!B5=0,J12,K12))","v":0},{"$f":"IF(D12=\"\",0,L12)","v":0},{"$f":"IF(G12=\"\",0,VLOOKUP(G12,'Additional information'!$B$8:$F$16,3,FALSE)*'Ex animal'!CW10*H12*(L12-AE12)/1000*I12/100/1000)","v":0},{"$f":"IF(G12=\"\",0,VLOOKUP(G12,'Additional information'!$B$8:$F$16,4,FALSE)*'Ex animal'!CW10*H12*(L12-AE12)/1000*I12/100/1000)","v":0},{"$f":"IF(G12=\"\",0,VLOOKUP(G12,'Additional information'!$B$8:$F$16,5,FALSE)*'Ex animal'!CW10*H12*(L12-AE12)/1000*I12/100/1000)","v":0},null,null,{"$f":"IF(D12=\"\",\"\",VLOOKUP(D12,Tehnology!C10:D26,2,FALSE))","v":""},null,null,{"$f":"('FeedIn cattle (TMR)'!E157+'FeedIn cattle (TMR)'!E173)/'FeedIn cattle (TMR)'!E177","v":{"$error":"#DIV/0!"}},{"$f":"'FeedIn cattle (AFC)'!S58/60*0.075","v":7.4999999999999997E-2},{"$f":"'Ex animal'!BQ10*V12-(('Ex animal'!BQ10*V12*'Ex animal'!BR10/100)*T12/100)","v":{"$error":"#DIV/0!"}},{"$f":"'Ex animal'!BQ10*W12-(('Ex animal'!BQ10*W12*'Ex animal'!BR10/100)*T12/100)","v":0},{"$f":"IF(DC12=5,('Ex animal'!BQ10-'Ex animal'!BQ10*100*T12/100+'Ex animal'!BZ10*(1-T12/100))*V12,IF(DC12=3,('Ex animal'!BQ10-'Ex animal'!BQ10*T12/100+'Ex animal'!BZ10*(1-T12/100))*V12,IF(DC12=1,('Ex animal'!BQ10-'Ex animal'!BQ10*T12/100)*V12,IF(DC12=4,('Ex animal'!BQ10-'Ex animal'!BQ10*T12/100)*V12,0))))","v":0},{"$f":"IF(DC12=5,('Ex animal'!BQ10-'Ex animal'!BQ10*T12/100+'Ex animal'!BZ10*(1-T12/100))*W12,IF(DC12=3,('Ex animal'!BQ10-'Ex animal'!BQ10*T12/100+'Ex animal'!BZ10*(1-T12/100))*W12,IF(DC12=1,('Ex animal'!BQ10-'Ex animal'!BQ10*T12/100)*W12,IF(DC12=4,('Ex animal'!BQ10-'Ex animal'!BQ10*T12/100)*W12,0))))","v":0},{"$f":"IF(D12=\"\",0,IF('FeedIn cattle (TMR)'!B5=0,Z12,AA12))","v":0},{"$f":"IF(DC12=0,0,AB12)","v":0},{"$f":"IF(DC12=5,Q12,IF(DC12=3,Q12,0))","v":0},{"$f":"E12*F12/24","v":0},{"$f":"Z12+('FeedIn cattle (TMR)'!L144+'FeedIn cattle (TMR)'!L160)*H12/1000*(1-T12/100)","v":0},{"$f":"AA12+'FeedIn cattle (AFC)'!S58*H12/1000*(1-T12/100)","v":0},{"$f":"H12/1000*I12/100*('FeedIn cattle (TMR)'!L144+'FeedIn cattle (TMR)'!L160)*(1-T12/100)","v":0},{"$f":"H12/1000*I12/100*'FeedIn cattle (AFC)'!S58*(1-T12/100)","v":0},{"$f":"('FeedIn cattle (TMR)'!G157+'FeedIn cattle (TMR)'!G173)/('FeedIn cattle (TMR)'!G39+'FeedIn cattle (TMR)'!G59+'FeedIn cattle (TMR)'!G80+'FeedIn cattle (TMR)'!G100+'FeedIn cattle (TMR)'!G120+'FeedIn cattle (TMR)'!G140+'FeedIn cattle (TMR)'!G157+'FeedIn cattle (TMR)'!G173)","v":{"$error":"#DIV/0!"}},{"$f":"'FeedIn cattle (AFC)'!S58/60*0.058","v":5.8000000000000003E-2},{"$f":"('FeedIn cattle (TMR)'!H157+'FeedIn cattle (TMR)'!H173)/('FeedIn cattle (TMR)'!H173+'FeedIn cattle (TMR)'!H157+'FeedIn cattle (TMR)'!H140+'FeedIn cattle (TMR)'!H120+'FeedIn cattle (TMR)'!H100+'FeedIn cattle (TMR)'!H80+'FeedIn cattle (TMR)'!H59+'FeedIn cattle (TMR)'!H39)","v":{"$error":"#DIV/0!"}},{"$f":"'FeedIn cattle (AFC)'!S58/60*0.0476","v":4.7600000000000003E-2},{"$f":"('FeedIn cattle (TMR)'!I157+'FeedIn cattle (TMR)'!I173)/('FeedIn cattle (TMR)'!I173+'FeedIn cattle (TMR)'!I157+'FeedIn cattle (TMR)'!I140+'FeedIn cattle (TMR)'!I120+'FeedIn cattle (TMR)'!I100+'FeedIn cattle (TMR)'!I80+'FeedIn cattle (TMR)'!I59+'FeedIn cattle (TMR)'!I39)","v":{"$error":"#DIV/0!"}},{"$f":"'FeedIn cattle (AFC)'!S58/60*0.0917","v":9.1700000000000004E-2},{"$f":"IF(D12=\"\",0,IF('FeedIn cattle (TMR)'!B5=0,AN12,AO12))","v":0},{"$f":"IF(D12=\"\",0,IF('FeedIn cattle (TMR)'!B5=0,AL12,AM12))","v":0},{"$f":"IF(D12=\"\",0,IF('FeedIn cattle (TMR)'!B5=0,AJ12,AK12))","v":0},{"$f":"IF(D12=\"\",0,IF('FeedIn cattle (TMR)'!B5=0,V12,W12))","v":0},{"$f":"IF(D12=\"\",0,IF('FeedIn cattle (TMR)'!B5=0,AF12,AG12))","v":0},{"$f":"IF(D12=\"\",\"\",IF(C11=0,0,IF(D12=\"\",0,IF(AT12>0,AT12*'Ex animal'!CW10,0))))","v":""},{"$f":"IF(DC12=5,(('Ex animal'!BZ10*'Ex animal'!CA10/100-(('Ex animal'!BZ10*'Ex animal'!CA10/100)*T12/100)-(('Ex animal'!BQ10*'Ex animal'!BR10/100)*T12/100)+'Ex animal'!BQ10*'Ex animal'!BR10/100))*AS12,IF(DC12=3,('Ex animal'!BZ10*'Ex animal'!CA10/100-(('Ex animal'!BZ10*'Ex animal'!CA10/100)*T12/100)-(('Ex animal'!BQ10*'Ex animal'!BR10/100)*T12/100)+'Ex animal'!BQ10*'Ex animal'!BR10/100)*AS12,IF(DC12=1,('Ex animal'!BQ10*'Ex animal'!BR10/100-(('Ex animal'!BQ10*'Ex animal'!BR10/100)*T12/100))*AS12,IF(DC12=4,('Ex animal'!BQ10*'Ex animal'!BR10/100-(('Ex animal'!BQ10*'Ex animal'!BR10/100)*T12/100))*AS12,0))))","v":0},{"$f":"IF(DC12=0,0,AV12)","v":0},{"$f":"IF(DC12=5,Q12*R12/100,IF(DC12=3,Q12*R12/100,0))","v":0},{"$f":"IF(D12=\"\",0,IF('FeedIn cattle (TMR)'!B5=0,AH12,AI12))","v":0},{"$f":"IF(D12=\"\",\"\",IF(AU12=0,0,(AW12*'Ex animal'!CW10+AY12*'Ex animal'!CW10)/AU12*100))","v":""},{"$f":"AU12*AZ12/100","v":{"$error":"#VALUE!"}},{"$f":"IF(D12=\"\",0,IF(DC12=5,('Ex animal'!BS10+'Ex animal'!CB10)*AR12,IF(DC12=3,('Ex animal'!BS10+'Ex animal'!CB10)*AR12,IF(DC12=1,'Ex animal'!BS10*AR12,IF(DC12=4,'Ex animal'!BS10*' Ex housing and ex storage (MB)'!AR12,0)))))","v":0},0,0,{"$f":"IF(D12=\"\",\"\",IF(AU12=0,0,IF(AU12>0,BC12/1000*'Ex animal'!CW10+BD12+CE12*U12/100-CT12/1000,0)))","v":""},{"$f":"IF(D12=\"\",0,IF(DC12=5,('Ex animal'!BT10+'Ex animal'!CH10)*AQ12,IF(DC12=3,('Ex animal'!BT10+'Ex animal'!CH10)*AQ12,IF(DC12=1,'Ex animal'!BT10,IF(DC12=4,'Ex animal'!BT10,0)))))","v":0},{"$f":"IF(AU12=0,0,IF(DC12=0,0,BF12))","v":0},0,{"$f":"IF(D12=\"\",\"\",IF(AU12=0,0,IF(D12=\"\",BG12/1000*'Ex animal'!CW10+BH12+CL12*U12/100,BG12/1000*'Ex animal'!CW10+BH12+CL12*U12/100)))","v":""},{"$f":"IF(AU12=0,0,IF(DC12=5,('Ex animal'!BY10+'Ex animal'!CI10)*AP12,IF(DC12=3,('Ex animal'!BY10+'Ex animal'!CI10)*AP12,IF(DC12=1,'Ex animal'!BY10,IF(DC12=4,'Ex animal'!BY10,0)))))","v":0},{"$f":"IF(AU12=0,0,IF(DC12=0,0,BJ12))","v":0},0,{"$f":"IF(D12=\"\",\"\",IF(AU12=0,0,BK12/1000*'Ex animal'!CW10+BL12+CR12*U12/100))","v":""},{"$f":"IF(DC12=5,0,IF(DC12=3,0,IF(DC12=1,'Ex animal'!BZ10,IF(DC12=4,'Ex animal'!BZ10,'Ex animal'!BZ10+'Ex animal'!BQ10))))","v":0},null,null,null,null,null,null,null,null,null,null,null,null,null,null,null,null,null,null,null,null,null,null,null,null,null,null,null,null,null,null,null,{"$f":"IF(D12=\"\",\"\",IF(D12=\"\",0,IF('Ex animal'!CW10=0,0,('Ex animal'!CB10*S12*'Ex animal'!CW10/100)/365*L12)))","v":""},"",{"$f":"IF(D12=\"\",\"\",IF(AU12=0,0,BI12*1000/AU12))","v":""},"","",{"$f":"IF(D12=\"\",\"\",IF(BT12=0,0,CM12*1000/BT12))","v":""},"",null,{"$f":"IF(D12=\"\",\"\",IF(D12=\"\",0,VLOOKUP(D12,Tehnology!C10:E26,3,FALSE)))","v":""},{"$f":"IF(D12=\"\",\"\",IF(D12=\"\",0,VLOOKUP(DB12,Tehnology!$I$10:$W$53,1,FALSE)))","v":""},null,"KA","%",{"$f":"IF(DG11=\"\",\"\",IF(DG11=0,0,(IF(DC11=1,BA11,0)+IF(DC12=1,BA12,0)+IF(DC13=1,BA13,0)+IF(DC14=1,BA14,0)+IF(DC15=1,BA15,0)+IF(DC16=1,BA16,0)+IF(DC17=1,BA17,0)+IF(DC19=1,BA19,0)+IF(DC20=1,BA20,0)+IF(DC21=1,BA21,0)+IF(DC22=1,BA22,0)+IF(DC24=1,BA24,0)+IF(DC25=1,BA25,0)+IF(DC26=1,BA26,0)+IF(DC27=1,BA27,0)+IF(DC28=1,BA28,0)+IF(DC29=1,BA29,0)+IF(DC31=1,BA31,0)+IF(DC32=1,BA32,0)+IF(DC33=1,BA33,0)+IF(DC35=1,BA35,0)+IF(DC36=1,BA36,0)+IF(DC37=1,BA37,0)+IF(DC39=1,BA39,0)+IF(DC40=1,BA40,0))/DG11*100))","v":""},{"$f":"IF(DH11=\"\",\"\",IF(DH11=0,0,(IF(DC11=1,BZ11,0)+IF(DC12=1,BZ12,0)+IF(DC13=1,BZ13,0)+IF(DC14=1,BZ14,0)+IF(DC15=1,BZ15,0)+IF(DC16=1,BZ16,0)+IF(DC17=1,BZ17,0)+IF(DC19=1,BZ19,0)+IF(DC20=1,BZ20,0)+IF(DC21=1,BZ21,0)+IF(DC22=1,BZ22,0)+IF(DC24=1,BZ24,0)+IF(DC25=1,BZ25,0)+IF(DC26=1,BZ26,0)+IF(DC27=1,BZ27,0)+IF(DC28=1,BZ28,0)+IF(DC29=1,BZ29,0)+IF(DC31=1,BZ31,0)+IF(DC32=1,BZ32,0)+IF(DC33=1,BZ33,0)+IF(DC35=1,BZ35,0)+IF(DC36=1,BZ36,0)+IF(DC37=1,BZ37,0)+IF(DC39=1,BZ39,0)+IF(DC40=1,BZ40,0))/DH11*100))","v":""},{"$f":"IF(DI11=\"\",\"\",IF(DI11=0,0,(IF(DC11=2,BZ11,0)+IF(DC12=2,BZ12,0)+IF(DC13=2,BZ13,0)+IF(DC14=2,BZ14,0)+IF(DC15=2,BZ15,0)+IF(DC16=2,BZ16,0)+IF(DC17=2,BZ17,0)+IF(DC19=2,BZ19,0)+IF(DC20=2,BZ20,0)+IF(DC21=2,BZ21,0)+IF(DC22=2,BZ22,0)+IF(DC24=2,BZ24,0)+IF(DC25=2,BZ25,0)+IF(DC26=2,BZ26,0)+IF(DC27=2,BZ27,0)+IF(DC28=2,BZ28,0)+IF(DC29=2,BZ29,0)+IF(DC31=2,BZ31,0)+IF(DC32=2,BZ32,0)+IF(DC33=2,BZ33,0)+IF(DC35=2,BZ35,0)+IF(DC36=2,BZ36,0)+IF(DC37=2,BZ37,0)+IF(DC39=2,BZ39,0)+IF(DC40=2,BZ40,0))/DI11*100))","v":""},{"$f":"IF(DJ11=\"\",\"\",IF(DJ11=0,0,(IF(DC11=3,BA11,0)+IF(DC12=3,BA12,0)+IF(DC13=3,BA13,0)+IF(DC14=3,BA14,0)+IF(DC15=3,BA15,0)+IF(DC16=3,BA16,0)+IF(DC17=3,BA17,0)+IF(DC19=3,BA19,0)+IF(DC20=3,BA20,0)+IF(DC21=3,BA21,0)+IF(DC22=3,BA22,0)+IF(DC24=3,BA24,0)+IF(DC25=3,BA25,0)+IF(DC26=3,BA26,0)+IF(DC27=3,BA27,0)+IF(DC28=3,BA28,0)+IF(DC29=3,BA29,0)+IF(DC31=3,BA31,0)+IF(DC32=3,BA32,0)+IF(DC33=3,BA33,0)+IF(DC35=3,BA35,0)+IF(DC36=3,BA36,0)+IF(DC37=3,BA37,0)+IF(DC39=3,BA39,0)+IF(DC40=3,BA40,0))/DJ11*100))","v":""},{"$f":"IF(DK11=\"\",\"\",IF(DK11=0,0,(IF(DC11=4,BA11,0)+IF(DC12=4,BA12,0)+IF(DC13=4,BA13,0)+IF(DC14=4,BA14,0)+IF(DC15=4,BA15,0)+IF(DC16=4,BA16,0)+IF(DC17=4,BA17,0)+IF(DC19=4,BA19,0)+IF(DC20=4,BA20,0)+IF(DC21=4,BA21,0)+IF(DC22=4,BA22,0)+IF(DC24=4,BA24,0)+IF(DC25=4,BA25,0)+IF(DC26=4,BA26,0)+IF(DC27=4,BA27,0)+IF(DC28=4,BA28,0)+IF(DC29=4,BA29,0)+IF(DC31=4,BA31,0)+IF(DC32=4,BA32,0)+IF(DC33=4,BA33,0)+IF(DC35=4,BA35,0)+IF(DC36=4,BA36,0)+IF(DC37=4,BA37,0)+IF(DC39=4,BA39,0)+IF(DC40=4,BA40,0))/DK11*100))","v":""},{"$f":"IF(DL11=\"\",\"\",IF(DL11=0,0,(IF(DC11=4,BZ11,0)+IF(DC12=4,BZ12,0)+IF(DC13=4,BZ13,0)+IF(DC14=4,BZ14,0)+IF(DC15=4,BZ15,0)+IF(DC16=4,BZ16,0)+IF(DC17=4,BZ17,0)+IF(DC19=4,BZ19,0)+IF(DC20=4,BZ20,0)+IF(DC21=4,BZ21,0)+IF(DC22=4,BZ22,0)+IF(DC24=4,BZ24,0)+IF(DC25=4,BZ25,0)+IF(DC26=4,BZ26,0)+IF(DC27=4,BZ27,0)+IF(DC28=4,BZ28,0)+IF(DC29=4,BZ29,0)+IF(DC31=4,BZ31,0)+IF(DC32=4,BZ32,0)+IF(DC33=4,BZ33,0)+IF(DC35=4,BZ35,0)+IF(DC36=4,BZ36,0)+IF(DC37=4,BZ37,0)+IF(DC39=4,BZ39,0)+IF(DC40=4,BZ40,0))/DL11*100))","v":""},{"$f":"IF(DM11=\"\",\"\",IF(DM11=0,0,(IF(DC11=5,BA11,0)+IF(DC12=5,BA12,0)+IF(DC13=5,BA13,0)+IF(DC14=5,BA14,0)+IF(DC15=5,BA15,0)+IF(DC16=5,BA16,0)+IF(DC17=5,BA17,0)+IF(DC19=5,BA19,0)+IF(DC20=5,BA20,0)+IF(DC21=5,BA21,0)+IF(DC22=5,BA22,0)+IF(DC24=5,BA24,0)+IF(DC25=5,BA25,0)+IF(DC26=5,BA26,0)+IF(DC27=5,BA27,0)+IF(DC28=5,BA28,0)+IF(DC29=5,BA29,0)+IF(DC31=5,BA31,0)+IF(DC32=5,BA32,0)+IF(DC33=5,BA33,0)+IF(DC35=5,BA35,0)+IF(DC36=5,BA36,0)+IF(DC37=5,BA37,0)+IF(DC39=5,BA39,0)+IF(DC40=5,BA40,0))/DM11*100))","v":""},null,null,{"$f":"IF(SUM($C$11:$C$17)=0,\"\",IF(SUM($C$11:$C$17)>0,IF(VLOOKUP($DA$11,$DA$11:$DA$29,1,FALSE),IF(DH11=\"\",\"\",\"Virts\"),\"\")))","v":""},null,{"$f":"IF(DP12=\"\",\"\",VLOOKUP($DQ$12,Tehnology!L10:M17,2,FALSE))","v":""},{"$f":"IF(DP12=\"\",\"\",VLOOKUP($DG$24,Tehnology!$I$10:$W$17,8,FALSE))","v":""},{"$f":"IF(DP12=\"\",\"\",VLOOKUP($DG$24,Tehnology!$I$10:$W$17,10,FALSE))","v":""},null,null,null,null,null,null,null,null,null,null,null,{"$f":"DH11+SUM(DZ66:DZ69)","v":{"$error":"#VALUE!"}},{"$error":"#VALUE!"},{"$error":"#VALUE!"},0,{"$f":"IF(DP12=\"\",\"\",EH12-(DY12*DZ12/1000-DY12*DZ12/1000*(1-(EB12/100))))","v":""},{"$f":"IF(DC11=1,BZ11,0)+IF(DC13=1,BZ13,0)+IF(DC14=1,BZ14,0)+IF(DC15=1,BZ15,0)+IF(DC16=1,BZ16,0)+IF(DC17=1,BZ17,0)","v":0},{"$f":"EK12+(DY12*DZ12/1000*0/100)+SUM(EF66:EF69)","v":0},0,{"$f":"IF(DP12=\"\",\"\",IF(EJ12=0,0,EM12/EJ12*100))","v":""},{"$f":"(DH13+SUM(EB66:EB69)/1000)*DR12/100","v":{"$error":"#VALUE!"}},null,{"$f":"(DH13+SUM(EB66:EB69)/1000)*DT12/100","v":{"$error":"#VALUE!"}},null,{"$f":"IF(DP12=\"\",\"\",DH13+SUM(EB66:EB69)/1000-EO12-EP12-EQ12-ER12)","v":""},{"$f":"IF(DP12=\"\",\"\",VLOOKUP($DG$24,Tehnology!$I$10:$W$17,12,FALSE)*ES12)","v":""},null,{"$f":"IF(DP12=\"\",\"\",DH15+SUM(EC66:EC69)/1000-EU12)","v":""},null,{"$f":"IF(DP12=\"\",\"\",DH16+SUM(ED66:ED69)/1000-EW12)","v":""},{"$f":"IF(DP12=\"\",\"\",ES12*1000/EJ12)","v":""},{"$f":"IF(DP12=\"\",\"\",ET12*1000/EJ12)","v":""},{"$f":"IF(DP12=\"\",\"\",EV12*1000/EJ12)","v":""},{"$f":"IF(DP12=\"\",\"\",EX12*1000/EJ12)","v":""},"","","","","","",{"$f":"SUM(C13:C17)*Tehnology!AB12","v":0},{"$f":"'FeedIn cattle (TMR)'!L144+'FeedIn cattle (TMR)'!L160","v":0},{"$f":"'FeedIn cattle (AFC)'!S58","v":60},{"$f":"IF(D12=\"\",0,IF('FeedIn cattle (TMR)'!B5=0,FJ12,FK12))","v":0}]
[null,"Lehmvasikad (vanus kuni 6 kuud)",{"$f":"'Ex animal'!CW11","v":0},null,{"$f":"IF('FeedIn cattle (AFC)'!B5=987654321,0,IF(B13='FeedIn cattle (AFC)'!AS12,'FeedIn cattle (AFC)'!AX17,0))","v":0},{"$f":"IF('FeedIn cattle (AFC)'!B5=987654321,0,IF(B13='FeedIn cattle (AFC)'!AS12,'FeedIn cattle (AFC)'!AZ17,0))","v":0},null,null,{"$f":"IF(G13=\"\",0,VLOOKUP(G13,'Additional information'!$B$8:$F$16,2,FALSE))","v":0},null,null,null,null,{"$f":"IF(G13=\"\",0,VLOOKUP(G13,'Additional information'!$B$8:$F$16,3,FALSE)*'Ex animal'!CW11*H13*(180-AE13)/1000*I13/100/1000)","v":0},{"$f":"IF(G13=\"\",0,VLOOKUP(G13,'Additional information'!$B$8:$F$16,4,FALSE)*'Ex animal'!CW11*H13*(180-AE13)/1000*I13/100/1000)","v":0},{"$f":"IF(G13=\"\",0,VLOOKUP(G13,'Additional information'!$B$8:$F$16,5,FALSE)*'Ex animal'!CW11*H13*(180-AE13)/1000*I13/100/1000)","v":0},null,2.5,{"$f":"IF(D13=\"\",\"\",VLOOKUP(D13,Tehnology!C27:D38,2,FALSE))","v":""},null,null,null,null,null,null,null,null,{"$f":"IF(DC13=5,'Ex animal'!BQ11-'Ex animal'!BQ11*T13/100+'Ex animal'!BZ11*(1-T13/100),IF(DC13=3,'Ex animal'!BQ11-'Ex animal'!BQ11*T13/100+'Ex animal'!BZ11*(1-T13/100),IF(DC13=1,'Ex animal'!BQ11-'Ex animal'!BQ11*T13/100,IF(DC13=4,'Ex animal'!BQ11-'Ex animal'!BQ11*T13/100,0))))","v":0},{"$f":"IF(DC13=0,0,AB13)","v":0},0,{"$f":"E13*F13/24","v":0},null,null,null,null,null,null,null,null,null,null,null,null,null,{"$f":"IF(DC13=2,IF(DC13>0,H13*(180-AE13)/1000-((H13*(180-AE13)/1000)*T13)/100,0),0)","v":0},{"$f":"IF(DC13=2,0,IF(DC13>0,H13*(180-AE13)/1000-((H13*(180-AE13)/1000)*T13)/100,0))","v":0},{"$f":"IF(D13=\"\",\"\",(AC13*'Ex animal'!CW11/180*(180*24-(E13*F13))/24)+(AD13*'Ex animal'!CW11)+(AT13*'Ex animal'!CW11)+BS13*U13/100)","v":""},{"$f":"IF(DC13=5,'Ex animal'!BZ11*'Ex animal'!CA11/100-(('Ex animal'!BZ11*'Ex animal'!CA11/100)*T13/100)-(('Ex animal'!BQ11*'Ex animal'!BR11/100)*T13/100)+'Ex animal'!BQ11*'Ex animal'!BR11/100,IF(DC13=3,'Ex animal'!BZ11*'Ex animal'!CA11/100-(('Ex animal'!BZ11*'Ex animal'!CA11/100)*T13/100)-(('Ex animal'!BQ11*'Ex animal'!BR11/100)*T13/100)+'Ex animal'!BQ11*'Ex animal'!BR11/100,IF(DC13=1,'Ex animal'!BQ11*'Ex animal'!BR11/100-(('Ex animal'!BQ11*'Ex animal'!BR11/100)*T13/100),IF(DC13=4,'Ex animal'!BQ11*'Ex animal'!BR11/100-(('Ex animal'!BQ11*'Ex animal'!BR11/100)*T13/100),0))))","v":0},{"$f":"IF(DC13=0,0,AV13)","v":0},0,{"$f":"IF(H13=\"\",0,IF(DC13>0,H13*180/1000*I13/100-(H13*180/1000*I13/100*(T13/100)),0))","v":0},{"$f":"IF(D13=\"\",\"\",IF(AU13>0,((AW13*'Ex animal'!CW11/180*(180*24-(E13*F13))/24)+(AX13*'Ex animal'!CW11)+(AY13*'Ex animal'!CW11)+(BS13*BY13/100*U13/100))/AU13*100,0))","v":""},{"$f":"AU13*AZ13/100","v":{"$error":"#VALUE!"}},{"$f":"IF(DC13=5,'Ex animal'!BS11+'Ex animal'!CB11,IF(DC13=3,'Ex animal'!BS11+'Ex animal'!CB11,IF(DC13=1,'Ex animal'!BS11,IF(DC13=4,'Ex animal'!BS11,0))))","v":0},0,0,{"$f":"IF(D13=\"\",\"\",IF(DC13=4,(BC13/1000*'Ex animal'!CW11/180*(180*24-(E13*F13))/24)+BD13+(CE13*U13/100),IF(BT13>0,0,((BC13/1000*'Ex animal'!CW11/180*(180*24-(E13*F13))/24)+(BD13))+(CE13*U13/100)-CT13/1000)))","v":""},{"$f":"IF(DC13=5,'Ex animal'!BT11+'Ex animal'!CH11,IF(DC13=3,'Ex animal'!BT11+'Ex animal'!CH11,IF(DC13=1,'Ex animal'!BT11,IF(DC13=4,'Ex animal'!BT11,0))))","v":0},{"$f":"IF(DC13=0,0,BF13)","v":0},0,{"$f":"IF(D13=\"\",\"\",((BG13/1000*'Ex animal'!CW11/180*(180*24-(E13*F13))/24)+(BH13))+CL13*U13/100)","v":""},{"$f":"IF(DC13=5,'Ex animal'!BY11+'Ex animal'!CI11,IF(DC13=3,'Ex animal'!BY11+'Ex animal'!CI11,IF(DC13=1,'Ex animal'!BY11,IF(DC13=4,'Ex animal'!BY11,0))))","v":0},{"$f":"IF(DC13=0,0,BJ13)","v":0},0,{"$f":"IF(D13=\"\",\"\",((BK13/1000*'Ex animal'!CW11/180*(180*24-(E13*F13))/24)+(BL13))+CR13*U13/100)","v":""},{"$f":"IF(DC13=5,0,IF(DC13=3,0,IF(DC13=1,'Ex animal'!BZ11,IF(DC13=4,'Ex animal'!BZ11,'Ex animal'!BZ11+'Ex animal'!BQ11))))","v":0},{"$f":"IF(DC13=0,0,BN13)","v":0},{"$f":"IF(DC13=4,Q13,IF(DC13=2,Q13,IF(DC13=1,Q13,0)))","v":0},{"$f":"IF(DC13=0,H13*(180-AE13)/1000,0)","v":0},{"$f":"BS13*U13/100","v":0},{"$f":"(BO13*'Ex animal'!CW11/180*(180*24-(E13*F13))/24)+(BP13*'Ex animal'!CW11)+(BQ13*'Ex animal'!CW11)+AS13","v":0},{"$f":"IF(D13=\"\",\"\",BS13-BR13)","v":""},{"$f":"IF(DC13=5,0,IF(DC13=3,0,IF(DC13=1,'Ex animal'!BZ11*'Ex animal'!CA11/100,IF(DC13=4,'Ex animal'!BZ11*'Ex animal'!CA11/100,'Ex animal'!BQ11*'Ex animal'!BR11/100+'Ex animal'!BZ11*'Ex animal'!CA11/100))))","v":0},{"$f":"IF(DC13=0,0,BU13)","v":0},{"$f":"IF(DC13=4,Q13*R13/100,IF(DC13=2,Q13*R13/100,IF(DC13=1,Q13*R13/100,0)))","v":0},{"$f":"IF(DC13=2,(H13*(180-AE13))/1000*I13/100,0)","v":0},{"$f":"IF(D13=\"\",\"\",IF(BS13=0,0,((BV13*'Ex animal'!CW11/180*(180*24-(E13*F13))/24)+(BW13*'Ex animal'!CW11)+(BX13*'Ex animal'!CW11))/BS13*100))","v":""},{"$f":"BT13*BY13/100","v":{"$error":"#VALUE!"}},{"$f":"IF(DC13=5,0,IF(DC13=3,0,IF(DC13=1,'Ex animal'!CB11,IF(DC13=4,'Ex animal'!CB11,'Ex animal'!BS11+'Ex animal'!CB11))))","v":0},{"$f":"IF(DC13=0,0,CA13)","v":0},{"$f":"IF(AU13=0,N13,0)","v":0},{"$f":"CE13*U13/100","v":{"$error":"#VALUE!"}},{"$f":"IF(BT13>0,((CB13/1000*'Ex animal'!CW11/180*(180*24-(E13*F13))/24)-(CT13/1000)+(CC13)),0)","v":{"$error":"#VALUE!"}},{"$f":"(('Ex animal'!CB11/1000*'Ex animal'!CW11/180*(180*24-(E13*F13))/24)-(CT13/1000)+(CC13))","v":{"$error":"#VALUE!"}},{"$f":"IF(D13=\"\",\"\",CE13-CD13)","v":""},{"$f":"IF(DC13=5,0,IF(DC13=3,0,IF(DC13=1,'Ex animal'!CH11,IF(DC13=4,'Ex animal'!CH11,'Ex animal'!BT11+'Ex animal'!CH11))))","v":0},{"$f":"IF(DC13=0,0,CH13)","v":0},{"$f":"IF(DC13=2,O13,0)","v":0},{"$f":"CL13*U13/100","v":0},{"$f":"((CI13/1000*'Ex animal'!CW11/180*(180*24-(E13*F13))/24)+(CJ13))","v":0},{"$f":"IF(D13=\"\",\"\",CL13-CK13)","v":""},{"$f":"IF(DC13=5,0,IF(DC13=3,0,IF(DC13=1,'Ex animal'!CI11,IF(DC13=4,'Ex animal'!CI11,'Ex animal'!CI11+'Ex animal'!BY11))))","v":0},{"$f":"IF(DC13=0,0,CN13)","v":0},{"$f":"IF(DC13=2,P13,0)","v":0},{"$f":"CR13*U13/100","v":0},{"$f":"((CO13/1000*'Ex animal'!CW11/180*(180*24-(E13*F13))/24)+(CP13))","v":0},{"$f":"IF(D13=\"\",\"\",CR13-CQ13)","v":""},{"$f":"IF(D13=\"\",\"\",IF('Ex animal'!CW11=0,0,('Ex animal'!CB11*S13*'Ex animal'!CW11/100)-('Ex animal'!CB11*S13*'Ex animal'!CW11/100)/180*(E13*F13/24)))","v":""},"","","","","","",null,{"$f":"IF(D13=\"\",\"\",VLOOKUP(D13,Tehnology!C27:E38,3,FALSE))","v":""},{"$f":"IF(D13=\"\",\"\",VLOOKUP(DB13,Tehnology!$I$10:$W$53,1,FALSE))","v":""},null,"N","t",{"$f":"IF(DG11=\"\",\"\",IF(DC11=1,BE11,0)+IF(DC12=1,BE12,0)+IF(DC13=1,BE13,0)+IF(DC14=1,BE14,0)+IF(DC15=1,BE15,0)+IF(DC16=1,BE16,0)+IF(DC17=1,BE17,0)+IF(DC19=1,BE19,0)+IF(DC20=1,BE20,0)+IF(DC21=1,BE21,0)+IF(DC22=1,BE22,0)+IF(DC24=1,BE24,0)+IF(DC25=1,BE25,0)+IF(DC26=1,BE26,0)+IF(DC27=1,BE27,0)+IF(DC28=1,BE28,0)+IF(DC29=1,BE29,0)+IF(DC31=1,BE31,0)+IF(DC32=1,BE32,0)+IF(DC33=1,BE33,0)+IF(DC35=1,BE35,0)+IF(DC36=1,BE36,0)+IF(DC37=1,BE37,0)+IF(DC39=1,BE39,0)+IF(DC40=1,BE40,0))","v":""},{"$f":"IF(DH11=\"\",\"\",IF(DC11=1,CG11,0)+IF(DC12=1,CG12,0)+IF(DC13=1,CG13,0)+IF(DC14=1,CG14,0)+IF(DC15=1,CG15,0)+IF(DC16=1,CG16,0)+IF(DC17=1,CG17,0)+IF(DC19=1,CG19,0)+IF(DC20=1,CG20,0)+IF(DC21=1,CG21,0)+IF(DC22=1,CG22,0)+IF(DC24=1,CG24,0)+IF(DC25=1,CG25,0)+IF(DC26=1,CG26,0)+IF(DC27=1,CG27,0)+IF(DC28=1,CG28,0)+IF(DC29=1,CG29,0)+IF(DC31=1,CG31,0)+IF(DC32=1,CG32,0)+IF(DC33=1,CG33,0)+IF(DC35=1,CG35,0)+IF(DC36=1,CG36,0)+IF(DC37=1,CG37,0)+IF(DC39=1,CG39,0)+IF(DC40=1,CG40,0))","v":""},{"$f":"IF(DI11=\"\",\"\",IF(DC11=2,CG11,0)+IF(DC12=2,CG12,0)+IF(DC13=2,CG13,0)+IF(DC14=2,CG14,0)+IF(DC15=2,CG15,0)+IF(DC16=2,CG16,0)+IF(DC17=2,CG17,0)+IF(DC19=2,CG19,0)+IF(DC20=2,CG20,0)+IF(DC21=2,CG21,0)+IF(DC22=2,CG22,0)+IF(DC24=2,CG24,0)+IF(DC25=2,CG25,0)+IF(DC26=2,CG26,0)+IF(DC27=2,CG27,0)+IF(DC28=2,CG28,0)+IF(DC29=2,CG29,0)+IF(DC31=2,CG31,0)+IF(DC32=2,CG32,0)+IF(DC33=2,CG33,0)+IF(DC35=2,CG35,0)+IF(DC36=2,CG36,0)+IF(DC37=2,CG37,0)+IF(DC39=2,CG39,0)+IF(DC40=2,CG40,0))","v":""},{"$f":"IF(DJ11=\"\",\"\",IF(DJ11=\"\",\"\",IF(DC11=3,BE11,0)+IF(DC12=3,BE12,0)+IF(DC13=3,BE13,0)+IF(DC14=3,BE14,0)+IF(DC15=3,BE15,0)+IF(DC16=3,BE16,0)+IF(DC17=3,BE17,0)+IF(DC19=3,BE19,0)+IF(DC20=3,BE20,0)+IF(DC21=3,BE21,0)+IF(DC22=3,BE22,0)+IF(DC24=3,BE24,0)+IF(DC25=3,BE25,0)+IF(DC26=3,BE26,0)+IF(DC27=3,BE27,0)+IF(DC28=3,BE28,0)+IF(DC29=3,BE29,0)+IF(DC31=3,BE31,0)+IF(DC32=3,BE32,0)+IF(DC33=3,BE33,0)+IF(DC35=3,BE35,0)+IF(DC36=3,BE36,0)+IF(DC37=3,BE37,0)+IF(DC39=3,BE39,0)+IF(DC40=3,BE40,0)))","v":""},{"$f":"IF(DK11=\"\",\"\",IF(DC11=4,BE11,0)+IF(DC12=4,BE12,0)+IF(DC13=4,BE13,0)+IF(DC14=4,BE14,0)+IF(DC15=4,BE15,0)+IF(DC16=4,BE16,0)+IF(DC17=4,BE17,0)+IF(DC19=4,BE19,0)+IF(DC20=4,BE20,0)+IF(DC21=4,BE21,0)+IF(DC22=4,BE22,0)+IF(DC24=4,BE24,0)+IF(DC25=4,BE25,0)+IF(DC26=4,BE26,0)+IF(DC27=4,BE27,0)+IF(DC28=4,BE28,0)+IF(DC29=4,BE29,0)+IF(DC31=4,BE31,0)+IF(DC32=4,BE32,0)+IF(DC33=4,BE33,0)+IF(DC35=4,BE35,0)+IF(DC36=4,BE36,0)+IF(DC37=4,BE37,0)+IF(DC39=4,BE39,0)+IF(DC40=4,BE40,0))","v":""},{"$f":"IF(DL11=\"\",\"\",IF(DC11=4,CG11,0)+IF(DC12=4,CG12,0)+IF(DC13=4,CG13,0)+IF(DC14=4,CG14,0)+IF(DC15=4,CG15,0)+IF(DC16=4,CG16,0)+IF(DC17=4,CG17,0)+IF(DC19=4,CG19,0)+IF(DC20=4,CG20,0)+IF(DC21=4,CG21,0)+IF(DC22=4,CG22,0)+IF(DC24=4,CG24,0)+IF(DC25=4,CG25,0)+IF(DC26=4,CG26,0)+IF(DC27=4,CG27,0)+IF(DC28=4,CG28,0)+IF(DC29=4,CG29,0)+IF(DC31=4,CG31,0)+IF(DC32=4,CG32,0)+IF(DC32=4,CG32,0)+IF(DC33=4,CG33,0)+IF(DC35=4,CG35,0)+IF(DC36=4,CG36,0)+IF(DC37=4,CG37,0)+IF(DC39=4,CG39,0)+IF(DC40=4,CG40,0))","v":""},{"$f":"IF(DM11=\"\",\"\",IF(DM11=\"\",\"\",IF(DC11=5,BE11,0)+IF(DC12=5,BE12,0)+IF(DC13=5,BE13,0)+IF(DC14=5,BE14,0)+IF(DC15=5,BE15,0)+IF(DC16=5,BE16,0)+IF(DC17=5,BE17,0)+IF(DC19=5,BE19,0)+IF(DC20=5,BE20,0)+IF(DC21=5,BE21,0)+IF(DC22=5,BE22,0)+IF(DC24=5,BE24,0)+IF(DC25=5,BE25,0)+IF(DC26=5,BE26,0)+IF(DC27=5,BE27,0)+IF(DC28=5,BE28,0)+IF(DC29=5,BE29,0)+IF(DC31=5,BE31,0)+IF(DC32=5,BE32,0)+IF(DC33=5,BE33,0)+IF(DC35=5,BE35,0)+IF(DC36=5,BE36,0)+IF(DC37=5,BE37,0)+IF(DC39=5,BE39,0)+IF(DC40=5,BE40,0)))","v":""},null,null,{"$f":"IF(SUM($C$11:$C$17)=0,\"\",IF(SUM($C$11:$C$17)>0,IF(VLOOKUP($DA$11,$DA$11:$DA$29,1,FALSE),IF(DI11=\"\",\"\",\"Vedelsõnnik\"),\"\")))","v":""},null,{"$f":"IF(DP13=\"\",\"\",VLOOKUP(DQ13,Tehnology!L19:M26,2,FALSE))","v":""},{"$f":"IF(DP13=\"\",\"\",VLOOKUP($DI$24,Tehnology!I19:W26,8,FALSE))","v":""},{"$f":"IF(DP13=\"\",\"\",VLOOKUP($DI$24,Tehnology!I19:W26,10,FALSE))","v":""},null,null,null,null,null,null,null,null,null,null,null,{"$f":"DI11+SUM(DZ66:DZ69)","v":{"$error":"#VALUE!"}},{"$error":"#VALUE!"},{"$f":"EG13-((EK13+DY13*DZ13/1000*0/100)*EA13/100)-EI13","v":{"$error":"#VALUE!"}},0,{"$f":"IF(DP13=\"\",\"\",EH13-(DY13*DZ13/1000-DY13*DZ13/1000*(1-(EB13/100))))","v":""},{"$f":"IF(DI11=0,0,(IF(DC11=2,BZ11,0)+IF(DC13=2,BZ13,0)+IF(DC14=2,BZ14,0)+IF(DC15=2,BZ15,0)+IF(DC16=2,BZ16,0)+IF(DC17=2,BZ17,0)))","v":0},{"$f":"EK13+(DY13*DZ13/1000*0/100)+SUM(EF66:EF69)","v":0},{"$f":"EL13-(EL13*EA13/100)","v":0},{"$f":"IF(DP13=\"\",\"\",IF(EJ13=0,0,EM13/EJ13*100))","v":""},{"$f":"((IF(DC11=2,CF11,0)+IF(DC13=2,CF13,0)+IF(DC14=2,CF14,0)+IF(DC15=2,CF15,0)+IF(DC16=2,CF16,0)+IF(DC17=2,CF17,0))+(SUM(EB66:EB69)/1000))*DR13/100","v":{"$error":"#VALUE!"}},null,{"$f":"(DI13+SUM(EB66:EB69)/1000)*DT13/100","v":{"$error":"#VALUE!"}},null,{"$f":"IF(DP13=\"\",\"\",DI13+SUM(EB66:EB69)/1000-EO13-EP13-EQ13-ER13)","v":""},{"$f":"IF(DP13=\"\",\"\",VLOOKUP(DI24,Tehnology!I19:W26,12,FALSE)*ES13)","v":""},null,{"$f":"IF(DP13=\"\",\"\",DI15+SUM(EC66:EC69)/1000-EU13)","v":""},null,{"$f":"IF(DP13=\"\",\"\",DI16+SUM(ED66:ED69)/1000-EW13)","v":""},{"$f":"IF(DP13=\"\",\"\",ES13*1000/EJ13)","v":""},{"$f":"IF(DP13=\"\",\"\",ET13*1000/EJ13)","v":""},{"$f":"IF(DP13=\"\",\"\",EV13*1000/EJ13)","v":""},{"$f":"IF(DP13=\"\",\"\",EX13*1000/EJ13)","v":""},{"$f":"IF(DP13=\"\",\"\",EO13*1000)","v":""},"","","","","",null,null,null,null,{"$f":"IF(D13=\"\",\"\",IF(AU13=AU13+BT13,C13*Tehnology!$AD$13,C13*Tehnology!$AD$13*AU13/(AU13+BT13)))","v":""},{"$f":"IF(D13=\"\",\"\",IF(BT13=0,0,IF(AU13=AU13+BT13,C13*Tehnology!$AD$12,C13*Tehnology!$AD$12*BT13/(AU13+BT13))))","v":""}]
[null,"Pullvasikad (vanus kuni 6 kuud)",{"$f":"'Ex animal'!CW12","v":0},null,{"$f":"IF('FeedIn cattle (AFC)'!B5=987654321,0,IF(B14='FeedIn cattle (AFC)'!BC12,'FeedIn cattle (AFC)'!BH17,0))","v":0},{"$f":"IF('FeedIn cattle (AFC)'!B5=987654321,0,IF(B14='FeedIn cattle (AFC)'!BC12,'FeedIn cattle (AFC)'!BJ17,0))","v":0},null,null,{"$f":"IF(G14=\"\",0,VLOOKUP(G14,'Additional information'!$B$8:$F$16,2,FALSE))","v":0},null,null,null,null,{"$f":"IF(G14=\"\",0,VLOOKUP(G14,'Additional information'!$B$8:$F$16,3,FALSE)*'Ex animal'!CW12*H14*(180-AE14)/1000*I14/100/1000)","v":0},{"$f":"IF(G14=\"\",0,VLOOKUP(G14,'Additional information'!$B$8:$F$16,4,FALSE)*'Ex animal'!CW12*H14*(180-AE14)/1000*I14/100/1000)","v":0},{"$f":"IF(G14=\"\",0,VLOOKUP(G14,'Additional information'!$B$8:$F$16,5,FALSE)*'Ex animal'!CW12*H14*(180-AE14)/1000*I14/100/1000)","v":0},null,2.5,{"$f":"IF(D14=\"\",\"\",VLOOKUP(D14,Tehnology!C39:D50,2,FALSE))","v":""},null,null,null,null,null,null,null,null,{"$f":"IF(DC14=5,'Ex animal'!BQ12-'Ex animal'!BQ12*T14/100+'Ex animal'!BZ12*(1-T14/100),IF(DC14=3,'Ex animal'!BQ12-'Ex animal'!BQ12*T14/100+'Ex animal'!BZ12*(1-T14/100),IF(DC14=1,'Ex animal'!BQ12-'Ex animal'!BQ12*T14/100,IF(DC14=4,'Ex animal'!BQ12-'Ex animal'!BQ12*T14/100,0))))","v":0},0,0,0,null,null,null,null,null,null,null,null,null,null,null,null,null,{"$f":"IF(DC14=2,IF(DC14>0,H14*(180-AE14)/1000-((H14*(180-AE14)/1000)*T14)/100,0),0)","v":0},{"$f":"IF(DC14=2,0,IF(DC14>0,H14*(180-AE14)/1000-((H14*(180-AE14)/1000)*T14)/100,0))","v":0},{"$f":"IF(D14=\"\",\"\",(AC14*'Ex animal'!CW12/180*(180*24-(E14*F14))/24)+(AD14*'Ex animal'!CW12)+(AT14*'Ex animal'!CW12)+BS14*U14/100)","v":""},{"$f":"IF(DC14=5,'Ex animal'!BZ12*'Ex animal'!CA12/100-(('Ex animal'!BZ12*'Ex animal'!CA12/100)*T14/100)-(('Ex animal'!BQ12*'Ex animal'!BR12/100)*T14/100)+'Ex animal'!BQ12*'Ex animal'!BR12/100,IF(DC14=3,'Ex animal'!BZ12*'Ex animal'!CA12/100-(('Ex animal'!BZ12*'Ex animal'!CA12/100)*T14/100)-(('Ex animal'!BQ12*'Ex animal'!BR12/100)*T14/100)+'Ex animal'!BQ12*'Ex animal'!BR12/100,IF(DC14=1,'Ex animal'!BQ12*'Ex animal'!BR12/100-(('Ex animal'!BQ12*'Ex animal'!BR12/100)*T14/100),IF(DC14=4,'Ex animal'!BQ12*'Ex animal'!BR12/100-(('Ex animal'!BQ12*'Ex animal'!BR12/100)*T14/100),0))))","v":0},0,0,{"$f":"IF(H14=\"\",0,IF(DC14>0,H14*180/1000*I14/100-(H14*180/1000*I14/100*(T14/100)),0))","v":0},{"$f":"IF(D14=\"\",\"\",IF(AU14>0,((AW14*'Ex animal'!CW12/180*(180*24-(E14*F14))/24)+(AX14*'Ex animal'!CW12)+(AY14*'Ex animal'!CW12)+(BS14*BY14/100*U14/100))/AU14*100,0))","v":""},{"$f":"AU14*AZ14/100","v":{"$error":"#VALUE!"}},{"$f":"IF(DC14=5,'Ex animal'!BS12+'Ex animal'!CB12,IF(DC14=3,'Ex animal'!BS12+'Ex animal'!CB12,IF(DC14=1,'Ex animal'!BS12,IF(DC14=4,'Ex animal'!BS12,0))))","v":0},0,0,{"$f":"IF(D14=\"\",\"\",IF(DC14=4,(BC14/1000*'Ex animal'!CW12/180*(180*24-(E14*F14))/24)+BD14+(CE14*U14/100),IF(BT14>0,0,((BC14/1000*'Ex animal'!CW12/180*(180*24-(E14*F14))/24)+(BD14))+(CE14*U14/100)-CT14/1000)))","v":""},{"$f":"IF(DC14=5,'Ex animal'!BT12+'Ex animal'!CH12,IF(DC14=3,'Ex animal'!BT12+'Ex animal'!CH12,IF(DC14=1,'Ex animal'!BT12,IF(DC14=4,'Ex animal'!BT12,0))))","v":0},{"$f":"IF(DC14=0,0,BF14)","v":0},0,{"$f":"IF(D14=\"\",\"\",((BG14/1000*'Ex animal'!CW12/180*(180*24-(E14*F14))/24)+(BH14))+CL14*U14/100)","v":""},{"$f":"IF(DC14=5,'Ex animal'!BY12+'Ex animal'!CI12,IF(DC14=3,'Ex animal'!BY12+'Ex animal'!CI12,IF(DC14=1,'Ex animal'!BY12,IF(DC14=4,'Ex animal'!BY12,0))))","v":0},{"$f":"IF(DC14=0,0,BJ14)","v":0},0,{"$f":"IF(D14=\"\",\"\",((BK14/1000*'Ex animal'!CW12/180*(180*24-(E14*F14))/24)+(BL14))+CR14*U14/100)","v":""},{"$f":"IF(DC14=5,0,IF(DC14=3,0,IF(DC14=1,'Ex animal'!BZ12,IF(DC14=4,'Ex animal'!BZ12,'Ex animal'!BZ12+'Ex animal'!BQ12))))","v":0},{"$f":"IF(DC14=0,0,BN14)","v":0},{"$f":"IF(DC14=4,Q14,IF(DC14=2,Q14,IF(DC14=1,Q14,0)))","v":0},{"$f":"IF(DC14=0,H14*(180-AE14)/1000,0)","v":0},{"$f":"BS14*U14/100","v":0},{"$f":"(BO14*'Ex animal'!CW12/180*(180*24-(E14*F14))/24)+(BP14*'Ex animal'!CW12)+(BQ14*'Ex animal'!CW12)+AS14","v":0},{"$f":"IF(D14=\"\",\"\",BS14-BR14)","v":""},{"$f":"IF(DC14=5,0,IF(DC14=3,0,IF(DC14=1,'Ex animal'!BZ12*'Ex animal'!CA12/100,IF(DC14=4,'Ex animal'!BZ12*'Ex animal'!CA12/100,'Ex animal'!BQ12*'Ex animal'!BR12/100+'Ex animal'!BZ12*'Ex animal'!CA12/100))))","v":0},{"$f":"IF(DC14=0,0,BU14)","v":0},{"$f":"IF(DC14=4,Q14*R14/100,IF(DC14=2,Q14*R14/100,IF(DC14=1,Q14*R14/100,0)))","v":0},{"$f":"IF(DC14=2,(H14*(180-AE14))/1000*I14/100,0)","v":0},{"$f":"IF(D14=\"\",\"\",IF(BS14=0,0,((BV14*'Ex animal'!CW12/180*(180*24-(E14*F14))/24)+(BW14*'Ex animal'!CW12)+(BX14*'Ex animal'!CW12))/BS14*100))","v":""},{"$error":"#VALUE!"},{"$f":"IF(DC14=5,0,IF(DC14=3,0,IF(DC14=1,'Ex animal'!CB12,IF(DC14=4,'Ex animal'!CB12,'Ex animal'!BS12+'Ex animal'!CB12))))","v":0},{"$f":"IF(DC14=0,0,CA14)","v":0},{"$f":"IF(AU14=0,N14,0)","v":0},{"$f":"CE14*U14/100","v":{"$error":"#VALUE!"}},{"$f":"IF(BT14>0,((CB14/1000*'Ex animal'!CW12/180*(180*24-(E14*F14))/24)-(CT14/1000)+(CC14)),0)","v":{"$error":"#VALUE!"}},{"$f":"(('Ex animal'!CB12/1000*'Ex animal'!CW12/180*(180*24-(E14*F14))/24)-(CT14/1000)+(CC14))","v":{"$error":"#VALUE!"}},{"$f":"IF(D14=\"\",\"\",CE14-CD14)","v":""},{"$f":"IF(DC14=5,0,IF(DC14=3,0,IF(DC14=1,'Ex animal'!CH12,IF(DC14=4,'Ex animal'!CH12,'Ex animal'!BT12+'Ex animal'!CH12))))","v":0},{"$f":"IF(DC14=0,0,CH14)","v":0},{"$f":"IF(DC14=2,O14,0)","v":0},{"$f":"CL14*U14/100","v":0},{"$f":"((CI14/1000*'Ex animal'!CW12/180*(180*24-(E14*F14))/24)+(CJ14))","v":0},{"$f":"IF(D14=\"\",\"\",CL14-CK14)","v":""},{"$f":"IF(DC14=5,0,IF(DC14=3,0,IF(DC14=1,'Ex animal'!CI12,IF(DC14=4,'Ex animal'!CI12,'Ex animal'!CI12+'Ex animal'!BY12))))","v":0},{"$f":"IF(DC14=0,0,CN14)","v":0},{"$f":"IF(DC14=2,P14,0)","v":0},{"$f":"CR14*U14/100","v":0},{"$f":"((CO14/1000*'Ex animal'!CW12/180*(180*24-(E14*F14))/24)+(CP14))","v":0},{"$f":"IF(D14=\"\",\"\",CR14-CQ14)","v":""},{"$f":"IF(D14=\"\",\"\",IF('Ex animal'!CW12=0,0,('Ex animal'!CB12*S14*'Ex animal'!CW12/100)-('Ex animal'!CB12*S14*'Ex animal'!CW12/100)/180*(E14*F14/24)))","v":""},"","","","","","",null,{"$f":"IF(D14=\"\",\"\",VLOOKUP(D14,Tehnology!C39:E50,3,FALSE))","v":""},{"$f":"IF(D14=\"\",\"\",VLOOKUP(DB14,Tehnology!$I$10:$W$53,1,FALSE))","v":""},null,"NH4-N",null,{"$f":"IF(DG11=\"\",\"\",IF(DG13=\"\",0,IF(SUM($C$31:$C$33)>0,DG13*VLOOKUP(DG24,Tehnology!$I$10:$Y$53,16,FALSE),IF(SUM($C$39:$C$40)>0,DG13*VLOOKUP(DG24,Tehnology!$I$10:$Y$53,16,FALSE),IF(SUM($C$35:$C$37)>0,DG13*VLOOKUP(DG24,Tehnology!$I$10:$Y$53,16,FALSE),IF(SUM($C$24:$C$29)>0,DG13*VLOOKUP(DG24,Tehnology!$I$99:$Y$143,16,FALSE),IF(SUM($C$11:$C$17)>0,DG13*VLOOKUP(DG24,Tehnology!$I$10:$Y$53,16,FALSE),IF(SUM($C$19:$C$22)>0,DG13*VLOOKUP(DG24,Tehnology!$I$54:$Y$98,16,FALSE)))))))))","v":""},{"$f":"IF(DH11=\"\",\"\",IF(DH13=\"\",0,IF(SUM($C$31:$C$33)>0,DH13*VLOOKUP(DG24,Tehnology!$I$10:$Y$53,17,FALSE),IF(SUM($C$39:$C$40)>0,DH13*VLOOKUP(DG24,Tehnology!$I$10:$Y$53,17,FALSE),IF(SUM($C$35:$C$37)>0,DH13*VLOOKUP(DG24,Tehnology!$I$10:$Y$53,17,FALSE),IF(SUM($C$24:$C$29)>0,DH13*VLOOKUP(DG24,Tehnology!$I$99:$Y$143,17,FALSE),IF(SUM($C$11:$C$17)>0,DH13*VLOOKUP(DG24,Tehnology!$I$10:$Y$53,17,FALSE),IF(SUM($C$19:$C$22)>0,DH13*VLOOKUP(DG24,Tehnology!$I$54:$Y$98,17,FALSE)))))))))","v":""},{"$f":"IF(DI11=\"\",\"\",IF(DI13=\"\",0,IF(SUM($C$31:$C$33)>0,DI13*VLOOKUP(DI24,Tehnology!$I$10:$Y$53,17,FALSE),IF(SUM($C$39:$C$40)>0,DI13*VLOOKUP(DI24,Tehnology!$I$10:$Y$53,17,FALSE),IF(SUM($C$35:$C$37)>0,DI13*VLOOKUP(DI24,Tehnology!$I$10:$Y$53,17,FALSE),IF(SUM($C$24:$C$29)>0,DI13*VLOOKUP(DI24,Tehnology!$I$99:$Y$143,17,FALSE),IF(SUM($C$11:$C$17)>0,DI13*VLOOKUP(DI24,Tehnology!$I$10:$Y$53,17,FALSE),IF(SUM($C$19:$C$22)>0,DI13*VLOOKUP(DI24,Tehnology!$I$54:$Y$98,17,FALSE)))))))))","v":""},{"$f":"IF(DJ11=\"\",\"\",IF(DJ13=\"\",0,IF(SUM($C$31:$C$33)>0,DJ13*VLOOKUP(DJ24,Tehnology!$I$10:$Y$53,16,FALSE),IF(SUM($C$39:$C$40)>0,DJ13*VLOOKUP(DJ24,Tehnology!$I$10:$Y$53,16,FALSE),IF(SUM($C$35:$C$37)>0,DJ13*VLOOKUP(DJ24,Tehnology!$I$10:$Y$53,16,FALSE),IF(DJ13=\"\",0,IF(SUM($C$24:$C$29)>0,DJ13*VLOOKUP(DJ24,Tehnology!$I$99:$Y$143,16,FALSE),IF(SUM($C$11:$C$17)>0,DJ13*VLOOKUP(DJ24,Tehnology!$I$10:$Y$53,16,FALSE),IF(SUM($C$19:$C$22)>0,DJ13*VLOOKUP(DJ24,Tehnology!$I$54:$Y$98,16,FALSE))))))))))","v":""},{"$f":"IF(DK11=\"\",\"\",IF(DK13=\"\",0,IF(SUM($C$31:$C$33)>0,DK13*VLOOKUP(DK24,Tehnology!$I$10:$Y$53,16,FALSE),IF(SUM($C$39:$C$40)>0,DK13*VLOOKUP(DK24,Tehnology!$I$10:$Y$53,16,FALSE),IF(SUM($C$35:$C$37)>0,DK13*VLOOKUP(DK24,Tehnology!$I$10:$Y$53,16,FALSE),IF(DK13=\"\",0,IF(SUM($C$24:$C$29)>0,DK13*VLOOKUP(DK24,Tehnology!$I$99:$Y$143,16,FALSE),IF(SUM($C$11:$C$17)>0,DK13*VLOOKUP(DK24,Tehnology!$I$10:$Y$53,16,FALSE),IF(SUM($C$19:$C$22)>0,DK13*VLOOKUP(DK24,Tehnology!$I$54:$Y$98,16,FALSE))))))))))","v":""},{"$f":"IF(DL11=\"\",\"\",IF(DL13=\"\",0,IF(SUM($C$31:$C$33)>0,DL13*VLOOKUP(DK24,Tehnology!$I$10:$Y$53,17,FALSE),IF(SUM($C$39:$C$40)>0,DL13*VLOOKUP(DK24,Tehnology!$I$10:$Y$53,17,FALSE),IF(SUM($C$35:$C$37)>0,DL13*VLOOKUP(DK24,Tehnology!$I$10:$Y$53,17,FALSE),IF(SUM($C$24:$C$29)>0,DL13*VLOOKUP(DK24,Tehnology!$I$99:$Y$143,17,FALSE),IF(SUM($C$11:$C$17)>0,DL13*VLOOKUP(DK24,Tehnology!$I$10:$Y$53,17,FALSE),IF(SUM($C$19:$C$22)>0,DL13*VLOOKUP(DK24,Tehnology!$I$54:$Y$98,17,FALSE)))))))))","v":""},{"$f":"IF(DM11=\"\",\"\",IF(DM13=\"\",0,IF(SUM($C$31:$C$33)>0,DM13*VLOOKUP(DM24,Tehnology!$I$10:$Y$53,16,FALSE),IF(SUM($C$39:$C$40)>0,DM13*VLOOKUP(DM24,Tehnology!$I$10:$Y$53,16,FALSE),IF(SUM($C$35:$C$37)>0,DM13*VLOOKUP(DM24,Tehnology!$I$10:$Y$53,16,FALSE),IF(SUM($C$24:$C$29)>0,DM13*VLOOKUP(DM24,Tehnology!$I$99:$Y$143,16,FALSE),IF(SUM($C$11:$C$17)>0,DM13*VLOOKUP(DM24,Tehnology!$I$10:$Y$53,16,FALSE),IF(SUM($C$19:$C$22)>0,DM13*VLOOKUP(DM24,Tehnology!$I$54:$Y$98,16,FALSE)))))))))","v":""},null,null,{"$f":"IF(SUM($C$11:$C$17)=0,\"\",IF(SUM($C$11:$C$17)>0,IF(VLOOKUP($DA$11,$DA$11:$DA$29,1,FALSE),IF(DJ11=\"\",\"\",\"Sügavallapanusõnnik\"),\"\")))","v":""},null,{"$f":"IF(DP14=\"\",\"\",VLOOKUP(DQ14,Tehnology!J28:K35,2,FALSE))","v":""},{"$f":"IF(DP14=\"\",\"\",VLOOKUP($DJ$24,Tehnology!I28:W35,7,FALSE))","v":""},{"$f":"IF(DP14=\"\",\"\",VLOOKUP($DJ$24,Tehnology!I28:W35,9,FALSE))","v":""},{"$f":"IF(DP14=\"\",\"\",VLOOKUP($DQ$14,Tehnology!J28:W35,12,FALSE))","v":""},{"$f":"IF(DP14=\"\",\"\",VLOOKUP($DQ$14,Tehnology!J28:W35,13,FALSE))","v":""},{"$f":"IF(DP14=\"\",\"\",VLOOKUP($DQ$14,Tehnology!J28:W35,14,FALSE))","v":""},null,null,null,null,null,null,null,null,{"$f":"DJ11*(1-ED14/100)","v":{"$error":"#VALUE!"}},{"$error":"#VALUE!"},{"$f":"EG14-((EK14+DY14*DZ14/1000*0/100)*EA14/100)-EI14","v":{"$error":"#VALUE!"}},0,{"$f":"IF(DP14=\"\",\"\",EH14-(DY14*DZ14/1000-DY14*DZ14/1000*(1-(EB14/100))))","v":""},{"$f":"(IF(DC11=3,BA11,0)+IF(DC13=3,BA13,0)+IF(DC14=3,BA14,0)+IF(DC15=3,BA15,0)+IF(DC16=3,BA16,0)+IF(DC17=3,BA17,0))*(1-ED14/100)","v":0},0,{"$f":"EL14-(EL14*EA14/100)","v":0},{"$f":"IF(DP14=\"\",\"\",IF(EJ14=0,0,EM14/EJ14*100))","v":""},{"$f":"DJ13*DR14/100*(1-ED14/100)","v":{"$error":"#VALUE!"}},{"$f":"DJ13*DS14/100*(1-ED14/100)","v":{"$error":"#VALUE!"}},{"$f":"DJ13*DT14/100*(1-ED14/100)","v":{"$error":"#VALUE!"}},{"$f":"DJ13*DU14/100*(1-ED14/100)","v":{"$error":"#VALUE!"}},{"$f":"IF(DP14=\"\",\"\",DJ13*(1-ED14/100)-EO14-EP14-EQ14-ER14)","v":""},{"$f":"IF(DP14=\"\",\"\",VLOOKUP(DJ24,Tehnology!I28:W35,11,FALSE)*ES14)","v":""},{"$f":"DJ15*DV14/100*(1-ED14/100)","v":{"$error":"#VALUE!"}},{"$f":"IF(DP14=\"\",\"\",DJ15*(1-ED14/100)-EU14)","v":""},{"$f":"DJ16*DW14/100*(1-ED14/100)","v":{"$error":"#VALUE!"}},{"$f":"IF(DP14=\"\",\"\",DJ16*(1-ED14/100)-EW14)","v":""},{"$f":"IF(ED14=100,0,IF(DP14=\"\",\"\",ES14*1000/EJ14))","v":""},{"$f":"IF(ED14=100,0,IF(DP14=\"\",\"\",ET14*1000/EJ14))","v":""},{"$f":"IF(ED14=100,0,IF(DP14=\"\",\"\",EV14*1000/EJ14))","v":""},{"$f":"IF(ED14=100,0,IF(DP14=\"\",\"\",EX14*1000/EJ14))","v":""},"","","","","","",null,null,null,null,{"$f":"IF(D14=\"\",\"\",IF(AU14=AU14+BT14,C14*Tehnology!$AD$13,C14*Tehnology!$AD$13*AU14/(AU14+BT14)))","v":""},{"$f":"IF(D14=\"\",\"\",IF(BT14=0,0,IF(AU14=AU14+BT14,C14*Tehnology!$AD$12,C14*Tehnology!$AD$12*BT14/(AU14+BT14))))","v":""}]
[null,"Lehmmullikad (vanus 6 kuud kuni poegimine)",{"$f":"'Ex animal'!CW13","v":0},null,{"$f":"IF('FeedIn cattle (AFC)'!B5=987654321,0,IF(B15='FeedIn cattle (AFC)'!Y12,'FeedIn cattle (AFC)'!AD17,0))","v":0},{"$f":"IF('FeedIn cattle (AFC)'!B5=987654321,0,IF(B15='FeedIn cattle (AFC)'!Y12,'FeedIn cattle (AFC)'!AF17,0))","v":0},null,null,{"$f":"IF(G15=\"\",0,VLOOKUP(G15,'Additional information'!$B$8:$F$16,2,FALSE))","v":0},null,null,null,null,{"$f":"IF(G15=\"\",0,VLOOKUP(G15,'Additional information'!$B$8:$F$16,3,FALSE)*'Ex animal'!CW13*H15*(365-AE15)/1000*I15/100/1000)","v":0},{"$f":"IF(G15=\"\",0,VLOOKUP(G15,'Additional information'!$B$8:$F$16,4,FALSE)*'Ex animal'!CW13*H15*(365-AE15)/1000*I15/100/1000)","v":0},{"$f":"IF(G15=\"\",0,VLOOKUP(G15,'Additional information'!$B$8:$F$16,5,FALSE)*'Ex animal'!CW13*H15*(365-AE15)/1000*I15/100/1000)","v":0},null,2.5,{"$f":"IF(D15=\"\",\"\",VLOOKUP(D15,Tehnology!C51:D68,2,FALSE))","v":""},null,null,null,null,null,null,null,null,{"$f":"IF(DC15=5,'Ex animal'!BQ13-'Ex animal'!BQ13*T15/100+'Ex animal'!BZ13*(1-T15/100),IF(DC15=3,'Ex animal'!BQ13-'Ex animal'!BQ13*T15/100+'Ex animal'!BZ13*(1-T15/100),IF(DC15=1,'Ex animal'!BQ13-'Ex animal'!BQ13*T15/100,IF(DC15=4,'Ex animal'!BQ13-'Ex animal'!BQ13*T15/100,0))))","v":0},0,0,0,null,null,null,null,null,null,null,null,null,null,null,null,null,{"$f":"IF(DC15=2,IF(DC15>0,H15*(365-AE15)/1000-((H15*(365-AE15)/1000)*T15)/100,0),0)","v":0},{"$f":"IF(DC15=2,0,IF(DC15>0,H15*(365-AE15)/1000-((H15*(365-AE15)/1000)*T15)/100,0))","v":0},{"$f":"IF(D15=\"\",\"\",(AC15*'Ex animal'!CW13/365*(365*24-(E15*F15))/24)+(AD15*'Ex animal'!CW13)+(AT15*'Ex animal'!CW13)+BS15*U15/100)","v":""},{"$f":"IF(DC15=5,'Ex animal'!BZ13*'Ex animal'!CA13/100-(('Ex animal'!BZ13*'Ex animal'!CA13/100)*T15/100)-(('Ex animal'!BQ13*'Ex animal'!BR13/100)*T15/100)+'Ex animal'!BQ13*'Ex animal'!BR13/100,IF(DC15=3,'Ex animal'!BZ13*'Ex animal'!CA13/100-(('Ex animal'!BZ13*'Ex animal'!CA13/100)*T15/100)-(('Ex animal'!BQ13*'Ex animal'!BR13/100)*T15/100)+'Ex animal'!BQ13*'Ex animal'!BR13/100,IF(DC15=1,'Ex animal'!BQ13*'Ex animal'!BR13/100-(('Ex animal'!BQ13*'Ex animal'!BR13/100)*T15/100),IF(DC15=4,'Ex animal'!BQ13*'Ex animal'!BR13/100-(('Ex animal'!BQ13*'Ex animal'!BR13/100)*T15/100),0))))","v":0},0,0,{"$f":"IF(H15=\"\",0,IF(DC15>0,H15*365/1000*I15/100-(H15*365/1000*I15/100*(T15/100)),0))","v":0},{"$f":"IF(D15=\"\",\"\",IF(AU15>0,((AW15*'Ex animal'!CW13/365*(365*24-(E15*F15))/24)+(AX15*'Ex animal'!CW13)+(AY15*'Ex animal'!CW13)+(BS15*BY15/100*U15/100))/AU15*100,0))","v":""},{"$f":"AU15*AZ15/100","v":{"$error":"#VALUE!"}},{"$f":"IF(DC15=5,'Ex animal'!BS13+'Ex animal'!CB13,IF(DC15=3,'Ex animal'!BS13+'Ex animal'!CB13,IF(DC15=1,'Ex animal'!BS13,IF(DC15=4,'Ex animal'!BS13,0))))","v":0},0,0,{"$f":"IF(D15=\"\",\"\",IF(DC15=1,(BC15/1000*'Ex animal'!CW13/365*(365*24-(E15*F15))/24)+BD15+(CE15*U15/100),IF(DC15=4,(BC15/1000*'Ex animal'!CW13/365*(365*24-(E15*F15))/24)+BD15+(CE15*U15/100),IF(BT15>0,0,((BC15/1000*'Ex animal'!CW13/365*(365*24-(E15*F15))/24)+(BD15))+(CE15*U15/100)-CT15/1000))))","v":""},{"$f":"IF(DC15=5,'Ex animal'!BT13+'Ex animal'!CH13,IF(DC15=3,'Ex animal'!BT13+'Ex animal'!CH13,IF(DC15=1,'Ex animal'!BT13,IF(DC15=4,'Ex animal'!BT13,0))))","v":0},{"$f":"IF(DC15=0,0,BF15)","v":0},0,{"$f":"IF(D15=\"\",\"\",((BG15/1000*'Ex animal'!CW13/365*(365*24-(E15*F15))/24)+(BH15))+CL15*U15/100)","v":""},{"$f":"IF(DC15=5,'Ex animal'!BY13+'Ex animal'!CI13,IF(DC15=3,'Ex animal'!BY13+'Ex animal'!CI13,IF(DC15=1,'Ex animal'!BY13,IF(DC15=4,'Ex animal'!BY13,0))))","v":0},{"$f":"IF(DC15=0,0,BJ15)","v":0},0,{"$f":"IF(D15=\"\",\"\",((BK15/1000*'Ex animal'!CW13/365*(365*24-(E15*F15))/24)+(BL15))+CR15*U15/100)","v":""},{"$f":"IF(DC15=5,0,IF(DC15=3,0,IF(DC15=1,'Ex animal'!BZ13,IF(DC15=4,'Ex animal'!BZ13,'Ex animal'!BZ13+'Ex animal'!BQ13))))","v":0},{"$f":"IF(DC15=0,0,BN15)","v":0},{"$f":"IF(DC15=4,Q15,IF(DC15=2,Q15,IF(DC15=1,Q15,0)))","v":0},{"$f":"IF(DC15=0,H15*(180-AE15)/1000,0)","v":0},{"$f":"BS15*U15/100","v":0},{"$f":"(BO15*'Ex animal'!CW13/365*(365*24-(E15*F15))/24)+(BP15*'Ex animal'!CW13)+(BQ15*'Ex animal'!CW13)+AS15","v":0},{"$f":"IF(D15=\"\",\"\",BS15-BR15)","v":""},{"$f":"IF(DC15=5,0,IF(DC15=3,0,IF(DC15=1,'Ex animal'!BZ13*'Ex animal'!CA13/100,IF(DC15=4,'Ex animal'!BZ13*'Ex animal'!CA13/100,'Ex animal'!BQ13*'Ex animal'!BR13/100+'Ex animal'!BZ13*'Ex animal'!CA13/100))))","v":0},{"$f":"IF(DC15=0,0,BU15)","v":0},{"$f":"IF(DC15=4,Q15*R15/100,IF(DC15=2,Q15*R15/100,IF(DC15=1,Q15*R15/100,0)))","v":0},{"$f":"IF(DC15=2,(H15*(365-AE15))/1000*I15/100,0)","v":0},{"$f":"IF(D15=\"\",\"\",IF(BS15=0,0,((BV15*'Ex animal'!CW13/365*(365*24-(E15*F15))/24)+(BW15*'Ex animal'!CW13)+(BX15*'Ex animal'!CW13))/BS15*100))","v":""},{"$error":"#VALUE!"},{"$f":"IF(DC15=5,0,IF(DC15=3,0,IF(DC15=1,'Ex animal'!CB13,IF(DC15=4,'Ex animal'!CB13,'Ex animal'!BS13+'Ex animal'!CB13))))","v":0},{"$f":"IF(DC15=0,0,CA15)","v":0},{"$f":"IF(AU15=0,N15,0)","v":0},{"$f":"CE15*U15/100","v":{"$error":"#VALUE!"}},{"$f":"IF(BT15>0,((CB15/1000*'Ex animal'!CW13/365*(365*24-(E15*F15))/24)-(CT15/1000)+(CC15)),0)","v":{"$error":"#VALUE!"}},{"$f":"(('Ex animal'!CB13/1000*'Ex animal'!CW13/365*(365*24-(E15*F15))/24)-(CT15/1000)+(CC15))","v":{"$error":"#VALUE!"}},{"$f":"IF(D15=\"\",\"\",CE15-CD15)","v":""},{"$f":"IF(DC15=5,0,IF(DC15=3,0,IF(DC15=1,'Ex animal'!CH13,IF(DC15=4,'Ex animal'!CH13,'Ex animal'!BT13+'Ex animal'!CH13))))","v":0},{"$f":"IF(DC15=0,0,CH15)","v":0},{"$f":"IF(DC15=2,O15,0)","v":0},{"$f":"CL15*U15/100","v":0},{"$f":"((CI15/1000*'Ex animal'!CW13/365*(365*24-(E15*F15))/24)+(CJ15))","v":0},{"$f":"IF(D15=\"\",\"\",CL15-CK15)","v":""},{"$f":"IF(DC15=5,0,IF(DC15=3,0,IF(DC15=1,'Ex animal'!CI13,IF(DC15=4,'Ex animal'!CI13,'Ex animal'!CI13+'Ex animal'!BY13))))","v":0},{"$f":"IF(DC15=0,0,CN15)","v":0},{"$f":"IF(DC15=2,P15,0)","v":0},{"$f":"CR15*U15/100","v":0},{"$f":"((CO15/1000*'Ex animal'!CW13/365*(365*24-(E15*F15))/24)+(CP15))","v":0},{"$f":"IF(D15=\"\",\"\",CR15-CQ15)","v":""},{"$f":"IF(D15=\"\",\"\",IF('Ex animal'!CW13=0,0,('Ex animal'!CB13*S15*'Ex animal'!CW13/100)-('Ex animal'!CB13*S15*'Ex animal'!CW13/100)/365*(E15*F15/24)))","v":""},"","","","","","",null,{"$f":"IF(D15=\"\",\"\",VLOOKUP(D15,Tehnology!C51:E68,3,FALSE))","v":""},{"$f":"IF(D15=\"\",\"\",VLOOKUP(DB15,Tehnology!$I$10:$W$53,1,FALSE))","v":""},null,"P",null,{"$f":"IF(DG11=\"\",\"\",IF(DC11=1,BI11,0)+IF(DC12=1,BI12,0)+IF(DC13=1,BI13,0)+IF(DC14=1,BI14,0)+IF(DC15=1,BI15,0)+IF(DC16=1,BI16,0)+IF(DC17=1,BI17,0)+IF(DC19=1,BI19,0)+IF(DC20=1,BI20,0)+IF(DC21=1,BI21,0)+IF(DC22=1,BI22,0)+IF(DC24=1,BI24,0)+IF(DC25=1,BI25,0)+IF(DC26=1,BI26,0)+IF(DC27=1,BI27,0)+IF(DC28=1,BI28,0)+IF(DC29=1,BI29,0)+IF(DC31=1,BI31,0)+IF(DC32=1,BI32,0)+IF(DC33=1,BI33,0)+IF(DC35=1,BI35,0)+IF(DC36=1,BI36,0)+IF(DC37=1,BI37,0)+IF(DC39=1,BI39,0)+IF(DC40=1,BI40,0))","v":""},{"$f":"IF(DH11=\"\",\"\",IF(DC11=1,CM11,0)+IF(DC12=1,CM12,0)+IF(DC13=1,CM13,0)+IF(DC14=1,CM14,0)+IF(DC15=1,CM15,0)+IF(DC16=1,CM16,0)+IF(DC17=1,CM17,0)+IF(DC19=1,CM19,0)+IF(DC20=1,CM20,0)+IF(DC21=1,CM21,0)+IF(DC22=1,CM22,0)+IF(DC24=1,CM24,0)+IF(DC25=1,CM25,0)+IF(DC26=1,CM26,0)+IF(DC27=1,CM27,0)+IF(DC28=1,CM28,0)+IF(DC29=1,CM29,0)+IF(DC31=1,CM31,0)+IF(DC32=1,CM32,0)+IF(DC33=1,CM33,0)+IF(DC35=1,CM35,0)+IF(DC36=1,CM36,0)+IF(DC37=1,CM37,0)+IF(DC39=1,CM39,0)+IF(DC40=1,CM40,0))","v":""},{"$f":"IF(DI11=\"\",\"\",IF(DC11=2,CM11,0)+IF(DC12=2,CM12,0)+IF(DC13=2,CM13,0)+IF(DC14=2,CM14,0)+IF(DC15=2,CM15,0)+IF(DC16=2,CM16,0)+IF(DC17=2,CM17,0)+IF(DC19=2,CM19,0)+IF(DC20=2,CM20,0)+IF(DC21=2,CM21,0)+IF(DC22=2,CM22,0)+IF(DC24=2,CM24,0)+IF(DC25=2,CM25,0)+IF(DC26=2,CM26,0)+IF(DC27=2,CM27,0)+IF(DC28=2,CM28,0)+IF(DC29=2,CM29,0)+IF(DC31=2,CM31,0)+IF(DC32=2,CM32,0)+IF(DC33=2,CM33,0)+IF(DC35=2,CM35,0)+IF(DC36=2,CM36,0)+IF(DC37=2,CM37,0)+IF(DC39=2,CM39,0)+IF(DC40=2,CM40,0))","v":""},{"$f":"IF(DJ11=\"\",\"\",IF(DC11=3,BI11,0)+IF(DC12=3,BI12,0)+IF(DC13=3,BI13,0)+IF(DC14=3,BI14,0)+IF(DC15=3,BI15,0)+IF(DC16=3,BI16,0)+IF(DC17=3,BI17,0)+IF(DC19=3,BI19,0)+IF(DC20=3,BI20,0)+IF(DC21=3,BI21,0)+IF(DC22=3,BI22,0)+IF(DC24=3,BI24,0)+IF(DC25=3,BI25,0)+IF(DC26=3,BI26,0)+IF(DC27=3,BI27,0)+IF(DC28=3,BI28,0)+IF(DC29=3,BI29,0)+IF(DC31=3,BI31,0)+IF(DC32=3,BI32,0)+IF(DC33=3,BI33,0)+IF(DC35=3,BI35,0)+IF(DC36=3,BI36,0)+IF(DC37=3,BI37,0)+IF(DC39=3,BI39,0)+IF(DC40=3,BI40,0))","v":""},{"$f":"IF(DK11=\"\",\"\",IF(DC11=4,BI11,0)+IF(DC12=4,BI12,0)+IF(DC13=4,BI13,0)+IF(DC14=4,BI14,0)+IF(DC15=4,BI15,0)+IF(DC16=4,BI16,0)+IF(DC17=4,BI17,0)+IF(DC19=4,BI19,0)+IF(DC20=4,BI20,0)+IF(DC21=4,BI21,0)+IF(DC22=4,BI22,0)+IF(DC24=4,BI24,0)+IF(DC25=4,BI25,0)+IF(DC26=4,BI26,0)+IF(DC27=4,BI27,0)+IF(DC28=4,BI28,0)+IF(DC29=4,BI29,0)+IF(DC31=4,BI31,0)+IF(DC32=4,BI32,0)+IF(DC33=4,BI33,0)+IF(DC35=4,BI35,0)+IF(DC36=4,BI36,0)+IF(DC37=4,BI37,0)+IF(DC39=4,BI39,0)+IF(DC40=4,BI40,0))","v":""},{"$f":"IF(DL11=\"\",\"\",IF(DC11=4,CM11,0)+IF(DC12=4,CM12,0)+IF(DC13=4,CM13,0)+IF(DC14=4,CM14,0)+IF(DC15=4,CM15,0)+IF(DC16=4,CM16,0)+IF(DC17=4,CM17,0)+IF(DC19=4,CM19,0)+IF(DC20=4,CM20,0)+IF(DC21=4,CM21,0)+IF(DC22=4,CM22,0)+IF(DC24=4,CM24,0)+IF(DC25=4,CM25,0)+IF(DC26=4,CM26,0)+IF(DC27=4,CM27,0)+IF(DC28=4,CM28,0)+IF(DC29=4,CM29,0)+IF(DC31=4,CM31,0)+IF(DC32=4,CM32,0)+IF(DC33=4,CM33,0)+IF(DC35=4,CM35,0)+IF(DC36=4,CM36,0)+IF(DC37=4,CM37,0)+IF(DC39=4,CM39,0)+IF(DC40=4,CM40,0))","v":""},{"$f":"IF(DM11=\"\",\"\",IF(DC11=5,BI11,0)+IF(DC12=5,BI12,0)+IF(DC13=5,BI13,0)+IF(DC14=5,BI14,0)+IF(DC15=5,BI15,0)+IF(DC16=5,BI16,0)+IF(DC17=5,BI17,0)+IF(DC19=5,BI19,0)+IF(DC20=5,BI20,0)+IF(DC21=5,BI21,0)+IF(DC22=5,BI22,0)+IF(DC24=5,BI24,0)+IF(DC25=5,BI25,0)+IF(DC26=5,BI26,0)+IF(DC27=5,BI27,0)+IF(DC28=5,BI28,0)+IF(DC29=5,BI29,0)+IF(DC31=5,BI31,0)+IF(DC32=5,BI32,0)+IF(DC33=5,BI33,0)+IF(DC35=5,BI35,0)+IF(DC36=5,BI36,0)+IF(DC37=5,BI37,0)+IF(DC39=5,BI39,0)+IF(DC40=5,BI40,0))","v":""},null,null,{"$f":"IF(SUM($C$11:$C$17)=0,\"\",IF(SUM($C$11:$C$17)>0,IF(VLOOKUP($DA$11,$DA$11:$DA$29,1,FALSE),IF(DK11=\"\",\"\",\"Sügavallapanusõnnik\"),\"\")))","v":""},null,{"$f":"IF(DP15=\"\",\"\",VLOOKUP($DQ$15,Tehnology!J37:K44,2,FALSE))","v":""},{"$f":"IF(DP15=\"\",\"\",VLOOKUP(DK24,Tehnology!I37:W44,7,FALSE))","v":""},{"$f":"IF(DP15=\"\",\"\",VLOOKUP($DK$24,Tehnology!I37:W44,9,FALSE))","v":""},{"$f":"IF(DP15=\"\",\"\",VLOOKUP($DQ$15,Tehnology!J37:W44,12,FALSE))","v":""},{"$f":"IF(DP15=\"\",\"\",VLOOKUP($DQ$15,Tehnology!J37:W44,13,FALSE))","v":""},{"$f":"IF(DP15=\"\",\"\",VLOOKUP($DQ$15,Tehnology!J37:W44,14,FALSE))","v":""},null,null,null,null,null,null,null,null,{"$f":"DK11*(1-ED15/100)","v":{"$error":"#VALUE!"}},{"$error":"#VALUE!"},{"$error":"#VALUE!"},0,"",{"$f":"(IF(DC11=4,BA11,0)+IF(DC13=4,BA13,0)+IF(DC14=4,BA14,0)+IF(DC15=4,BA15,0)+IF(DC16=4,BA16,0)+IF(DC17=4,BA17,0))*(1-ED15/100)","v":0},0,0,"",{"$f":"DK13*DR15/100*(1-ED15/100)","v":{"$error":"#VALUE!"}},{"$f":"DK13*DS15/100*(1-ED15/100)","v":{"$error":"#VALUE!"}},{"$f":"DK13*DT15/100*(1-ED15/100)","v":{"$error":"#VALUE!"}},{"$f":"DK13*DU15/100*(1-ED15/100)","v":{"$error":"#VALUE!"}},{"$f":"IF(DP15=\"\",\"\",DK13*(1-ED15/100)-EO15-EP15-EQ15-ER15)","v":""},{"$f":"IF(DP15=\"\",\"\",VLOOKUP(DK24,Tehnology!I37:W53,11,FALSE)*ES15)","v":""},{"$f":"DK15*DV15/100*(1-ED15/100)","v":{"$error":"#VALUE!"}},{"$f":"IF(DP15=\"\",\"\",DK15*(1-ED15/100)-EU15)","v":""},{"$f":"DK16*DW15/100*(1-ED15/100)","v":{"$error":"#VALUE!"}},{"$f":"IF(DP15=\"\",\"\",DK16*(1-ED15/100)-EW15)","v":""},{"$f":"IF(ED15=100,0,IF(DP15=\"\",\"\",ES15*1000/EJ15))","v":""},{"$f":"IF(ED15=100,0,IF(DP15=\"\",\"\",ET15*1000/EJ15))","v":""},{"$f":"IF(ED15=100,0,IF(DP15=\"\",\"\",EV15*1000/EJ15))","v":""},{"$f":"IF(ED15=100,0,IF(DP15=\"\",\"\",EX15*1000/EJ15))","v":""},"","","","","","",null,null,null,null,{"$f":"IF(D15=\"\",\"\",IF(AU15=AU15+BT15,C15*Tehnology!$AD$13,C15*Tehnology!$AD$13*AU15/(AU15+BT15)))","v":""},{"$f":"IF(D15=\"\",\"\",IF(BT15=0,0,IF(AU15=AU15+BT15,C15*Tehnology!$AD$12,C15*Tehnology!$AD$12*BT15/(AU15+BT15))))","v":""}]
[null,"Lihaveised (vanus 6 kuud kuni realiseerimine)",{"$f":"'Ex animal'!CW14","v":0},null,{"$f":"IF('FeedIn cattle (AFC)'!B5=987654321,0,IF(B16='FeedIn cattle (AFC)'!AI12,'FeedIn cattle (AFC)'!AN17,0))","v":0},{"$f":"IF('FeedIn cattle (AFC)'!B5=987654321,0,IF(B16='FeedIn cattle (AFC)'!AI12,'FeedIn cattle (AFC)'!AP17,0))","v":0},null,null,{"$f":"IF(G16=\"\",0,VLOOKUP(G16,'Additional information'!$B$8:$F$16,2,FALSE))","v":0},null,null,null,null,{"$f":"IF(G16=\"\",0,VLOOKUP(G16,'Additional information'!$B$8:$F$16,3,FALSE)*'Ex animal'!CW14*H16*(AS16-AE16)/1000*I16/100/1000)","v":0},{"$f":"IF(G16=\"\",0,VLOOKUP(G16,'Additional information'!$B$8:$F$16,4,FALSE)*'Ex animal'!CW14*H16*(AS16-AE16)/1000*I16/100/1000)","v":0},{"$f":"IF(G16=\"\",0,VLOOKUP(G16,'Additional information'!$B$8:$F$16,5,FALSE)*'Ex animal'!CW14*H16*(AS16-AE16)/1000*I16/100/1000)","v":0},null,2.5,{"$f":"IF(D16=\"\",\"\",VLOOKUP(D16,Tehnology!C69:D86,2,FALSE))","v":""},null,null,null,null,null,null,null,null,{"$f":"IF(DC16=5,'Ex animal'!BQ14-'Ex animal'!BQ14*T16/100+'Ex animal'!BZ14*(1-T16/100),IF(DC16=3,'Ex animal'!BQ14-'Ex animal'!BQ14*T16/100+'Ex animal'!BZ14*(1-T16/100),IF(DC16=1,'Ex animal'!BQ14-'Ex animal'!BQ14*T16/100,IF(DC16=4,'Ex animal'!BQ14-'Ex animal'!BQ14*T16/100,0))))","v":0},0,0,0,{"$f":"'FeedIn cattle (TMR)'!AL177","v":0},{"$f":"'FeedIn cattle (AFC)'!AM14","v":0},{"$f":"IF(DC16>0,H16*(AF16-180-AE16)/1000-((H16*(AF16-180-AE16)/1000)*T16)/100,0)","v":0},{"$f":"IF(DC16>0,H16*(AG16-180-AE16)/1000-((H16*(AG16-180-AE16)/1000)*T16)/100,0)","v":0},{"$f":"AF16-180","v":-180},{"$f":"AG16-180","v":-180},null,null,null,null,null,null,{"$f":"IF(DC16=2,IF('FeedIn cattle (AFC)'!B5=0,AI16,AH16),0)","v":0},{"$f":"IF('FeedIn cattle (AFC)'!B5=0,AK16,AJ16)","v":-180},{"$f":"IF(DC16=2,0,IF('FeedIn cattle (AFC)'!B5=0,AI16,AH16))","v":0},{"$f":"IF(D16=\"\",\"\",(AC16*'Ex animal'!CW14/AS16*(AS16*24-(E16*F16))/24)+(AD16*'Ex animal'!CW14)+(AT16*'Ex animal'!CW14)+BS16*U16/100)","v":""},{"$f":"IF(DC16=5,'Ex animal'!BZ14*'Ex animal'!CA14/100-(('Ex animal'!BZ14*'Ex animal'!CA14/100)*T16/100)-(('Ex animal'!BQ14*'Ex animal'!BR14/100)*T16/100)+'Ex animal'!BQ14*'Ex animal'!BR14/100,IF(DC16=3,'Ex animal'!BZ14*'Ex animal'!CA14/100-(('Ex animal'!BZ14*'Ex animal'!CA14/100)*T16/100)-(('Ex animal'!BQ14*'Ex animal'!BR14/100)*T16/100)+'Ex animal'!BQ14*'Ex animal'!BR14/100,IF(DC16=1,'Ex animal'!BQ14*'Ex animal'!BR14/100-(('Ex animal'!BQ14*'Ex animal'!BR14/100)*T16/100),IF(DC16=4,'Ex animal'!BQ14*'Ex animal'!BR14/100-(('Ex animal'!BQ14*'Ex animal'!BR14/100)*T16/100),0))))","v":0},0,0,{"$f":"IF(H16=\"\",0,IF(DC16>0,H16*AS16/1000*I16/100-(H16*AS16/1000*I16/100*(T16/100)),0))","v":0},{"$f":"IF(D16=\"\",\"\",IF(AU16>0,((AW16*'Ex animal'!CW14/AS16*(AS16*24-(E16*F16))/24)+(AX16*'Ex animal'!CW14)+(AY16*'Ex animal'!CW14)+(BS16*BY16/100*U16/100))/AU16*100,0))","v":""},{"$f":"AU16*AZ16/100","v":{"$error":"#VALUE!"}},{"$f":"IF(DC16=5,'Ex animal'!BS14+'Ex animal'!CB14,IF(DC16=3,'Ex animal'!BS14+'Ex animal'!CB14,IF(DC16=1,'Ex animal'!BS14,IF(DC16=4,'Ex animal'!BS14,0))))","v":0},0,0,{"$f":"IF(D16=\"\",\"\",IF(DC16=1,(BC16/1000*'Ex animal'!CW14/AS16*(AS16*24-(E16*F16))/24)+BD16+(CE16*U16/100),IF(DC16=4,(BC16/1000*'Ex animal'!CW14/AS16*(AS16*24-(E16*F16))/24)+BD16+(CE16*U16/100),IF(BT16>0,0,((BC16/1000*'Ex animal'!CW14/AS16*(AS16*24-(E16*F16))/24)+(BD16))+(CE16*U16/100)-CT16/1000))))","v":""},{"$f":"IF(DC16=5,'Ex animal'!BT14+'Ex animal'!CH14,IF(DC16=3,'Ex animal'!BT14+'Ex animal'!CH14,IF(DC16=1,'Ex animal'!BT14,IF(DC16=4,'Ex animal'!BT14,0))))","v":0},{"$f":"IF(DC16=0,0,BF16)","v":0},0,{"$f":"IF(D16=\"\",\"\",((BG16/1000*'Ex animal'!CW14/AS16*(AS16*24-(E16*F16))/24)+(BH16))+CL16*U16/100)","v":""},{"$f":"IF(DC16=5,'Ex animal'!BY14+'Ex animal'!CI14,IF(DC16=3,'Ex animal'!BY14+'Ex animal'!CI14,IF(DC16=1,'Ex animal'!BY14,IF(DC16=4,'Ex animal'!BY14,0))))","v":0},{"$f":"IF(DC16=0,0,BJ16)","v":0},0,{"$f":"IF(D16=\"\",\"\",((BK16/1000*'Ex animal'!CW14/AS16*(AS16*24-(E16*F16))/24)+(BL16))+CR16*U16/100)","v":""},{"$f":"IF(DC16=5,0,IF(DC16=3,0,IF(DC16=1,'Ex animal'!BZ14,IF(DC16=4,'Ex animal'!BZ14,'Ex animal'!BZ14+'Ex animal'!BQ14))))","v":0},{"$f":"IF(DC16=0,0,BN16)","v":0},{"$f":"IF(DC16=4,Q16,IF(DC16=2,Q16,IF(DC16=1,Q16,0)))","v":0},{"$f":"IF(DC16=0,H16*(AS16-AE16)/1000,0)","v":0},{"$f":"BS16*U16/100","v":0},{"$f":"(BO16*'Ex animal'!CW14/AS16*(AS16*24-(E16*F16))/24)+(BP16*'Ex animal'!CW14)+(BQ16*'Ex animal'!CW14)+AR16","v":0},{"$f":"IF(D16=\"\",\"\",BS16-BR16)","v":""},{"$f":"IF(DC16=5,0,IF(DC16=3,0,IF(DC16=1,'Ex animal'!BZ14*'Ex animal'!CA14/100,IF(DC16=4,'Ex animal'!BZ14*'Ex animal'!CA14/100,'Ex animal'!BQ14*'Ex animal'!BR14/100+'Ex animal'!BZ14*'Ex animal'!CA14/100))))","v":0},{"$f":"IF(DC16=0,0,BU16)","v":0},{"$f":"IF(DC16=4,Q16*R16/100,IF(DC16=2,Q16*R16/100,IF(DC16=1,Q16*R16/100,0)))","v":0},{"$f":"IF(DC16=2,(H16*(AS16-AE16))/1000*I16/100,0)","v":0},{"$f":"IF(D16=\"\",\"\",IF(BS16=0,0,((BV16*'Ex animal'!CW14/AS16*(AS16*24-(E16*F16))/24)+(BW16*'Ex animal'!CW14)+(BX16*'Ex animal'!CW14))/BS16*100))","v":""},{"$f":"BT16*BY16/100","v":{"$error":"#VALUE!"}},{"$f":"IF(DC16=5,0,IF(DC16=3,0,IF(DC16=1,'Ex animal'!CB14,IF(DC16=4,'Ex animal'!CB14,'Ex animal'!BS14+'Ex animal'!CB14))))","v":0},{"$f":"IF(DC16=0,0,CA16)","v":0},{"$f":"IF(AU16=0,N16,0)","v":0},{"$f":"CE16*U16/100","v":{"$error":"#VALUE!"}},{"$f":"IF(BT16>0,((CB16/1000*'Ex animal'!CW14/AS16*(AS16*24-(E16*F16))/24)-(CT16/1000)+(CC16)),0)","v":{"$error":"#VALUE!"}},{"$f":"(('Ex animal'!CB14/1000*'Ex animal'!CW14/AS16*(AS16*24-(E16*F16))/24)-(CT16/1000)+(CC16))","v":{"$error":"#VALUE!"}},{"$f":"IF(D16=\"\",\"\",CE16-CD16)","v":""},{"$f":"IF(DC16=5,0,IF(DC16=3,0,IF(DC16=1,'Ex animal'!CH14,IF(DC16=4,'Ex animal'!CH14,'Ex animal'!BT14+'Ex animal'!CH14))))","v":0},{"$f":"IF(DC16=0,0,CH16)","v":0},{"$f":"IF(DC16=2,O16,0)","v":0},{"$f":"CL16*U16/100","v":0},{"$f":"((CI16/1000*'Ex animal'!CW14/AS16*(AS16*24-(E16*F16))/24)+(CJ16))","v":0},{"$f":"IF(D16=\"\",\"\",CL16-CK16)","v":""},{"$f":"IF(DC16=5,0,IF(DC16=3,0,IF(DC16=1,'Ex animal'!CI14,IF(DC16=4,'Ex animal'!CI14,'Ex animal'!CI14+'Ex animal'!BY14))))","v":0},{"$f":"IF(DC16=0,0,CN16)","v":0},{"$f":"IF(DC16=2,P16,0)","v":0},{"$f":"CR16*U16/100","v":0},{"$f":"((CO16/1000*'Ex animal'!CW14/AS16*(AS16*24-(E16*F16))/24)+(CP16))","v":0},{"$f":"IF(D16=\"\",\"\",CR16-CQ16)","v":""},{"$f":"IF(D16=\"\",\"\",IF('Ex animal'!CW14=0,0,('Ex animal'!CB14*S16*'Ex animal'!CW14/100)-('Ex animal'!CB14*S16*'Ex animal'!CW14/100)/AS16*(E16*F16/24)))","v":""},"","","","","","",null,{"$f":"IF(D16=\"\",\"\",VLOOKUP(D16,Tehnology!C69:E86,3,FALSE))","v":""},{"$f":"IF(D16=\"\",\"\",VLOOKUP(DB16,Tehnology!$I$10:$W$53,1,FALSE))","v":""},null,"K",null,{"$f":"IF(DG11=\"\",\"\",IF(DC11=1,BM11,0)+IF(DC12=1,BM12,0)+IF(DC13=1,BM13,0)+IF(DC14=1,BM14,0)+IF(DC15=1,BM15,0)+IF(DC16=1,BM16,0)+IF(DC17=1,BM17,0)+IF(DC19=1,BM19,0)+IF(DC20=1,BM20,0)+IF(DC21=1,BM21,0)+IF(DC22=1,BM22,0)+IF(DC24=1,BM24,0)+IF(DC25=1,BM25,0)+IF(DC26=1,BM26,0)+IF(DC27=1,BM27,0)+IF(DC28=1,BM28,0)+IF(DC29=1,BM29,0)+IF(DC31=1,BM31,0)+IF(DC32=1,BM32,0)+IF(DC33=1,BM33,0)+IF(DC35=1,BM35,0)+IF(DC36=1,BM36,0)+IF(DC37=1,BM37,0)+IF(DC39=1,BM39,0)+IF(DC40=1,BM40,0))","v":""},{"$f":"IF(DH11=\"\",\"\",IF(DC11=1,CS11,0)+IF(DC12=1,CS12,0)+IF(DC13=1,CS13,0)+IF(DC14=1,CS14,0)+IF(DC15=1,CS15,0)+IF(DC16=1,CS16,0)+IF(DC17=1,CS17,0)+IF(DC19=1,CS19,0)+IF(DC20=1,CS20,0)+IF(DC21=1,CS21,0)+IF(DC22=1,CS22,0)+IF(DC24=1,CS24,0)+IF(DC25=1,CS25,0)+IF(DC26=1,CS26,0)+IF(DC27=1,CS27,0)+IF(DC28=1,CS28,0)+IF(DC29=1,CS29,0)+IF(DC31=1,CS31,0)+IF(DC32=1,CS32,0)+IF(DC33=1,CS33,0)+IF(DC35=1,CS35,0)+IF(DC36=1,CS36,0)+IF(DC37=1,CS37,0)+IF(DC39=1,CS39,0)+IF(DC40=1,CS40,0))","v":""},{"$f":"IF(DI11=\"\",\"\",IF(DC11=2,CS11,0)+IF(DC12=2,CS12,0)+IF(DC13=2,CS13,0)+IF(DC14=2,CS14,0)+IF(DC15=2,CS15,0)+IF(DC16=2,CS16,0)+IF(DC17=2,CS17,0)+IF(DC19=2,CS19,0)+IF(DC20=2,CS20,0)+IF(DC21=2,CS21,0)+IF(DC22=2,CS22,0)+IF(DC24=2,CS24,0)+IF(DC25=2,CS25,0)+IF(DC26=2,CS26,0)+IF(DC27=2,CS27,0)+IF(DC28=2,CS28,0)+IF(DC29=2,CS29,0)+IF(DC31=2,CS31,0)+IF(DC32=2,CS32,0)+IF(DC33=2,CS33,0)+IF(DC35=2,CS35,0)+IF(DC36=2,CS36,0)+IF(DC37=2,CS37,0)+IF(DC39=2,CS39,0)+IF(DC40=2,CS40,0))","v":""},{"$f":"IF(DJ11=\"\",\"\",IF(DC11=3,BM11,0)+IF(DC12=3,BM12,0)+IF(DC13=3,BM13,0)+IF(DC14=3,BM14,0)+IF(DC15=3,BM15,0)+IF(DC16=3,BM16,0)+IF(DC17=3,BM17,0)+IF(DC19=3,BM19,0)+IF(DC20=3,BM20,0)+IF(DC21=3,BM21,0)+IF(DC22=3,BM22,0)+IF(DC24=3,BM24,0)+IF(DC25=3,BM25,0)+IF(DC26=3,BM26,0)+IF(DC27=3,BM27,0)+IF(DC28=3,BM28,0)+IF(DC29=3,BM29,0)+IF(DC31=3,BM31,0)+IF(DC32=3,BM32,0)+IF(DC33=3,BM33,0)+IF(DC35=3,BM35,0)+IF(DC36=3,BM36,0)+IF(DC37=3,BM37,0)+IF(DC39=3,BM39,0)+IF(DC40=3,BM40,0))","v":""},{"$f":"IF(DK11=\"\",\"\",IF(DC11=4,BM11,0)+IF(DC12=4,BM12,0)+IF(DC13=4,BM13,0)+IF(DC14=4,BM14,0)+IF(DC15=4,BM15,0)+IF(DC16=4,BM16,0)+IF(DC17=4,BM17,0)+IF(DC19=4,BM19,0)+IF(DC20=4,BM20,0)+IF(DC21=4,BM21,0)+IF(DC22=4,BM22,0)+IF(DC24=4,BM24,0)+IF(DC25=4,BM25,0)+IF(DC26=4,BM26,0)+IF(DC27=4,BM27,0)+IF(DC28=4,BM28,0)+IF(DC29=4,BM29,0)+IF(DC31=4,BM31,0)+IF(DC32=4,BM32,0)+IF(DC33=4,BM33,0)+IF(DC35=4,BM35,0)+IF(DC36=4,BM36,0)+IF(DC37=4,BM37,0)+IF(DC39=4,BM39,0)+IF(DC40=4,BM40,0))","v":""},{"$f":"IF(DL11=\"\",\"\",IF(DC11=4,CS11,0)+IF(DC12=4,CS12,0)+IF(DC13=4,CS13,0)+IF(DC14=4,CS14,0)+IF(DC15=4,CS15,0)+IF(DC16=4,CS16,0)+IF(DC17=4,CS17,0)+IF(DC19=4,CS19,0)+IF(DC20=4,CS20,0)+IF(DC21=4,CS21,0)+IF(DC22=4,CS22,0)+IF(DC24=4,CS24,0)+IF(DC25=4,CS25,0)+IF(DC26=4,CS26,0)+IF(DC27=4,CS27,0)+IF(DC28=4,CS28,0)+IF(DC29=4,CS29,0)+IF(DC31=4,CS31,0)+IF(DC32=4,CS32,0)+IF(DC33=4,CS33,0)+IF(DC35=4,CS35,0)+IF(DC36=4,CS36,0)+IF(DC37=4,CS37,0)+IF(DC39=4,CS39,0)+IF(DC40=4,CS40,0))","v":""},{"$f":"IF(DM11=\"\",\"\",IF(DC11=5,BM11,0)+IF(DC12=5,BM12,0)+IF(DC13=5,BM13,0)+IF(DC14=5,BM14,0)+IF(DC15=5,BM15,0)+IF(DC16=5,BM16,0)+IF(DC17=5,BM17,0)+IF(DC19=5,BM19,0)+IF(DC20=5,BM20,0)+IF(DC21=5,BM21,0)+IF(DC22=5,BM22,0)+IF(DC24=5,BM24,0)+IF(DC25=5,BM25,0)+IF(DC26=5,BM26,0)+IF(DC27=5,BM27,0)+IF(DC28=5,BM28,0)+IF(DC29=5,BM29,0)+IF(DC31=5,BM31,0)+IF(DC32=5,BM32,0)+IF(DC33=5,BM33,0)+IF(DC35=5,BM35,0)+IF(DC36=5,BM36,0)+IF(DC37=5,BM37,0)+IF(DC39=5,BM39,0)+IF(DC40=5,BM40,0))","v":""},null,null,{"$f":"IF(SUM($C$11:$C$17)=0,\"\",IF(SUM($C$11:$C$17)>0,IF(VLOOKUP($DA$11,$DA$11:$DA$29,1,FALSE),IF(DL11=\"\",\"\",\"Vedelsõnnik\"),\"\")))","v":""},null,{"$f":"IF(DP16=\"\",\"\",VLOOKUP($DQ$16,Tehnology!L37:N44,3,FALSE))","v":""},{"$f":"IF(DP16=\"\",\"\",VLOOKUP($DK$24,Tehnology!I37:W44,8,FALSE))","v":""},{"$f":"IF(DP16=\"\",\"\",VLOOKUP($DK$24,Tehnology!I37:W44,10,FALSE))","v":""},null,null,null,null,null,null,null,null,null,null,null,{"$f":"DL11+SUM(DZ66:DZ69)","v":{"$error":"#VALUE!"}},{"$f":"EF16+DY16*DZ16/1000","v":{"$error":"#VALUE!"}},{"$f":"EG16-((EK16+DY16*DZ16/1000*0/100)*EA16/100)-EI16","v":{"$error":"#VALUE!"}},{"$f":"IF(DQ16=\"Storage roofed\",DY16*EC16/1000,0)","v":0},{"$f":"IF(DP16=\"\",\"\",EH16-(DY16*DZ16/1000-DY16*DZ16/1000*(1-(EB16/100))))","v":""},{"$f":"IF(DC11=4,BZ11,0)+IF(DC13=4,BZ13,0)+IF(DC14=4,BZ14,0)+IF(DC15=4,BZ15,0)+IF(DC16=4,BZ16,0)+IF(DC17=4,BZ17,0)","v":0},{"$f":"EK16+(DY16*DZ16/1000*0/100)+SUM(EF66:EF69)","v":0},{"$f":"EL16-(EL16*EA16/100)","v":0},"",{"$f":"DL13*DR16/100*0.4+SUM(EB66:EB69)/1000*DR16/100","v":{"$error":"#VALUE!"}},null,{"$f":"DL13*DT16/100*0.4+SUM(EB66:EB69)/1000*DT16","v":{"$error":"#VALUE!"}},null,{"$f":"IF(DP16=\"\",\"\",DL13+SUM(EB66:EB69)/1000-EO16-EP16-EQ16-ER16)","v":""},{"$f":"IF(DP16=\"\",\"\",VLOOKUP(DK24,Tehnology!I37:W53,12,FALSE)*ES16)","v":""},null,{"$f":"IF(DP16=\"\",\"\",DL15+SUM(EC66:EC69)/1000-EU16)","v":""},null,{"$f":"IF(DP16=\"\",\"\",DL16+SUM(ED66:ED69)/1000-EW16)","v":""},{"$f":"IF(DP16=\"\",\"\",ES16*1000/EJ16)","v":""},{"$f":"IF(DP16=\"\",\"\",ET16*1000/EJ16)","v":""},{"$f":"IF(DP16=\"\",\"\",EV16*1000/EJ16)","v":""},{"$f":"IF(DP16=\"\",\"\",EX16*1000/EJ16)","v":""},"","","","","","",null,null,null,null,{"$f":"IF(D16=\"\",\"\",IF(AU16=AU16+BT16,C16*Tehnology!$AD$13,C16*Tehnology!$AD$13*AU16/(AU16+BT16)))","v":""},{"$f":"IF(D16=\"\",\"\",IF(BT16=0,0,IF(AU16=AU16+BT16,C16*Tehnology!$AD$12,C16*Tehnology!$AD$12*BT16/(AU16+BT16))))","v":""}]
[null,"Ammlehmad",{"$f":"'Ex animal'!CW15","v":0},null,{"$f":"IF('FeedIn cattle (AFC)'!B5=987654321,0,IF(B17='FeedIn cattle (AFC)'!BM12,'FeedIn cattle (AFC)'!BR17,0))","v":0},{"$f":"IF('FeedIn cattle (AFC)'!B5=987654321,0,IF(B17='FeedIn cattle (AFC)'!BM12,'FeedIn cattle (AFC)'!BT17,0))","v":0},null,null,{"$f":"IF(G17=\"\",0,VLOOKUP(G17,'Additional information'!$B$8:$F$16,2,FALSE))","v":0},null,null,null,null,{"$f":"IF(G17=\"\",0,VLOOKUP(G17,'Additional information'!$B$8:$F$16,3,FALSE)*'Ex animal'!CW15*H17*(365-AE17)/1000*I17/100/1000)","v":0},{"$f":"IF(G17=\"\",0,VLOOKUP(G17,'Additional information'!$B$8:$F$16,4,FALSE)*'Ex animal'!CW15*H17*(365-AE17)/1000*I17/100/1000)","v":0},{"$f":"IF(G17=\"\",0,VLOOKUP(G17,'Additional information'!$B$8:$F$16,5,FALSE)*'Ex animal'!CW15*H17*(365-AE17)/1000*I17/100/1000)","v":0},null,2.5,{"$f":"IF(D17=\"\",\"\",VLOOKUP(D17,Tehnology!C87:D103,2,FALSE))","v":""},null,null,null,null,null,null,null,null,{"$f":"IF(DC17=5,'Ex animal'!BQ15-'Ex animal'!BQ15*T17/100+'Ex animal'!BZ15*(1-T17/100),IF(DC17=3,'Ex animal'!BQ15-'Ex animal'!BQ15*T17/100+'Ex animal'!BZ15*(1-T17/100),IF(DC17=1,'Ex animal'!BQ15-'Ex animal'!BQ15*T17/100,IF(DC17=4,'Ex animal'!BQ15-'Ex animal'!BQ15*T17/100,0))))","v":0},0,0,0,null,null,null,null,null,null,null,null,null,null,null,null,null,{"$f":"IF(DC17=2,IF(DC17>0,H17*(365-AE17)/1000-((H17*(365-AE17)/1000)*T17)/100,0),0)","v":0},{"$f":"IF(DC17=2,0,IF(DC17>0,H17*(365-AE17)/1000-((H17*(365-AE17)/1000)*T17)/100,0))","v":0},{"$f":"IF(D17=\"\",\"\",(AC17*'Ex animal'!CW15/365*(365*24-(E17*F17))/24)+(AD17*'Ex animal'!CW15)+(AT17*'Ex animal'!CW15)+BS17*U17/100)","v":""},{"$f":"IF(DC17=5,'Ex animal'!BZ15*'Ex animal'!CA15/100-(('Ex animal'!BZ15*'Ex animal'!CA15/100)*T17/100)-(('Ex animal'!BQ15*'Ex animal'!BR15/100)*T17/100)+'Ex animal'!BQ15*'Ex animal'!BR15/100,IF(DC17=3,'Ex animal'!BZ15*'Ex animal'!CA15/100-(('Ex animal'!BZ15*'Ex animal'!CA15/100)*T17/100)-(('Ex animal'!BQ15*'Ex animal'!BR15/100)*T17/100)+'Ex animal'!BQ15*'Ex animal'!BR15/100,IF(DC17=1,'Ex animal'!BQ15*'Ex animal'!BR15/100-(('Ex animal'!BQ15*'Ex animal'!BR15/100)*T17/100),IF(DC17=4,'Ex animal'!BQ15*'Ex animal'!BR15/100-(('Ex animal'!BQ15*'Ex animal'!BR15/100)*T17/100),0))))","v":0},0,0,{"$f":"IF(H17=\"\",0,IF(DC17>0,H17*365/1000*I17/100-(H17*365/1000*I17/100*(T17/100)),0))","v":0},{"$f":"IF(D17=\"\",\"\",IF(AU17>0,((AW17*'Ex animal'!CW15/365*(365*24-(E17*F17))/24)+(AX17*'Ex animal'!CW15)+(AY17*'Ex animal'!CW15)+(BS17*BY17/100*U17/100))/AU17*100,0))","v":""},{"$error":"#VALUE!"},{"$f":"IF(DC17=5,'Ex animal'!BS15+'Ex animal'!CB15,IF(DC17=3,'Ex animal'!BS15+'Ex animal'!CB15,IF(DC17=1,'Ex animal'!BS15,IF(DC17=4,'Ex animal'!BS15,0))))","v":0},0,0,{"$f":"IF(D17=\"\",\"\",IF(DC17=1,(BC17/1000*'Ex animal'!CW15/365*(365*24-(E17*F17))/24)+BD17+(CE17*U17/100),IF(DC17=4,(BC17/1000*'Ex animal'!CW15/365*(365*24-(E17*F17))/24)+BD17+(CE17*U17/100),IF(BT17>0,0,((BC17/1000*'Ex animal'!CW15/365*(365*24-(E17*F17))/24)+(BD17))+(CE17*U17/100)-CT17/1000))))","v":""},{"$f":"IF(DC17=5,'Ex animal'!BT15+'Ex animal'!CH15,IF(DC17=3,'Ex animal'!BT15+'Ex animal'!CH15,IF(DC17=1,'Ex animal'!BT15,IF(DC17=4,'Ex animal'!BT15,0))))","v":0},{"$f":"IF(DC17=0,0,BF17)","v":0},0,{"$f":"IF(D17=\"\",\"\",((BG17/1000*'Ex animal'!CW15/365*(365*24-(E17*F17))/24)+(BH17))+CL17*U17/100)","v":""},{"$f":"IF(DC17=5,'Ex animal'!BY15+'Ex animal'!CI15,IF(DC17=3,'Ex animal'!BY15+'Ex animal'!CI15,IF(DC17=1,'Ex animal'!BY15,IF(DC17=4,'Ex animal'!BY15,0))))","v":0},{"$f":"IF(DC17=0,0,BJ17)","v":0},0,{"$f":"IF(D17=\"\",\"\",((BK17/1000*'Ex animal'!CW15/365*(365*24-(E17*F17))/24)+(BL17))+CR17*U17/100)","v":""},{"$f":"IF(DC17=5,0,IF(DC17=3,0,IF(DC17=1,'Ex animal'!BZ15,IF(DC17=4,'Ex animal'!BZ15,'Ex animal'!BZ15+'Ex animal'!BQ15))))","v":0},{"$f":"IF(DC17=0,0,BN17)","v":0},{"$f":"IF(DC17=4,Q17,IF(DC17=2,Q17,IF(DC17=1,Q17,0)))","v":0},{"$f":"IF(DC17=0,H17*(365-AE17)/1000,0)","v":0},{"$f":"BS17*U17/100","v":0},{"$f":"(BO17*'Ex animal'!CW15/365*(365*24-(E17*F17))/24)+(BP17*'Ex animal'!CW15)+(BQ17*'Ex animal'!CW15)+AS17","v":0},{"$f":"IF(D17=\"\",\"\",BS17-BR17)","v":""},{"$f":"IF(DC17=5,0,IF(DC17=3,0,IF(DC17=1,'Ex animal'!BZ15*'Ex animal'!CA15/100,IF(DC17=4,'Ex animal'!BZ15*'Ex animal'!CA15/100,'Ex animal'!BQ15*'Ex animal'!BR15/100+'Ex animal'!BZ15*'Ex animal'!CA15/100))))","v":0},{"$f":"IF(DC17=0,0,BU17)","v":0},{"$f":"IF(DC17=4,Q17*R17/100,IF(DC17=2,Q17*R17/100,IF(DC17=1,Q17*R17/100,0)))","v":0},{"$f":"IF(DC17=2,(H17*(365-AE17))/1000*I17/100,0)","v":0},{"$f":"IF(D17=\"\",\"\",IF(BS17=0,0,((BV17*'Ex animal'!CW15/365*(365*24-(E17*F17))/24)+(BW17*'Ex animal'!CW15)+(BX17*'Ex animal'!CW15))/BS17*100))","v":""},{"$error":"#VALUE!"},{"$f":"IF(DC17=5,0,IF(DC17=3,0,IF(DC17=1,'Ex animal'!CB15,IF(DC17=4,'Ex animal'!CB15,'Ex animal'!BS15+'Ex animal'!CB15))))","v":0},{"$f":"IF(DC17=0,0,CA17)","v":0},{"$f":"IF(AU17=0,N17,0)","v":0},{"$f":"CE17*U17/100","v":{"$error":"#VALUE!"}},{"$f":"IF(BT17>0,((CB17/1000*'Ex animal'!CW15/365*(365*24-(E17*F17))/24)-(CT17/1000)+(CC17)),0)","v":{"$error":"#VALUE!"}},{"$f":"(('Ex animal'!CB15/1000*'Ex animal'!CW15/365*(365*24-(E17*F17))/24)-(CT17/1000)+(CC17))","v":{"$error":"#VALUE!"}},{"$f":"IF(D17=\"\",\"\",CE17-CD17)","v":""},{"$f":"IF(DC17=5,0,IF(DC17=3,0,IF(DC17=1,'Ex animal'!CH15,IF(DC17=4,'Ex animal'!CH15,'Ex animal'!BT15+'Ex animal'!CH15))))","v":0},{"$f":"IF(DC17=0,0,CH17)","v":0},{"$f":"IF(DC17=2,O17,0)","v":0},{"$f":"CL17*U17/100","v":0},{"$f":"((CI17/1000*'Ex animal'!CW15/365*(365*24-(E17*F17))/24)+(CJ17))","v":0},{"$f":"IF(D17=\"\",\"\",CL17-CK17)","v":""},{"$f":"IF(DC17=5,0,IF(DC17=3,0,IF(DC17=1,'Ex animal'!CI15,IF(DC17=4,'Ex animal'!CI15,'Ex animal'!CI15+'Ex animal'!BY15))))","v":0},{"$f":"IF(DC17=0,0,CN17)","v":0},{"$f":"IF(DC17=2,P17,0)","v":0},{"$f":"CR17*U17/100","v":0},{"$f":"((CO17/1000*'Ex animal'!CW15/365*(365*24-(E17*F17))/24)+(CP17))","v":0},{"$f":"IF(D17=\"\",\"\",CR17-CQ17)","v":""},{"$f":"IF(D17=\"\",\"\",IF('Ex animal'!CW15=0,0,('Ex animal'!CB15*S17*'Ex animal'!CW15/100)-('Ex animal'!CB15*S17*'Ex animal'!CW15/100)/365*(E17*F17/24)))","v":""},"","","","","","",null,{"$f":"IF(D17=\"\",\"\",VLOOKUP(D17,Tehnology!C7:E103,3,FALSE))","v":""},{"$f":"IF(D17=\"\",\"\",VLOOKUP(DB17,Tehnology!$I$10:$W$53,1,FALSE))","v":""},null,"N","kg/t",{"$f":"IF(DG11=\"\",\"\",IF($DG$11=0,0,DG13*1000/$DG$11))","v":""},{"$f":"IF(DH11=\"\",\"\",IF($DH$11=0,0,DH13*1000/$DH$11))","v":""},{"$f":"IF(DI11=\"\",\"\",IF($DI$11=0,0,DI13*1000/$DI$11))","v":""},{"$f":"IF(DJ11=\"\",\"\",IF($DJ$11=0,0,DJ13*1000/$DJ$11))","v":""},{"$f":"IF(DK11=\"\",\"\",IF($DK$11=0,0,DK13*1000/$DK$11))","v":""},{"$f":"IF(DL11=\"\",\"\",IF($DL$11=0,0,DL13*1000/$DL$11))","v":""},{"$f":"IF(DM11=\"\",\"\",IF($DM$11=0,0,DM13*1000/$DM$11))","v":""},null,null,{"$f":"IF(SUM($C$11:$C$17)=0,\"\",IF(SUM($C$11:$C$17)>0,IF(VLOOKUP($DA$11,$DA$11:$DA$29,1,FALSE),IF(DM11=\"\",\"\",\"Tahesõnnik\"),\"\")))","v":""},null,{"$f":"IF(DP17=\"\",\"\",VLOOKUP(DQ17,Tehnology!J46:K53,2,FALSE))","v":""},{"$f":"IF(DP17=\"\",\"\",VLOOKUP($DM$24,Tehnology!I46:W53,7,FALSE))","v":""},{"$f":"IF(DP17=\"\",\"\",VLOOKUP($DM$24,Tehnology!I46:W53,9,FALSE))","v":""},{"$f":"IF(DP17=\"\",\"\",VLOOKUP($DQ$17,Tehnology!J46:W53,12,FALSE))","v":""},{"$f":"IF(DP17=\"\",\"\",VLOOKUP($DQ$17,Tehnology!J46:W53,13,FALSE))","v":""},{"$f":"IF(DP17=\"\",\"\",VLOOKUP($DQ$17,Tehnology!J46:W53,14,FALSE))","v":""},null,null,null,null,null,null,null,null,{"$f":"DM11*(1-ED17/100)","v":{"$error":"#VALUE!"}},{"$f":"EF17+DY17*DZ17/1000","v":{"$error":"#VALUE!"}},{"$f":"EG17-((EK17+DY17*DZ17/1000*0/100)*EA17/100)-EI17","v":{"$error":"#VALUE!"}},{"$f":"IF(DQ17=\"Storage roofed\",DY17*EC17/1000,0)","v":0},{"$f":"IF(DP17=\"\",\"\",EH17-(DY17*DZ17/1000-DY17*DZ17/1000*(1-(EB17/100))))","v":""},{"$f":"(IF(DC11=5,BA11,0)+IF(DC12=5,BA12,0)+IF(DC13=5,BA13,0)+IF(DC14=5,BA14,0)+IF(DC15=5,BA15,0)+IF(DC16=5,BA16,0)+IF(DC17=5,BA17,0))*(1-ED17/100)","v":0},{"$f":"EK17+(DY17*DZ17/1000*0/100)","v":0},{"$f":"EL17-(EL17*EA17/100)","v":0},{"$f":"IF(DP17=\"\",\"\",IF(EJ17=0,0,EM17/EJ17*100))","v":""},{"$f":"DM13*DR17/100*(1-ED17/100)","v":{"$error":"#VALUE!"}},{"$f":"DM13*DS17/100*(1-ED17/100)","v":{"$error":"#VALUE!"}},{"$f":"DM13*DT17/100*(1-ED17/100)","v":{"$error":"#VALUE!"}},{"$f":"DM13*DU17/100*(1-ED17/100)","v":{"$error":"#VALUE!"}},{"$f":"IF(DP17=\"\",\"\",DM13*(1-ED17/100)-EO17-EP17-EQ17-ER17)","v":""},{"$f":"IF(DP17=\"\",\"\",VLOOKUP(DM24,Tehnology!I46:W53,11,FALSE)*ES17)","v":""},{"$f":"DM15*DV17/100*(1-ED17/100)","v":{"$error":"#VALUE!"}},{"$f":"IF(DP17=\"\",\"\",DM15*(1-ED17/100)-EU17)","v":""},{"$f":"DM16*DW17/100*(1-ED17/100)","v":{"$error":"#VALUE!"}},{"$f":"IF(DP17=\"\",\"\",DM16*(1-ED17/100)-EW17)","v":""},{"$f":"IF(ED17=100,0,IF(DP17=\"\",\"\",ES17*1000/EJ17))","v":""},{"$f":"IF(ED17=100,0,IF(DP17=\"\",\"\",ET17*1000/EJ17))","v":""},{"$f":"IF(ED17=100,0,IF(DP17=\"\",\"\",EV17*1000/EJ17))","v":""},{"$f":"IF(ED17=100,0,IF(DP17=\"\",\"\",EX17*1000/EJ17))","v":""},{"$f":"IF(DP17=\"\",\"\",EO17*1000)","v":""},{"$f":"IF(DP17=\"\",\"\",EP17*1000)","v":""},{"$f":"IF(DP17=\"\",\"\",EQ17*1000)","v":""},{"$f":"IF(DP17=\"\",\"\",ER17*1000)","v":""},{"$f":"IF(DP17=\"\",\"\",EU17*1000)","v":""},{"$f":"IF(DP17=\"\",\"\",EW17*1000)","v":""},null,null,null,null,{"$f":"IF(D17=\"\",\"\",IF(AU17=AU17+BT17,C17*Tehnology!$AD$13,C17*Tehnology!$AD$13*AU17/(AU17+BT17)))","v":""},{"$f":"IF(D17=\"\",\"\",IF(BT17=0,0,IF(AU17=AU17+BT17,C17*Tehnology!$AD$12,C17*Tehnology!$AD$12*BT17/(AU17+BT17))))","v":""}]
[null,null,null,null,null,null,null,null,null,null,null,null,null,null,null,null,null,null,null,null,null,null,null,null,null,null,null,null,null,null,null,null,null,null,null,null,null,null,null,null,null,null,null,null,null,null,null,null,null,null,null,null,null,null,null,null,null,null,null,null,null,null,null,null,null,null,null,null,null,null,null,null,null,null,null,null,null,null,null,null,null,null,null,null,null,null,null,null,null,null,null,null,null,null,null,null,null,null,null,null,null,null,null,null,null,null,null,null,"NH4-N",null,{"$f":"IF(DG11=\"\",\"\",IF($DG$11=0,0,DG14*1000/$DG$11))","v":""},{"$f":"IF(DH11=\"\",\"\",IF($DH$11=0,0,DH14*1000/$DH$11))","v":""},{"$f":"IF(DI11=\"\",\"\",IF($DI$11=0,0,DI14*1000/$DI$11))","v":""},{"$f":"IF(DJ11=\"\",\"\",IF($DJ$11=0,0,DJ14*1000/$DJ$11))","v":""},{"$f":"IF(DK11=\"\",\"\",IF($DK$11=0,0,DK14*1000/$DK$11))","v":""},{"$f":"IF(DL11=\"\",\"\",IF($DL$11=0,0,DL14*1000/$DL$11))","v":""},{"$f":"IF(DM11=\"\",\"\",IF($DM$11=0,0,DM14*1000/$DM$11))","v":""},null,null,null,null,null,null,null,null,null,null,null,null,null,null,null,null,null,null,null,null,null,null,null,null,null,null,null,null,null,null,null,null,null,null,null,null,null,null,null,null,null,"","","","","","",null,"TMR","AFC"]
[null,"Nuumsead",{"$f":"'Ex animal'!CW22","v":0},null,{"$f":"IF('FeedIn pigs (Intensive)'!$G$2=\"Intensive\",0,IF(B19='Feedin pigs (AFC)'!$O$6,'Feedin pigs (AFC)'!U42,0))","v":0},{"$f":"IF('FeedIn pigs (Intensive)'!$G$2=\"Intensive\",0,IF(B19='Feedin pigs (AFC)'!$O$6,'Feedin pigs (AFC)'!W42,0))","v":0},null,null,{"$f":"IF(G19=\"\",0,VLOOKUP(G19,'Additional information'!$B$8:$F$16,2,FALSE))","v":0},null,null,null,null,{"$f":"IF(G19=\"\",0,VLOOKUP(G19,'Additional information'!$B$8:$F$16,3,FALSE)*'Ex animal'!CW22*H19*(AS19-AE19)/1000*I19/100/1000)","v":0},{"$f":"IF(G19=\"\",0,VLOOKUP(G19,'Additional information'!$B$8:$F$16,4,FALSE)*'Ex animal'!CW22*H19*(AS19-AE19)/1000*I19/100/1000)","v":0},{"$f":"IF(G19=\"\",0,VLOOKUP(G19,'Additional information'!$B$8:$F$16,5,FALSE)*'Ex animal'!CW22*H19*(AS19-AE19)/1000*I19/100/1000)","v":0},null,2.5,{"$f":"IF(D19=\"\",\"\",VLOOKUP(D19,Tehnology!C104:D119,2,FALSE))","v":""},null,null,null,null,null,null,null,null,{"$f":"IF(DC19=5,'Ex animal'!BQ22-'Ex animal'!BQ22*T19/100+'Ex animal'!BZ22*(1-T19/100),IF(DC19=3,'Ex animal'!BQ22-'Ex animal'!BQ22*T19/100+'Ex animal'!BZ22*(1-T19/100),IF(DC19=1,'Ex animal'!BQ22-'Ex animal'!BQ22*T19/100,IF(DC19=4,'Ex animal'!BQ22-'Ex animal'!BQ22*T19/100,0))))","v":0},{"$f":"IF(DC19=0,0,AB19)","v":0},{"$f":"IF(DC19=5,Q19,IF(DC19=3,Q19,0))","v":0},{"$f":"E19*F19/24","v":0},{"$f":"'FeedIn pigs (Intensive)'!L108","v":0},{"$f":"'Feedin pigs (AFC)'!T9","v":0},{"$f":"IF(DC19>0,H19*(AF19-AE19)/1000-((H19*(AF19-AE19)/1000)*T19)/100,0)","v":0},{"$f":"IF(DC19>0,H19*(AG19-AE19)/1000-((H19*(AG19-AE19)/1000)*T19)/100,0)","v":0},{"$f":"AF19","v":0},{"$f":"AG19","v":0},null,null,null,null,null,null,{"$f":"IF(DC19=2,IF('Feedin pigs (AFC)'!B5=0,AI19,AH19),0)","v":0},{"$f":"IF('Feedin pigs (AFC)'!B5=0,AK19,AJ19)","v":0},{"$f":"IF(DC19=2,0,IF('Feedin pigs (AFC)'!B5=0,AI19,AH19))","v":0},{"$f":"IF(D19=\"\",\"\",IF(C19=0,0,(AC19*C19/AS19*(AS19*24-(E19*F19))/24)+(AD19*C19)+(AT19*C19)+BS19*U19/100))","v":""},{"$f":"IF(DC19=5,'Ex animal'!BZ22*'Ex animal'!CA22/100-(('Ex animal'!BZ22*'Ex animal'!CA22/100)*T19/100)-(('Ex animal'!BQ22*'Ex animal'!BR22/100)*T19/100)+'Ex animal'!BQ22*'Ex animal'!BR22/100,IF(DC19=3,'Ex animal'!BZ22*'Ex animal'!CA22/100-(('Ex animal'!BZ22*'Ex animal'!CA22/100)*T19/100)-(('Ex animal'!BQ22*'Ex animal'!BR22/100)*T19/100)+'Ex animal'!BQ22*'Ex animal'!BR22/100,IF(DC19=1,'Ex animal'!BQ22*'Ex animal'!BR22/100-(('Ex animal'!BQ22*'Ex animal'!BR22/100)*T19/100),IF(DC19=4,'Ex animal'!BQ22*'Ex animal'!BR22/100-(('Ex animal'!BQ22*'Ex animal'!BR22/100)*T19/100),0))))","v":0},{"$f":"IF(DC19=0,0,AV19)","v":0},{"$f":"IF(DC19=5,Q19*R19/100,IF(DC19=3,Q19*R19/100,0))","v":0},{"$f":"IF(H19=\"\",0,IF(DC19>0,H19*AS19/1000*I19/100-(H19*AS19/1000*I19/100*(T19/100)),0))","v":0},{"$f":"IF(D19=\"\",\"\",IF(AU19>0,((AW19*'Ex animal'!CW22/AS19*(AS19*24-(E19*F19))/24)+(AX19*'Ex animal'!CW22)+(AY19*'Ex animal'!CW22)+(BS19*BY19/100*U19/100))/AU19*100,0))","v":""},{"$f":"AU19*AZ19/100","v":{"$error":"#VALUE!"}},{"$f":"IF(DC19=5,'Ex animal'!BS22+'Ex animal'!CB22,IF(DC19=3,'Ex animal'!BS22+'Ex animal'!CB22,IF(DC19=1,'Ex animal'!BS22,IF(DC19=4,'Ex animal'!BS22,0))))","v":0},{"$f":"IF(DC19=0,0,BB19)","v":0},{"$f":"IF(H19=\"\",0,IF(DC19>0,N19,0))","v":0},{"$f":"IF(D19=\"\",\"\",IF(C19=0,0,IF(DC19=1,(BC19/1000*C19/AS19*(AS19*24-(E19*F19))/24)+BD19+(CE19*U19/100),IF(DC19=4,(BC19/1000*C19/AS19*(AS19*24-(E19*F19))/24)+BD19+(CE19*U19/100),IF(BT19>0,0,((BC19/1000*C19/AS19*(AS19*24-(E19*F19))/24)+(BD19))+(CE19*U19/100)-CT19/1000)))))","v":""},{"$f":"IF(DC19=5,'Ex animal'!BT22+'Ex animal'!CH22,IF(DC19=3,'Ex animal'!BT22+'Ex animal'!CH22,IF(DC19=1,'Ex animal'!BT22,IF(DC19=4,'Ex animal'!BT22,0))))","v":0},{"$f":"IF(DC19=0,0,BF19)","v":0},{"$f":"IF(H19=\"\",0,IF(DC19=2,0,O19))","v":0},{"$f":"IF(D19=\"\",\"\",IF(C19=0,0,((BG19/1000*'Ex animal'!CW22/AS19*(AS19*24-(E19*F19))/24)+(BH19))+CL19*U19/100))","v":""},{"$f":"IF(DC19=5,'Ex animal'!BY22+'Ex animal'!CI22,IF(DC19=3,'Ex animal'!BY22+'Ex animal'!CI22,IF(DC19=1,'Ex animal'!BY22,IF(DC19=4,'Ex animal'!BY22,0))))","v":0},{"$f":"IF(DC19=0,0,BJ19)","v":0},{"$f":"IF(H19=\"\",0,IF(DC19=2,0,P19))","v":0},{"$f":"IF(D19=\"\",\"\",IF(C19=0,0,((BK19/1000*'Ex animal'!CW22/AS19*(AS19*24-(E19*F19))/24)+(BL19))+CR19*U19/100))","v":""},{"$f":"IF(DC19=5,0,IF(DC19=3,0,IF(DC19=1,'Ex animal'!BZ22,IF(DC19=4,'Ex animal'!BZ22,'Ex animal'!BZ22+'Ex animal'!BQ22))))","v":0},{"$f":"IF(DC19=0,0,BN19)","v":0},{"$f":"IF(DC19=4,Q19,IF(DC19=2,Q19,IF(DC19=1,Q19,0)))","v":0},{"$f":"IF(DC19=0,H19,0)","v":0},{"$f":"BS19*U19/100","v":{"$error":"#DIV/0!"}},{"$f":"(BO19*'Ex animal'!CW22/AS19*(AS19*24-(E19*F19))/24)+(BP19*'Ex animal'!CW22)+(BQ19*'Ex animal'!CW22)+AR19","v":{"$error":"#DIV/0!"}},{"$f":"IF(D19=\"\",\"\",IF(C19=0,0,BS19-BR19))","v":""},{"$f":"IF(DC19=5,0,IF(DC19=3,0,IF(DC19=1,'Ex animal'!BZ22*'Ex animal'!CA22/100,IF(DC19=4,'Ex animal'!BZ22*'Ex animal'!CA22/100,'Ex animal'!BQ22*'Ex animal'!BR22/100+'Ex animal'!BZ22*'Ex animal'!CA22/100))))","v":0},{"$f":"IF(DC19=0,0,BU19)","v":0},{"$f":"IF(DC19=4,Q19*R19/100,IF(DC19=2,Q19*R19/100,IF(DC19=1,Q19*R19/100,0)))","v":0},{"$f":"IF(H19=\"\",0,IF(DC19=2,(H19*(AS19-AE19))/1000*I19/100,0)+AR19)","v":0},{"$f":"IF(D19=\"\",\"\",IF(C19=0,0,IF(BS19=0,0,((BV19*'Ex animal'!CW22/AS19*(AS19*24-(E19*F19))/24)+(BW19*'Ex animal'!CW22)+(BX19*'Ex animal'!CW22))/BS19*100)))","v":""},{"$f":"BT19*BY19/100","v":{"$error":"#VALUE!"}},{"$f":"IF(DC19=5,0,IF(DC19=3,0,IF(DC19=1,'Ex animal'!CB22,IF(DC19=4,'Ex animal'!CB22,'Ex animal'!BS22+'Ex animal'!CB22))))","v":0},{"$f":"IF(DC19=0,0,CA19)","v":0},{"$f":"IF(AU19=0,N19,0)","v":0},{"$f":"CE19*U19/100","v":{"$error":"#DIV/0!"}},{"$f":"IF(BT19>0,((CB19/1000*'Ex animal'!CW22/AS19*(AS19*24-(E19*F19))/24)-('Ex animal'!CB22/1000*'Ex animal'!CW22*S19/100)+(CC19)),0)","v":{"$error":"#DIV/0!"}},null,{"$f":"IF(D19=\"\",\"\",IF(C19=0,0,CE19-CD19))","v":""},{"$f":"IF(DC19=5,0,IF(DC19=3,0,IF(DC19=1,'Ex animal'!CH22,IF(DC19=4,'Ex animal'!CH22,'Ex animal'!BT22+'Ex animal'!CH22))))","v":0},{"$f":"IF(DC19=0,0,CH19)","v":0},{"$f":"IF(DC19=2,O19,0)","v":0},{"$f":"CL19*U19/100","v":{"$error":"#DIV/0!"}},{"$f":"((CI19/1000*'Ex animal'!CW22/AS19*(AS19*24-(E19*F19))/24)+(CJ19))","v":{"$error":"#DIV/0!"}},{"$f":"IF(D19=\"\",\"\",IF(C19=0,0,CL19-CK19))","v":""},{"$f":"IF(DC19=5,0,IF(DC19=3,0,IF(DC19=1,'Ex animal'!CI22,IF(DC19=4,'Ex animal'!CI22,'Ex animal'!CI22+'Ex animal'!BY22))))","v":0},{"$f":"IF(DC19=0,0,CN19)","v":0},{"$f":"IF(DC19=2,P19,0)","v":0},{"$f":"CR19*U19/100","v":{"$error":"#DIV/0!"}},{"$f":"((CO19/1000*'Ex animal'!CW22/AS19*(AS19*24-(E19*F19))/24)+(CP19))","v":{"$error":"#DIV/0!"}},{"$f":"IF(D19=\"\",\"\",IF(C19=0,0,CR19-CQ19))","v":""},{"$f":"IF(D19=\"\",\"\",IF('Ex animal'!CW22=0,0,('Ex animal'!CB22*S19*'Ex animal'!CW22/100)-('Ex animal'!CB22*S19*'Ex animal'!CW22/100)/AS19*(E19*F19/24)))","v":""},{"$f":"IF(D19=\"\",\"\",IF(AU19=0,0,BE19*1000/AU19))","v":""},{"$f":"IF(D19=\"\",\"\",IF(AU19=0,0,BI19*1000/AU19))","v":""},{"$f":"IF(D19=\"\",\"\",IF(AU19=0,0,BM19*1000/AU19))","v":""},{"$f":"IF(D19=\"\",\"\",IF(BT19=0,0,CG19*1000/BT19))","v":""},{"$f":"IF(D19=\"\",\"\",IF(BT19=0,0,CM19*1000/BT19))","v":""},{"$f":"IF(D19=\"\",\"\",IF(BT19=0,0,CS19*1000/BT19))","v":""},20,{"$f":"IF(D19=\"\",\"\",VLOOKUP(D19,Tehnology!C104:E119,3,FALSE))","v":""},{"$f":"IF(D19=\"\",\"\",VLOOKUP(DB19,Tehnology!$I$55:$W$98,1,FALSE))","v":""},null,"P",null,{"$f":"IF(DG11=\"\",\"\",IF($DG$11=0,0,DG15*1000/$DG$11))","v":""},{"$f":"IF(DH11=\"\",\"\",IF($DH$11=0,0,DH15*1000/$DH$11))","v":""},{"$f":"IF(DI11=\"\",\"\",IF($DI$11=0,0,DI15*1000/$DI$11))","v":""},{"$f":"IF(DJ11=\"\",\"\",IF($DJ$11=0,0,DJ15*1000/$DJ$11))","v":""},{"$f":"IF(DK11=\"\",\"\",IF($DK$11=0,0,DK15*1000/$DK$11))","v":""},{"$f":"IF(DL11=\"\",\"\",IF($DL$11=0,0,DL15*1000/$DL$11))","v":""},{"$f":"IF(DM11=\"\",\"\",IF($DM$11=0,0,DM15*1000/$DM$11))","v":""},null,"SEAD",{"$f":"IF(SUM($C$19:$C$22)=0,\"\",IF(SUM($C$19:$C$22)>0,IF(VLOOKUP($DA$19,$DA$11:$DA$29,1,FALSE),IF(DG11=\"\",\"\",\"Tahesõnnik\"),\"\")))","v":""},null,{"$f":"IF(DP19=\"\",\"\",VLOOKUP($DQ$19,Tehnology!J55:K62,2,FALSE))","v":""},{"$f":"IF(DP19=\"\",\"\",VLOOKUP(DG24,Tehnology!I55:W62,7,FALSE))","v":""},{"$f":"IF(DP19=\"\",\"\",VLOOKUP($DG$24,Tehnology!I55:W62,9,FALSE))","v":""},{"$f":"IF(DP19=\"\",\"\",VLOOKUP($DQ$19,Tehnology!J55:W62,12,FALSE))","v":""},{"$f":"IF(DP19=\"\",\"\",VLOOKUP($DQ$19,Tehnology!J55:W62,13,FALSE))","v":""},{"$f":"IF(DP19=\"\",\"\",VLOOKUP($DQ$19,Tehnology!J55:W62,14,FALSE))","v":""},null,null,null,null,null,null,null,null,{"$f":"DG11","v":""},{"$f":"EF19+DY19*DZ19/1000","v":{"$error":"#VALUE!"}},{"$f":"EG19-((EK19+DY19*DZ19/1000*0/100)*EA19/100)-EI19","v":{"$error":"#VALUE!"}},{"$f":"IF(DQ19=\"Storage roofed\",DY19*EC19/1000,0)","v":0},{"$f":"IF(DP19=\"\",\"\",EH19-(DY19*DZ19/1000-DY19*DZ19/1000*(1-(EB19/100))))","v":""},{"$f":"IF(DC19=1,BA19,0)+IF(DC20=1,BA20,0)+IF(DC21=1,BA21,0)+IF(DC22=1,BA22,0)","v":0},{"$f":"EK19+(DY19*DZ19/1000*0/100)","v":0},{"$f":"EL19-(EL19*EA19/100)","v":0},{"$f":"IF(DP19=\"\",\"\",IF(EJ19=0,0,EM19/EJ19*100))","v":""},{"$f":"DG13*DR19/100","v":{"$error":"#VALUE!"}},{"$f":"DG13*DS19/100","v":{"$error":"#VALUE!"}},{"$f":"DG13*DT19/100","v":{"$error":"#VALUE!"}},{"$f":"DG13*DU19/100","v":{"$error":"#VALUE!"}},{"$f":"IF(DP19=\"\",\"\",DG13-EO19-EP19-EQ19-ER19)","v":""},{"$f":"IF(DP19=\"\",\"\",VLOOKUP($DG$24,Tehnology!I55:W62,11,FALSE)*ES19)","v":""},{"$f":"DG15*DV19/100","v":{"$error":"#VALUE!"}},{"$f":"IF(DP19=\"\",\"\",DG15-EU19)","v":""},{"$f":"DG16*DW19/100","v":{"$error":"#VALUE!"}},{"$f":"IF(DP19=\"\",\"\",DG16-EW19)","v":""},{"$f":"IF(DP19=\"\",\"\",ES19*1000/EJ19)","v":""},{"$f":"IF(DP19=\"\",\"\",ET19*1000/EJ19)","v":""},{"$f":"IF(DP19=\"\",\"\",EV19*1000/EJ19)","v":""},{"$f":"IF(DP19=\"\",\"\",EX19*1000/EJ19)","v":""},"","","","","","",{"$f":"SUM(C19:C22)*Tehnology!AB14","v":0},null,null,null,{"$f":"IF(D19=\"\",\"\",IF(AU19>0,C19*Tehnology!$AD$15,C19*Tehnology!$AD$14))","v":""},null,{"$f":"IF(SUM(C19:C22)=0,\"\",FI19/1000)","v":""},{"$f":"IF(SUM(C19:C22)=0,\"\",SUM(FM19:FN22)/1000)","v":""}]
[null,"Emised                                            Vaba- ja tiinusperiood",{"$f":"'Ex animal'!CW23","v":0},null,{"$f":"IF('FeedIn pigs (Intensive)'!$G$2=\"Intensive\",0,IF(B20='Feedin pigs (AFC)'!AK6,'Feedin pigs (AFC)'!AQ42,0))","v":0},{"$f":"IF('FeedIn pigs (Intensive)'!$G$2=\"Intensive\",0,IF(B20='Feedin pigs (AFC)'!AK6,'Feedin pigs (AFC)'!AS42,0))","v":0},null,null,{"$f":"IF(G20=\"\",0,VLOOKUP(G20,'Additional information'!$B$8:$F$16,2,FALSE))","v":0},null,null,null,null,{"$f":"IF(G20=\"\",0,VLOOKUP(G20,'Additional information'!$B$8:$F$16,3,FALSE)*'Ex animal'!CW23*H20*(AS20-AE20)/1000*I20/100/1000)","v":0},{"$f":"IF(G20=\"\",0,VLOOKUP(G20,'Additional information'!$B$8:$F$16,4,FALSE)*'Ex animal'!CW23*H20*(AS20-AE20)/1000*I20/100/1000)","v":0},{"$f":"IF(G20=\"\",0,VLOOKUP(G20,'Additional information'!$B$8:$F$16,5,FALSE)*'Ex animal'!CW23*H20*(AS20-AE20)/1000*I20/100/1000)","v":0},null,2.5,{"$f":"IF(D20=\"\",\"\",VLOOKUP(D20,Tehnology!C120:D136,2,FALSE))","v":""},null,null,{"$f":"'FeedIn pigs (Intensive)'!AA112","v":0},{"$f":"'Feedin pigs (AFC)'!AP47","v":65},{"$f":"IF('FeedIn pigs (Intensive)'!B5=0,V20,0)","v":0},{"$f":"IF('Feedin pigs (AFC)'!B5=0,W20,0)","v":0},{"$f":"IF(X20=0,Y20,X20)","v":0},null,{"$f":"IF(DC20=5,'Ex animal'!BQ23*Z20/100-'Ex animal'!BQ23*Z20/100*T20/100+'Ex animal'!BZ23*Z20/100*(1-T20/100),IF(DC20=3,'Ex animal'!BQ23*Z20/100-'Ex animal'!BQ23*Z20/100*T20/100+'Ex animal'!BZ23*Z20/100*(1-T20/100),IF(DC20=1,'Ex animal'!BQ23*Z20/100-'Ex animal'!BQ23*Z20/100*T20/100,IF(DC20=4,'Ex animal'!BQ23*Z20/100-'Ex animal'!BQ23*Z20/100*T20/100,0))))","v":0},{"$f":"IF(DC20=0,0,AB20)","v":0},{"$f":"IF(DC20=5,Q20,IF(DC20=3,Q20,0))","v":0},{"$f":"E20*F20/24","v":0},{"$f":"365*V20/100","v":0},{"$f":"365*W20/100","v":237.25},{"$f":"IF(DC20>0,H20*(AF20-AE20)/1000-((H20*(AF20-AE20)/1000)*T20)/100,0)","v":0},{"$f":"IF(DC20>0,H20*(AG20-AE20)/1000-((H20*(AG20-AE20)/1000)*T20)/100,0)","v":0},{"$f":"AF20","v":0},{"$f":"AG20","v":237.25},null,null,null,null,null,null,{"$f":"IF(DC20=2,IF('Feedin pigs (AFC)'!B5=0,AI20,AH20),0)","v":0},{"$f":"IF('Feedin pigs (AFC)'!B5=0,AK20,AJ20)","v":0},{"$f":"IF(DC20=2,0,IF('Feedin pigs (AFC)'!B5=0,AI20,AH20))","v":0},{"$f":"IF(D20=\"\",\"\",IF(C20=0,0,(AC20*'Ex animal'!CW23/AS20*(AS20*24-(E20*F20))/24)+(AD20*'Ex animal'!CW23)+(AT20*'Ex animal'!CW23)+BS20*U20/100))","v":""},{"$f":"IF(DC20=5,'Ex animal'!BZ23*Z20/100*'Ex animal'!CA23/100-(('Ex animal'!BZ23*Z20/100*'Ex animal'!CA23/100)*T20/100)-(('Ex animal'!BQ23*Z20/100*'Ex animal'!BR23/100)*T20/100)+'Ex animal'!BQ23*Z20/100*'Ex animal'!BR23/100,IF(DC20=3,'Ex animal'!BZ23*Z20/100*'Ex animal'!CA23/100-(('Ex animal'!BZ23*Z20/100*'Ex animal'!CA23/100)*T20/100)-(('Ex animal'!BQ23*Z20/100*'Ex animal'!BR23/100)*T20/100)+'Ex animal'!BQ23*Z20/100*'Ex animal'!BR23/100,IF(DC20=1,'Ex animal'!BQ23*Z20/100*'Ex animal'!BR23/100-(('Ex animal'!BQ23*Z20/100*'Ex animal'!BR23/100)*T20/100),IF(DC20=4,'Ex animal'!BQ23*Z20/100*'Ex animal'!BR23/100-(('Ex animal'!BQ23*Z20/100*'Ex animal'!BR23/100)*T20/100),0))))","v":0},{"$f":"IF(DC20=0,0,AV20)","v":0},{"$f":"IF(DC20=5,Q20*R20/100,IF(DC20=3,Q20*R20/100,0))","v":0},{"$f":"IF(H20=\"\",0,IF(DC20>0,H20*AS20/1000*I20/100-(H20*AS20/1000*I20/100*(T20/100)),0))","v":0},{"$f":"IF(D20=\"\",\"\",IF(AU20>0,((AW20*'Ex animal'!CW23/AS20*(AS20*24-(E20*F20))/24)+(AX20*'Ex animal'!CW23)+(AY20*'Ex animal'!CW23)+(BS20*BY20/100*U20/100))/AU20*100,0))","v":""},{"$f":"AU20*AZ20/100","v":{"$error":"#VALUE!"}},{"$f":"IF(DC20=5,'Ex animal'!BS23*Z20/100+'Ex animal'!CB23*Z20/100,IF(DC20=3,'Ex animal'!BS23*Z20/100+'Ex animal'!CB23*Z20/100,IF(DC20=1,'Ex animal'!BS23*Z20/100,IF(DC20=4,'Ex animal'!BS23*Z20/100,0))))","v":0},{"$f":"IF(DC20=0,0,BB20)","v":0},{"$f":"IF(H20=\"\",0,IF(DC20>0,N20,0))","v":0},{"$f":"IF(D20=\"\",\"\",IF(C20=0,0,IF(DC20=1,(BC20/1000*C20/AS20*(AS20*24-(E20*F20))/24)+BD20+(CE20*U20/100),IF(DC20=4,(BC20/1000*C20/AS20*(AS20*24-(E20*F20))/24)+BD20+(CE20*U20/100),IF(BT20>0,0,((BC20/1000*C20/AS20*(AS20*24-(E20*F20))/24)+(BD20))+(CE20*U20/100)-CT20/1000)))))","v":""},{"$f":"IF(DC20=5,'Ex animal'!BT23*Z20/100+'Ex animal'!CH23*Z20/100,IF(DC20=3,'Ex animal'!BT23*Z20/100+'Ex animal'!CH23*Z20/100,IF(DC20=1,'Ex animal'!BT23*Z20/100,IF(DC20=4,'Ex animal'!BT23*Z20/100,0))))","v":0},{"$f":"IF(DC20=0,0,BF20)","v":0},{"$f":"IF(H20=\"\",0,IF(DC20=2,0,O20))","v":0},{"$f":"IF(D20=\"\",\"\",IF(C20=0,0,((BG20/1000*'Ex animal'!CW23/AS20*(AS20*24-(E20*F20))/24)+(BH20))+CL20*U20/100))","v":""},{"$f":"IF(DC20=5,'Ex animal'!BY23*Z20/100+'Ex animal'!CI23*Z20/100,IF(DC20=3,'Ex animal'!BY23*Z20/100+'Ex animal'!CI23*Z20/100,IF(DC20=1,'Ex animal'!BY23*Z20/100,IF(DC20=4,'Ex animal'!BY23*Z20/100,0))))","v":0},{"$f":"IF(DC20=0,0,BJ20)","v":0},{"$f":"IF(H20=\"\",0,IF(DC20=2,0,P20))","v":0},{"$f":"IF(D20=\"\",\"\",IF(C20=0,0,((BK20/1000*'Ex animal'!CW23/AS20*(AS20*24-(E20*F20))/24)+(BL20))+CR20*U20/100))","v":""},{"$f":"IF(DC20=5,0,IF(DC20=3,0,IF(DC20=1,'Ex animal'!BZ23*Z20/100,IF(DC20=4,'Ex animal'!BZ23*Z20/100,'Ex animal'!BZ23*Z20/100+'Ex animal'!BQ23*Z20/100))))","v":0},{"$f":"IF(DC20=0,0,BN20)","v":0},{"$f":"IF(DC20=4,Q20,IF(DC20=2,Q20,IF(DC20=1,Q20,0)))","v":0},{"$f":"IF(DC20=0,H20,0)","v":0},{"$f":"BS20*U20/100","v":{"$error":"#DIV/0!"}},{"$f":"(BO20*'Ex animal'!CW23/AS20*(AS20*24-(E20*F20))/24)+(BP20*'Ex animal'!CW23)+(BQ20*'Ex animal'!CW23)+AR20","v":{"$error":"#DIV/0!"}},{"$f":"IF(D20=\"\",\"\",IF(C20=0,0,BS20-BR20))","v":""},{"$f":"IF(DC20=5,0,IF(DC20=3,0,IF(DC20=1,'Ex animal'!BZ23*Z20/100*'Ex animal'!CA23/100,IF(DC20=4,'Ex animal'!BZ23*Z20/100*'Ex animal'!CA23/100,'Ex animal'!BQ23*Z20/100*'Ex animal'!BR23/100+'Ex animal'!BZ23*Z20/100*'Ex animal'!CA23/100))))","v":0},{"$f":"IF(DC20=0,0,BU20)","v":0},{"$f":"IF(DC20=4,Q20*R20/100,IF(DC20=2,Q20*R20/100,IF(DC20=1,Q20*R20/100,0)))","v":0},{"$f":"IF(H20=\"\",0,IF(DC20=2,(H20*(AS20-AE20))/1000*I20/100,0))","v":0},{"$f":"IF(D20=\"\",\"\",IF(C20=0,0,IF(BS20=0,0,((BV20*'Ex animal'!CW23/AS20*(AS20*24-(E20*F20))/24)+(BW20*'Ex animal'!CW23)+(BX20*'Ex animal'!CW23))/BS20*100)))","v":""},{"$f":"BT20*BY20/100","v":{"$error":"#VALUE!"}},{"$f":"IF(DC20=5,0,IF(DC20=3,0,IF(DC20=1,'Ex animal'!CB23*Z20/100,IF(DC20=4,'Ex animal'!CB23*Z20/100,'Ex animal'!BS23*Z20/100+'Ex animal'!CB23*Z20/100))))","v":0},{"$f":"IF(DC20=0,0,CA20)","v":0},{"$f":"IF(AU20=0,N20,0)","v":0},{"$f":"CE20*U20/100","v":{"$error":"#DIV/0!"}},{"$f":"IF(BT20>0,((CB20/1000*'Ex animal'!CW23/AS20*(AS20*24-(E20*F20))/24)-('Ex animal'!CB23*Z20/100/1000*'Ex animal'!CW23*S20/100)+(CC20)),0)","v":{"$error":"#DIV/0!"}},null,{"$f":"IF(D20=\"\",\"\",IF(C20=0,0,CE20-CD20))","v":""},{"$f":"IF(DC20=5,0,IF(DC20=3,0,IF(DC20=1,'Ex animal'!CH23*Z20/100,IF(DC20=4,'Ex animal'!CH23*Z20/100,'Ex animal'!BT23*Z20/100+'Ex animal'!CH23*Z20/100))))","v":0},{"$f":"IF(DC20=0,0,CH20)","v":0},{"$f":"IF(DC20=2,O20,0)","v":0},{"$f":"CL20*U20/100","v":{"$error":"#DIV/0!"}},{"$f":"((CI20/1000*'Ex animal'!CW23/AS20*(AS20*24-(E20*F20))/24)+(CJ20))","v":{"$error":"#DIV/0!"}},{"$f":"IF(D20=\"\",\"\",IF(C20=0,0,CL20-CK20))","v":""},{"$f":"IF(DC20=5,0,IF(DC20=3,0,IF(DC20=1,'Ex animal'!CI23*Z20/100,IF(DC20=4,'Ex animal'!CI23*Z20/100,'Ex animal'!CI23*Z20/100+'Ex animal'!BY23*Z20/100))))","v":0},{"$f":"IF(DC20=0,0,CN20)","v":0},{"$f":"IF(DC20=2,P20,0)","v":0},{"$f":"CR20*U20/100","v":{"$error":"#DIV/0!"}},{"$f":"((CO20/1000*'Ex animal'!CW23/AS20*(AS20*24-(E20*F20))/24)+(CP20))","v":{"$error":"#DIV/0!"}},{"$f":"IF(D20=\"\",\"\",IF(C20=0,0,CR20-CQ20))","v":""},{"$f":"IF(D20=\"\",\"\",IF('Ex animal'!CW23=0,0,('Ex animal'!CB23*Z20/100*S20*'Ex animal'!CW23/100)-('Ex animal'!CB23*Z20/100*S20*'Ex animal'!CW23/100)/AS20*(E20*F20/24)))","v":""},{"$f":"IF(D20=\"\",\"\",IF(AU20=0,0,BE20*1000/AU20))","v":""},{"$f":"IF(D20=\"\",\"\",IF(AU20=0,0,BI20*1000/AU20))","v":""},{"$f":"IF(D20=\"\",\"\",IF(AU20=0,0,BM20*1000/AU20))","v":""},{"$f":"IF(D20=\"\",\"\",IF(BT20=0,0,CG20*1000/BT20))","v":""},{"$f":"IF(D20=\"\",\"\",IF(BT20=0,0,CM20*1000/BT20))","v":""},{"$f":"IF(D20=\"\",\"\",IF(BT20=0,0,CS20*1000/BT20))","v":""},null,{"$f":"IF(D20=\"\",\"\",VLOOKUP(D20,Tehnology!C120:E136,3,FALSE))","v":""},{"$f":"IF(D20=\"\",\"\",VLOOKUP(DB20,Tehnology!$I$55:$W$98,1,FALSE))","v":""},null,"K",null,{"$f":"IF(DG11=\"\",\"\",IF($DG$11=0,0,DG16*1000/$DG$11))","v":""},{"$f":"IF(DH11=\"\",\"\",IF($DH$11=0,0,DH16*1000/$DH$11))","v":""},{"$f":"IF(DI11=\"\",\"\",IF($DI$11=0,0,DI16*1000/$DI$11))","v":""},{"$f":"IF(DJ11=\"\",\"\",IF($DJ$11=0,0,DJ16*1000/$DJ$11))","v":""},{"$f":"IF(DK11=\"\",\"\",IF($DK$11=0,0,DK16*1000/$DK$11))","v":""},{"$f":"IF(DL11=\"\",\"\",IF($DL$11=0,0,DL16*1000/$DL$11))","v":""},{"$f":"IF(DM11=\"\",\"\",IF($DM$11=0,0,DM16*1000/$DM$11))","v":""},null,null,{"$f":"IF(SUM($C$19:$C$22)=0,\"\",IF(SUM($C$19:$C$22)>0,IF(VLOOKUP($DA$19,$DA$11:$DA$29,1,FALSE),IF(DH11=\"\",\"\",\"Virts\"),\"\")))","v":""},null,{"$f":"IF(DP20=\"\",\"\",VLOOKUP(DQ20,Tehnology!L55:M62,2,FALSE))","v":""},{"$f":"IF(DP20=\"\",\"\",VLOOKUP($DG$24,Tehnology!I55:W62,8,FALSE))","v":""},{"$f":"IF(DP20=\"\",\"\",VLOOKUP($DG$24,Tehnology!I55:W62,10,FALSE))","v":""},null,null,null,null,null,null,null,null,null,null,null,{"$f":"DH11+SUM(DZ66:DZ69)","v":{"$error":"#VALUE!"}},{"$error":"#VALUE!"},{"$error":"#VALUE!"},0,"",{"$f":"IF(DC19=1,BZ19,0)+IF(DC20=1,BZ20,0)+IF(DC21=1,BZ21,0)+IF(DC22=1,BZ22,0)","v":0},{"$f":"EK20+(DY20*DZ20/1000*0/100)+SUM(EF66:EF69)","v":0},0,"",{"$f":"(DH13+SUM(EB66:EB69)/1000)*DR20/100","v":{"$error":"#VALUE!"}},null,{"$f":"(DH13+SUM(EB66:EB69)/1000)*DT20/100","v":{"$error":"#VALUE!"}},null,{"$f":"IF(DP20=\"\",\"\",DH13+SUM(EB39:EB42)/1000-EO20-EP20-EQ20-ER20)","v":""},{"$f":"IF(DP20=\"\",\"\",VLOOKUP($DG$24,Tehnology!I55:W62,12,FALSE)*ES20)","v":""},null,{"$f":"IF(DP20=\"\",\"\",DH15+SUM(EC66:EC69)/1000-EU20)","v":""},null,{"$f":"IF(DP20=\"\",\"\",DH16+SUM(ED66:ED69)/1000-EW20)","v":""},{"$f":"IF(DP20=\"\",\"\",ES20*1000/EJ20)","v":""},{"$f":"IF(DP20=\"\",\"\",ET20*1000/EJ20)","v":""},{"$f":"IF(DP20=\"\",\"\",EV20*1000/EJ20)","v":""},{"$f":"IF(DP20=\"\",\"\",EX20*1000/EJ20)","v":""},"","","","","","",null,{"$f":"'FeedIn pigs (Intensive)'!AA112","v":0},{"$f":"'Feedin pigs (AFC)'!AP47","v":65},{"$f":"IF('Feedin pigs (AFC)'!B5=0,FK20,FJ20)","v":0},{"$f":"IF(D20=\"\",\"\",IF(AU20=AU20+BT20,C20*Tehnology!AD15*FL20/100,C20*FL20/100*Tehnology!AD15*AU20/(' Ex housing and ex storage (MB)'!AU20+' Ex housing and ex storage (MB)'!BT20)))","v":""},{"$f":"IF(D20=\"\",\"\",IF(BT20=0,0,IF(AU20=AU20+BT20,C20*Tehnology!AD14*FL20/100,C20*FL20/100*Tehnology!AD14*BT20/(AU20+BT20))))","v":""}]
[null,"Imetamisperiood   ",null,null,{"$f":"IF('FeedIn pigs (Intensive)'!$G$2=\"Intensive\",0,IF(B20='Feedin pigs (AFC)'!AK6,'Feedin pigs (AFC)'!AQ44,0))","v":0},{"$f":"IF('FeedIn pigs (Intensive)'!$G$2=\"Intensive\",0,IF(B20='Feedin pigs (AFC)'!AK6,'Feedin pigs (AFC)'!AS44,0))","v":0},null,null,{"$f":"IF(G21=\"\",0,VLOOKUP(G21,'Additional information'!$B$8:$F$16,2,FALSE))","v":0},null,null,null,null,{"$f":"IF(G21=\"\",0,VLOOKUP(G21,'Additional information'!$B$8:$F$16,3,FALSE)*'Ex animal'!CW23*H21*(AS21-AE21)/1000*I21/100/1000)","v":0},{"$f":"IF(G21=\"\",0,VLOOKUP(G21,'Additional information'!$B$8:$F$16,4,FALSE)*'Ex animal'!CW23*H21*(AS21-AE21)/1000*I21/100/1000)","v":0},{"$f":"IF(G21=\"\",0,VLOOKUP(G21,'Additional information'!$B$8:$F$16,5,FALSE)*'Ex animal'!CW23*H21*(AS21-AE21)/1000*I21/100/1000)","v":0},null,2.5,{"$f":"IF(D21=\"\",\"\",VLOOKUP(D21,Tehnology!C137:D148,2,FALSE))","v":""},null,null,{"$f":"'FeedIn pigs (Intensive)'!AA113","v":{"$error":"#N/A"}},{"$f":"'Feedin pigs (AFC)'!AP48","v":35},{"$f":"IF('FeedIn pigs (Intensive)'!B5=0,V21,0)","v":0},{"$f":"IF('Feedin pigs (AFC)'!B5=0,W21,0)","v":0},{"$f":"IF(X21=0,Y21,X21)","v":0},null,{"$f":"IF(DC21=5,'Ex animal'!BQ23*Z21/100-'Ex animal'!BQ23*Z21/100*T21/100+'Ex animal'!BZ23*Z21/100*(1-T21/100),IF(DC21=3,'Ex animal'!BQ23*Z21/100-'Ex animal'!BQ23*Z21/100*T21/100+'Ex animal'!BZ23*Z21/100*(1-T21/100),IF(DC21=1,'Ex animal'!BQ23*Z21/100-'Ex animal'!BQ23*Z21/100*T21/100,IF(DC21=4,'Ex animal'!BQ23*Z21/100-'Ex animal'!BQ23*Z21/100*T21/100,0))))","v":0},{"$f":"IF(DC21=0,0,AB21)","v":0},{"$f":"IF(DC21=5,Q21,IF(DC21=3,Q21,0))","v":0},{"$f":"E21*F21/24","v":0},{"$f":"365*V21/100","v":{"$error":"#N/A"}},{"$f":"365*W21/100","v":127.75},{"$f":"IF(DC21>0,H21*(AF21-AE21)/1000-((H21*(AF21-AE21)/1000)*T21)/100,0)","v":{"$error":"#N/A"}},{"$f":"IF(DC21>0,H21*(AG21-AE21)/1000-((H21*(AG21-AE21)/1000)*T21)/100,0)","v":0},{"$error":"#N/A"},127.75,null,null,null,null,null,null,{"$f":"IF(DC21=2,IF('Feedin pigs (AFC)'!B5=0,AI21,AH21),0)","v":0},{"$f":"IF('Feedin pigs (AFC)'!B5=0,AK21,AJ21)","v":{"$error":"#N/A"}},{"$f":"IF(DC21=2,0,IF('Feedin pigs (AFC)'!B5=0,AI21,AH21))","v":{"$error":"#N/A"}},{"$f":"IF(D21=\"\",\"\",IF(C20=0,0,(AC21*'Ex animal'!CW23/AS21*(AS21*24-(E21*F21))/24)+(AD21*'Ex animal'!CW23)+(AT21*'Ex animal'!CW23)+BS21*U21/100))","v":""},{"$f":"IF(DC21=5,'Ex animal'!BZ23*Z21/100*'Ex animal'!CA23/100-(('Ex animal'!BZ23*Z21/100*'Ex animal'!CA23/100)*T21/100)-(('Ex animal'!BQ23*Z21/100*'Ex animal'!BR23/100)*T21/100)+'Ex animal'!BQ23*Z21/100*'Ex animal'!BR23/100,IF(DC21=3,'Ex animal'!BZ23*Z21/100*'Ex animal'!CA23/100-(('Ex animal'!BZ23*Z21/100*'Ex animal'!CA23/100)*T21/100)-(('Ex animal'!BQ23*Z21/100*'Ex animal'!BR23/100)*T21/100)+'Ex animal'!BQ23*Z21/100*'Ex animal'!BR23/100,IF(DC21=1,'Ex animal'!BQ23*Z21/100*'Ex animal'!BR23/100-(('Ex animal'!BQ23*Z21/100*'Ex animal'!BR23/100)*T21/100),IF(DC21=4,'Ex animal'!BQ23*Z21/100*'Ex animal'!BR23/100-(('Ex animal'!BQ23*Z21/100*'Ex animal'!BR23/100)*T21/100),0))))","v":0},{"$f":"IF(DC21=0,0,AV21)","v":0},{"$f":"IF(DC21=5,Q21*R21/100,IF(DC21=3,Q21*R21/100,0))","v":0},{"$f":"IF(H21=\"\",0,IF(DC21>0,H21*AS21/1000*I21/100-(H21*AS21/1000*I21/100*(T21/100)),0))","v":0},{"$f":"IF(D21=\"\",\"\",IF(AU21>0,((AW21*'Ex animal'!CW23/AS21*(AS21*24-(E21*F21))/24)+(AX21*'Ex animal'!CW23)+(AY21*'Ex animal'!CW23)+(BS21*BY21/100*U21/100))/AU21*100,0))","v":""},{"$f":"AU21*AZ21/100","v":{"$error":"#VALUE!"}},{"$f":"IF(DC21=5,'Ex animal'!BS23*Z21/100+'Ex animal'!CB23*Z21/100,IF(DC21=3,'Ex animal'!BS23*Z21/100+'Ex animal'!CB23*Z21/100,IF(DC21=1,'Ex animal'!BS23*Z21/100,IF(DC21=4,'Ex animal'!BS23*Z21/100,0))))","v":0},{"$f":"IF(DC21=0,0,BB21)","v":0},{"$f":"IF(H21=\"\",0,IF(DC21>0,N21,0))","v":0},{"$f":"IF(D21=\"\",\"\",IF(C20=0,0,IF(DC21=1,(BC21/1000*C20/AS21*(AS21*24-(E21*F21))/24)+BD21+(CE21*U21/100),IF(DC21=4,(BC21/1000*C20/AS21*(AS21*24-(E21*F21))/24)+BD21+(CE21*U21/100),IF(BT21>0,0,((BC21/1000*C20/AS21*(AS21*24-(E21*F21))/24)+(BD21))+(CE21*U21/100)-CT21/1000)))))","v":""},{"$f":"IF(DC21=5,'Ex animal'!BT23*Z21/100+'Ex animal'!CH23*Z21/100,IF(DC21=3,'Ex animal'!BT23*Z21/100+'Ex animal'!CH23*Z21/100,IF(DC21=1,'Ex animal'!BT23*Z21/100,IF(DC21=4,'Ex animal'!BT23*Z21/100,0))))","v":0},{"$f":"IF(DC21=0,0,BF21)","v":0},{"$f":"IF(H21=\"\",0,IF(DC21=2,0,O21))","v":0},{"$f":"IF(D21=\"\",\"\",IF(C20=0,0,((BG21/1000*'Ex animal'!CW23/AS21*(AS21*24-(E21*F21))/24)+(BH21))+CL21*U21/100))","v":""},{"$f":"IF(DC21=5,'Ex animal'!BY23*Z21/100+'Ex animal'!CI23*Z21/100,IF(DC21=3,'Ex animal'!BY23*Z21/100+'Ex animal'!CI23*Z21/100,IF(DC21=1,'Ex animal'!BY23*Z21/100,IF(DC21=4,'Ex animal'!BY23*Z21/100,0))))","v":0},{"$f":"IF(DC21=0,0,BJ21)","v":0},{"$f":"IF(H21=\"\",0,IF(DC21=2,0,P21))","v":0},{"$f":"IF(D21=\"\",\"\",IF(C20=0,0,((BK21/1000*'Ex animal'!CW23/AS21*(AS21*24-(E21*F21))/24)+(BL21))+CR21*U21/100))","v":""},{"$f":"IF(DC21=5,0,IF(DC21=3,0,IF(DC21=1,'Ex animal'!BZ23*Z21/100,IF(DC21=4,'Ex animal'!BZ23*Z21/100,'Ex animal'!BZ23*Z21/100+'Ex animal'!BQ23*Z21/100))))","v":0},{"$f":"IF(DC21=0,0,BN21)","v":0},{"$f":"IF(DC21=4,Q21,IF(DC21=2,Q21,IF(DC21=1,Q21,0)))","v":0},{"$f":"IF(DC21=0,H21,0)","v":0},{"$f":"BS21*U21/100","v":{"$error":"#N/A"}},{"$f":"(BO21*'Ex animal'!CW23/AS21*(AS21*24-(E21*F21))/24)+(BP21*'Ex animal'!CW23)+(BQ21*'Ex animal'!CW23)+AR21","v":{"$error":"#N/A"}},{"$f":"IF(D21=\"\",\"\",IF(C20=0,0,BS21-BR21))","v":""},{"$f":"IF(DC21=5,0,IF(DC21=3,0,IF(DC21=1,'Ex animal'!BZ23*Z21/100*'Ex animal'!CA23/100,IF(DC21=4,'Ex animal'!BZ23*Z21/100*'Ex animal'!CA23/100,'Ex animal'!BQ23*Z21/100*'Ex animal'!BR23/100+'Ex animal'!BZ23*Z21/100*'Ex animal'!CA23/100))))","v":0},{"$f":"IF(DC21=0,0,BU21)","v":0},{"$f":"IF(DC21=4,Q21*R21/100,IF(DC21=2,Q21*R21/100,IF(DC21=1,Q21*R21/100,0)))","v":0},{"$f":"IF(H21=\"\",0,IF(DC21=2,(H21*(AS21-AE21))/1000*I21/100,0))","v":0},{"$f":"IF(D21=\"\",\"\",IF(C20=0,0,IF(BS21=0,0,((BV21*'Ex animal'!CW23/AS21*(AS21*24-(E21*F21))/24)+(BW21*'Ex animal'!CW23)+(BX21*'Ex animal'!CW23))/BS21*100)))","v":""},{"$f":"BT21*BY21/100","v":{"$error":"#VALUE!"}},{"$f":"IF(DC21=5,0,IF(DC21=3,0,IF(DC21=1,'Ex animal'!CB23*Z21/100,IF(DC21=4,'Ex animal'!CB23*Z21/100,'Ex animal'!BS23*Z21/100+'Ex animal'!CB23*Z21/100))))","v":0},{"$f":"IF(DC21=0,0,CA21)","v":0},{"$f":"IF(AU21=0,N21,0)","v":0},{"$f":"CE21*U21/100","v":{"$error":"#N/A"}},{"$f":"IF(BT21>0,((CB21/1000*'Ex animal'!CW23/AS21*(AS21*24-(E21*F21))/24)-('Ex animal'!CB23*Z21/100/1000*'Ex animal'!CW23*S21/100)+(CC21)),0)","v":{"$error":"#N/A"}},null,{"$f":"IF(D21=\"\",\"\",IF(C20=0,0,CE21-CD21))","v":""},{"$f":"IF(DC21=5,0,IF(DC21=3,0,IF(DC21=1,'Ex animal'!CH23*Z21/100,IF(DC21=4,'Ex animal'!CH23*Z21/100,'Ex animal'!BT23*Z21/100+'Ex animal'!CH23*Z21/100))))","v":0},{"$f":"IF(DC21=0,0,CH21)","v":0},{"$f":"IF(DC21=2,O21,0)","v":0},{"$f":"CL21*U21/100","v":{"$error":"#N/A"}},{"$f":"((CI21/1000*'Ex animal'!CW23/AS21*(AS21*24-(E21*F21))/24)+(CJ21))","v":{"$error":"#N/A"}},{"$f":"IF(D21=\"\",\"\",IF(C20=0,0,CL21-CK21))","v":""},{"$f":"IF(DC21=5,0,IF(DC21=3,0,IF(DC21=1,'Ex animal'!CI23*Z21/100,IF(DC21=4,'Ex animal'!CI23*Z21/100,'Ex animal'!CI23*Z21/100+'Ex animal'!BY23*Z21/100))))","v":0},{"$f":"IF(DC21=0,0,CN21)","v":0},{"$f":"IF(DC21=2,P21,0)","v":0},{"$f":"CR21*U21/100","v":{"$error":"#N/A"}},{"$f":"((CO21/1000*'Ex animal'!CW23/AS21*(AS21*24-(E21*F21))/24)+(CP21))","v":{"$error":"#N/A"}},{"$f":"IF(D21=\"\",\"\",IF(C20=0,0,CR21-CQ21))","v":""},{"$f":"IF(D21=\"\",\"\",IF('Ex animal'!CW23=0,0,('Ex animal'!CB23*Z21/100*S21*'Ex animal'!CW23/100)-('Ex animal'!CB23*Z21/100*S21*'Ex animal'!CW23/100)/AS21*(E21*F21/24)))","v":""},{"$f":"IF(D21=\"\",\"\",IF(AU21=0,0,BE21*1000/AU21))","v":""},{"$f":"IF(D21=\"\",\"\",IF(AU21=0,0,BI21*1000/AU21))","v":""},{"$f":"IF(D21=\"\",\"\",IF(AU21=0,0,BM21*1000/AU21))","v":""},{"$f":"IF(D21=\"\",\"\",IF(BT21=0,0,CG21*1000/BT21))","v":""},{"$f":"IF(D21=\"\",\"\",IF(BT21=0,0,CM21*1000/BT21))","v":""},{"$f":"IF(D21=\"\",\"\",IF(BT21=0,0,CS21*1000/BT21))","v":""},null,{"$f":"IF(D21=\"\",\"\",VLOOKUP(D21,Tehnology!C137:E148,3,FALSE))","v":""},{"$f":"IF(D21=\"\",\"\",VLOOKUP(DB21,Tehnology!$I$55:$W$98,1,FALSE))","v":""},null,"Kaod ","kg","Loomapidamishoone",null,null,null,null,null,null,null,null,{"$f":"IF(SUM($C$19:$C$22)=0,\"\",IF(SUM($C$19:$C$22)>0,IF(VLOOKUP($DA$19,$DA$11:$DA$29,1,FALSE),IF(DI11=\"\",\"\",\"Vedelsõnnik\"),\"\")))","v":""},null,{"$f":"IF(DP21=\"\",\"\",VLOOKUP(DQ21,Tehnology!L64:M71,2,FALSE))","v":""},{"$f":"IF(DP21=\"\",\"\",VLOOKUP($DI$24,Tehnology!I64:W71,8,FALSE))","v":""},{"$f":"IF(DP21=\"\",\"\",VLOOKUP($DI$24,Tehnology!I64:W71,10,FALSE))","v":""},null,null,null,null,null,null,null,null,null,null,null,{"$f":"DI11+SUM(DZ66:DZ69)","v":{"$error":"#VALUE!"}},{"$error":"#VALUE!"},{"$error":"#VALUE!"},0,"",{"$f":"IF(DI11=0,0,(IF(DC19=2,BZ19,0)+IF(DC20=2,BZ20,0)+IF(DC21=2,BZ21,0)+IF(DC22=2,BZ22,0)))","v":0},{"$f":"EK21+(DY21*DZ21/1000*0/100)+SUM(EF66:EF69)","v":0},0,{"$f":"IF(DP21=\"\",\"\",IF(EJ21=0,0,EM21/EJ21*100))","v":""},{"$f":"(DI13+SUM(EB66:EB69)/1000)*DR21/100","v":{"$error":"#VALUE!"}},null,{"$f":"(DI13+SUM(EB66:EB69)/1000)*DT21/100","v":{"$error":"#VALUE!"}},null,{"$f":"IF(DP21=\"\",\"\",DI13+SUM(EB39:EB42)/1000-EO21-EP21-EQ21-ER21)","v":""},{"$f":"IF(DP21=\"\",\"\",VLOOKUP(DI24,Tehnology!I64:W71,12,FALSE)*ES21)","v":""},null,{"$f":"IF(DP21=\"\",\"\",DI15+SUM(EC66:EC69)/1000-EU21)","v":""},null,{"$f":"IF(DP21=\"\",\"\",DI16+SUM(ED66:ED69)/1000-EW21)","v":""},{"$f":"IF(DP21=\"\",\"\",ES21*1000/EJ21)","v":""},{"$f":"IF(DP21=\"\",\"\",ET21*1000/EJ21)","v":""},{"$f":"IF(DP21=\"\",\"\",EV21*1000/EJ21)","v":""},{"$f":"IF(DP21=\"\",\"\",EX21*1000/EJ21)","v":""},"","","","","","",null,{"$f":"'FeedIn pigs (Intensive)'!AA113","v":{"$error":"#N/A"}},{"$f":"'Feedin pigs (AFC)'!AP48","v":35},{"$f":"IF('Feedin pigs (AFC)'!B5=0,FK21,FJ21)","v":{"$error":"#N/A"}},{"$f":"IF(D21=\"\",\"\",IF(AU21=AU21+BT21,C20*Tehnology!AD15*FL21/100,C20*FL21/100*Tehnology!AD15*AU21/(' Ex housing and ex storage (MB)'!AU21+' Ex housing and ex storage (MB)'!BT21)))","v":""},{"$f":"IF(D21=\"\",\"\",IF(BT21=0,0,IF(AU21=AU21+BT21,C20*Tehnology!AD14*FL21/100,C20*FL21/100*Tehnology!AD14*BT21/(AU21+BT21))))","v":""}]
[null,"Võõrdepõrsad",{"$f":"'Ex animal'!CW24","v":0},null,{"$f":"IF('FeedIn pigs (Intensive)'!$G$2=\"Intensive\",0,IF(B22='Feedin pigs (AFC)'!$Z$6,'Feedin pigs (AFC)'!AF42,0))","v":0},{"$f":"IF('FeedIn pigs (Intensive)'!$G$2=\"Intensive\",0,IF(B22='Feedin pigs (AFC)'!$Z$6,'Feedin pigs (AFC)'!AH42,0))","v":0},null,null,{"$f":"IF(G22=\"\",0,VLOOKUP(G22,'Additional information'!$B$8:$F$16,2,FALSE))","v":0},null,null,null,null,{"$f":"IF(G22=\"\",0,VLOOKUP(G22,'Additional information'!$B$8:$F$16,3,FALSE)*'Ex animal'!CW24*H22*(AS22-AE22)/1000*I22/100/1000)","v":0},{"$f":"IF(G22=\"\",0,VLOOKUP(G22,'Additional information'!$B$8:$F$16,4,FALSE)*'Ex animal'!CW24*H22*(AS22-AE22)/1000*I22/100/1000)","v":0},{"$f":"IF(G22=\"\",0,VLOOKUP(G22,'Additional information'!$B$8:$F$16,5,FALSE)*'Ex animal'!CW24*H22*(AS22-AE22)/1000*I22/100/1000)","v":0},null,2.5,{"$f":"IF(D22=\"\",\"\",VLOOKUP(D22,Tehnology!C149:D162,2,FALSE))","v":""},null,null,null,null,null,null,null,null,{"$f":"IF(DC22=5,'Ex animal'!BQ24-'Ex animal'!BQ24*T22/100+'Ex animal'!BZ24*(1-T22/100),IF(DC22=3,'Ex animal'!BQ24-'Ex animal'!BQ24*T22/100+'Ex animal'!BZ24*(1-T22/100),IF(DC22=1,'Ex animal'!BQ24-'Ex animal'!BQ24*T22/100,IF(DC22=4,'Ex animal'!BQ24-'Ex animal'!BQ24*T22/100,0))))","v":0},{"$f":"IF(DC22=0,0,AB22)","v":0},{"$f":"IF(DC22=5,Q22,IF(DC22=3,Q22,0))","v":0},{"$f":"E22*F22/24","v":0},{"$f":"'FeedIn pigs (Intensive)'!W108","v":0},{"$f":"'Feedin pigs (AFC)'!AE9","v":0},{"$f":"IF(DC22>0,H22*(AF22-AE22)/1000-((H22*(AF22-AE22)/1000)*T22)/100,0)","v":0},{"$f":"IF(DC22>0,H22*(AG22-AE22)/1000-((H22*(AG22-AE22)/1000)*T22)/100,0)","v":0},{"$f":"AF22","v":0},{"$f":"AG22","v":0},null,null,null,null,null,null,{"$f":"IF(DC22=2,IF('Feedin pigs (AFC)'!B5=0,AI22,AH22),0)","v":0},{"$f":"IF('Feedin pigs (AFC)'!$B5=0,AK22,AJ22)","v":0},{"$f":"IF(DC22=2,0,IF('Feedin pigs (AFC)'!B5=0,AI22,AH22))","v":0},{"$f":"IF(D22=\"\",\"\",IF(C22=0,0,(AC22*'Ex animal'!CW24/AS22*(AS22*24-(E22*F22))/24)+(AD22*'Ex animal'!CW24)+(AT22*'Ex animal'!CW24)+BS22*U22/100))","v":""},{"$f":"IF(DC22=5,'Ex animal'!BZ24*'Ex animal'!CA24/100-(('Ex animal'!BZ24*'Ex animal'!CA24/100)*T22/100)-(('Ex animal'!BQ24*'Ex animal'!BR24/100)*T22/100)+'Ex animal'!BQ24*'Ex animal'!BR24/100,IF(DC22=3,'Ex animal'!BZ24*'Ex animal'!CA24/100-(('Ex animal'!BZ24*'Ex animal'!CA24/100)*T22/100)-(('Ex animal'!BQ24*'Ex animal'!BR24/100)*T22/100)+'Ex animal'!BQ24*'Ex animal'!BR24/100,IF(DC22=1,'Ex animal'!BQ24*'Ex animal'!BR24/100-(('Ex animal'!BQ24*'Ex animal'!BR24/100)*T22/100),IF(DC22=4,'Ex animal'!BQ24*'Ex animal'!BR24/100-(('Ex animal'!BQ24*'Ex animal'!BR24/100)*T22/100),0))))","v":0},{"$f":"IF(DC22=0,0,AV22)","v":0},{"$f":"IF(DC22=5,Q22*R22/100,IF(DC22=3,Q22*R22/100,0))","v":0},{"$f":"IF(H22=\"\",0,IF(DC22>0,H22*AS22/1000*I22/100-(H22*AS22/1000*I22/100*(T22/100)),0))","v":0},{"$f":"IF(D22=\"\",\"\",IF(AU22>0,((AW22*'Ex animal'!CW24/AS22*(AS22*24-(E22*F22))/24)+(AX22*'Ex animal'!CW24)+(AY22*'Ex animal'!CW24)+(BS22*BY22/100*U22/100))/AU22*100,0))","v":""},{"$f":"AU22*AZ22/100","v":{"$error":"#VALUE!"}},{"$f":"IF(DC22=5,'Ex animal'!BS24+'Ex animal'!CB24,IF(DC22=3,'Ex animal'!BS24+'Ex animal'!CB24,IF(DC22=1,'Ex animal'!BS24,IF(DC22=4,'Ex animal'!BS24,0))))","v":0},{"$f":"IF(DC22=0,0,BB22)","v":0},{"$f":"IF(H22=\"\",0,IF(DC22>0,N22,0))","v":0},{"$f":"IF(D22=\"\",\"\",IF(C22=0,0,IF(DC22=1,(BC22/1000*C22/AS22*(AS22*24-(E22*F22))/24)+BD22+(CE22*U22/100),IF(DC22=4,(BC22/1000*C22/AS22*(AS22*24-(E22*F22))/24)+BD22+(CE22*U22/100),IF(BT22>0,0,((BC22/1000*C22/AS22*(AS22*24-(E22*F22))/24)+(BD22))+(CE22*U22/100)-CT22/1000)))))","v":""},{"$f":"IF(DC22=5,'Ex animal'!BT24+'Ex animal'!CH24,IF(DC22=3,'Ex animal'!BT24+'Ex animal'!CH24,IF(DC22=1,'Ex animal'!BT24,IF(DC22=4,'Ex animal'!BT24,0))))","v":0},{"$f":"IF(DC22=0,0,BF22)","v":0},{"$f":"IF(H22=\"\",0,IF(DC22=2,0,O22))","v":0},{"$f":"IF(D22=\"\",\"\",IF(C22=0,0,((BG22/1000*'Ex animal'!CW24/AS22*(AS22*24-(E22*F22))/24)+(BH22))+CL22*U22/100))","v":""},{"$f":"IF(DC22=5,'Ex animal'!BY24+'Ex animal'!CI24,IF(DC22=3,'Ex animal'!BY24+'Ex animal'!CI24,IF(DC22=1,'Ex animal'!BY24,IF(DC22=4,'Ex animal'!BY24,0))))","v":0},{"$f":"IF(DC22=0,0,BJ22)","v":0},{"$f":"IF(H22=\"\",0,IF(DC22=2,0,P22))","v":0},{"$f":"IF(D22=\"\",\"\",IF(C22=0,0,((BK22/1000*'Ex animal'!CW24/AS22*(AS22*24-(E22*F22))/24)+(BL22))+CR22*U22/100))","v":""},{"$f":"IF(DC22=5,0,IF(DC22=3,0,IF(DC22=1,'Ex animal'!BZ24,IF(DC22=4,'Ex animal'!BZ24,'Ex animal'!BZ24+'Ex animal'!BQ24))))","v":0},{"$f":"IF(DC22=0,0,BN22)","v":0},{"$f":"IF(DC22=4,Q22,IF(DC22=2,Q22,IF(DC22=1,Q22,0)))","v":0},{"$f":"IF(DC22=0,H22,0)","v":0},{"$f":"BS22*U22/100","v":{"$error":"#DIV/0!"}},{"$f":"(BO22*'Ex animal'!CW24/AS22*(AS22*24-(E22*F22))/24)+(BP22*'Ex animal'!CW24)+(BQ22*'Ex animal'!CW24)+AR22","v":{"$error":"#DIV/0!"}},{"$f":"IF(D22=\"\",\"\",IF(C22=0,0,BS22-BR22))","v":""},{"$f":"IF(DC22=5,0,IF(DC22=3,0,IF(DC22=1,'Ex animal'!BZ24*'Ex animal'!CA24/100,IF(DC22=4,'Ex animal'!BZ24*'Ex animal'!CA24/100,'Ex animal'!BQ24*'Ex animal'!BR24/100+'Ex animal'!BZ24*'Ex animal'!CA24/100))))","v":0},{"$f":"IF(DC22=0,0,BU22)","v":0},{"$f":"IF(DC22=4,Q22*R22/100,IF(DC22=2,Q22*R22/100,IF(DC22=1,Q22*R22/100,0)))","v":0},{"$f":"IF(H22=\"\",0,IF(DC22=2,(H22*(AS22-AE22))/1000*I22/100,0))","v":0},{"$f":"IF(D22=\"\",\"\",IF(C22=0,0,IF(BS22=0,0,((BV22*'Ex animal'!CW24/AS22*(AS22*24-(E22*F22))/24)+(BW22*'Ex animal'!CW24)+(BX22*'Ex animal'!CW24))/BS22*100)))","v":""},{"$f":"BT22*BY22/100","v":{"$error":"#VALUE!"}},{"$f":"IF(DC22=5,0,IF(DC22=3,0,IF(DC22=1,'Ex animal'!CB24,IF(DC22=4,'Ex animal'!CB24,'Ex animal'!BS24+'Ex animal'!CB24))))","v":0},{"$f":"IF(DC22=0,0,CA22)","v":0},{"$f":"IF(AU22=0,N22,0)","v":0},{"$f":"CE22*U22/100","v":{"$error":"#DIV/0!"}},{"$f":"IF(BT22>0,((CB22/1000*'Ex animal'!CW24/AS22*(AS22*24-(E22*F22))/24)-('Ex animal'!CB24/1000*'Ex animal'!CW24*S22/100)+(CC22)),0)","v":{"$error":"#DIV/0!"}},null,{"$f":"IF(D22=\"\",\"\",IF(C22=0,0,CE22-CD22))","v":""},{"$f":"IF(DC22=5,0,IF(DC22=3,0,IF(DC22=1,'Ex animal'!CH24,IF(DC22=4,'Ex animal'!CH24,'Ex animal'!BT24+'Ex animal'!CH24))))","v":0},{"$f":"IF(DC22=0,0,CH22)","v":0},{"$f":"IF(DC22=2,O22,0)","v":0},{"$f":"CL22*U22/100","v":{"$error":"#DIV/0!"}},{"$f":"((CI22/1000*'Ex animal'!CW24/AS22*(AS22*24-(E22*F22))/24)+(CJ22))","v":{"$error":"#DIV/0!"}},{"$f":"IF(D22=\"\",\"\",IF(C22=0,0,CL22-CK22))","v":""},{"$f":"IF(DC22=5,0,IF(DC22=3,0,IF(DC22=1,'Ex animal'!CI24,IF(DC22=4,'Ex animal'!CI24,'Ex animal'!CI24+'Ex animal'!BY24))))","v":0},{"$f":"IF(DC22=0,0,CN22)","v":0},{"$f":"IF(DC22=2,P22,0)","v":0},{"$f":"CR22*U22/100","v":{"$error":"#DIV/0!"}},{"$f":"((CO22/1000*'Ex animal'!CW24/AS22*(AS22*24-(E22*F22))/24)+(CP22))","v":{"$error":"#DIV/0!"}},{"$f":"IF(D22=\"\",\"\",IF(C22=0,0,CR22-CQ22))","v":""},{"$f":"IF(D22=\"\",\"\",IF('Ex animal'!CW24=0,0,('Ex animal'!CB24*S22*'Ex animal'!CW24/100)-('Ex animal'!CB24*S22*'Ex animal'!CW24/100)/AS22*(E22*F22/24)))","v":""},{"$f":"IF(D22=\"\",\"\",IF(AU22=0,0,BE22*1000/AU22))","v":""},{"$f":"IF(D22=\"\",\"\",IF(AU22=0,0,BI22*1000/AU22))","v":""},{"$f":"IF(D22=\"\",\"\",IF(AU22=0,0,BM22*1000/AU22))","v":""},{"$f":"IF(D22=\"\",\"\",IF(BT22=0,0,CG22*1000/BT22))","v":""},{"$f":"IF(D22=\"\",\"\",IF(BT22=0,0,CM22*1000/BT22))","v":""},{"$f":"IF(D22=\"\",\"\",IF(BT22=0,0,CS22*1000/BT22))","v":""},null,{"$f":"IF(D22=\"\",\"\",VLOOKUP(D22,Tehnology!C149:E162,3,FALSE))","v":""},{"$f":"IF(D22=\"\",\"\",VLOOKUP(DB22,Tehnology!$I$55:$W$98,1,FALSE))","v":""},null,"NH3-N ",null,{"$f":"SUM(CT11:CT40)","v":0},null,null,null,null,null,null,null,null,{"$f":"IF(SUM($C$19:$C$22)=0,\"\",IF(SUM($C$19:$C$22)>0,IF(VLOOKUP($DA$19,$DA$11:$DA$29,1,FALSE),IF(DJ11=\"\",\"\",\"Deep litter\"),\"\")))","v":""},null,{"$f":"IF(DP22=\"\",\"\",VLOOKUP(DQ22,Tehnology!J73:K80,2,FALSE))","v":""},{"$f":"IF(DP22=\"\",\"\",VLOOKUP($DJ$24,Tehnology!I73:W80,7,FALSE))","v":""},{"$f":"IF(DP22=\"\",\"\",VLOOKUP($DJ$24,Tehnology!I73:W80,9,FALSE))","v":""},{"$f":"IF(DP22=\"\",\"\",VLOOKUP($DQ$22,Tehnology!J73:W80,12,FALSE))","v":""},{"$f":"IF(DP22=\"\",\"\",VLOOKUP($DQ$22,Tehnology!J73:W80,13,FALSE))","v":""},{"$f":"IF(DP22=\"\",\"\",VLOOKUP($DQ$22,Tehnology!J73:W80,14,FALSE))","v":""},null,null,null,null,null,null,null,null,{"$f":"DJ11*(1-ED22/100)","v":{"$error":"#VALUE!"}},{"$f":"EF22+DY22*DZ22/1000","v":{"$error":"#VALUE!"}},{"$f":"EG22-((EK22+DY22*DZ22/1000*0/100)*EA22/100)-EI22","v":{"$error":"#VALUE!"}},{"$f":"IF(DQ22=\"Storage roofed\",DY22*EC22/1000,0)","v":0},{"$f":"IF(DP22=\"\",\"\",EH22-(DY22*DZ22/1000-DY22*DZ22/1000*(1-(EB22/100))))","v":""},{"$f":"(IF(DC19=3,BA19,0)+IF(DC20=3,BA20,0)+IF(DC21=3,BA21,0)+IF(DC22=3,BA22,0))*(1-ED22/100)","v":0},{"$f":"EK22+(DY22*DZ22/1000*0/100)","v":0},{"$f":"EL22-(EL22*EA22/100)","v":0},{"$f":"IF(DP22=\"\",\"\",IF(EJ22=0,0,EM22/EJ22*100))","v":""},{"$f":"DJ13*DR22/100*(1-ED22/100)","v":{"$error":"#VALUE!"}},{"$f":"DJ13*DS22/100*(1-ED22/100)","v":{"$error":"#VALUE!"}},{"$f":"DJ13*DT22/100*(1-ED22/100)","v":{"$error":"#VALUE!"}},{"$f":"DJ13*DU22/100*(1-ED22/100)","v":{"$error":"#VALUE!"}},{"$f":"IF(DP22=\"\",\"\",DJ13*(1-ED22/100)-EO22-EP22-EQ22-ER22)","v":""},{"$f":"IF(DP22=\"\",\"\",VLOOKUP(DJ24,Tehnology!I73:W80,11,FALSE)*ES22)","v":""},{"$f":"DJ15*DV22/100*(1-ED22/100)","v":{"$error":"#VALUE!"}},{"$f":"IF(DP22=\"\",\"\",DJ15*(1-ED22/100)-EU22)","v":""},{"$f":"DJ16*DW22/100*(1-ED22/100)","v":{"$error":"#VALUE!"}},{"$f":"IF(DP22=\"\",\"\",DJ16*(1-ED22/100)-EW22)","v":""},{"$f":"IF(ED22=100,0,IF(DP22=\"\",\"\",ES22*1000/EJ22))","v":""},{"$f":"IF(ED22=100,0,IF(DP22=\"\",\"\",ET22*1000/EJ22))","v":""},{"$f":"IF(ED22=100,0,IF(DP22=\"\",\"\",EV22*1000/EJ22))","v":""},{"$f":"IF(ED22=100,0,IF(DP22=\"\",\"\",EX22*1000/EJ22))","v":""},"","","","","","",null,null,null,null,{"$f":"IF(D22=\"\",\"\",IF(AU22>0,C22*Tehnology!$AD$15,C22*Tehnology!$AD$14))","v":""}]
[null,null,null,null,null,null,null,null,null,null,null,null,null,null,null,null,null,null,null,null,null,null,null,null,null,null,null,null,null,null,null,null,null,null,null,null,null,null,null,null,null,null,null,null,null,null,null,null,null,null,null,null,null,null,null,null,null,null,null,null,null,null,null,null,null,null,null,null,null,null,null,null,null,null,null,null,null,null,null,null,null,null,null,null,null,null,null,null,null,null,null,null,null,null,null,null,null,null,null,null,null,null,null,null,null,null,null,null,"NH3",null,{"$f":"DG22/0.8235","v":0},null,null,null,null,null,null,null,null,{"$f":"IF(SUM($C$19:$C$22)=0,\"\",IF(SUM($C$19:$C$22)>0,IF(VLOOKUP($DA$19,$DA$11:$DA$29,1,FALSE),IF(DK11=\"\",\"\",\"Sügavallapanusõnnik\"),\"\")))","v":""},null,{"$f":"IF(DP23=\"\",\"\",VLOOKUP($DQ$23,Tehnology!J82:K89,2,FALSE))","v":""},{"$f":"IF(DP23=\"\",\"\",VLOOKUP(DK24,Tehnology!I82:W89,7,FALSE))","v":""},{"$f":"IF(DP23=\"\",\"\",VLOOKUP($DK$24,Tehnology!I82:W89,9,FALSE))","v":""},{"$f":"IF(DP23=\"\",\"\",VLOOKUP($DQ$23,Tehnology!J82:W89,12,FALSE))","v":""},{"$f":"IF(DP23=\"\",\"\",VLOOKUP($DQ$23,Tehnology!J82:W89,13,FALSE))","v":""},{"$f":"IF(DP23=\"\",\"\",VLOOKUP($DQ$23,Tehnology!J82:W89,14,FALSE))","v":""},null,null,null,null,null,null,null,null,{"$f":"DK11*(1-ED23/100)","v":{"$error":"#VALUE!"}},{"$error":"#VALUE!"},{"$error":"#VALUE!"},0,"",{"$f":"(IF(DC19=4,BA19,0)+IF(DC20=4,BA20,0)+IF(DC21=4,BA21,0)+IF(DC22=4,BA22,0))*(1-ED23/100)","v":0},0,0,"",{"$f":"DK13*DR23/100*(1-ED23/100)","v":{"$error":"#VALUE!"}},{"$f":"DK13*DS23/100*(1-ED23/100)","v":{"$error":"#VALUE!"}},{"$f":"DK13*DT23/100*(1-ED23/100)","v":{"$error":"#VALUE!"}},{"$f":"DK13*DU23/100*(1-ED23/100)","v":{"$error":"#VALUE!"}},{"$f":"IF(DP23=\"\",\"\",DK13*(1-ED23/100)-EO23-EP23-EQ23-ER23)","v":""},{"$f":"IF(DP23=\"\",\"\",VLOOKUP(DK24,Tehnology!I82:W98,11,FALSE)*ES23)","v":""},{"$f":"DK15*DV23/100*(1-ED23/100)","v":{"$error":"#VALUE!"}},{"$f":"IF(DP23=\"\",\"\",DK15*(1-ED23/100)-EU23)","v":""},{"$f":"DK16*DW23/100*(1-ED23/100)","v":{"$error":"#VALUE!"}},{"$f":"IF(DP23=\"\",\"\",DK16*(1-ED23/100)-EW23)","v":""},{"$f":"IF(ED23=100,0,IF(DP23=\"\",\"\",ES23*1000/EJ23))","v":""},{"$f":"IF(ED23=100,0,IF(DP23=\"\",\"\",ET23*1000/EJ23))","v":""},{"$f":"IF(ED23=100,0,IF(DP23=\"\",\"\",EV23*1000/EJ23))","v":""},{"$f":"IF(ED23=100,0,IF(DP23=\"\",\"\",EX23*1000/EJ23))","v":""},"","","","","",""]
[null,"Kanabroilerid",{"$f":"'Ex animal'!CW31","v":0},null,{"$f":"IF('FeedIn poultry (Intensive)'!$G$2=\"Intensive\",0,IF(B24='Feedin poultry (AFC)'!$Z$6,'Feedin poultry (AFC)'!AF44,0))","v":0},{"$f":"IF('FeedIn poultry (Intensive)'!$G$2=\"Intensive\",0,IF(B24='Feedin poultry (AFC)'!$Z$6,'Feedin poultry (AFC)'!AH44,0))","v":0},null,null,{"$f":"IF(G24=\"\",0,VLOOKUP(G24,'Additional information'!$B$8:$F$16,2,FALSE))","v":0},null,null,null,null,{"$f":"IF(G24=\"\",0,VLOOKUP(G24,'Additional information'!$B$8:$F$16,3,FALSE)*'Ex animal'!CW31*H24*AS24/1000*I24/100/1000/1000)","v":0},{"$f":"IF(G24=\"\",0,VLOOKUP(G24,'Additional information'!$B$8:$F$16,4,FALSE)*'Ex animal'!CW31*H24*AS24/1000*I24/100/1000/1000)","v":0},{"$f":"IF(G24=\"\",0,VLOOKUP(G24,'Additional information'!$B$8:$F$16,5,FALSE)*'Ex animal'!CW31*H24*AS24/1000*I24/100/1000/1000)","v":0},null,2.5,{"$f":"IF(D24=\"\",\"\",VLOOKUP(D24,Tehnology!C163:D169,2,FALSE))","v":""},null,0,null,null,null,null,null,null,{"$f":"IF(DC24=5,'Ex animal'!BQ31-'Ex animal'!BQ31*T24/100+'Ex animal'!BZ31,IF(DC24=3,'Ex animal'!BQ31-'Ex animal'!BQ31*T24/100+'Ex animal'!BZ31,IF(DC24=1,'Ex animal'!BQ31-'Ex animal'!BQ31*T24/100,IF(DC24=4,'Ex animal'!BQ31-'Ex animal'!BQ31*T24/100,0))))","v":0},{"$f":"IF(DC24=0,0,(AB24*'Ex animal'!BR31/100)*100/IF(VLOOKUP(D24,Tehnology!C163:I169,5,FALSE)=0,'Ex animal'!BR31/100*100,(VLOOKUP(D24,Tehnology!C163:I169,5,FALSE))))","v":{"$error":"#N/A"}},{"$f":"IF(DC24=5,Q24,IF(DC24=3,Q24,0))","v":0},{"$f":"E24*F24/24","v":0},{"$f":"'FeedIn poultry (Intensive)'!W110","v":0},{"$f":"'Feedin poultry (AFC)'!AE11","v":0},{"$f":"IF(DC24>0,H24*(AF24-AE24)/1000-((H24*(AF24-AE24)/1000)*T24)/100,0)","v":0},{"$f":"IF(DC24>0,H24*(AG24-AE24)/1000-((H24*(AG24-AE24)/1000)*T24)/100,0)","v":0},{"$f":"AF24","v":0},{"$f":"AG24","v":0},null,null,null,null,null,null,null,{"$f":"IF('Feedin poultry (AFC)'!B5=0,AK24,AJ24)","v":0},{"$f":"IF('Feedin poultry (AFC)'!B5=0,AI24,AH24)","v":0},{"$f":"IF(D24=\"\",\"\",IF(C24=0,0,((AC24*C24/AS24*(AS24*24-(E24*F24))/24)+(AD24*C24)+(AT24*C24)+BS24*U24/100)/1000))","v":""},{"$f":"IF(DC24=5,'Ex animal'!BZ31*'Ex animal'!CA31/100-(('Ex animal'!BZ31*'Ex animal'!CA31/100)*T24/100)-(('Ex animal'!BQ31*'Ex animal'!BR31/100)*T24/100)+'Ex animal'!BQ31*'Ex animal'!BR31/100,IF(DC24=3,'Ex animal'!BZ31*'Ex animal'!CA31/100-(('Ex animal'!BZ31*'Ex animal'!CA31/100)*T24/100)-(('Ex animal'!BQ31*'Ex animal'!BR31/100)*T24/100)+'Ex animal'!BQ31*'Ex animal'!BR31/100,IF(DC24=1,'Ex animal'!BQ31*'Ex animal'!BR31/100-(('Ex animal'!BQ31*'Ex animal'!BR31/100)*T24/100),IF(DC24=4,'Ex animal'!BQ31*'Ex animal'!BR31/100-(('Ex animal'!BQ31*'Ex animal'!BR31/100)*T24/100),0))))","v":0},{"$f":"IF(DC24=0,0,AV24)","v":0},{"$f":"IF(DC24=5,Q24*R24/100,IF(DC24=3,Q24*R24/100,0))","v":0},{"$f":"IF(H24=\"\",0,IF(DC24>0,H24*AS24/1000*I24/100-(H24*AS24/1000*I24/100*(T24/100)),0))","v":0},{"$f":"IF(D24=\"\",\"\",(IF(AU24>0,((AW24*'Ex animal'!CW31/AS24*(AS24*24-(E24*F24))/24)+(AX24*'Ex animal'!CW31)+(AY24*'Ex animal'!CW31)+(BS24*BY24/100*U24/100))/AU24*100,0))/1000)","v":""},{"$f":"AU24*AZ24/100","v":{"$error":"#VALUE!"}},{"$f":"IF(DC24=5,'Ex animal'!BS31+'Ex animal'!CB31,IF(DC24=3,'Ex animal'!BS31+'Ex animal'!CB31,IF(DC24=1,'Ex animal'!BS31,IF(DC24=4,'Ex animal'!BS31,0))))","v":0},{"$f":"IF(DC24=0,0,BB24)","v":0},{"$f":"IF(H24=\"\",0,IF(DC24>0,N24,0))","v":0},{"$f":"IF(D24=\"\",\"\",IF(C24=0,0,((BC24/1000*'Ex animal'!CW31/AS24*(AS24*24-(E24*F24))/24)/1000+BD24-CT24/1000)))","v":""},{"$f":"IF(DC24=5,'Ex animal'!BT31+'Ex animal'!CH31,IF(DC24=3,'Ex animal'!BT31+'Ex animal'!CH31,IF(DC24=1,'Ex animal'!BT31,IF(DC24=4,'Ex animal'!BT31,0))))","v":0},{"$f":"IF(DC24=0,0,BF24)","v":0},{"$f":"IF(H24=\"\",0,IF(DC24=2,0,O24))","v":0},{"$f":"IF(D24=\"\",\"\",IF(C24=0,0,(((BG24/1000*'Ex animal'!CW31/AS24*(AS24*24-(E24*F24))/24))+CL24*U24/100)/1000)+BH24)","v":""},{"$f":"IF(DC24=5,'Ex animal'!BY31+'Ex animal'!CI31,IF(DC24=3,'Ex animal'!BY31+'Ex animal'!CI31,IF(DC24=1,'Ex animal'!BY31,IF(DC24=4,'Ex animal'!BY31,0))))","v":0},{"$f":"IF(DC24=0,0,BJ24)","v":0},{"$f":"IF(H24=\"\",0,IF(DC24=2,0,P24))","v":0},{"$f":"IF(D24=\"\",\"\",IF(C24=0,0,(((BK24/1000*'Ex animal'!CW31/AS24*(AS24*24-(E24*F24))/24))+CR24*U24/100)/1000)+BL24)","v":""},{"$f":"IF(DC24=5,0,IF(DC24=3,0,IF(DC24=1,'Ex animal'!BZ31,IF(DC24=4,'Ex animal'!BZ31,'Ex animal'!BZ31+'Ex animal'!BQ31))))","v":0},{"$f":"IF(DC24=0,0,BN24)","v":0},{"$f":"IF(DC24=4,Q24,IF(DC24=2,Q24,IF(DC24=1,Q24,0)))","v":0},{"$f":"IF(DC24=0,H24,0)","v":0},{"$f":"BS24*U24/100","v":{"$error":"#DIV/0!"}},{"$f":"((BO24*'Ex animal'!CW31/AS24*(AS24*24-(E24*F24))/24)+(BP24*'Ex animal'!CW31)+(BQ24*'Ex animal'!CW31))/1000","v":{"$error":"#DIV/0!"}},{"$f":"IF(D24=\"\",\"\",IF(C24=0,0,BS24-BR24))","v":""},{"$f":"IF(DC24=5,0,IF(DC24=3,0,IF(DC24=1,'Ex animal'!BZ31*'Ex animal'!CA31/100,IF(DC24=4,'Ex animal'!BZ31*'Ex animal'!CA31/100,'Ex animal'!BQ31*'Ex animal'!BR31/100+'Ex animal'!BZ31*'Ex animal'!CA31/100))))","v":0},{"$f":"IF(DC24=0,0,BU24)","v":0},{"$f":"IF(DC24=4,Q24*R24/100,IF(DC24=2,Q24*R24/100,IF(DC24=1,Q24*R24/100,0)))","v":0},{"$f":"IF(DC24=0,H24*I24/100,0)","v":0},{"$f":"IF(D24=\"\",\"\",IF(C24=0,0,IF(BS24=0,0,((BV24*'Ex animal'!CW31/AS24*(AS24*24-(E24*F24))/24)+(BW24*'Ex animal'!CW31)+(BX24*'Ex animal'!CW31))/BS24*100)))","v":""},{"$f":"BT24*BY24/100","v":{"$error":"#VALUE!"}},{"$f":"IF(DC24=5,0,IF(DC24=3,0,IF(DC24=1,'Ex animal'!CB31,IF(DC24=4,'Ex animal'!CB31,'Ex animal'!BS31+'Ex animal'!CB31))))","v":0},{"$f":"IF(DC24=0,0,CA24)","v":0},{"$f":"IF(AU24=0,N24,0)","v":0},{"$f":"CE24*U24/100","v":{"$error":"#DIV/0!"}},{"$f":"IF(BT24>0,((CB24/1000*'Ex animal'!CW31/AS24*(AS24*24-(E24*F24))/24)-('Ex animal'!CB31/1000*'Ex animal'!CW31*S24/100)+(CC24)),0)","v":{"$error":"#DIV/0!"}},null,{"$f":"IF(D24=\"\",\"\",(CE24-CD24)/1000)","v":""},{"$f":"IF(DC24=5,0,IF(DC24=3,0,IF(DC24=1,'Ex animal'!CH31,IF(DC24=4,'Ex animal'!CH31,'Ex animal'!BT31+'Ex animal'!CH31))))","v":0},{"$f":"IF(DC24=0,0,CH24)","v":0},{"$f":"IF(DC24=2,O24,0)","v":0},{"$f":"CL24*U24/100","v":{"$error":"#DIV/0!"}},{"$f":"((CI24/1000*'Ex animal'!CW31/AS24*(AS24*24-(E24*F24))/24)+(CJ24))","v":{"$error":"#DIV/0!"}},{"$f":"IF(D24=\"\",\"\",IF(C24=0,0,(CL24-CK24)/1000))","v":""},{"$f":"IF(DC24=5,0,IF(DC24=3,0,IF(DC24=1,'Ex animal'!CI31,IF(DC24=4,'Ex animal'!CI31,'Ex animal'!CI31+'Ex animal'!BY31))))","v":0},{"$f":"IF(DC24=0,0,CN24)","v":0},{"$f":"IF(DC24=2,P24,0)","v":0},{"$f":"CR24*U24/100","v":{"$error":"#DIV/0!"}},{"$f":"((CO24/1000*'Ex animal'!CW31/AS24*(AS24*24-(E24*F24))/24)+(CP24))","v":{"$error":"#DIV/0!"}},{"$f":"IF(D24=\"\",\"\",IF(C24=0,0,(CR24-CQ24)/1000))","v":""},{"$f":"IF(D24=\"\",\"\",(IF('Ex animal'!CW31=0,0,('Ex animal'!BS31*S24*'Ex animal'!CW31/100)-('Ex animal'!BS31*S24*'Ex animal'!CW31/100)/AS24*(E24*F24/24)))/1000)","v":""},{"$f":"IF(D24=\"\",\"\",IF(AU24=0,0,BE24*1000/AU24))","v":""},{"$f":"IF(D24=\"\",\"\",IF(AU24=0,0,BI24*1000/AU24))","v":""},{"$f":"IF(D24=\"\",\"\",IF(AU24=0,0,BM24*1000/AU24))","v":""},{"$f":"IF(D24=\"\",\"\",IF(BT24=0,0,CG24*1000/BT24))","v":""},{"$f":"IF(D24=\"\",\"\",IF(BT24=0,0,CM24*1000/BT24))","v":""},{"$f":"IF(D24=\"\",\"\",IF(BT24=0,0,CS24*1000/BT24))","v":""},30,{"$f":"IF(D24=\"\",\"\",VLOOKUP(D24,Tehnology!C163:E169,3,FALSE))","v":""},{"$f":"IF(D24=\"\",\"\",VLOOKUP(DB24,Tehnology!$I$99:$W$143,1,FALSE))","v":""},null,null,null,1,null,2,3,4,null,5,null,null,{"$f":"IF(SUM($C$19:$C$22)=0,\"\",IF(SUM($C$19:$C$22)>0,IF(VLOOKUP($DA$19,$DA$11:$DA$29,1,FALSE),IF(DL11=\"\",\"\",\"Vedelsõnnik\"),\"\")))","v":""},null,{"$f":"IF(DP24=\"\",\"\",VLOOKUP(DQ24,Tehnology!L82:N89,3,FALSE))","v":""},{"$f":"IF(DP24=\"\",\"\",VLOOKUP($DK$24,Tehnology!I82:W89,8,FALSE))","v":""},{"$f":"IF(DP24=\"\",\"\",VLOOKUP($DK$24,Tehnology!I82:W89,10,FALSE))","v":""},null,null,null,null,null,null,null,null,null,null,null,{"$f":"DL11+SUM(DZ66:DZ69)","v":{"$error":"#VALUE!"}},{"$error":"#VALUE!"},{"$error":"#VALUE!"},0,"",{"$f":"IF(DC19=4,BZ19,0)+IF(DC20=4,BZ20,0)+IF(DC21=4,BZ21,0)+IF(DC22=4,BZ22,0)","v":0},{"$f":"EK24+(DY24*DZ24/1000*0/100)+SUM(EF66:EF69)","v":0},0,"",{"$f":"DL13*DR24/100*0.4+SUM(EB66:EB69)/1000*DR24/100","v":{"$error":"#VALUE!"}},null,{"$f":"DL13*DT24/100*0.4+SUM(EB66:EB69)/1000*DT24/100","v":{"$error":"#VALUE!"}},null,{"$f":"IF(DP24=\"\",\"\",DL13+SUM(EB39:EB42)/1000-EO24-EP24-EQ24-ER24)","v":""},{"$f":"IF(DP24=\"\",\"\",VLOOKUP(DK24,Tehnology!I82:W98,12,FALSE)*ES24)","v":""},null,{"$f":"IF(DP24=\"\",\"\",DL15+SUM(EC66:EC69)/1000-EU24)","v":""},null,{"$f":"IF(DP24=\"\",\"\",DL16+SUM(ED66:ED69)/1000-EW24)","v":""},{"$f":"IF(DP24=\"\",\"\",ES24*1000/EJ24)","v":""},{"$f":"IF(DP24=\"\",\"\",ET24*1000/EJ24)","v":""},{"$f":"IF(DP24=\"\",\"\",EV24*1000/EJ24)","v":""},{"$f":"IF(DP24=\"\",\"\",EX24*1000/EJ24)","v":""},"","","","","",""]
[null,"Puurikanad",{"$f":"'Ex animal'!CW32","v":0},null,{"$f":"IF('FeedIn poultry (Intensive)'!$G$2=\"Intensive\",0,IF(B25='Feedin poultry (AFC)'!$T$6,'Feedin poultry (AFC)'!$U$44,0))","v":0},{"$f":"IF('FeedIn poultry (Intensive)'!$G$2=\"Intensive\",0,IF(B25='Feedin poultry (AFC)'!$T$6,'Feedin poultry (AFC)'!$W$44,0))","v":0},null,null,{"$f":"IF(G25=\"\",0,VLOOKUP(G25,'Additional information'!$B$8:$F$16,2,FALSE))","v":0},null,null,null,null,{"$f":"IF(G25=\"\",0,VLOOKUP(G25,'Additional information'!$B$8:$F$16,3,FALSE)*'Ex animal'!CW32*H25*365/1000*I25/100/1000/100)","v":0},{"$f":"IF(G25=\"\",0,VLOOKUP(G25,'Additional information'!$B$8:$F$16,4,FALSE)*'Ex animal'!CW32*H25*365/1000*I25/100/1000/100)","v":0},{"$f":"IF(G25=\"\",0,VLOOKUP(G25,'Additional information'!$B$8:$F$16,5,FALSE)*'Ex animal'!CW32*H25*365/1000*I25/100/1000/100)","v":0},null,2.5,{"$f":"IF(D25=\"\",\"\",VLOOKUP(D25,Tehnology!C170:D191,2,FALSE))","v":""},null,0,null,null,null,null,null,null,{"$f":"IF(DC25=5,'Ex animal'!BQ32-'Ex animal'!BQ32*T25/100+'Ex animal'!BZ32,IF(DC25=3,'Ex animal'!BQ32-'Ex animal'!BQ32*T25/100+'Ex animal'!BZ32,IF(DC25=1,'Ex animal'!BQ32-'Ex animal'!BQ32*T25/100,IF(DC25=4,'Ex animal'!BQ32-'Ex animal'!BQ32*T25/100,0))))","v":0},{"$f":"IF(DC25=0,0,(AB25*'Ex animal'!BR32/100)*100/IF(VLOOKUP(D25,Tehnology!C170:I174,5,FALSE)=0,'Ex animal'!BR32/100*100,(VLOOKUP(D25,Tehnology!C170:I174,5,FALSE))))","v":{"$error":"#N/A"}},{"$f":"IF(DC25=5,Q25,IF(DC25=3,Q25,0))","v":0},0,null,null,null,null,null,null,null,null,null,null,null,null,null,null,{"$f":"IF(DC25=2,0,IF(DC25>0,H25*365/1000-((H25*365/1000)*T25)/100,0))","v":0},{"$f":"IF(D25=\"\",\"\",IF(C25=0,0,((AC25*'Ex animal'!CW32/365*(365*24-(E25*F25))/24)+(AD25*'Ex animal'!CW32)+(AT25*'Ex animal'!CW32)+BS25*U25/100)/100))","v":""},{"$f":"IF(DC25=5,'Ex animal'!BZ32*'Ex animal'!CA32/100-(('Ex animal'!BZ32*'Ex animal'!CA32/100)*T25/100)-(('Ex animal'!BQ32*'Ex animal'!BR32/100)*T25/100)+'Ex animal'!BQ32*'Ex animal'!BR32/100,IF(DC25=3,'Ex animal'!BZ32*'Ex animal'!CA32/100-(('Ex animal'!BZ32*'Ex animal'!CA32/100)*T25/100)-(('Ex animal'!BQ32*'Ex animal'!BR32/100)*T25/100)+'Ex animal'!BQ32*'Ex animal'!BR32/100,IF(DC25=1,'Ex animal'!BQ32*'Ex animal'!BR32/100-(('Ex animal'!BQ32*'Ex animal'!BR32/100)*T25/100),IF(DC25=4,'Ex animal'!BQ32*'Ex animal'!BR32/100-(('Ex animal'!BQ32*'Ex animal'!BR32/100)*T25/100),0))))","v":0},0,{"$f":"IF(DC25=5,Q25*R25/100,IF(DC25=3,Q25*R25/100,0))","v":0},{"$f":"IF(H25=\"\",0,IF(DC25>0,H25*365/1000*I25/100-(H25*365/1000*I25/100*(T25/100)),0))","v":0},{"$f":"IF(D25=\"\",\"\",(IF(AU25>0,((AW25*'Ex animal'!CW32/365*(365*24-(E25*F25))/24)+(AX25*'Ex animal'!CW32)+(AY25*'Ex animal'!CW32)+(BS25*BY25/100*U25/100))/AU25*100,0))/100)","v":""},{"$f":"AU25*AZ25/100","v":{"$error":"#VALUE!"}},{"$f":"IF(DC25=5,'Ex animal'!BS32+'Ex animal'!CB32,IF(DC25=3,'Ex animal'!BS32+'Ex animal'!CB32,IF(DC25=1,'Ex animal'!BS32,IF(DC25=4,'Ex animal'!BS32,0))))","v":0},{"$f":"IF(DC25=0,0,BB25)","v":0},0,{"$f":"IF(D25=\"\",\"\",(IF(AU25=0,0,BC25/1000*(C25/365*((365*24-(E25*F25))/24))/100+BD25-(CT25/1000))))","v":""},{"$f":"IF(DC25=5,'Ex animal'!BT32+'Ex animal'!CH32,IF(DC25=3,'Ex animal'!BT32+'Ex animal'!CH32,IF(DC25=1,'Ex animal'!BT32,IF(DC25=4,'Ex animal'!BT32,0))))","v":0},0,0,{"$f":"IF(D25=\"\",\"\",(((BG25/1000*'Ex animal'!CW32/365*(365*24-(E25*F25))/24))+CL25*U25/100)/100+BH25)","v":""},{"$f":"IF(DC25=5,'Ex animal'!BY32+'Ex animal'!CI32,IF(DC25=3,'Ex animal'!BY32+'Ex animal'!CI32,IF(DC25=1,'Ex animal'!BY32,IF(DC25=4,'Ex animal'!BY32,0))))","v":0},0,0,{"$f":"IF(D25=\"\",\"\",(((BK25/1000*'Ex animal'!CW32/365*(365*24-(E25*F25))/24))+CR25*U25/100)/100+BL25)","v":""},{"$f":"IF(DC25=5,0,IF(DC25=3,0,IF(DC25=1,'Ex animal'!BZ32,IF(DC25=4,'Ex animal'!BZ32,'Ex animal'!BZ32+'Ex animal'!BQ32))))","v":0},0,{"$f":"IF(DC25=4,Q25,IF(DC25=2,Q25,IF(DC25=1,Q25,0)))","v":0},{"$f":"IF(DC25=0,H25,0)","v":0},0,{"$f":"((BO25*'Ex animal'!CW32/365*(365*24-(E25*F25))/24)+(BP25*'Ex animal'!CW32)+(BQ25*'Ex animal'!CW32))/100","v":0},{"$f":"IF(D25=\"\",\"\",(BS25-BR25))","v":""},{"$f":"IF(DC25=5,0,IF(DC25=3,0,IF(DC25=1,'Ex animal'!BZ32*'Ex animal'!CA32/100,IF(DC25=4,'Ex animal'!BZ32*'Ex animal'!CA32/100,'Ex animal'!BQ32*'Ex animal'!BR32/100+'Ex animal'!BZ32*'Ex animal'!CA32/100))))","v":0},0,0,0,{"$f":"IF(D25=\"\",\"\",(IF(BS25=0,0,(((BV25*'Ex animal'!CW32/365*(365*24-(E25*F25))/24)+(BW25*'Ex animal'!CW32/100)+(BX25*'Ex animal'!CW32))/BS25*100)/100)))","v":""},{"$error":"#VALUE!"},{"$f":"IF(DC25=5,0,IF(DC25=3,0,IF(DC25=1,'Ex animal'!CB32,IF(DC25=4,'Ex animal'!CB32,'Ex animal'!BS32+'Ex animal'!CB32))))","v":0},0,{"$f":"IF(AU25=0,N25,0)","v":0},{"$f":"CE25*U25/100","v":{"$error":"#VALUE!"}},{"$f":"IF(BT25>0,((CB25/1000*C25/365*(365*24-(E25*F25))/24)-('Ex animal'!CB32/1000*'Ex animal'!CW32*S25/100))/100+CC25-CT25/1000,0)","v":{"$error":"#VALUE!"}},null,{"$f":"IF(D25=\"\",\"\",CE25-CD25)","v":""},{"$f":"IF(DC25=5,0,IF(DC25=3,0,IF(DC25=1,'Ex animal'!CH32,IF(DC25=4,'Ex animal'!CH32,'Ex animal'!BT32+'Ex animal'!CH32))))","v":0},0,{"$f":"IF(DC25=2,O25,0)","v":0},{"$f":"CL25*U25/100","v":0},{"$f":"((CI25/1000*'Ex animal'!CW32/365*(365*24-(E25*F25))/24))/100+CJ25","v":0},{"$f":"IF(D25=\"\",\"\",(CL25-CK25))","v":""},{"$f":"IF(DC25=5,0,IF(DC25=3,0,IF(DC25=1,'Ex animal'!CI32,IF(DC25=4,'Ex animal'!CI32,'Ex animal'!CI32+'Ex animal'!BY32))))","v":0},0,0,0,{"$f":"((CO25/1000*'Ex animal'!CW32/365*(365*24-(E25*F25))/24)+(CP25))","v":0},{"$f":"IF(D25=\"\",\"\",(CR25-CQ25)/100)","v":""},{"$f":"IF(D25=\"\",\"\",(IF('Ex animal'!CW32=0,0,('Ex animal'!BS32*S25*'Ex animal'!CW32/100)-('Ex animal'!BS32*S25*'Ex animal'!CW32/100)/365*(E25*F25/24)))/100)","v":""},"","","","","","",null,{"$f":"IF(D25=\"\",\"\",VLOOKUP(D25,Tehnology!C170:E174,3,FALSE))","v":""},{"$f":"IF(D25=\"\",\"\",VLOOKUP(DB25,Tehnology!$I$99:$W$143,1,FALSE))","v":""},null,{"$f":"IF(DS55=\"\",0,DK13*1000*DS55/100*(ED55/100))","v":0},{"$f":"IF(DS54=\"\",0,DJ13*1000*DS54/100*(ED54/100))","v":0},null,null,null,null,null,null,null,null,null,{"$f":"IF(SUM($C$19:$C$22)=0,\"\",IF(SUM($C$19:$C$22)>0,IF(VLOOKUP($DA$19,$DA$11:$DA$29,1,FALSE),IF(DM11=\"\",\"\",\"Tahesõnnik\"),\"\")))","v":""},null,{"$f":"IF(DP25=\"\",\"\",VLOOKUP(DQ25,Tehnology!J91:K98,2,FALSE))","v":""},{"$f":"IF(DP25=\"\",\"\",VLOOKUP($DM$24,Tehnology!I91:W98,7,FALSE))","v":""},{"$f":"IF(DP25=\"\",\"\",VLOOKUP($DM$24,Tehnology!I91:W98,9,FALSE))","v":""},{"$f":"IF(DP25=\"\",\"\",VLOOKUP($DQ$25,Tehnology!J91:W98,12,FALSE))","v":""},{"$f":"IF(DP25=\"\",\"\",VLOOKUP($DQ$25,Tehnology!J91:W98,13,FALSE))","v":""},{"$f":"IF(DP25=\"\",\"\",VLOOKUP($DQ$25,Tehnology!J91:W98,14,FALSE))","v":""},null,null,null,null,null,null,null,null,{"$f":"DM11*(1-ED25/100)","v":{"$error":"#VALUE!"}},{"$f":"EF25+DY25*DZ25/1000","v":{"$error":"#VALUE!"}},{"$f":"EG25-((EK25+DY25*DZ25/1000*0/100)*EA25/100)-EI25","v":{"$error":"#VALUE!"}},{"$f":"IF(DQ25=\"Storage roofed\",DY25*EC25/1000,0)","v":0},{"$f":"IF(DP25=\"\",\"\",EH25-(DY25*DZ25/1000-DY25*DZ25/1000*(1-(EB25/100))))","v":""},{"$f":"(IF(DC19=5,BA19,0)+IF(DC20=5,BA20,0)+IF(DC21=5,BA21,0)+IF(DC22=5,BA22,0))*(1-ED25/100)","v":0},{"$f":"EK25+(DY25*DZ25/1000*0/100)","v":0},{"$f":"EL25-(EL25*EA25/100)","v":0},{"$f":"IF(DP25=\"\",\"\",IF(EJ25=0,0,EM25/EJ25*100))","v":""},{"$f":"DM13*DR25/100*(1-ED25/100)","v":{"$error":"#VALUE!"}},{"$f":"DM13*DS25/100*(1-ED25/100)","v":{"$error":"#VALUE!"}},{"$f":"DM13*DT25/100*(1-ED25/100)","v":{"$error":"#VALUE!"}},{"$f":"DM13*DU25/100*(1-ED25/100)","v":{"$error":"#VALUE!"}},{"$f":"IF(DP25=\"\",\"\",DM13*(1-ED25/100)-EO25-EP25-EQ25-ER25)","v":""},{"$f":"IF(DP25=\"\",\"\",VLOOKUP(DM24,Tehnology!I91:W98,11,FALSE)*ES25)","v":""},{"$f":"DM15*DV25/100*(1-ED25/100)","v":{"$error":"#VALUE!"}},{"$f":"IF(DP25=\"\",\"\",DM15*(1-ED25/100)-EU25)","v":""},{"$f":"DM16*DW25/100*(1-ED25/100)","v":{"$error":"#VALUE!"}},{"$f":"IF(DP25=\"\",\"\",DM16*(1-ED25/100)-EW25)","v":""},{"$f":"IF(ED25=100,0,IF(DP25=\"\",\"\",ES25*1000/EJ25))","v":""},{"$f":"IF(ED25=100,0,IF(DP25=\"\",\"\",ET25*1000/EJ25))","v":""},{"$f":"IF(ED25=100,0,IF(DP25=\"\",\"\",EV25*1000/EJ25))","v":""},{"$f":"IF(ED25=100,0,IF(DP25=\"\",\"\",EX25*1000/EJ25))","v":""},{"$f":"IF(DP25=\"\",\"\",EO25*1000)","v":""},{"$f":"IF(DP25=\"\",\"\",EP25*1000)","v":""},{"$f":"IF(DP25=\"\",\"\",EQ25*1000)","v":""},{"$f":"IF(DP25=\"\",\"\",ER25*1000)","v":""},{"$f":"IF(DP25=\"\",\"\",EU25*1000)","v":""},{"$f":"IF(DP25=\"\",\"\",EW25*1000)","v":""}]
[null,"Õrrekanad",{"$f":"'Ex animal'!CW33","v":0},null,{"$f":"IF('FeedIn poultry (Intensive)'!$G$2=\"Intensive\",0,IF(B26='Feedin poultry (AFC)'!$T$6,'Feedin poultry (AFC)'!$U$44,0))","v":0},{"$f":"IF('FeedIn poultry (Intensive)'!$G$2=\"Intensive\",0,IF(B26='Feedin poultry (AFC)'!$T$6,'Feedin poultry (AFC)'!$W$44,0))","v":0},null,null,{"$f":"IF(G26=\"\",0,VLOOKUP(G26,'Additional information'!$B$8:$F$16,2,FALSE))","v":0},null,null,null,null,{"$f":"IF(G26=\"\",0,VLOOKUP(G26,'Additional information'!$B$8:$F$16,3,FALSE)*'Ex animal'!CW33*H26*365/1000*I26/100/1000/100)","v":0},{"$f":"IF(G26=\"\",0,VLOOKUP(G26,'Additional information'!$B$8:$F$16,4,FALSE)*'Ex animal'!CW33*H26*365/1000*I26/100/1000/100)","v":0},{"$f":"IF(G26=\"\",0,VLOOKUP(G26,'Additional information'!$B$8:$F$16,5,FALSE)*'Ex animal'!CW33*H26*365/1000*I26/100/1000/100)","v":0},null,2.5,{"$f":"IF(D26=\"\",\"\",VLOOKUP(D26,Tehnology!C175:D179,2,FALSE))","v":""},null,0,null,null,null,null,null,null,{"$f":"IF(DC26=5,'Ex animal'!BQ33-'Ex animal'!BQ33*T26/100+'Ex animal'!BZ33,IF(DC26=3,'Ex animal'!BQ33-'Ex animal'!BQ33*T26/100+'Ex animal'!BZ33,IF(DC26=1,'Ex animal'!BQ33-'Ex animal'!BQ33*T26/100,IF(DC26=4,'Ex animal'!BQ33-'Ex animal'!BQ33*T26/100,0))))","v":0},{"$f":"IF(C26=0,0,IF(DC26=0,0,(AB26*'Ex animal'!BR33/100)*100/IF(VLOOKUP(D26,Tehnology!C175:I179,5,FALSE)=0,'Ex animal'!BR33/100*100,(VLOOKUP(D26,Tehnology!C175:I179,5,FALSE)))))","v":0},0,0,null,null,null,null,null,null,null,null,null,null,null,null,null,null,{"$f":"IF(DC26=2,0,IF(DC26>0,H26*365/1000-((H26*365/1000)*T26)/100,0))","v":0},{"$f":"IF(D26=\"\",\"\",IF(C26=0,0,((AC26*'Ex animal'!CW33/365*(365*24-(E26*F26))/24)+(AD26*'Ex animal'!CW33)+(AT26*'Ex animal'!CW33)+BS26*U26/100)/100))","v":""},{"$f":"IF(DC26=5,'Ex animal'!BZ33*'Ex animal'!CA33/100-(('Ex animal'!BZ33*'Ex animal'!CA33/100)*T26/100)-(('Ex animal'!BQ33*'Ex animal'!BR33/100)*T26/100)+'Ex animal'!BQ33*'Ex animal'!BR33/100,IF(DC26=3,'Ex animal'!BZ33*'Ex animal'!CA33/100-(('Ex animal'!BZ33*'Ex animal'!CA33/100)*T26/100)-(('Ex animal'!BQ33*'Ex animal'!BR33/100)*T26/100)+'Ex animal'!BQ33*'Ex animal'!BR33/100,IF(DC26=1,'Ex animal'!BQ33*'Ex animal'!BR33/100-(('Ex animal'!BQ33*'Ex animal'!BR33/100)*T26/100),IF(DC26=4,'Ex animal'!BQ33*'Ex animal'!BR33/100-(('Ex animal'!BQ33*'Ex animal'!BR33/100)*T26/100),0))))","v":0},0,0,{"$f":"IF(H26=\"\",0,IF(DC26>0,H26*365/1000*I26/100-(H26*365/1000*I26/100*(T26/100)),0))","v":0},{"$f":"IF(D26=\"\",\"\",(IF(AU26>0,((AW26*'Ex animal'!CW33/365*(365*24-(E26*F26))/24)+(AX26*'Ex animal'!CW33)+(AY26*'Ex animal'!CW33)+(BS26*BY26/100*U26/100))/AU26*100,0))/100)","v":""},{"$error":"#VALUE!"},{"$f":"IF(DC26=5,'Ex animal'!BS33+'Ex animal'!CB33,IF(DC26=3,'Ex animal'!BS33+'Ex animal'!CB33,IF(DC26=1,'Ex animal'!BS33,IF(DC26=4,'Ex animal'!BS33,0))))","v":0},0,0,{"$f":"IF(D26=\"\",\"\",(IF(AU26=0,0,BC26/1000*(C26/365*((365*24-(E26*F26))/24))/100+BD26-(CT26/1000))))","v":""},{"$f":"IF(DC26=5,'Ex animal'!BT33+'Ex animal'!CH33,IF(DC26=3,'Ex animal'!BT33+'Ex animal'!CH33,IF(DC26=1,'Ex animal'!BT33,IF(DC26=4,'Ex animal'!BT33,0))))","v":0},0,0,{"$f":"IF(D26=\"\",\"\",(((BG26/1000*'Ex animal'!CW33/365*(365*24-(E26*F26))/24))+CL26*U26/100)/100+BH26)","v":""},{"$f":"IF(DC26=5,'Ex animal'!BY33+'Ex animal'!CI33,IF(DC26=3,'Ex animal'!BY33+'Ex animal'!CI33,IF(DC26=1,'Ex animal'!BY33,IF(DC26=4,'Ex animal'!BY33,0))))","v":0},0,0,{"$f":"IF(D26=\"\",\"\",(((BK26/1000*'Ex animal'!CW33/365*(365*24-(E26*F26))/24))+CR26*U26/100)/100+BL26)","v":""},{"$f":"IF(DC26=5,0,IF(DC26=3,0,IF(DC26=1,'Ex animal'!BZ33,IF(DC26=4,'Ex animal'!BZ33,'Ex animal'!BZ33+'Ex animal'!BQ33))))","v":0},0,0,0,0,{"$f":"((BO26*'Ex animal'!CW33/365*(365*24-(E26*F26))/24)+(BP26*'Ex animal'!CW33)+(BQ26*'Ex animal'!CW33))/100","v":0},{"$f":"IF(D26=\"\",\"\",(BS26-BR26))","v":""},{"$f":"IF(DC26=5,0,IF(DC26=3,0,IF(DC26=1,'Ex animal'!BZ33*'Ex animal'!CA33/100,IF(DC26=4,'Ex animal'!BZ33*'Ex animal'!CA33/100,'Ex animal'!BQ33*'Ex animal'!BR33/100+'Ex animal'!BZ33*'Ex animal'!CA33/100))))","v":0},0,0,0,{"$f":"IF(D26=\"\",\"\",(IF(BS26=0,0,(((BV26*'Ex animal'!CW33/365*(365*24-(E26*F26))/24)+(BW26*'Ex animal'!CW33/100)+(BX26*'Ex animal'!CW33))/BS26*100)/100)))","v":""},{"$error":"#VALUE!"},{"$f":"IF(DC26=5,0,IF(DC26=3,0,IF(DC26=1,'Ex animal'!CB33,IF(DC26=4,'Ex animal'!CB33,'Ex animal'!BS33+'Ex animal'!CB33))))","v":0},0,{"$f":"IF(DC26=0,N26,0)","v":0},{"$error":"#VALUE!"},{"$f":"IF(BT26>0,((CB26/1000*'Ex animal'!CW33/365*(365*24-(E26*F26))/24)-('Ex animal'!CB33/1000*'Ex animal'!CW33*S26/100)+(CC26)),0)","v":{"$error":"#VALUE!"}},null,{"$f":"IF(D26=\"\",\"\",(CE26-CD26)/100)","v":""},{"$f":"IF(DC26=5,0,IF(DC26=3,0,IF(DC26=1,'Ex animal'!CH33,IF(DC26=4,'Ex animal'!CH33,'Ex animal'!BT33+'Ex animal'!CH33))))","v":0},0,{"$f":"IF(DC26=0,O26,0)","v":0},0,{"$f":"((CI26/1000*'Ex animal'!CW33/365*(365*24-(E26*F26))/24)+(CJ26))","v":0},{"$f":"IF(D26=\"\",\"\",(CL26-CK26)/100)","v":""},{"$f":"IF(DC26=5,0,IF(DC26=3,0,IF(DC26=1,'Ex animal'!CI33,IF(DC26=4,'Ex animal'!CI33,'Ex animal'!CI33+'Ex animal'!BY33))))","v":0},0,0,0,{"$f":"((CO26/1000*'Ex animal'!CW33/365*(365*24-(E26*F26))/24)+(CP26))","v":0},{"$f":"IF(D26=\"\",\"\",(CR26-CQ26)/100)","v":""},{"$f":"IF(D26=\"\",\"\",(IF('Ex animal'!CW33=0,0,('Ex animal'!BS33*S26*'Ex animal'!CW33/100)-('Ex animal'!BS33*S26*'Ex animal'!CW33/100)/365*(E26*F26/24)))/100)","v":""},"","","","","","",null,{"$f":"IF(D26=\"\",\"\",VLOOKUP(D26,Tehnology!C175:E179,3,FALSE))","v":""},{"$f":"IF(D26=\"\",\"\",VLOOKUP(DB26,Tehnology!$I$99:$W$143,1,FALSE))","v":""},null,{"$f":"IF(DS47=\"\",0,DK13*1000*DS47/100*(ED47/100))","v":0},{"$f":"IF(DS46=\"\",0,DJ13*1000*DS46/100*(ED46/100))","v":0},{"$f":"IF(DS39=\"\",0,DK13*1000*DS39/100*(ED39/100))","v":0},{"$f":"IF(DS38=\"\",0,DJ13*1000*DS38/100*(ED38/100))","v":0},{"$f":"IF(DS14=\"\",0,DJ13*1000*DS14/100*(ED14/100))","v":0},{"$f":"IF(DS15=\"\",0,DK13*1000*DS15/100*(ED15/100))","v":0},{"$f":"IF(DS22=\"\",0,DJ13*1000*DS22/100*(ED22/100))","v":0},{"$f":"IF(DS23=\"\",0,DK13*1000*DS23/100*(ED23/100))","v":0},{"$f":"IF(DS30=\"\",0,DJ13*1000*DS30/100*(ED30/100))","v":0},null,null,null,null,null,null,null,null,null,null,null,null,null,null,null,null,null,null,null,null,null,null,null,null,null,null,null,null,null,null,null,null,null,null,null,null,null,null,null,null,null,"","","","","",""]
[null,"Vabapidamisel kanad (pääs jalutusalale)",{"$f":"'Ex animal'!CW34","v":0},null,{"$f":"IF('FeedIn poultry (Intensive)'!$G$2=\"Intensive\",0,IF(B27='Feedin poultry (AFC)'!$T$6,'Feedin poultry (AFC)'!$U$44,0))","v":0},{"$f":"IF('FeedIn poultry (Intensive)'!$G$2=\"Intensive\",0,IF(B27='Feedin poultry (AFC)'!$T$6,'Feedin poultry (AFC)'!$W$44,0))","v":0},null,null,{"$f":"IF(G27=\"\",0,VLOOKUP(G27,'Additional information'!$B$8:$F$16,2,FALSE))","v":0},null,null,null,null,{"$f":"IF(G27=\"\",0,VLOOKUP(G27,'Additional information'!$B$8:$F$16,3,FALSE)*'Ex animal'!CW34*H27*365/1000*I27/100/1000/100)","v":0},{"$f":"IF(G27=\"\",0,VLOOKUP(G27,'Additional information'!$B$8:$F$16,4,FALSE)*'Ex animal'!CW34*H27*365/1000*I27/100/1000/100)","v":0},{"$f":"IF(G27=\"\",0,VLOOKUP(G27,'Additional information'!$B$8:$F$16,5,FALSE)*'Ex animal'!CW34*H27*365/1000*I27/100/1000/100)","v":0},null,2.5,{"$f":"IF(D27=\"\",\"\",VLOOKUP(D27,Tehnology!C180:D185,2,FALSE))","v":""},null,0,null,null,null,null,null,null,{"$f":"IF(DC27=5,'Ex animal'!BQ34-'Ex animal'!BQ34*T27/100+'Ex animal'!BZ34,IF(DC27=3,'Ex animal'!BQ34-'Ex animal'!BQ34*T27/100+'Ex animal'!BZ34,IF(DC27=1,'Ex animal'!BQ34-'Ex animal'!BQ34*T27/100,IF(DC27=4,'Ex animal'!BQ34-'Ex animal'!BQ34*T27/100,0))))","v":0},{"$f":"IF(C27=0,0,IF(DC27=0,0,(AB27*'Ex animal'!BR34/100)*100/IF(VLOOKUP(D27,Tehnology!C180:I185,5,FALSE)=0,'Ex animal'!BR34/100*100,(VLOOKUP(D27,Tehnology!C180:I185,5,FALSE)))))","v":0},0,0,null,null,null,null,null,null,null,null,null,null,null,null,null,null,{"$f":"IF(DC27=2,0,IF(DC27>0,H27*365/1000-((H27*365/1000)*T27)/100,0))","v":0},{"$f":"IF(D27=\"\",\"\",IF(C27=0,0,((AC27*'Ex animal'!CW34/365*(365*24-(E27*F27))/24)+(AD27*'Ex animal'!CW34)+(AT27*'Ex animal'!CW34)+BS27*U27/100)/100))","v":""},{"$f":"IF(DC27=5,'Ex animal'!BZ34*'Ex animal'!CA34/100-(('Ex animal'!BZ34*'Ex animal'!CA34/100)*T27/100)-(('Ex animal'!BQ34*'Ex animal'!BR34/100)*T27/100)+'Ex animal'!BQ34*'Ex animal'!BR34/100,IF(DC27=3,'Ex animal'!BZ34*'Ex animal'!CA34/100-(('Ex animal'!BZ34*'Ex animal'!CA34/100)*T27/100)-(('Ex animal'!BQ34*'Ex animal'!BR34/100)*T27/100)+'Ex animal'!BQ34*'Ex animal'!BR34/100,IF(DC27=1,'Ex animal'!BQ34*'Ex animal'!BR34/100-(('Ex animal'!BQ34*'Ex animal'!BR34/100)*T27/100),IF(DC27=4,'Ex animal'!BQ34*'Ex animal'!BR34/100-(('Ex animal'!BQ34*'Ex animal'!BR34/100)*T27/100),0))))","v":0},0,0,{"$f":"IF(H27=\"\",0,IF(DC27>0,H27*365/1000*I27/100-(H27*365/1000*I27/100*(T27/100)),0))","v":0},{"$f":"IF(D27=\"\",\"\",(IF(AU27>0,((AW27*'Ex animal'!CW34/365*(365*24-(E27*F27))/24)+(AX27*'Ex animal'!CW34)+(AY27*'Ex animal'!CW34)+(BS27*BY27/100*U27/100))/AU27*100,0))/100)","v":""},{"$error":"#VALUE!"},{"$f":"IF(DC27=5,'Ex animal'!BS34+'Ex animal'!CB34,IF(DC27=3,'Ex animal'!BS34+'Ex animal'!CB34,IF(DC27=1,'Ex animal'!BS34,IF(DC27=4,'Ex animal'!BS34,0))))","v":0},0,0,{"$f":"IF(D27=\"\",\"\",(IF(AU27=0,0,BC27/1000*(C27/365*((365*24-(E27*F27))/24))/100+BD27-(CT27/1000))))","v":""},{"$f":"IF(DC27=5,'Ex animal'!BT34+'Ex animal'!CH34,IF(DC27=3,'Ex animal'!BT34+'Ex animal'!CH34,IF(DC27=1,'Ex animal'!BT34,IF(DC27=4,'Ex animal'!BT34,0))))","v":0},0,0,{"$f":"IF(D27=\"\",\"\",(((BG27/1000*'Ex animal'!CW34/365*(365*24-(E27*F27))/24))+CL27*U27/100)/100+BH27)","v":""},{"$f":"IF(DC27=5,'Ex animal'!BY34+'Ex animal'!CI34,IF(DC27=3,'Ex animal'!BY34+'Ex animal'!CI34,IF(DC27=1,'Ex animal'!BY34,IF(DC27=4,'Ex animal'!BY34,0))))","v":0},0,0,{"$f":"IF(D27=\"\",\"\",(((BK27/1000*'Ex animal'!CW34/365*(365*24-(E27*F27))/24))+CR27*U27/100)/100+BL27)","v":""},{"$f":"IF(DC27=5,0,IF(DC27=3,0,IF(DC27=1,'Ex animal'!BZ34,IF(DC27=4,'Ex animal'!BZ34,'Ex animal'!BZ34+'Ex animal'!BQ34))))","v":0},0,0,0,0,{"$f":"((BO27*'Ex animal'!CW34/365*(365*24-(E27*F27))/24)+(BP27*'Ex animal'!CW34)+(BQ27*'Ex animal'!CW34))/100","v":0},{"$f":"IF(D27=\"\",\"\",(BS27-BR27))","v":""},{"$f":"IF(DC27=5,0,IF(DC27=3,0,IF(DC27=1,'Ex animal'!BZ34*'Ex animal'!CA34/100,IF(DC27=4,'Ex animal'!BZ34*'Ex animal'!CA34/100,'Ex animal'!BQ34*'Ex animal'!BR34/100+'Ex animal'!BZ34*'Ex animal'!CA34/100))))","v":0},0,0,0,{"$f":"IF(D27=\"\",\"\",(IF(BS27=0,0,((BV27*'Ex animal'!CW34/365*(365*24-(E27*F27))/24)+(BW27*'Ex animal'!CW34/100)+(BX27*'Ex animal'!CW34))/BS27*100)))","v":""},{"$error":"#VALUE!"},{"$f":"IF(DC27=5,0,IF(DC27=3,0,IF(DC27=1,'Ex animal'!CB34,IF(DC27=4,'Ex animal'!CB34,'Ex animal'!BS34+'Ex animal'!CB34))))","v":0},0,0,{"$error":"#VALUE!"},{"$f":"IF(BT27>0,((CB27/1000*'Ex animal'!CW34/365*(365*24-(E27*F27))/24)-('Ex animal'!CB34/1000*'Ex animal'!CW34*S27/100)+(CC27)),0)","v":{"$error":"#VALUE!"}},null,{"$f":"IF(D27=\"\",\"\",(CE27-CD27)/100)","v":""},{"$f":"IF(DC27=5,0,IF(DC27=3,0,IF(DC27=1,'Ex animal'!CH34,IF(DC27=4,'Ex animal'!CH34,'Ex animal'!BT34+'Ex animal'!CH34))))","v":0},0,{"$f":"IF(DC27=0,O27,0)","v":0},0,{"$f":"((CI27/1000*'Ex animal'!CW34/365*(365*24-(E27*F27))/24)+(CJ27))","v":0},{"$f":"IF(D27=\"\",\"\",(CL27-CK27)/100)","v":""},{"$f":"IF(DC27=5,0,IF(DC27=3,0,IF(DC27=1,'Ex animal'!CI34,IF(DC27=4,'Ex animal'!CI34,'Ex animal'!CI34+'Ex animal'!BY34))))","v":0},0,0,0,{"$f":"((CO27/1000*'Ex animal'!CW34/365*(365*24-(E27*F27))/24)+(CP27))","v":0},{"$f":"IF(D27=\"\",\"\",(CR27-CQ27)/100)","v":""},{"$f":"IF(D27=\"\",\"\",(IF('Ex animal'!CW34=0,0,('Ex animal'!BS34*S27*'Ex animal'!CW34/100)-('Ex animal'!BS34*S27*'Ex animal'!CW34/100)/365*(E27*F27/24)))/100)","v":""},"","","","","","",null,{"$f":"IF(D27=\"\",\"\",VLOOKUP(D27,Tehnology!C180:E185,3,FALSE))","v":""},{"$f":"IF(D27=\"\",\"\",VLOOKUP(DB27,Tehnology!$I$99:$W$143,1,FALSE))","v":""},null,"Kaod ","kg","Sügavallapanusõnnik laotatakse otse põllule (hoidlas või aunas ladustamine puudub või ladustatakse osaliselt)",null,null,null,null,null,null,null,"LINNUD",{"$f":"IF(SUM($C$24:$C$29)=0,\"\",IF(SUM($C$24:$C$29)>0,IF(VLOOKUP($DA$24,$DA$11:$DA$29,1,FALSE),IF(DG11=\"\",\"\",\"Tahesõnnik\"),\"\")))","v":""},null,{"$f":"IF(DP27=\"\",\"\",VLOOKUP($DQ$27,Tehnology!$J$100:$K$107,2,FALSE))","v":""},{"$f":"IF(DP27=\"\",\"\",VLOOKUP(#REF!,Tehnology!I100:W107,7,FALSE))","v":""},{"$f":"IF(DP27=\"\",\"\",VLOOKUP($DG$24,Tehnology!$I$100:$W$107,9,FALSE))","v":""},{"$f":"IF(DP27=\"\",\"\",VLOOKUP($DQ$11,Tehnology!$J$100:$W$107,12,FALSE))","v":""},{"$f":"IF(DP27=\"\",\"\",VLOOKUP($DQ$11,Tehnology!$J$100:$W$107,13,FALSE))","v":""},{"$f":"IF(DP27=\"\",\"\",VLOOKUP($DQ$11,Tehnology!$J$100:$W$107,14,FALSE))","v":""},null,null,null,null,null,null,null,null,{"$f":"DG11","v":""},{"$f":"EF27+DY27*DZ27/1000","v":{"$error":"#VALUE!"}},{"$f":"EG27-((EK27+DY27*DZ27/1000*0/100)*EA27/100)-EI27","v":{"$error":"#VALUE!"}},{"$f":"IF(DQ27=\"Storage roofed\",DY27*EC27/1000,0)","v":0},{"$f":"IF(DP27=\"\",\"\",EH27-(DY27*DZ27/1000-DY27*DZ27/1000*(1-(EB27/100))))","v":""},{"$f":"IF(DC24=1,BA24,0)+IF(DC25=1,BA25,0)+IF(DC26=1,BA26,0)+IF(DC27=1,BA27,0)+IF(DC28=1,BA28,0)+IF(DC29=1,BA29,0)","v":0},{"$f":"EK27+(DY27*DZ27/1000*0/100)","v":0},{"$f":"EL27-(EL27*EA27/100)","v":0},{"$f":"IF(DP27=\"\",\"\",IF(EJ27=0,0,EM27/EJ27*100))","v":""},{"$f":"DG13*DR27/100","v":{"$error":"#VALUE!"}},{"$f":"DG13*DS27/100","v":{"$error":"#VALUE!"}},{"$f":"DG13*DT27/100","v":{"$error":"#VALUE!"}},{"$f":"DG13*DU27/100","v":{"$error":"#VALUE!"}},{"$f":"IF(DP27=\"\",\"\",DG13-EO27-EP27-EQ27-ER27)","v":""},{"$f":"IF(DP27=\"\",\"\",VLOOKUP($DG$24,Tehnology!$I$99:$W$107,11,FALSE)*ES27)","v":""},{"$f":"DG15*DV27/100","v":{"$error":"#VALUE!"}},{"$f":"IF(DP27=\"\",\"\",DG15-EU27)","v":""},{"$f":"DG16*DW27/100","v":{"$error":"#VALUE!"}},{"$f":"IF(DP27=\"\",\"\",DG16-EW27)","v":""},{"$f":"IF(DP27=\"\",\"\",ES27*1000/EJ27)","v":""},{"$f":"IF(DP27=\"\",\"\",ET27*1000/EJ27)","v":""},{"$f":"IF(DP27=\"\",\"\",EV27*1000/EJ27)","v":""},{"$f":"IF(DP27=\"\",\"\",EX27*1000/EJ27)","v":""},"","","","","","",null,null,null,null,null,null,null,{"$f":"IF(SUM(C24:C29)=0,\"\",SUM(FM28:FM33)/1000)","v":""}]
[null,"Mahekanad",{"$f":"'Ex animal'!CW35","v":0},null,{"$f":"IF('FeedIn poultry (Intensive)'!$G$2=\"Intensive\",0,IF(B28='Feedin poultry (AFC)'!$T$6,'Feedin poultry (AFC)'!$U$44,0))","v":0},{"$f":"IF('FeedIn poultry (Intensive)'!$G$2=\"Intensive\",0,IF(B28='Feedin poultry (AFC)'!$T$6,'Feedin poultry (AFC)'!$W$44,0))","v":0},null,null,{"$f":"IF(G28=\"\",0,VLOOKUP(G28,'Additional information'!$B$8:$F$16,2,FALSE))","v":0},null,null,null,null,{"$f":"IF(G28=\"\",0,VLOOKUP(G28,'Additional information'!$B$8:$F$16,3,FALSE)*'Ex animal'!CW35*H28*365/1000*I28/100/1000/100)","v":0},{"$f":"IF(G28=\"\",0,VLOOKUP(G28,'Additional information'!$B$8:$F$16,4,FALSE)*'Ex animal'!CW35*H28*365/1000*I28/100/1000/100)","v":0},{"$f":"IF(G28=\"\",0,VLOOKUP(G28,'Additional information'!$B$8:$F$16,5,FALSE)*'Ex animal'!CW35*H28*365/1000*I28/100/1000/100)","v":0},null,2.5,{"$f":"IF(D28=\"\",\"\",VLOOKUP(D28,Tehnology!C186:D191,2,FALSE))","v":""},null,0,null,null,null,null,null,null,{"$f":"IF(DC28=5,'Ex animal'!BQ35-'Ex animal'!BQ35*T28/100+'Ex animal'!BZ35,IF(DC28=3,'Ex animal'!BQ35-'Ex animal'!BQ35*T28/100+'Ex animal'!BZ35,IF(DC28=1,'Ex animal'!BQ35-'Ex animal'!BQ35*T28/100,IF(DC28=4,'Ex animal'!BQ35-'Ex animal'!BQ35*T28/100,0))))","v":0},{"$f":"IF(C28=0,0,IF(DC28=0,0,(AB28*'Ex animal'!BR35/100)*100/IF(VLOOKUP(D28,Tehnology!C186:I191,5,FALSE)=0,'Ex animal'!BR35/100*100,(VLOOKUP(D28,Tehnology!C186:I191,5,FALSE)))))","v":0},0,0,null,null,null,null,null,null,null,null,null,null,null,null,null,null,{"$f":"IF(DC28=2,0,IF(DC28>0,H28*365/1000-((H28*365/1000)*T28)/100,0))","v":0},{"$f":"IF(D28=\"\",\"\",IF(C28=0,0,((AC28*'Ex animal'!CW35/365*(365*24-(E28*F28))/24)+(AD28*'Ex animal'!CW35)+(AT28*'Ex animal'!CW35)+BS28*U28/100)/100))","v":""},{"$f":"IF(DC28=5,'Ex animal'!BZ35*'Ex animal'!CA35/100-(('Ex animal'!BZ35*'Ex animal'!CA35/100)*T28/100)-(('Ex animal'!BQ35*'Ex animal'!BR35/100)*T28/100)+'Ex animal'!BQ35*'Ex animal'!BR35/100,IF(DC28=3,'Ex animal'!BZ35*'Ex animal'!CA35/100-(('Ex animal'!BZ35*'Ex animal'!CA35/100)*T28/100)-(('Ex animal'!BQ35*'Ex animal'!BR35/100)*T28/100)+'Ex animal'!BQ35*'Ex animal'!BR35/100,IF(DC28=1,'Ex animal'!BQ35*'Ex animal'!BR35/100-(('Ex animal'!BQ35*'Ex animal'!BR35/100)*T28/100),IF(DC28=4,'Ex animal'!BQ35*'Ex animal'!BR35/100-(('Ex animal'!BQ35*'Ex animal'!BR35/100)*T28/100),0))))","v":0},0,0,{"$f":"IF(H28=\"\",0,IF(DC28>0,H28*365/1000*I28/100-(H28*365/1000*I28/100*(T28/100)),0))","v":0},{"$f":"IF(D28=\"\",\"\",(IF(AU28>0,((AW28*'Ex animal'!CW35/365*(365*24-(E28*F28))/24)+(AX28*'Ex animal'!CW35)+(AY28*'Ex animal'!CW35)+(BS28*BY28/100*U28/100))/AU28*100,0))/100)","v":""},{"$error":"#VALUE!"},{"$f":"IF(DC28=5,'Ex animal'!BS35+'Ex animal'!CB35,IF(DC28=3,'Ex animal'!BS35+'Ex animal'!CB35,IF(DC28=1,'Ex animal'!BS35,IF(DC28=4,'Ex animal'!BS35,0))))","v":0},0,0,{"$f":"IF(D28=\"\",\"\",(IF(AU28=0,0,BC28/1000*(C28/365*((365*24-(E28*F28))/24))/100+BD28-(CT28/1000))))","v":""},{"$f":"IF(DC28=5,'Ex animal'!BT35+'Ex animal'!CH35,IF(DC28=3,'Ex animal'!BT35+'Ex animal'!CH35,IF(DC28=1,'Ex animal'!BT35,IF(DC28=4,'Ex animal'!BT35,0))))","v":0},0,0,{"$f":"IF(D28=\"\",\"\",(((BG28/1000*'Ex animal'!CW35/365*(365*24-(E28*F28))/24))+CL28*U28/100)/100+BH28)","v":""},{"$f":"IF(DC28=5,'Ex animal'!BY35+'Ex animal'!CI35,IF(DC28=3,'Ex animal'!BY35+'Ex animal'!CI35,IF(DC28=1,'Ex animal'!BY35,IF(DC28=4,'Ex animal'!BY35,0))))","v":0},0,0,{"$f":"IF(D28=\"\",\"\",(((BK28/1000*'Ex animal'!CW35/365*(365*24-(E28*F28))/24))+CR28*U28/100)/100+BL28)","v":""},{"$f":"IF(DC28=5,0,IF(DC28=3,0,IF(DC28=1,'Ex animal'!BZ35,IF(DC28=4,'Ex animal'!BZ35,'Ex animal'!BZ35+'Ex animal'!BQ35))))","v":0},0,0,0,0,{"$f":"((BO28*'Ex animal'!CW35/365*(365*24-(E28*F28))/24)+(BP28*'Ex animal'!CW35)+(BQ28*'Ex animal'!CW35))/100","v":0},{"$f":"IF(D28=\"\",\"\",(BS28-BR28))","v":""},{"$f":"IF(DC28=5,0,IF(DC28=3,0,IF(DC28=1,'Ex animal'!BZ35*'Ex animal'!CA35/100,IF(DC28=4,'Ex animal'!BZ35*'Ex animal'!CA35/100,'Ex animal'!BQ35*'Ex animal'!BR35/100+'Ex animal'!BZ35*'Ex animal'!CA35/100))))","v":0},0,0,0,{"$f":"IF(D28=\"\",\"\",(IF(BS28=0,0,((BV28*'Ex animal'!CW35/365*(365*24-(E28*F28))/24)+(BW28*'Ex animal'!CW35/100)+(BX28*'Ex animal'!CW35))/BS28*100)))","v":""},{"$error":"#VALUE!"},{"$f":"IF(DC28=5,0,IF(DC28=3,0,IF(DC28=1,'Ex animal'!CB35,IF(DC28=4,'Ex animal'!CB35,'Ex animal'!BS35+'Ex animal'!CB35))))","v":0},0,0,{"$error":"#VALUE!"},{"$f":"IF(BT28>0,((CB28/1000*'Ex animal'!CW35/365*(365*24-(E28*F28))/24)-('Ex animal'!CB35/1000*'Ex animal'!CW35*S28/100)+(CC28)),0)","v":{"$error":"#VALUE!"}},null,{"$f":"IF(D28=\"\",\"\",(CE28-CD28)/100)","v":""},{"$f":"IF(DC28=5,0,IF(DC28=3,0,IF(DC28=1,'Ex animal'!CH35,IF(DC28=4,'Ex animal'!CH35,'Ex animal'!BT35+'Ex animal'!CH35))))","v":0},0,{"$f":"IF(DC28=0,O28,0)","v":0},0,{"$f":"((CI28/1000*'Ex animal'!CW35/365*(365*24-(E28*F28))/24)+(CJ28))","v":0},{"$f":"IF(D28=\"\",\"\",(CL28-CK28)/100)","v":""},{"$f":"IF(DC28=5,0,IF(DC28=3,0,IF(DC28=1,'Ex animal'!CI35,IF(DC28=4,'Ex animal'!CI35,'Ex animal'!CI35+'Ex animal'!BY35))))","v":0},0,0,0,{"$f":"((CO28/1000*'Ex animal'!CW35/365*(365*24-(E28*F28))/24)+(CP28))","v":0},{"$f":"IF(D28=\"\",\"\",(CR28-CQ28)/100)","v":""},{"$f":"IF(D28=\"\",\"\",(IF('Ex animal'!CW35=0,0,('Ex animal'!BS35*S28*'Ex animal'!CW35/100)-('Ex animal'!BS35*S28*'Ex animal'!CW35/100)/365*(E28*F28/24)))/100)","v":""},"","","","","","",null,{"$f":"IF(D28=\"\",\"\",VLOOKUP(D28,Tehnology!C186:E191,3,FALSE))","v":""},{"$f":"IF(D28=\"\",\"\",VLOOKUP(DB28,Tehnology!$I$99:$W$143,1,FALSE))","v":""},null,"N2 ",null,{"$f":"SUM(DE26:DM26)+DE25+DF25","v":0},null,null,null,null,null,null,null,null,{"$f":"IF(SUM($C$24:$C$29)=0,\"\",IF(SUM($C$24:$C$29)>0,IF(VLOOKUP($DA$24,$DA$11:$DA$29,1,FALSE),IF(DH11=\"\",\"\",\"Virts\"),\"\")))","v":""},null,{"$f":"IF(DP28=\"\",\"\",VLOOKUP(DQ28,Tehnology!L100:M107,2,FALSE))","v":""},{"$f":"IF(DP28=\"\",\"\",VLOOKUP($DG$24,Tehnology!$I$100:$W$107,8,FALSE))","v":""},{"$f":"IF(DP28=\"\",\"\",VLOOKUP($DG$24,Tehnology!$I$100:$W$107,10,FALSE))","v":""},null,null,null,null,null,null,null,null,null,null,null,{"$f":"DH11+SUM(DZ66:DZ69)","v":{"$error":"#VALUE!"}},{"$f":"EF28+DY28*DZ28/1000","v":{"$error":"#VALUE!"}},{"$error":"#VALUE!"},0,"",{"$f":"IF(DC24=1,BZ24,0)+IF(DC25=1,BZ25,0)+IF(DC26=1,BZ26,0)+IF(DC27=1,BZ27,0)+IF(DC28=1,BZ28,0)+IF(DC29=1,BZ29,0)","v":0},0,0,"",{"$f":"DH13*DR28/100","v":{"$error":"#VALUE!"}},null,{"$f":"DH13*DT28/100","v":{"$error":"#VALUE!"}},null,{"$f":"IF(DP28=\"\",\"\",DH13-EO28-EP28-EQ28-ER28)","v":""},{"$f":"IF(DP28=\"\",\"\",VLOOKUP($DG$24,Tehnology!$I$99:$W$107,12,FALSE)*ES28)","v":""},null,{"$f":"IF(DP28=\"\",\"\",DH15-EU28)","v":""},null,{"$f":"IF(DP28=\"\",\"\",DH16-EW28)","v":""},{"$f":"IF(DP28=\"\",\"\",ES28*1000/EJ28)","v":""},{"$f":"IF(DP28=\"\",\"\",ET28*1000/EJ28)","v":""},{"$f":"IF(DP28=\"\",\"\",EV28*1000/EJ28)","v":""},{"$f":"IF(DP28=\"\",\"\",EX28*1000/EJ28)","v":""},"","","","","","",null,null,null,null,{"$f":"IF(D24=\"\",\"\",IF(AU24=AU24+BT24,C24*Tehnology!$AD$16,C24*Tehnology!$AD$16*AU24/(AU24+BT24)))","v":""}]
[null,"Noolinnud",{"$f":"'Ex animal'!CW36","v":0},null,{"$f":"IF('FeedIn poultry (Intensive)'!$G$2=\"Intensive\",0,IF(B29='Feedin poultry (AFC)'!$AK$6,'Feedin poultry (AFC)'!AQ44,0))","v":0},{"$f":"IF('FeedIn poultry (Intensive)'!$G$2=\"Intensive\",0,IF(B29='Feedin poultry (AFC)'!$AK$6,'Feedin poultry (AFC)'!AS44,0))","v":0},null,null,{"$f":"IF(G29=\"\",0,VLOOKUP(G29,'Additional information'!$B$8:$F$16,2,FALSE))","v":0},null,null,null,null,{"$f":"IF(G29=\"\",0,VLOOKUP(G29,'Additional information'!$B$8:$F$16,3,FALSE)*'Ex animal'!CW36*H29*AS29/1000*I29/100/1000/100)","v":0},{"$f":"IF(G29=\"\",0,VLOOKUP(G29,'Additional information'!$B$8:$F$16,4,FALSE)*'Ex animal'!CW36*H29*AS29/1000*I29/100/1000/100)","v":0},{"$f":"IF(G29=\"\",0,VLOOKUP(G29,'Additional information'!$B$8:$F$16,5,FALSE)*'Ex animal'!CW36*H29*AS29/1000*I29/100/1000/100)","v":0},null,2.5,{"$f":"IF(D29=\"\",\"\",VLOOKUP(D29,Tehnology!C192:D196,2,FALSE))","v":""},null,0,null,null,null,null,null,null,{"$f":"IF(DC29=5,'Ex animal'!BQ36-'Ex animal'!BQ36*T29/100+'Ex animal'!BZ36,IF(DC29=3,'Ex animal'!BQ36-'Ex animal'!BQ36*T29/100+'Ex animal'!BZ36,IF(DC29=1,'Ex animal'!BQ36-'Ex animal'!BQ36*T29/100,IF(DC29=4,'Ex animal'!BQ36-'Ex animal'!BQ36*T29/100,0))))","v":0},{"$f":"IF(C29=0,0,IF(DC29=0,0,(AB29*'Ex animal'!BR36/100)*100/IF(VLOOKUP(D29,Tehnology!C192:I196,5,FALSE)=0,'Ex animal'!BR36/100*100,(VLOOKUP(D29,Tehnology!C192:I196,5,FALSE)))))","v":0},0,0,{"$f":"'FeedIn poultry (Intensive)'!AH110","v":0},{"$f":"'Feedin poultry (AFC)'!AP11","v":0},{"$f":"IF(DC29>0,H29*(AF29-AE29)/1000-((H29*(AF29-AE29)/1000)*T29)/100,0)","v":0},{"$f":"IF(DC29>0,H29*(AG29-AE29)/1000-((H29*(AG29-AE29)/1000)*T29)/100,0)","v":0},{"$f":"AF29","v":0},{"$f":"AG29","v":0},null,null,null,null,null,null,null,{"$f":"IF('Feedin poultry (AFC)'!B5=0,AK29,AJ29)","v":0},{"$f":"IF('Feedin poultry (AFC)'!B5=0,AI29,AH29)","v":0},{"$f":"IF(D29=\"\",\"\",IF(C29=0,0,((AC29*'Ex animal'!CW36/AS29*(AS29*24-(E29*F29))/24)+(AD29*'Ex animal'!CW36)+(AT29*'Ex animal'!CW36)+BS29*U29/100)/100))","v":""},{"$f":"IF(DC29=5,'Ex animal'!BZ36*'Ex animal'!CA36/100-(('Ex animal'!BZ36*'Ex animal'!CA36/100)*T29/100)-(('Ex animal'!BQ36*'Ex animal'!BR36/100)*T29/100)+'Ex animal'!BQ36*'Ex animal'!BR36/100,IF(DC29=3,'Ex animal'!BZ36*'Ex animal'!CA36/100-(('Ex animal'!BZ36*'Ex animal'!CA36/100)*T29/100)-(('Ex animal'!BQ36*'Ex animal'!BR36/100)*T29/100)+'Ex animal'!BQ36*'Ex animal'!BR36/100,IF(DC29=1,'Ex animal'!BQ36*'Ex animal'!BR36/100-(('Ex animal'!BQ36*'Ex animal'!BR36/100)*T29/100),IF(DC29=4,'Ex animal'!BQ36*'Ex animal'!BR36/100-(('Ex animal'!BQ36*'Ex animal'!BR36/100)*T29/100),0))))","v":0},0,{"$f":"IF(DC29=5,Q29*R29/100,IF(DC29=3,Q29*R29/100,0))","v":0},{"$f":"IF(H29=\"\",0,IF(DC29>0,H29*AS29/1000*I29/100-(H29*AS29/1000*I29/100*(T29/100)),0))","v":0},{"$f":"IF(D29=\"\",\"\",(IF(AU29>0,((AW29*'Ex animal'!CW36/AS29*(AS29*24-(E29*F29))/24)+(AX29*'Ex animal'!CW36)+(AY29*'Ex animal'!CW36)+(BS29*BY29/100*U29/100))/AU29*100,0))/100)","v":""},{"$error":"#VALUE!"},{"$f":"IF(DC29=5,'Ex animal'!BS36+'Ex animal'!CB36,IF(DC29=3,'Ex animal'!BS36+'Ex animal'!CB36,IF(DC29=1,'Ex animal'!BS36,IF(DC29=4,'Ex animal'!BS36,0))))","v":0},0,0,{"$f":"IF(D29=\"\",\"\",IF(C29=0,0,((BC29/100*C29/AS29*(AS29*24-(E29*F29))/24)/1000+BD29-CT29/1000)))","v":""},{"$f":"IF(DC29=5,'Ex animal'!BT36+'Ex animal'!CH36,IF(DC29=3,'Ex animal'!BT36+'Ex animal'!CH36,IF(DC29=1,'Ex animal'!BT36,IF(DC29=4,'Ex animal'!BT36,0))))","v":0},0,0,{"$f":"IF(D29=\"\",\"\",IF(C29=0,0,(((BG29/1000*'Ex animal'!CW36/AS29*(AS29*24-(E29*F29))/24))+CL29*U29/100)/100)+BH29)","v":""},{"$f":"IF(DC29=5,'Ex animal'!BY36+'Ex animal'!CI36,IF(DC29=3,'Ex animal'!BY36+'Ex animal'!CI36,IF(DC29=1,'Ex animal'!BY36,IF(DC29=4,'Ex animal'!BY36,0))))","v":0},0,0,{"$f":"IF(D29=\"\",\"\",IF(C29=0,0,(((BK29/1000*'Ex animal'!CW36/AS29*(AS29*24-(E29*F29))/24))+CR29*U29/100)/100)+BL29)","v":""},{"$f":"IF(DC29=5,0,IF(DC29=3,0,IF(DC29=1,'Ex animal'!BZ36,IF(DC29=4,'Ex animal'!BZ36,'Ex animal'!BZ36+'Ex animal'!BQ36))))","v":0},0,0,0,{"$error":"#DIV/0!"},{"$f":"((BO29*'Ex animal'!CW36/AS29*(AS263*24-(E29*F29))/24)+(BP29*'Ex animal'!CW36)+(BQ29*'Ex animal'!CW36))/100","v":{"$error":"#DIV/0!"}},{"$f":"IF(D29=\"\",\"\",IF(C29=0,0,BS29-BR29))","v":""},{"$f":"IF(DC29=5,0,IF(DC29=3,0,IF(DC29=1,'Ex animal'!BZ36*'Ex animal'!CA36/100,IF(DC29=4,'Ex animal'!BZ36*'Ex animal'!CA36/100,'Ex animal'!BQ36*'Ex animal'!BR36/100+'Ex animal'!BZ36*'Ex animal'!CA36/100))))","v":0},0,0,0,{"$f":"IF(D29=\"\",\"\",IF(C29=0,0,(IF(BS29=0,0,((BV29*'Ex animal'!CW36/AS29*(AS29*24-(E29*F29))/24)+(BW29*'Ex animal'!CW36/100)+(BX29*'Ex animal'!CW36))/BS29*100))))","v":""},{"$error":"#VALUE!"},{"$f":"IF(DC29=5,0,IF(DC29=3,0,IF(DC29=1,'Ex animal'!CB36,IF(DC29=4,'Ex animal'!CB36,'Ex animal'!BS36+'Ex animal'!CB36))))","v":0},0,0,{"$error":"#DIV/0!"},{"$f":"IF(BT29>0,((CB29/1000*'Ex animal'!CW36/AS29*(AS29*24-(E29*F29))/24)-('Ex animal'!CB36/1000*'Ex animal'!CW36*S29/100)+(CC29)),0)","v":{"$error":"#DIV/0!"}},null,{"$f":"IF(D29=\"\",\"\",(CE29-CD29)/100)","v":""},{"$f":"IF(DC29=5,0,IF(DC29=3,0,IF(DC29=1,'Ex animal'!CH36,IF(DC29=4,'Ex animal'!CH36,'Ex animal'!BT36+'Ex animal'!CH36))))","v":0},0,{"$f":"IF(DC29=0,O29,0)","v":0},{"$error":"#DIV/0!"},{"$f":"((CI29/1000*'Ex animal'!CW36/AS29*(AS29*24-(E29*F29))/24)+(CJ29))","v":{"$error":"#DIV/0!"}},{"$f":"IF(D29=\"\",\"\",IF(C29=0,0,(CL29-CK29)/100))","v":""},{"$f":"IF(DC29=5,0,IF(DC29=3,0,IF(DC29=1,'Ex animal'!CI36,IF(DC29=4,'Ex animal'!CI36,'Ex animal'!CI36+'Ex animal'!BY36))))","v":0},0,0,{"$error":"#DIV/0!"},{"$f":"((CO29/1000*'Ex animal'!CW36/AS29*(AS29*24-(E29*F29))/24)+(CP29))","v":{"$error":"#DIV/0!"}},{"$f":"IF(D29=\"\",\"\",IF(C29=0,0,(CR29-CQ29)/100))","v":""},{"$f":"IF(D29=\"\",\"\",(IF('Ex animal'!CW36=0,0,('Ex animal'!BS36*S29*'Ex animal'!CW36/100)-('Ex animal'!BS36*S29*'Ex animal'!CW36/100)/AS29*(E29*F29/24)))/100)","v":""},"","","","","","",null,{"$f":"IF(D29=\"\",\"\",VLOOKUP(D29,Tehnology!C192:E196,3,FALSE))","v":""},{"$f":"IF(D29=\"\",\"\",VLOOKUP(DB29,Tehnology!$I$99:$W$143,1,FALSE))","v":""},null,"N2O-N",null,{"$f":"SUM(DE31:DM31)+DE32+DF32","v":0},null,null,null,null,null,null,null,null,{"$f":"IF(SUM(C24:C29)=0,\"\",IF(SUM(C24:C29)>0,IF(VLOOKUP(DA24,DA11:DA29,1,FALSE),IF(DI11=\"\",\"\",\"Vedelsõnnik\"),\"\")))","v":""},null,{"$f":"IF(DP29=\"\",\"\",VLOOKUP(DQ29,Tehnology!L109:M116,2,FALSE))","v":""},{"$f":"IF(DP29=\"\",\"\",VLOOKUP($DI$24,Tehnology!I109:W116,8,FALSE))","v":""},{"$f":"IF(DP29=\"\",\"\",VLOOKUP($DI$24,Tehnology!I109:W116,10,FALSE))","v":""},null,null,null,null,null,null,null,null,null,null,null,{"$f":"DI11+SUM(DZ66:DZ69)","v":{"$error":"#VALUE!"}},{"$error":"#VALUE!"},{"$error":"#VALUE!"},0,"",{"$f":"IF(DI11=0,0,(IF(DC24=2,BZ24,0)+IF(DC25=2,BZ25,0)+IF(DC26=2,BZ26,0)+IF(DC27=2,BZ27,0)+IF(DC28=2,BZ28,0)+IF(DC29=2,BZ29,0)))","v":0},{"$f":"EK29+(DY29*DZ29/1000*0/100)+SUM(EF66:EF69)","v":0},0,"",{"$f":"(DI13+SUM(EB66:EB69)/1000)*DR29/100","v":{"$error":"#VALUE!"}},null,{"$f":"(DI13+SUM(EB66:EB69)/1000)*DT29/100","v":{"$error":"#VALUE!"}},null,{"$f":"IF(DP29=\"\",\"\",DI13+SUM(EB39:EB42)/1000-EO29-EP29-EQ29-ER29)","v":""},{"$f":"IF(DP29=\"\",\"\",VLOOKUP(DI24,Tehnology!I109:W116,12,FALSE)*ES29)","v":""},null,{"$f":"IF(DP29=\"\",\"\",DI15+SUM(EC66:EC69)/1000-EU29)","v":""},null,{"$f":"IF(DP29=\"\",\"\",DI16+SUM(ED66:ED69)/1000-EW29)","v":""},{"$f":"IF(DP29=\"\",\"\",ES29*1000/EJ29)","v":""},{"$f":"IF(DP29=\"\",\"\",ET29*1000/EJ29)","v":""},{"$f":"IF(DP29=\"\",\"\",EV29*1000/EJ29)","v":""},{"$f":"IF(DP29=\"\",\"\",EX29*1000/EJ29)","v":""},"","","","","","",null,null,null,null,{"$f":"IF(D25=\"\",\"\",IF(AU25=AU25+BT25,C25*Tehnology!$AD$16,C25*Tehnology!$AD$16*AU25/(AU25+BT25)))","v":""}]
[null,null,null,null,null,null,null,null,null,null,null,null,null,null,null,null,null,null,null,null,null,null,null,null,null,null,null,null,null,null,null,null,null,null,null,null,null,null,null,null,null,null,null,null,null,null,null,null,null,null,null,null,null,null,null,null,null,null,null,null,null,null,null,null,null,null,null,null,null,null,null,null,null,null,null,null,null,null,null,null,null,null,null,null,null,null,null,null,null,null,null,null,null,null,null,null,null,null,null,null,null,null,null,null,null,null,null,null,"N2O",null,{"$f":"DG29/0.6364","v":0},null,null,null,null,null,null,null,null,{"$f":"IF(SUM(C24:C29)=0,\"\",IF(SUM(C24:C29)>0,IF(VLOOKUP(DA24,DA11:DA29,1,FALSE),IF(DJ11=\"\",\"\",\"Sügavallapanusõnnik\"),\"\")))","v":""},null,{"$f":"IF(DP30=\"\",\"\",IF(DP30=\"\",\"\",VLOOKUP($DQ$30,Tehnology!$J$118:$K$125,2,FALSE)))","v":""},{"$f":"IF(DP30=\"\",\"\",VLOOKUP($DJ$24,Tehnology!I118:W125,7,FALSE))","v":""},{"$f":"IF(DP30=\"\",\"\",VLOOKUP($DJ$24,Tehnology!I118:W125,9,FALSE))","v":""},{"$f":"IF(DP30=\"\",\"\",VLOOKUP($DQ$30,Tehnology!J118:W125,12,FALSE))","v":""},{"$f":"IF(DP30=\"\",\"\",VLOOKUP($DQ$30,Tehnology!J118:W125,13,FALSE))","v":""},{"$f":"IF(DP30=\"\",\"\",VLOOKUP($DQ$30,Tehnology!J118:W125,14,FALSE))","v":""},null,null,null,null,null,null,null,null,{"$f":"DJ11*(1-ED30/100)","v":{"$error":"#VALUE!"}},{"$error":"#VALUE!"},{"$f":"EG30-((EK30+DY30*DZ30/1000*0/100)*EA30/100)-EI30","v":{"$error":"#VALUE!"}},0,"",{"$f":"(IF(DC24=3,BA24,0)+IF(DC25=3,BA25,0)+IF(DC26=3,BA26,0)+IF(DC27=3,BA27,0)+IF(DC28=3,BA28,0)+IF(DC29=3,BA29,0))*(1-ED30/100)","v":0},0,0,"",{"$f":"DJ13*DR30/100*(1-ED30/100)","v":{"$error":"#VALUE!"}},{"$f":"DJ13*DS30/100*(1-ED30/100)","v":{"$error":"#VALUE!"}},{"$f":"DJ13*DT30/100*(1-ED30/100)","v":{"$error":"#VALUE!"}},{"$f":"DJ13*DU30/100*(1-ED30/100)","v":{"$error":"#VALUE!"}},{"$f":"IF(DP30=\"\",\"\",DJ13*(1-ED30/100)-EO30-EP30-EQ30-ER30)","v":""},{"$f":"IF(DP30=\"\",\"\",VLOOKUP(DJ24,Tehnology!I118:W125,11,FALSE)*ES30)","v":""},{"$f":"DJ15*DV30/100*(1-ED30/100)","v":{"$error":"#VALUE!"}},{"$f":"IF(DP30=\"\",\"\",DJ15*(1-ED30/100)-EU30)","v":""},{"$f":"DJ16*DW30/100*(1-ED30/100)","v":{"$error":"#VALUE!"}},{"$f":"IF(DP30=\"\",\"\",DJ16*(1-ED30/100)-EW30)","v":""},{"$f":"IF(ED30=100,0,IF(DP30=\"\",\"\",ES30*1000/EJ30))","v":""},{"$f":"IF(ED30=100,0,IF(DP30=\"\",\"\",ET30*1000/EJ30))","v":""},{"$f":"IF(ED30=100,0,IF(DP30=\"\",\"\",EV30*1000/EJ30))","v":""},{"$f":"IF(ED30=100,0,IF(DP30=\"\",\"\",EX30*1000/EJ30))","v":""},"",{"$f":"IF(DP30=\"\",\"\",EP30*1000)","v":""},"","","","",null,null,null,null,{"$f":"IF(D26=\"\",\"\",IF(AU26=AU26+BT26,C26*Tehnology!$AD$16,C26*Tehnology!$AD$16*AU26/(AU26+BT26)))","v":""}]
[null,"Noorlambad",{"$f":"'Ex animal'!CW43","v":0},null,{"$f":"IF('Feedin sheep (AFC)'!$B$5=0,'Feedin sheep (AFC)'!$AE$17,0)","v":0},{"$f":"IF('Feedin sheep (AFC)'!$B$5=0,'Feedin sheep (AFC)'!$AG$17,0)","v":0},null,null,{"$f":"IF(G31=\"\",0,VLOOKUP(G31,'Additional information'!$B$8:$F$16,2,FALSE))","v":0},null,null,null,null,{"$f":"IF(G31=\"\",0,VLOOKUP(G31,'Additional information'!$B$8:$F$16,3,FALSE)*'Ex animal'!CW43*H31*(AS31-AE31)/1000*I31/100/1000)","v":0},{"$f":"IF(G31=\"\",0,VLOOKUP(G31,'Additional information'!$B$8:$F$16,4,FALSE)*'Ex animal'!CW43*H31*(AS31-AE31)/1000*I31/100/1000)","v":0},{"$f":"IF(G31=\"\",0,VLOOKUP(G31,'Additional information'!$B$8:$F$16,5,FALSE)*'Ex animal'!CW43*H31*(AS31-AE31)/1000*I31/100/1000)","v":0},null,2.5,{"$f":"IF(D31=\"\",\"\",VLOOKUP(D31,Tehnology!C197:D201,2,FALSE))","v":""},null,null,null,null,null,null,null,null,{"$f":"IF(DC31=5,'Ex animal'!BQ43-'Ex animal'!BQ43*T31/100+'Ex animal'!BZ43*(1-T31/100),IF(DC31=3,'Ex animal'!BQ43-'Ex animal'!BQ43*T31/100+'Ex animal'!BZ43*(1-T31/100),IF(DC31=1,'Ex animal'!BQ43-'Ex animal'!BQ43*T31/100,IF(DC31=4,'Ex animal'!BQ43-'Ex animal'!BQ43*T31/100,0))))","v":0},{"$f":"IF(DC31=0,0,AB31)","v":0},{"$f":"IF(DC31=5,Q31,IF(DC31=3,Q31,0))","v":0},{"$f":"E31*F31/24","v":0},null,365,{"$f":"IF(DC31>0,H31*(AF31-AE31)/1000-((H31*(AF31-AE31)/1000)*T31)/100,0)","v":0},{"$f":"IF(DC31>0,H31*(AG31-AE31)/1000-((H31*(AG31-AE31)/1000)*T31)/100,0)","v":0},{"$f":"AF31","v":0},{"$f":"AG31","v":365},null,null,null,null,null,null,{"$f":"IF(DC31=2,IF('Feedin sheep (AFC)'!$B$5=0,AI31,AH31),0)","v":0},{"$f":"IF('Feedin sheep (AFC)'!$B$5=0,AK31,AJ31)","v":0},{"$f":"IF(DC31=2,0,IF('Feedin sheep (AFC)'!$B$5=0,AI31,AH31))","v":0},{"$f":"IF(D31=\"\",\"\",IF(C31=0,0,(AC31*C31/AS31*(AS31*24-(E31*F31))/24)+(AD31*C31)+(AT31*C31)+BS31*U31/100))","v":""},{"$f":"IF(DC31=5,'Ex animal'!BZ43*'Ex animal'!CA43/100-(('Ex animal'!BZ43*'Ex animal'!CA43/100)*T31/100)-(('Ex animal'!BQ43*'Ex animal'!BR43/100)*T31/100)+'Ex animal'!BQ43*'Ex animal'!BR43/100,IF(DC31=3,'Ex animal'!BZ43*'Ex animal'!CA43/100-(('Ex animal'!BZ43*'Ex animal'!CA43/100)*T31/100)-(('Ex animal'!BQ43*'Ex animal'!BR43/100)*T31/100)+'Ex animal'!BQ43*'Ex animal'!BR43/100,IF(DC31=1,'Ex animal'!BQ43*'Ex animal'!BR43/100-(('Ex animal'!BQ43*'Ex animal'!BR43/100)*T31/100),IF(DC31=4,'Ex animal'!BQ43*'Ex animal'!BR43/100-(('Ex animal'!BQ43*'Ex animal'!BR43/100)*T31/100),0))))","v":0},{"$f":"IF(DC31=0,0,AV31)","v":0},{"$f":"IF(DC31=5,Q31*R31/100,IF(DC31=3,Q31*R31/100,0))","v":0},{"$f":"IF(H31=\"\",0,IF(DC31>0,H31*AS31/1000*I31/100-(H31*AS31/1000*I31/100*(T31/100)),0))","v":0},{"$f":"IF(D31=\"\",\"\",IF(AU31>0,((AW31*'Ex animal'!CW43/AS31*(AS31*24-(E31*F31))/24)+(AX31*'Ex animal'!CW43)+(AY31*'Ex animal'!CW43)+(BS31*BY31/100*U31/100))/AU31*100,0))","v":""},{"$f":"AU31*AZ31/100","v":{"$error":"#VALUE!"}},{"$f":"IF(DC31=5,'Ex animal'!BS43+'Ex animal'!CB43,IF(DC31=3,'Ex animal'!BS43+'Ex animal'!CB43,IF(DC31=1,'Ex animal'!BS43,IF(DC31=4,'Ex animal'!BS43,0))))","v":0},{"$f":"IF(DC31=0,0,BB31)","v":0},{"$f":"IF(H31=\"\",0,IF(DC31>0,N31,0))","v":0},{"$f":"IF(D31=\"\",\"\",IF(C31=0,0,IF(DC31=1,(BC31/1000*C31/AS31*(AS31*24-(E31*F31))/24)+BD31+(CE31*U31/100),IF(DC31=4,(BC31/1000*C31/AS31*(AS31*24-(E31*F31))/24)+BD31+(CE31*U31/100),IF(BT31>0,0,((BC31/1000*C31/AS31*(AS31*24-(E31*F31))/24)+(BD31))+(CE31*U31/100)-CT31/1000)))))","v":""},{"$f":"IF(DC31=5,'Ex animal'!BT43+'Ex animal'!CH43,IF(DC31=3,'Ex animal'!BT43+'Ex animal'!CH43,IF(DC31=1,'Ex animal'!BT43,IF(DC31=4,'Ex animal'!BT43,0))))","v":0},{"$f":"IF(DC31=0,0,BF31)","v":0},{"$f":"IF(H31=\"\",0,IF(DC31=2,0,O31))","v":0},{"$f":"IF(D31=\"\",\"\",IF(C31=0,0,((BG31/1000*'Ex animal'!CW43/AS31*(AS31*24-(E31*F31))/24)+(BH31))+CL31*U31/100))","v":""},{"$f":"IF(DC31=5,'Ex animal'!BY43+'Ex animal'!CI43,IF(DC31=3,'Ex animal'!BY43+'Ex animal'!CI43,IF(DC31=1,'Ex animal'!BY43,IF(DC31=4,'Ex animal'!BY43,0))))","v":0},{"$f":"IF(DC31=0,0,BJ31)","v":0},{"$f":"IF(H31=\"\",0,IF(DC31=2,0,P31))","v":0},{"$f":"IF(D31=\"\",\"\",IF(C31=0,0,((BK31/1000*'Ex animal'!CW43/AS31*(AS31*24-(E31*F31))/24)+(BL31))+CR31*U31/100))","v":""},{"$f":"IF(DC31=5,0,IF(DC31=3,0,IF(DC31=1,'Ex animal'!BZ43,IF(DC31=4,'Ex animal'!BZ43,'Ex animal'!BZ43+'Ex animal'!BQ43))))","v":0},{"$f":"IF(DC31=0,0,BN31)","v":0},{"$f":"IF(DC31=4,Q31,IF(DC31=2,Q31,IF(DC31=1,Q31,0)))","v":0},{"$f":"IF(DC31=0,H31,0)","v":0},{"$f":"BS31*U31/100","v":{"$error":"#DIV/0!"}},{"$f":"(BO31*'Ex animal'!CW43/AS31*(AS31*24-(E31*F31))/24)+(BP31*'Ex animal'!CW43)+(BQ31*'Ex animal'!CW43)+AR31","v":{"$error":"#DIV/0!"}},{"$f":"IF(D31=\"\",\"\",IF(C31=0,0,BS31-BR31))","v":""},{"$f":"IF(DC31=5,0,IF(DC31=3,0,IF(DC31=1,'Ex animal'!BZ43*'Ex animal'!CA43/100,IF(DC31=4,'Ex animal'!BZ43*'Ex animal'!CA43/100,'Ex animal'!BQ43*'Ex animal'!BR43/100+'Ex animal'!BZ43*'Ex animal'!CA43/100))))","v":0},{"$f":"IF(DC31=0,0,BU31)","v":0},{"$f":"IF(DC31=4,Q31*R31/100,IF(DC31=2,Q31*R31/100,IF(DC31=1,Q31*R31/100,0)))","v":0},{"$f":"IF(H31=\"\",0,IF(DC31=2,(H31*(AS31-AE31))/1000*I31/100,0)+AR31)","v":0},{"$f":"IF(D31=\"\",\"\",IF(C31=0,0,IF(BS31=0,0,((BV31*'Ex animal'!CW43/AS31*(AS31*24-(E31*F31))/24)+(BW31*'Ex animal'!CW43)+(BX31*'Ex animal'!CW43))/BS31*100)))","v":""},{"$f":"BT31*BY31/100","v":{"$error":"#VALUE!"}},{"$f":"IF(DC31=5,0,IF(DC31=3,0,IF(DC31=1,'Ex animal'!CB43,IF(DC31=4,'Ex animal'!CB43,'Ex animal'!BS43+'Ex animal'!CB43))))","v":0},{"$f":"IF(DC31=0,0,CA31)","v":0},{"$f":"IF(AU31=0,N31,0)","v":0},{"$f":"CE31*U31/100","v":{"$error":"#DIV/0!"}},{"$f":"IF(BT31>0,((CB31/1000*'Ex animal'!CW43/AS31*(AS31*24-(E31*F31))/24)-('Ex animal'!CB43/1000*'Ex animal'!CW43*S31/100)+(CC31)),0)","v":{"$error":"#DIV/0!"}},null,{"$f":"IF(D31=\"\",\"\",IF(C31=0,0,CE31-CD31))","v":""},{"$f":"IF(DC31=5,0,IF(DC31=3,0,IF(DC31=1,'Ex animal'!CH43,IF(DC31=4,'Ex animal'!CH43,'Ex animal'!BT43+'Ex animal'!CH43))))","v":0},{"$f":"IF(DC31=0,0,CH31)","v":0},{"$f":"IF(DC31=2,O31,0)","v":0},{"$f":"CL31*U31/100","v":{"$error":"#DIV/0!"}},{"$f":"((CI31/1000*'Ex animal'!CW43/AS31*(AS31*24-(E31*F31))/24)+(CJ31))","v":{"$error":"#DIV/0!"}},{"$f":"IF(D31=\"\",\"\",IF(C31=0,0,CL31-CK31))","v":""},{"$f":"IF(DC31=5,0,IF(DC31=3,0,IF(DC31=1,'Ex animal'!CI43,IF(DC31=4,'Ex animal'!CI43,'Ex animal'!CI43+'Ex animal'!BY43))))","v":0},{"$f":"IF(DC31=0,0,CN31)","v":0},{"$f":"IF(DC31=2,P31,0)","v":0},{"$f":"CR31*U31/100","v":{"$error":"#DIV/0!"}},{"$f":"((CO31/1000*'Ex animal'!CW43/AS31*(AS31*24-(E31*F31))/24)+(CP31))","v":{"$error":"#DIV/0!"}},{"$f":"IF(D31=\"\",\"\",IF(C31=0,0,CR31-CQ31))","v":""},{"$f":"IF(D31=\"\",\"\",IF('Ex animal'!CW43=0,0,('Ex animal'!CB43*S31*'Ex animal'!CW43/100)-('Ex animal'!CB43*S31*'Ex animal'!CW43/100)/AS31*(E31*F31/24)))","v":""},{"$f":"IF(D31=\"\",\"\",IF(AU31=0,0,BE31*1000/AU31))","v":""},{"$f":"IF(D31=\"\",\"\",IF(AU31=0,0,BI31*1000/AU31))","v":""},{"$f":"IF(D31=\"\",\"\",IF(AU31=0,0,BM31*1000/AU31))","v":""},{"$f":"IF(D31=\"\",\"\",IF(BT31=0,0,CG31*1000/BT31))","v":""},{"$f":"IF(D31=\"\",\"\",IF(BT31=0,0,CM31*1000/BT31))","v":""},{"$f":"IF(D31=\"\",\"\",IF(BT31=0,0,CS31*1000/BT31))","v":""},40,{"$f":"IF(D31=\"\",\"\",VLOOKUP(D31,Tehnology!C197:E201,3,FALSE))","v":""},{"$f":"IF(D31=\"\",\"\",VLOOKUP(DB31,Tehnology!$I$10:$W$53,1,FALSE))","v":""},null,{"$f":"IF(DT47=\"\",0,DK13*1000*DT47/100*(ED47/100))","v":0},{"$f":"IF($DT$46=\"\",0,$DJ$13*1000*$DT$46/100*($ED$46/100))","v":0},{"$f":"IF(DT39=\"\",0,DK13*1000*DT39/100*(ED39/100))","v":0},{"$f":"IF($DT$38=\"\",0,$DJ$13*1000*$DT$38/100*($ED$38/100))","v":0},{"$f":"IF(DT14=\"\",0,DJ13*1000*DT14/100*(ED14/100))","v":0},{"$f":"IF(DT15=\"\",0,DK13*1000*DT15/100*(ED15/100))","v":0},{"$f":"IF(DT22=\"\",0,DJ13*1000*DT22/100*(ED22/100))","v":0},{"$f":"IF(DT23=\"\",0,DK13*1000*DT23/100*(ED23/100))","v":0},{"$f":"IF($DT$30=\"\",0,$DJ$13*1000*$DT$30/100*($ED$30/100))","v":0},null,null,{"$f":"IF(SUM($C$24:$C$29)=0,\"\",IF(SUM($C$24:$C$29)>0,IF(VLOOKUP($DA$24,$DA$11:$DA$29,1,FALSE),IF(DK11=\"\",\"\",\"Sügavallapanusõnnik\"),\"\")))","v":""},null,{"$f":"IF(DP31=\"\",\"\",VLOOKUP($DQ$31,Tehnology!J127:K134,2,FALSE))","v":""},{"$f":"IF(DP31=\"\",\"\",VLOOKUP(#REF!,Tehnology!I127:W134,7,FALSE))","v":""},{"$f":"IF(DP31=\"\",\"\",VLOOKUP($DK$24,Tehnology!I127:W134,9,FALSE))","v":""},{"$f":"IF(DP31=\"\",\"\",VLOOKUP($DQ$15,Tehnology!J127:W134,12,FALSE))","v":""},{"$f":"IF(DP31=\"\",\"\",VLOOKUP($DQ$15,Tehnology!J127:W134,13,FALSE))","v":""},{"$f":"IF(DP31=\"\",\"\",VLOOKUP($DQ$15,Tehnology!J127:W134,14,FALSE))","v":""},null,null,null,null,null,null,null,null,{"$f":"DK11*(1-ED31/100)","v":{"$error":"#VALUE!"}},{"$error":"#VALUE!"},{"$error":"#VALUE!"},0,"",{"$f":"IF(DC24=4,BA24,0)+IF(DC25=4,BA25,0)+IF(DC26=4,BA26,0)+IF(DC27=4,BA27,0)+IF(DC28=4,BA28,0)+IF(DC29=4,BA29,0)","v":0},0,0,"",{"$f":"DK13*DR31/100","v":{"$error":"#VALUE!"}},{"$f":"DK13*DS31/100","v":{"$error":"#VALUE!"}},{"$f":"DK13*DT31/100","v":{"$error":"#VALUE!"}},{"$f":"DK13*DU31/100","v":{"$error":"#VALUE!"}},{"$f":"IF(DP31=\"\",\"\",DK13-EO31-EP31-EQ31-ER31)","v":""},{"$f":"IF(DP31=\"\",\"\",VLOOKUP(#REF!,Tehnology!I127:W134,11,FALSE)*ES31)","v":""},{"$f":"DK15*DV31/100","v":{"$error":"#VALUE!"}},{"$f":"IF(DP31=\"\",\"\",DK15-EU31)","v":""},{"$f":"DK16*DW31/100","v":{"$error":"#VALUE!"}},{"$f":"IF(DP31=\"\",\"\",DK16-EW31)","v":""},{"$f":"IF(ED31=100,0,IF(DP31=\"\",\"\",ES31*1000/EJ31))","v":""},{"$f":"IF(ED31=100,0,IF(DP31=\"\",\"\",ET31*1000/EJ31))","v":""},{"$f":"IF(ED31=100,0,IF(DP31=\"\",\"\",EV31*1000/EJ31))","v":""},{"$f":"IF(ED31=100,0,IF(DP31=\"\",\"\",EX31*1000/EJ31))","v":""},"","","","","","",null,null,null,null,{"$f":"IF(D27=\"\",\"\",IF(AU27=AU27+BT27,C27*Tehnology!$AD$16,C27*Tehnology!$AD$16*AU27/(AU27+BT27)))","v":""}]
[null,"Uted koos talledega",{"$f":"'Ex animal'!CW44","v":0},null,{"$f":"IF('Feedin sheep (AFC)'!$B$5=0,'Feedin sheep (AFC)'!$U$17,0)","v":0},{"$f":"IF('Feedin sheep (AFC)'!$B$5=0,'Feedin sheep (AFC)'!$W$17,0)","v":0},null,null,{"$f":"IF(G32=\"\",0,VLOOKUP(G32,'Additional information'!$B$8:$F$16,2,FALSE))","v":0},null,null,null,null,{"$f":"IF(G32=\"\",0,VLOOKUP(G32,'Additional information'!$B$8:$F$16,3,FALSE)*'Ex animal'!CW44*H32*(AS32-AE32)/1000*I32/100/1000)","v":0},{"$f":"IF(G32=\"\",0,VLOOKUP(G32,'Additional information'!$B$8:$F$16,4,FALSE)*'Ex animal'!CW44*H32*(AS32-AE32)/1000*I32/100/1000)","v":0},{"$f":"IF(G32=\"\",0,VLOOKUP(G32,'Additional information'!$B$8:$F$16,5,FALSE)*'Ex animal'!CW44*H32*(AS32-AE32)/1000*I32/100/1000)","v":0},null,2.5,{"$f":"IF(D32=\"\",\"\",VLOOKUP(D32,Tehnology!C197:D201,2,FALSE))","v":""},null,null,null,null,null,null,null,null,{"$f":"IF(DC32=5,'Ex animal'!BQ44-'Ex animal'!BQ44*T32/100+'Ex animal'!BZ44*(1-T32/100),IF(DC32=3,'Ex animal'!BQ44-'Ex animal'!BQ44*T32/100+'Ex animal'!BZ44*(1-T32/100),IF(DC32=1,'Ex animal'!BQ44-'Ex animal'!BQ44*T32/100,IF(DC32=4,'Ex animal'!BQ44-'Ex animal'!BQ44*T32/100,0))))","v":0},{"$f":"IF(DC32=0,0,AB32)","v":0},{"$f":"IF(DC32=5,Q32,IF(DC32=3,Q32,0))","v":0},{"$f":"E32*F32/24","v":0},null,365,{"$f":"IF(DC32>0,H32*(AF32-AE32)/1000-((H32*(AF32-AE32)/1000)*T32)/100,0)","v":0},{"$f":"IF(DC32>0,H32*(AG32-AE32)/1000-((H32*(AG32-AE32)/1000)*T32)/100,0)","v":0},{"$f":"AF32","v":0},{"$f":"AG32","v":365},null,null,null,null,null,null,{"$f":"IF(DC32=2,IF('Feedin sheep (AFC)'!$B$5=0,AI32,AH32),0)","v":0},{"$f":"IF('Feedin sheep (AFC)'!$B$5=0,AK32,AJ32)","v":0},{"$f":"IF(DC32=2,0,IF('Feedin sheep (AFC)'!$B$5=0,AI32,AH32))","v":0},{"$f":"IF(D32=\"\",\"\",IF(C32=0,0,(AC32*C32/AS32*(AS32*24-(E32*F32))/24)+(AD32*C32)+(AT32*C32)+BS32*U32/100))","v":""},{"$f":"IF(DC32=5,'Ex animal'!BZ44*'Ex animal'!CA44/100-(('Ex animal'!BZ44*'Ex animal'!CA44/100)*T32/100)-(('Ex animal'!BQ44*'Ex animal'!BR44/100)*T32/100)+'Ex animal'!BQ44*'Ex animal'!BR44/100,IF(DC32=3,'Ex animal'!BZ44*'Ex animal'!CA44/100-(('Ex animal'!BZ44*'Ex animal'!CA44/100)*T32/100)-(('Ex animal'!BQ44*'Ex animal'!BR44/100)*T32/100)+'Ex animal'!BQ44*'Ex animal'!BR44/100,IF(DC32=1,'Ex animal'!BQ44*'Ex animal'!BR44/100-(('Ex animal'!BQ44*'Ex animal'!BR44/100)*T32/100),IF(DC32=4,'Ex animal'!BQ44*'Ex animal'!BR44/100-(('Ex animal'!BQ44*'Ex animal'!BR44/100)*T32/100),0))))","v":0},{"$f":"IF(DC32=0,0,AV32)","v":0},{"$f":"IF(DC32=5,Q32*R32/100,IF(DC32=3,Q32*R32/100,0))","v":0},{"$f":"IF(H32=\"\",0,IF(DC32>0,H32*AS32/1000*I32/100-(H32*AS32/1000*I32/100*(T32/100)),0))","v":0},{"$f":"IF(D32=\"\",\"\",IF(AU32>0,((AW32*'Ex animal'!CW44/AS32*(AS32*24-(E32*F32))/24)+(AX32*'Ex animal'!CW44)+(AY32*'Ex animal'!CW44)+(BS32*BY32/100*U32/100))/AU32*100,0))","v":""},{"$f":"AU32*AZ32/100","v":{"$error":"#VALUE!"}},{"$f":"IF(DC32=5,'Ex animal'!BS44+'Ex animal'!CB44,IF(DC32=3,'Ex animal'!BS44+'Ex animal'!CB44,IF(DC32=1,'Ex animal'!BS44,IF(DC32=4,'Ex animal'!BS44,0))))","v":0},{"$f":"IF(DC32=0,0,BB32)","v":0},{"$f":"IF(H32=\"\",0,IF(DC32>0,N32,0))","v":0},{"$f":"IF(D32=\"\",\"\",IF(C32=0,0,IF(DC32=1,(BC32/1000*C32/AS32*(AS32*24-(E32*F32))/24)+BD32+(CE32*U32/100),IF(DC32=4,(BC32/1000*C32/AS32*(AS32*24-(E32*F32))/24)+BD32+(CE32*U32/100),IF(BT32>0,0,((BC32/1000*C32/AS32*(AS32*24-(E32*F32))/24)+(BD32))+(CE32*U32/100)-CT32/1000)))))","v":""},{"$f":"IF(DC32=5,'Ex animal'!BT44+'Ex animal'!CH44,IF(DC32=3,'Ex animal'!BT44+'Ex animal'!CH44,IF(DC32=1,'Ex animal'!BT44,IF(DC32=4,'Ex animal'!BT44,0))))","v":0},{"$f":"IF(DC32=0,0,BF32)","v":0},{"$f":"IF(H32=\"\",0,IF(DC32=2,0,O32))","v":0},{"$f":"IF(D32=\"\",\"\",IF(C32=0,0,((BG32/1000*'Ex animal'!CW44/AS32*(AS32*24-(E32*F32))/24)+(BH32))+CL32*U32/100))","v":""},{"$f":"IF(DC32=5,'Ex animal'!BY44+'Ex animal'!CI44,IF(DC32=3,'Ex animal'!BY44+'Ex animal'!CI44,IF(DC32=1,'Ex animal'!BY44,IF(DC32=4,'Ex animal'!BY44,0))))","v":0},{"$f":"IF(DC32=0,0,BJ32)","v":0},{"$f":"IF(H32=\"\",0,IF(DC32=2,0,P32))","v":0},{"$f":"IF(D32=\"\",\"\",IF(C32=0,0,((BK32/1000*'Ex animal'!CW44/AS32*(AS32*24-(E32*F32))/24)+(BL32))+CR32*U32/100))","v":""},{"$f":"IF(DC32=5,0,IF(DC32=3,0,IF(DC32=1,'Ex animal'!BZ44,IF(DC32=4,'Ex animal'!BZ44,'Ex animal'!BZ44+'Ex animal'!BQ44))))","v":0},{"$f":"IF(DC32=0,0,BN32)","v":0},{"$f":"IF(DC32=4,Q32,IF(DC32=2,Q32,IF(DC32=1,Q32,0)))","v":0},{"$f":"IF(DC32=0,H32,0)","v":0},{"$f":"BS32*U32/100","v":{"$error":"#DIV/0!"}},{"$f":"(BO32*'Ex animal'!CW44/AS32*(AS32*24-(E32*F32))/24)+(BP32*'Ex animal'!CW44)+(BQ32*'Ex animal'!CW44)+AR32","v":{"$error":"#DIV/0!"}},{"$f":"IF(D32=\"\",\"\",IF(C32=0,0,BS32-BR32))","v":""},{"$f":"IF(DC32=5,0,IF(DC32=3,0,IF(DC32=1,'Ex animal'!BZ44*'Ex animal'!CA44/100,IF(DC32=4,'Ex animal'!BZ44*'Ex animal'!CA44/100,'Ex animal'!BQ44*'Ex animal'!BR44/100+'Ex animal'!BZ44*'Ex animal'!CA44/100))))","v":0},{"$f":"IF(DC32=0,0,BU32)","v":0},{"$f":"IF(DC32=4,Q32*R32/100,IF(DC32=2,Q32*R32/100,IF(DC32=1,Q32*R32/100,0)))","v":0},{"$f":"IF(H32=\"\",0,IF(DC32=2,(H32*(AS32-AE32))/1000*I32/100,0)+AR32)","v":0},{"$f":"IF(D32=\"\",\"\",IF(C32=0,0,IF(BS32=0,0,((BV32*'Ex animal'!CW44/AS32*(AS32*24-(E32*F32))/24)+(BW32*'Ex animal'!CW44)+(BX32*'Ex animal'!CW44))/BS32*100)))","v":""},{"$f":"BT32*BY32/100","v":{"$error":"#VALUE!"}},{"$f":"IF(DC32=5,0,IF(DC32=3,0,IF(DC32=1,'Ex animal'!CB44,IF(DC32=4,'Ex animal'!CB44,'Ex animal'!BS44+'Ex animal'!CB44))))","v":0},{"$f":"IF(DC32=0,0,CA32)","v":0},{"$f":"IF(AU32=0,N32,0)","v":0},{"$f":"CE32*U32/100","v":{"$error":"#DIV/0!"}},{"$f":"IF(BT32>0,((CB32/1000*'Ex animal'!CW44/AS32*(AS32*24-(E32*F32))/24)-('Ex animal'!CB44/1000*'Ex animal'!CW44*S32/100)+(CC32)),0)","v":{"$error":"#DIV/0!"}},null,{"$f":"IF(D32=\"\",\"\",IF(C32=0,0,CE32-CD32))","v":""},{"$f":"IF(DC32=5,0,IF(DC32=3,0,IF(DC32=1,'Ex animal'!CH44,IF(DC32=4,'Ex animal'!CH44,'Ex animal'!BT44+'Ex animal'!CH44))))","v":0},{"$f":"IF(DC32=0,0,CH32)","v":0},{"$f":"IF(DC32=2,O32,0)","v":0},{"$f":"CL32*U32/100","v":{"$error":"#DIV/0!"}},{"$f":"((CI32/1000*'Ex animal'!CW44/AS32*(AS32*24-(E32*F32))/24)+(CJ32))","v":{"$error":"#DIV/0!"}},{"$f":"IF(D32=\"\",\"\",IF(C32=0,0,CL32-CK32))","v":""},{"$f":"IF(DC32=5,0,IF(DC32=3,0,IF(DC32=1,'Ex animal'!CI44,IF(DC32=4,'Ex animal'!CI44,'Ex animal'!CI44+'Ex animal'!BY44))))","v":0},{"$f":"IF(DC32=0,0,CN32)","v":0},{"$f":"IF(DC32=2,P32,0)","v":0},{"$f":"CR32*U32/100","v":{"$error":"#DIV/0!"}},{"$f":"((CO32/1000*'Ex animal'!CW44/AS32*(AS32*24-(E32*F32))/24)+(CP32))","v":{"$error":"#DIV/0!"}},{"$f":"IF(D32=\"\",\"\",IF(C32=0,0,CR32-CQ32))","v":""},{"$f":"IF(D32=\"\",\"\",IF('Ex animal'!CW44=0,0,('Ex animal'!CB44*S32*'Ex animal'!CW44/100)-('Ex animal'!CB44*S32*'Ex animal'!CW44/100)/AS32*(E32*F32/24)))","v":""},{"$f":"IF(D32=\"\",\"\",IF(AU32=0,0,BE32*1000/AU32))","v":""},{"$f":"IF(D32=\"\",\"\",IF(AU32=0,0,BI32*1000/AU32))","v":""},{"$f":"IF(D32=\"\",\"\",IF(AU32=0,0,BM32*1000/AU32))","v":""},{"$f":"IF(D32=\"\",\"\",IF(BT32=0,0,CG32*1000/BT32))","v":""},{"$f":"IF(D32=\"\",\"\",IF(BT32=0,0,CM32*1000/BT32))","v":""},{"$f":"IF(D32=\"\",\"\",IF(BT32=0,0,CS32*1000/BT32))","v":""},null,{"$f":"IF(D32=\"\",\"\",VLOOKUP(D32,Tehnology!C197:E201,3,FALSE))","v":""},{"$f":"IF(D32=\"\",\"\",VLOOKUP(DB32,Tehnology!$I$10:$W$53,1,FALSE))","v":""},null,{"$f":"IF(DT55=\"\",0,DK13*1000*DT55/100*(ED55/100))","v":0},{"$f":"IF($DT$54=\"\",0,$DJ$13*1000*$DT$54/100*($ED$54/100))","v":0},null,null,null,null,null,null,null,null,null,{"$f":"IF(SUM($C$24:$C$29)=0,\"\",IF(SUM($C$24:$C$29)>0,IF(VLOOKUP($DA$24,$DA$11:$DA$29,1,FALSE),IF(DL11=\"\",\"\",\"Vedelsõnnik\"),\"\")))","v":""},null,{"$f":"IF(DP32=\"\",\"\",VLOOKUP(DQ32,Tehnology!L127:N134,3,FALSE))","v":""},{"$f":"IF(DP32=\"\",\"\",VLOOKUP($DK$24,Tehnology!I127:W134,8,FALSE))","v":""},{"$f":"IF(DP32=\"\",\"\",VLOOKUP($DK$24,Tehnology!I127:W134,10,FALSE))","v":""},null,null,null,null,null,null,null,null,null,null,null,{"$f":"DL11+SUM(DZ66:DZ69)","v":{"$error":"#VALUE!"}},{"$error":"#VALUE!"},{"$f":"EG32-((EK32+DY32*DZ32/1000*0/100)*EA32/100)-EI32","v":{"$error":"#VALUE!"}},{"$f":"IF(DQ32=\"Storage roofed\",DY32*EC32/1000,0)","v":0},{"$f":"IF(DP32=\"\",\"\",EH32-(DY32*DZ32/1000-DY32*DZ32/1000*(1-(EB32/100))))","v":""},{"$f":"IF(DC24=4,BZ24,0)+IF(DC25=4,BZ25,0)+IF(DC26=4,BZ26,0)+IF(DC27=4,BZ27,0)+IF(DC28=4,BZ28,0)+IF(DC29=4,BZ29,0)","v":0},{"$f":"EK32+(DY32*DZ32/1000*0/100)","v":0},{"$f":"EL32-(EL32*EA32/100)","v":0},{"$f":"IF(DP32=\"\",\"\",IF(EJ32=0,0,EM32/EJ32*100))","v":""},{"$f":"DL13*DR32/100*0.4","v":{"$error":"#VALUE!"}},null,{"$f":"DL13*DT32/100","v":{"$error":"#VALUE!"}},null,{"$f":"IF(DP32=\"\",\"\",DL27-EO32-EP32-EQ32-ER32)","v":""},{"$f":"IF(DP32=\"\",\"\",VLOOKUP(#REF!,Tehnology!I127:W134,12,FALSE)*ES32)","v":""},null,{"$f":"IF(DP32=\"\",\"\",DL15-EU32)","v":""},null,{"$f":"IF(DP32=\"\",\"\",DL16-EW32)","v":""},{"$f":"IF(DP32=\"\",\"\",ES32*1000/EJ32)","v":""},{"$f":"IF(DP32=\"\",\"\",ET32*1000/EJ32)","v":""},{"$f":"IF(DP32=\"\",\"\",EV32*1000/EJ32)","v":""},{"$f":"IF(DP32=\"\",\"\",EX32*1000/EJ32)","v":""},"","","","","","",null,null,null,null,{"$f":"IF(D28=\"\",\"\",IF(AU28=AU28+BT28,C28*Tehnology!$AD$16,C28*Tehnology!$AD$16*AU28/(AU28+BT28)))","v":""}]
[null,"Jäärad",{"$f":"'Ex animal'!CW45","v":0},null,{"$f":"IF('Feedin sheep (AFC)'!$B$5=0,'Feedin sheep (AFC)'!$AO$17,0)","v":0},{"$f":"IF('Feedin sheep (AFC)'!$B$5=0,'Feedin sheep (AFC)'!$AQ$17,0)","v":0},null,null,{"$f":"IF(G33=\"\",0,VLOOKUP(G33,'Additional information'!$B$8:$F$16,2,FALSE))","v":0},null,null,null,null,{"$f":"IF(G33=\"\",0,VLOOKUP(G33,'Additional information'!$B$8:$F$16,3,FALSE)*'Ex animal'!CW45*H33*(AS33-AE33)/1000*I33/100/1000)","v":0},{"$f":"IF(G33=\"\",0,VLOOKUP(G33,'Additional information'!$B$8:$F$16,4,FALSE)*'Ex animal'!CW45*H33*(AS33-AE33)/1000*I33/100/1000)","v":0},{"$f":"IF(G33=\"\",0,VLOOKUP(G33,'Additional information'!$B$8:$F$16,5,FALSE)*'Ex animal'!CW45*H33*(AS33-AE33)/1000*I33/100/1000)","v":0},null,2.5,{"$f":"IF(D33=\"\",\"\",VLOOKUP(D33,Tehnology!C197:D201,2,FALSE))","v":""},null,null,null,null,null,null,null,null,{"$f":"IF(DC33=5,'Ex animal'!BQ45-'Ex animal'!BQ45*T33/100+'Ex animal'!BZ45*(1-T33/100),IF(DC33=3,'Ex animal'!BQ45-'Ex animal'!BQ45*T33/100+'Ex animal'!BZ45*(1-T33/100),IF(DC33=1,'Ex animal'!BQ45-'Ex animal'!BQ45*T33/100,IF(DC33=4,'Ex animal'!BQ45-'Ex animal'!BQ45*T33/100,0))))","v":0},{"$f":"IF(DC33=0,0,AB33)","v":0},{"$f":"IF(DC33=5,Q33,IF(DC33=3,Q33,0))","v":0},{"$f":"E33*F33/24","v":0},null,365,{"$f":"IF(DC33>0,H33*(AF33-AE33)/1000-((H33*(AF33-AE33)/1000)*T33)/100,0)","v":0},{"$f":"IF(DC33>0,H33*(AG33-AE33)/1000-((H33*(AG33-AE33)/1000)*T33)/100,0)","v":0},{"$f":"AF33","v":0},{"$f":"AG33","v":365},null,null,null,null,null,null,{"$f":"IF(DC33=2,IF('Feedin sheep (AFC)'!$B$5=0,AI33,AH33),0)","v":0},{"$f":"IF('Feedin sheep (AFC)'!$B$5=0,AK33,AJ33)","v":0},{"$f":"IF(DC33=2,0,IF('Feedin sheep (AFC)'!$B$5=0,AI33,AH33))","v":0},{"$f":"IF(D33=\"\",\"\",IF(C33=0,0,(AC33*C33/AS33*(AS33*24-(E33*F33))/24)+(AD33*C33)+(AT33*C33)+BS33*U33/100))","v":""},{"$f":"IF(DC33=5,'Ex animal'!BZ45*'Ex animal'!CA45/100-(('Ex animal'!BZ45*'Ex animal'!CA45/100)*T33/100)-(('Ex animal'!BQ45*'Ex animal'!BR45/100)*T33/100)+'Ex animal'!BQ45*'Ex animal'!BR45/100,IF(DC33=3,'Ex animal'!BZ45*'Ex animal'!CA45/100-(('Ex animal'!BZ45*'Ex animal'!CA45/100)*T33/100)-(('Ex animal'!BQ45*'Ex animal'!BR45/100)*T33/100)+'Ex animal'!BQ45*'Ex animal'!BR45/100,IF(DC33=1,'Ex animal'!BQ45*'Ex animal'!BR45/100-(('Ex animal'!BQ45*'Ex animal'!BR45/100)*T33/100),IF(DC33=4,'Ex animal'!BQ45*'Ex animal'!BR45/100-(('Ex animal'!BQ45*'Ex animal'!BR45/100)*T33/100),0))))","v":0},{"$f":"IF(DC33=0,0,AV33)","v":0},{"$f":"IF(DC33=5,Q33*R33/100,IF(DC33=3,Q33*R33/100,0))","v":0},{"$f":"IF(H33=\"\",0,IF(DC33>0,H33*AS33/1000*I33/100-(H33*AS33/1000*I33/100*(T33/100)),0))","v":0},{"$f":"IF(D33=\"\",\"\",IF(AU33>0,((AW33*'Ex animal'!CW45/AS33*(AS33*24-(E33*F33))/24)+(AX33*'Ex animal'!CW45)+(AY33*'Ex animal'!CW45)+(BS33*BY33/100*U33/100))/AU33*100,0))","v":""},{"$f":"AU33*AZ33/100","v":{"$error":"#VALUE!"}},{"$f":"IF(DC33=5,'Ex animal'!BS45+'Ex animal'!CB45,IF(DC33=3,'Ex animal'!BS45+'Ex animal'!CB45,IF(DC33=1,'Ex animal'!BS45,IF(DC33=4,'Ex animal'!BS45,0))))","v":0},{"$f":"IF(DC33=0,0,BB33)","v":0},{"$f":"IF(H33=\"\",0,IF(DC33>0,N33,0))","v":0},{"$f":"IF(D33=\"\",\"\",IF(C33=0,0,IF(DC33=1,(BC33/1000*C33/AS33*(AS33*24-(E33*F33))/24)+BD33+(CE33*U33/100),IF(DC33=4,(BC33/1000*C33/AS33*(AS33*24-(E33*F33))/24)+BD33+(CE33*U33/100),IF(BT33>0,0,((BC33/1000*C33/AS33*(AS33*24-(E33*F33))/24)+(BD33))+(CE33*U33/100)-CT33/1000)))))","v":""},{"$f":"IF(DC33=5,'Ex animal'!BT45+'Ex animal'!CH45,IF(DC33=3,'Ex animal'!BT45+'Ex animal'!CH45,IF(DC33=1,'Ex animal'!BT45,IF(DC33=4,'Ex animal'!BT45,0))))","v":0},{"$f":"IF(DC33=0,0,BF33)","v":0},{"$f":"IF(H33=\"\",0,IF(DC33=2,0,O33))","v":0},{"$f":"IF(D33=\"\",\"\",IF(C33=0,0,((BG33/1000*'Ex animal'!CW45/AS33*(AS33*24-(E33*F33))/24)+(BH33))+CL33*U33/100))","v":""},{"$f":"IF(DC33=5,'Ex animal'!BY45+'Ex animal'!CI45,IF(DC33=3,'Ex animal'!BY45+'Ex animal'!CI45,IF(DC33=1,'Ex animal'!BY45,IF(DC33=4,'Ex animal'!BY45,0))))","v":0},{"$f":"IF(DC33=0,0,BJ33)","v":0},{"$f":"IF(H33=\"\",0,IF(DC33=2,0,P33))","v":0},{"$f":"IF(D33=\"\",\"\",IF(C33=0,0,((BK33/1000*'Ex animal'!CW45/AS33*(AS33*24-(E33*F33))/24)+(BL33))+CR33*U33/100))","v":""},{"$f":"IF(DC33=5,0,IF(DC33=3,0,IF(DC33=1,'Ex animal'!BZ45,IF(DC33=4,'Ex animal'!BZ45,'Ex animal'!BZ45+'Ex animal'!BQ45))))","v":0},{"$f":"IF(DC33=0,0,BN33)","v":0},{"$f":"IF(DC33=4,Q33,IF(DC33=2,Q33,IF(DC33=1,Q33,0)))","v":0},{"$f":"IF(DC33=0,H33,0)","v":0},{"$f":"BS33*U33/100","v":{"$error":"#DIV/0!"}},{"$f":"(BO33*'Ex animal'!CW45/AS33*(AS33*24-(E33*F33))/24)+(BP33*'Ex animal'!CW45)+(BQ33*'Ex animal'!CW45)+AR33","v":{"$error":"#DIV/0!"}},{"$f":"IF(D33=\"\",\"\",IF(C33=0,0,BS33-BR33))","v":""},{"$f":"IF(DC33=5,0,IF(DC33=3,0,IF(DC33=1,'Ex animal'!BZ45*'Ex animal'!CA45/100,IF(DC33=4,'Ex animal'!BZ45*'Ex animal'!CA45/100,'Ex animal'!BQ45*'Ex animal'!BR45/100+'Ex animal'!BZ45*'Ex animal'!CA45/100))))","v":0},{"$f":"IF(DC33=0,0,BU33)","v":0},{"$f":"IF(DC33=4,Q33*R33/100,IF(DC33=2,Q33*R33/100,IF(DC33=1,Q33*R33/100,0)))","v":0},{"$f":"IF(H33=\"\",0,IF(DC33=2,(H33*(AS33-AE33))/1000*I33/100,0)+AR33)","v":0},{"$f":"IF(D33=\"\",\"\",IF(C33=0,0,IF(BS33=0,0,((BV33*'Ex animal'!CW45/AS33*(AS33*24-(E33*F33))/24)+(BW33*'Ex animal'!CW45)+(BX33*'Ex animal'!CW45))/BS33*100)))","v":""},{"$f":"BT33*BY33/100","v":{"$error":"#VALUE!"}},{"$f":"IF(DC33=5,0,IF(DC33=3,0,IF(DC33=1,'Ex animal'!CB45,IF(DC33=4,'Ex animal'!CB45,'Ex animal'!BS45+'Ex animal'!CB45))))","v":0},{"$f":"IF(DC33=0,0,CA33)","v":0},{"$f":"IF(AU33=0,N33,0)","v":0},{"$f":"CE33*U33/100","v":{"$error":"#DIV/0!"}},{"$f":"IF(BT33>0,((CB33/1000*'Ex animal'!CW45/AS33*(AS33*24-(E33*F33))/24)-('Ex animal'!CB45/1000*'Ex animal'!CW45*S33/100)+(CC33)),0)","v":{"$error":"#DIV/0!"}},null,{"$f":"IF(D33=\"\",\"\",IF(C33=0,0,CE33-CD33))","v":""},{"$f":"IF(DC33=5,0,IF(DC33=3,0,IF(DC33=1,'Ex animal'!CH45,IF(DC33=4,'Ex animal'!CH45,'Ex animal'!BT45+'Ex animal'!CH45))))","v":0},{"$f":"IF(DC33=0,0,CH33)","v":0},{"$f":"IF(DC33=2,O33,0)","v":0},{"$f":"CL33*U33/100","v":{"$error":"#DIV/0!"}},{"$f":"((CI33/1000*'Ex animal'!CW45/AS33*(AS33*24-(E33*F33))/24)+(CJ33))","v":{"$error":"#DIV/0!"}},{"$f":"IF(D33=\"\",\"\",IF(C33=0,0,CL33-CK33))","v":""},{"$f":"IF(DC33=5,0,IF(DC33=3,0,IF(DC33=1,'Ex animal'!CI45,IF(DC33=4,'Ex animal'!CI45,'Ex animal'!CI45+'Ex animal'!BY45))))","v":0},{"$f":"IF(DC33=0,0,CN33)","v":0},{"$f":"IF(DC33=2,P33,0)","v":0},{"$f":"CR33*U33/100","v":{"$error":"#DIV/0!"}},{"$f":"((CO33/1000*'Ex animal'!CW45/AS33*(AS33*24-(E33*F33))/24)+(CP33))","v":{"$error":"#DIV/0!"}},{"$f":"IF(D33=\"\",\"\",IF(C33=0,0,CR33-CQ33))","v":""},{"$f":"IF(D33=\"\",\"\",IF('Ex animal'!CW45=0,0,('Ex animal'!CB45*S33*'Ex animal'!CW45/100)-('Ex animal'!CB45*S33*'Ex animal'!CW45/100)/AS33*(E33*F33/24)))","v":""},{"$f":"IF(D33=\"\",\"\",IF(AU33=0,0,BE33*1000/AU33))","v":""},{"$f":"IF(D33=\"\",\"\",IF(AU33=0,0,BI33*1000/AU33))","v":""},{"$f":"IF(D33=\"\",\"\",IF(AU33=0,0,BM33*1000/AU33))","v":""},{"$f":"IF(D33=\"\",\"\",IF(BT33=0,0,CG33*1000/BT33))","v":""},{"$f":"IF(D33=\"\",\"\",IF(BT33=0,0,CM33*1000/BT33))","v":""},{"$f":"IF(D33=\"\",\"\",IF(BT33=0,0,CS33*1000/BT33))","v":""},null,{"$f":"IF(D33=\"\",\"\",VLOOKUP(D33,Tehnology!C197:E201,3,FALSE))","v":""},{"$f":"IF(D33=\"\",\"\",VLOOKUP(DB33,Tehnology!$I$10:$W$53,1,FALSE))","v":""},null,null,null,null,null,null,null,null,null,null,null,null,{"$f":"IF(SUM(C24:C29)=0,\"\",IF(SUM(C24:C29)>0,IF(VLOOKUP(DA24,DA11:DA29,1,FALSE),IF(DM11=\"\",\"\",\"Tahesõnnik\"),\"\")))","v":""},null,{"$f":"IF(DP33=\"\",\"\",VLOOKUP(DQ33,Tehnology!J136:K143,2,FALSE))","v":""},{"$f":"IF(DP33=\"\",\"\",VLOOKUP($DM$24,Tehnology!I136:W143,7,FALSE))","v":""},{"$f":"IF(DP33=\"\",\"\",VLOOKUP($DM$24,Tehnology!I136:W143,9,FALSE))","v":""},{"$f":"IF(DP33=\"\",\"\",VLOOKUP($DQ$33,Tehnology!J136:W143,12,FALSE))","v":""},{"$f":"IF(DP33=\"\",\"\",VLOOKUP($DQ$33,Tehnology!J136:W143,13,FALSE))","v":""},{"$f":"IF(DP33=\"\",\"\",VLOOKUP($DQ$33,Tehnology!J136:W143,14,FALSE))","v":""},null,null,null,null,null,null,null,null,{"$f":"DM11*(1-ED33/100)","v":{"$error":"#VALUE!"}},{"$error":"#VALUE!"},{"$f":"EG33-((EK33+DY33*DZ33/1000*0/100)*EA33/100)-EI33","v":{"$error":"#VALUE!"}},{"$f":"IF(DQ33=\"Storage roofed\",DY33*EC33/1000,0)","v":0},{"$f":"IF(DP33=\"\",\"\",EH33-(DY33*DZ33/1000-DY33*DZ33/1000*(1-(EB33/100))))","v":""},{"$f":"(IF(DC24=5,BA24,0)+IF(DC25=5,BA25,0)+IF(DC26=5,BA26,0)+IF(DC27=5,BA27,0)+IF(DC28=5,BA28,0)+IF(DC29=5,BA29,0))*(1-ED33/100)","v":0},{"$f":"EK33+(DY33*DZ33/1000*0/100)","v":0},{"$f":"EL33-(EL33*EA33/100)","v":0},{"$f":"IF(DP33=\"\",\"\",IF(EJ33=0,0,EM33/EJ33*100))","v":""},{"$f":"DM13*DR33/100*(1-ED33/100)","v":{"$error":"#VALUE!"}},{"$f":"DM13*DS33/100*(1-ED33/100)","v":{"$error":"#VALUE!"}},{"$f":"DM13*DT33/100*(1-ED33/100)","v":{"$error":"#VALUE!"}},{"$f":"DM13*DU33/100*(1-ED33/100)","v":{"$error":"#VALUE!"}},{"$f":"IF(DP33=\"\",\"\",DM13*(1-ED33/100)-EO33-EP33-EQ33-ER33)","v":""},{"$f":"IF(DP33=\"\",\"\",VLOOKUP(DM24,Tehnology!I136:W143,11,FALSE)*ES33)","v":""},{"$f":"DM15*DV33/100*(1-ED33/100)","v":{"$error":"#VALUE!"}},{"$f":"IF(DP33=\"\",\"\",DM15*(1-ED33/100)-EU33)","v":""},{"$f":"DM16*DW33/100*(1-ED33/100)","v":{"$error":"#VALUE!"}},{"$f":"IF(DP33=\"\",\"\",DM16*(1-ED33/100)-EW33)","v":""},{"$f":"IF(ED33=100,0,IF(DP33=\"\",\"\",ES33*1000/EJ33))","v":""},{"$f":"IF(ED33=100,0,IF(DP33=\"\",\"\",ET33*1000/EJ33))","v":""},{"$f":"IF(ED33=100,0,IF(DP33=\"\",\"\",EV33*1000/EJ33))","v":""},{"$f":"IF(ED33=100,0,IF(DP33=\"\",\"\",EX33*1000/EJ33))","v":""},{"$f":"IF(DP33=\"\",\"\",EO33*1000)","v":""},{"$f":"IF(DP33=\"\",\"\",EP33*1000)","v":""},{"$f":"IF(DP33=\"\",\"\",EQ33*1000)","v":""},{"$f":"IF(DP33=\"\",\"\",ER33*1000)","v":""},{"$f":"IF(DP33=\"\",\"\",EU33*1000)","v":""},{"$f":"IF(DP33=\"\",\"\",EW33*1000)","v":""},null,null,null,null,{"$f":"IF(D29=\"\",\"\",IF(AU29=AU29+BT29,C29*Tehnology!$AD$16,C29*Tehnology!$AD$16*AU29/(AU29+BT29)))","v":""}]
[null,null,null,null,null,null,null,null,null,null,null,null,null,null,null,null,null,null,null,null,null,null,null,null,null,null,null,null,null,null,null,null,null,null,null,null,null,null,null,null,null,null,null,null,null,null,null,null,null,null,null,null,null,null,null,null,null,null,null,null,null,null,null,null,null,null,null,null,null,null,null,null,null,null,null,null,null,null,null,null,null,null,null,null,null,null,null,null,null,null,null,null,null,null,null,null,null,null,null,null,null,null,null,null,null,null,null,null,null,null,null,null,null,null,null,null,null,null,null,null,null,{"$f":"IF(CK33>28,CJ33,\"\")","v":{"$error":"#DIV/0!"}}]
[null,"Lüpsikitsed koos talledega",{"$f":"'Ex animal'!CW52","v":0},null,{"$f":"IF('Feedin goats (AFC)'!$B$5=0,'Feedin goats (AFC)'!$U$17,0)","v":0},{"$f":"IF('Feedin goats (AFC)'!$B$5=0,'Feedin goats (AFC)'!$W$17,0)","v":0},null,null,{"$f":"IF(G35=\"\",0,VLOOKUP(G35,'Additional information'!$B$8:$F$16,2,FALSE))","v":0},null,null,null,null,{"$f":"IF(G35=\"\",0,VLOOKUP(G35,'Additional information'!$B$8:$F$16,3,FALSE)*'Ex animal'!CW52*H35*(AS35-AE35)/1000*I35/100/1000)","v":0},{"$f":"IF(G35=\"\",0,VLOOKUP(G35,'Additional information'!$B$8:$F$16,4,FALSE)*'Ex animal'!CW52*H35*(AS35-AE35)/1000*I35/100/1000)","v":0},{"$f":"IF(G35=\"\",0,VLOOKUP(G35,'Additional information'!$B$8:$F$16,5,FALSE)*'Ex animal'!CW52*H35*(AS35-AE35)/1000*I35/100/1000)","v":0},null,2.5,{"$f":"IF(D35=\"\",\"\",VLOOKUP(D35,Tehnology!C202:D206,2,FALSE))","v":""},null,null,null,null,null,null,null,null,{"$f":"IF(DC35=5,'Ex animal'!BQ52-'Ex animal'!BQ52*T35/100+'Ex animal'!BZ52*(1-T35/100),IF(DC35=3,'Ex animal'!BQ52-'Ex animal'!BQ52*T35/100+'Ex animal'!BZ52*(1-T35/100),IF(DC35=1,'Ex animal'!BQ52-'Ex animal'!BQ52*T35/100,IF(DC35=4,'Ex animal'!BQ52-'Ex animal'!BQ52*T35/100,0))))","v":0},{"$f":"IF(DC35=0,0,AB35)","v":0},{"$f":"IF(DC35=5,Q35,IF(DC35=3,Q35,0))","v":0},{"$f":"E35*F35/24","v":0},null,365,{"$f":"IF(DC35>0,H35*(AF35-AE35)/1000-((H35*(AF35-AE35)/1000)*T35)/100,0)","v":0},{"$f":"IF(DC35>0,H35*(AG35-AE35)/1000-((H35*(AG35-AE35)/1000)*T35)/100,0)","v":0},{"$f":"AF35","v":0},{"$f":"AG35","v":365},null,null,null,null,null,null,{"$f":"IF(DC35=2,IF('Feedin goats (AFC)'!$B$5=0,AI35,AH35),0)","v":0},{"$f":"IF('Feedin goats (AFC)'!$B$5=0,AK35,AJ35)","v":0},{"$f":"IF(DC35=2,0,IF('Feedin goats (AFC)'!$B$5=0,AI35,AH35))","v":0},{"$f":"IF(D35=\"\",\"\",IF(C35=0,0,(AC35*C35/AS35*(AS35*24-(E35*F35))/24)+(AD35*C35)+(AT35*C35)+BS35*U35/100))","v":""},{"$f":"IF(DC35=5,'Ex animal'!BZ52*'Ex animal'!CA52/100-(('Ex animal'!BZ52*'Ex animal'!CA52/100)*T35/100)-(('Ex animal'!BQ52*'Ex animal'!BR52/100)*T35/100)+'Ex animal'!BQ52*'Ex animal'!BR52/100,IF(DC35=3,'Ex animal'!BZ52*'Ex animal'!CA52/100-(('Ex animal'!BZ52*'Ex animal'!CA52/100)*T35/100)-(('Ex animal'!BQ52*'Ex animal'!BR52/100)*T35/100)+'Ex animal'!BQ52*'Ex animal'!BR52/100,IF(DC35=1,'Ex animal'!BQ52*'Ex animal'!BR52/100-(('Ex animal'!BQ52*'Ex animal'!BR52/100)*T35/100),IF(DC35=4,'Ex animal'!BQ52*'Ex animal'!BR52/100-(('Ex animal'!BQ52*'Ex animal'!BR52/100)*T35/100),0))))","v":0},{"$f":"IF(DC35=0,0,AV35)","v":0},{"$f":"IF(DC35=5,Q35*R35/100,IF(DC35=3,Q35*R35/100,0))","v":0},{"$f":"IF(H35=\"\",0,IF(DC35>0,H35*AS35/1000*I35/100-(H35*AS35/1000*I35/100*(T35/100)),0))","v":0},{"$f":"IF(D35=\"\",\"\",IF(AU35>0,((AW35*'Ex animal'!CW52/AS35*(AS35*24-(E35*F35))/24)+(AX35*'Ex animal'!CW52)+(AY35*'Ex animal'!CW52)+(BS35*BY35/100*U35/100))/AU35*100,0))","v":""},{"$f":"AU35*AZ35/100","v":{"$error":"#VALUE!"}},{"$f":"IF(DC35=5,'Ex animal'!BS52+'Ex animal'!CB52,IF(DC35=3,'Ex animal'!BS52+'Ex animal'!CB52,IF(DC35=1,'Ex animal'!BS52,IF(DC35=4,'Ex animal'!BS52,0))))","v":0},{"$f":"IF(DC35=0,0,BB35)","v":0},{"$f":"IF(H35=\"\",0,IF(DC35>0,N35,0))","v":0},{"$f":"IF(D35=\"\",\"\",IF(C35=0,0,IF(DC35=1,(BC35/1000*C35/AS35*(AS35*24-(E35*F35))/24)+BD35+(CE35*U35/100),IF(DC35=4,(BC35/1000*C35/AS35*(AS35*24-(E35*F35))/24)+BD35+(CE35*U35/100),IF(BT35>0,0,((BC35/1000*C35/AS35*(AS35*24-(E35*F35))/24)+(BD35))+(CE35*U35/100)-CT35/1000)))))","v":""},{"$f":"IF(DC35=5,'Ex animal'!BT52+'Ex animal'!CH52,IF(DC35=3,'Ex animal'!BT52+'Ex animal'!CH52,IF(DC35=1,'Ex animal'!BT52,IF(DC35=4,'Ex animal'!BT52,0))))","v":0},{"$f":"IF(DC35=0,0,BF35)","v":0},{"$f":"IF(H35=\"\",0,IF(DC35=2,0,O35))","v":0},{"$f":"IF(D35=\"\",\"\",IF(C35=0,0,((BG35/1000*'Ex animal'!CW52/AS35*(AS35*24-(E35*F35))/24)+(BH35))+CL35*U35/100))","v":""},{"$f":"IF(DC35=5,'Ex animal'!BY52+'Ex animal'!CI52,IF(DC35=3,'Ex animal'!BY52+'Ex animal'!CI52,IF(DC35=1,'Ex animal'!BY52,IF(DC35=4,'Ex animal'!BY52,0))))","v":0},{"$f":"IF(DC35=0,0,BJ35)","v":0},{"$f":"IF(H35=\"\",0,IF(DC35=2,0,P35))","v":0},{"$f":"IF(D35=\"\",\"\",IF(C35=0,0,((BK35/1000*'Ex animal'!CW52/AS35*(AS35*24-(E35*F35))/24)+(BL35))+CR35*U35/100))","v":""},{"$f":"IF(DC35=5,0,IF(DC35=3,0,IF(DC35=1,'Ex animal'!BZ52,IF(DC35=4,'Ex animal'!BZ52,'Ex animal'!BZ52+'Ex animal'!BQ52))))","v":0},{"$f":"IF(DC35=0,0,BN35)","v":0},{"$f":"IF(DC35=4,Q35,IF(DC35=2,Q35,IF(DC35=1,Q35,0)))","v":0},{"$f":"IF(DC35=0,H35,0)","v":0},{"$f":"BS35*U35/100","v":{"$error":"#DIV/0!"}},{"$f":"(BO35*'Ex animal'!CW52/AS35*(AS35*24-(E35*F35))/24)+(BP35*'Ex animal'!CW52)+(BQ35*'Ex animal'!CW52)+AR35","v":{"$error":"#DIV/0!"}},{"$f":"IF(D35=\"\",\"\",IF(C35=0,0,BS35-BR35))","v":""},{"$f":"IF(DC35=5,0,IF(DC35=3,0,IF(DC35=1,'Ex animal'!BZ52*'Ex animal'!CA52/100,IF(DC35=4,'Ex animal'!BZ52*'Ex animal'!CA52/100,'Ex animal'!BQ52*'Ex animal'!BR52/100+'Ex animal'!BZ52*'Ex animal'!CA52/100))))","v":0},{"$f":"IF(DC35=0,0,BU35)","v":0},{"$f":"IF(DC35=4,Q35*R35/100,IF(DC35=2,Q35*R35/100,IF(DC35=1,Q35*R35/100,0)))","v":0},{"$f":"IF(H35=\"\",0,IF(DC35=2,(H35*(AS35-AE35))/1000*I35/100,0)+AR35)","v":0},{"$f":"IF(D35=\"\",\"\",IF(C35=0,0,IF(BS35=0,0,((BV35*'Ex animal'!CW52/AS35*(AS35*24-(E35*F35))/24)+(BW35*'Ex animal'!CW52)+(BX35*'Ex animal'!CW52))/BS35*100)))","v":""},{"$f":"BT35*BY35/100","v":{"$error":"#VALUE!"}},{"$f":"IF(DC35=5,0,IF(DC35=3,0,IF(DC35=1,'Ex animal'!CB52,IF(DC35=4,'Ex animal'!CB52,'Ex animal'!BS52+'Ex animal'!CB52))))","v":0},{"$f":"IF(DC35=0,0,CA35)","v":0},{"$f":"IF(AU35=0,N35,0)","v":0},{"$f":"CE35*U35/100","v":{"$error":"#DIV/0!"}},{"$f":"IF(BT35>0,((CB35/1000*'Ex animal'!CW52/AS35*(AS35*24-(E35*F35))/24)-('Ex animal'!CB52/1000*'Ex animal'!CW52*S35/100)+(CC35)),0)","v":{"$error":"#DIV/0!"}},null,{"$f":"IF(D35=\"\",\"\",IF(C35=0,0,CE35-CD35))","v":""},{"$f":"IF(DC35=5,0,IF(DC35=3,0,IF(DC35=1,'Ex animal'!CH52,IF(DC35=4,'Ex animal'!CH52,'Ex animal'!BT52+'Ex animal'!CH52))))","v":0},{"$f":"IF(DC35=0,0,CH35)","v":0},{"$f":"IF(DC35=2,O35,0)","v":0},{"$f":"CL35*U35/100","v":{"$error":"#DIV/0!"}},{"$f":"((CI35/1000*'Ex animal'!CW52/AS35*(AS35*24-(E35*F35))/24)+(CJ35))","v":{"$error":"#DIV/0!"}},{"$f":"IF(D35=\"\",\"\",IF(C35=0,0,CL35-CK35))","v":""},{"$f":"IF(DC35=5,0,IF(DC35=3,0,IF(DC35=1,'Ex animal'!CI52,IF(DC35=4,'Ex animal'!CI52,'Ex animal'!CI52+'Ex animal'!BY52))))","v":0},{"$f":"IF(DC35=0,0,CN35)","v":0},{"$f":"IF(DC35=2,P35,0)","v":0},{"$f":"CR35*U35/100","v":{"$error":"#DIV/0!"}},{"$f":"((CO35/1000*'Ex animal'!CW52/AS35*(AS35*24-(E35*F35))/24)+(CP35))","v":{"$error":"#DIV/0!"}},{"$f":"IF(D35=\"\",\"\",IF(C35=0,0,CR35-CQ35))","v":""},{"$f":"IF(D35=\"\",\"\",IF('Ex animal'!CW52=0,0,('Ex animal'!CB52*S35*'Ex animal'!CW52/100)-('Ex animal'!CB52*S35*'Ex animal'!CW52/100)/AS35*(E35*F35/24)))","v":""},{"$f":"IF(D35=\"\",\"\",IF(AU35=0,0,BE35*1000/AU35))","v":""},{"$f":"IF(D35=\"\",\"\",IF(AU35=0,0,BI35*1000/AU35))","v":""},{"$f":"IF(D35=\"\",\"\",IF(AU35=0,0,BM35*1000/AU35))","v":""},{"$f":"IF(D35=\"\",\"\",IF(BT35=0,0,CG35*1000/BT35))","v":""},{"$f":"IF(D35=\"\",\"\",IF(BT35=0,0,CM35*1000/BT35))","v":""},{"$f":"IF(D35=\"\",\"\",IF(BT35=0,0,CS35*1000/BT35))","v":""},50,{"$f":"IF(D35=\"\",\"\",VLOOKUP(D35,Tehnology!C202:E206,3,FALSE))","v":""},{"$f":"IF(D35=\"\",\"\",VLOOKUP(DB35,Tehnology!$I$10:$W$53,1,FALSE))","v":""},null,null,null,null,null,null,null,null,null,null,null,"LAMBAD",{"$f":"IF(SUM($C$31:$C$33)=0,\"\",IF(SUM($C$31:$C$33)>0,IF(VLOOKUP($DA$31,$DA$11:$DA$33,1,FALSE),IF(DG11=\"\",\"\",\"Tahesõnnik\"),\"\")))","v":""},null,{"$f":"IF(DP35=\"\",\"\",VLOOKUP($DQ$35,Tehnology!$J$10:$K$17,2,FALSE))","v":""},{"$f":"IF(DP35=\"\",\"\",VLOOKUP(DG24,Tehnology!I10:W17,7,FALSE))","v":""},{"$f":"IF(DP35=\"\",\"\",VLOOKUP($DG$24,Tehnology!$I$10:$W$17,9,FALSE))","v":""},{"$f":"IF(DP35=\"\",\"\",VLOOKUP($DQ$35,Tehnology!$J$10:$W$17,12,FALSE))","v":""},{"$f":"IF(DP35=\"\",\"\",VLOOKUP($DQ$35,Tehnology!$J$10:$W$17,13,FALSE))","v":""},{"$f":"IF(DP35=\"\",\"\",VLOOKUP($DQ$35,Tehnology!$J$10:$W$17,14,FALSE))","v":""},null,null,null,null,null,null,null,null,{"$f":"DG11","v":""},{"$f":"EF35+DY35*DZ35/1000","v":{"$error":"#VALUE!"}},{"$f":"EG35-((EK35+DY35*DZ35/1000*0/100)*EA35/100)-EI35","v":{"$error":"#VALUE!"}},{"$f":"IF(DQ35=\"Storage roofed\",DY35*EC35/1000,0)","v":0},{"$f":"IF(DP35=\"\",\"\",EH35-(DY35*DZ35/1000-DY35*DZ35/1000*(1-(EB35/100))))","v":""},{"$f":"IF(DC31=1,BA31,0)+IF(DC32=1,BA32,0)+IF(DC33=1,BA33,0)","v":0},{"$f":"EK35+(DY35*DZ35/1000*0/100)","v":0},{"$f":"EL35-(EL35*EA35/100)","v":0},{"$f":"IF(DP35=\"\",\"\",IF(EJ35=0,0,EM35/EJ35*100))","v":""},{"$f":"DG13*DR35/100","v":{"$error":"#VALUE!"}},{"$f":"DG13*DS35/100","v":{"$error":"#VALUE!"}},{"$f":"DG13*DT35/100","v":{"$error":"#VALUE!"}},{"$f":"DG13*DU35/100","v":{"$error":"#VALUE!"}},{"$f":"IF(DP35=\"\",\"\",DG13-EO35-EP35-EQ35-ER35)","v":""},{"$f":"IF(DP35=\"\",\"\",VLOOKUP($DG$24,Tehnology!$I$10:$W$17,11,FALSE)*ES35)","v":""},{"$f":"DG15*DV35/100","v":{"$error":"#VALUE!"}},{"$f":"IF(DP35=\"\",\"\",DG15-EU35)","v":""},{"$f":"DG16*DW35/100","v":{"$error":"#VALUE!"}},{"$f":"IF(DP35=\"\",\"\",DG16-EW35)","v":""},{"$f":"IF(DP35=\"\",\"\",ES35*1000/EJ35)","v":""},{"$f":"IF(DP35=\"\",\"\",ET35*1000/EJ35)","v":""},{"$f":"IF(DP35=\"\",\"\",EV35*1000/EJ35)","v":""},{"$f":"IF(DP35=\"\",\"\",EX35*1000/EJ35)","v":""},{"$f":"IF(DP35=\"\",\"\",EO35*1000)","v":""},{"$f":"IF(DP35=\"\",\"\",EP35*1000)","v":""},{"$f":"IF(DP35=\"\",\"\",EQ35*1000)","v":""},{"$f":"IF(DP35=\"\",\"\",ER35*1000)","v":""},{"$f":"IF(DP35=\"\",\"\",EU35*1000)","v":""},{"$f":"IF(DP35=\"\",\"\",EW35*1000)","v":""},null,null,null,null,{"$f":"IF(D31=\"\",\"\",IF(AU31=AU31+BT31,C31*Tehnology!AD17,C31*Tehnology!AD17*AU31/(AU31+BT31)))","v":""},{"$f":"IF(D31=\"\",\"\",IF(BT31=0,0,IF(AU31=AU31+BT31,C31*Tehnology!AD17,C31*Tehnology!AD17*BT31/(AU31+BT31))))","v":""},{"$f":"IF(SUM(C31:C33)=0,\"\",SUM(FI35:FI41)/1000)","v":""},{"$f":"IF(SUM(C31:C33)=0,\"\",SUM(FM35:FN41)/1000)","v":""}]
[null,"Noorkitsed",{"$f":"'Ex animal'!CW53","v":0},null,{"$f":"IF('Feedin goats (AFC)'!$B$5=0,'Feedin goats (AFC)'!$AE$17,0)","v":0},{"$f":"IF('Feedin goats (AFC)'!$B$5=0,'Feedin goats (AFC)'!$AG$17,0)","v":0},null,null,{"$f":"IF(G36=\"\",0,VLOOKUP(G36,'Additional information'!$B$8:$F$16,2,FALSE))","v":0},null,null,null,null,{"$f":"IF(G36=\"\",0,VLOOKUP(G36,'Additional information'!$B$8:$F$16,3,FALSE)*'Ex animal'!CW53*H36*(AS36-AE36)/1000*I36/100/1000)","v":0},{"$f":"IF(G36=\"\",0,VLOOKUP(G36,'Additional information'!$B$8:$F$16,4,FALSE)*'Ex animal'!CW53*H36*(AS36-AE36)/1000*I36/100/1000)","v":0},{"$f":"IF(G36=\"\",0,VLOOKUP(G36,'Additional information'!$B$8:$F$16,5,FALSE)*'Ex animal'!CW53*H36*(AS36-AE36)/1000*I36/100/1000)","v":0},null,2.5,{"$f":"IF(D36=\"\",\"\",VLOOKUP(D36,Tehnology!C202:D206,2,FALSE))","v":""},null,null,null,null,null,null,null,null,{"$f":"IF(DC36=5,'Ex animal'!BQ53-'Ex animal'!BQ53*T36/100+'Ex animal'!BZ53*(1-T36/100),IF(DC36=3,'Ex animal'!BQ53-'Ex animal'!BQ53*T36/100+'Ex animal'!BZ53*(1-T36/100),IF(DC36=1,'Ex animal'!BQ53-'Ex animal'!BQ53*T36/100,IF(DC36=4,'Ex animal'!BQ53-'Ex animal'!BQ53*T36/100,0))))","v":0},{"$f":"IF(DC36=0,0,AB36)","v":0},{"$f":"IF(DC36=5,Q36,IF(DC36=3,Q36,0))","v":0},{"$f":"E36*F36/24","v":0},null,365,{"$f":"IF(DC36>0,H36*(AF36-AE36)/1000-((H36*(AF36-AE36)/1000)*T36)/100,0)","v":0},{"$f":"IF(DC36>0,H36*(AG36-AE36)/1000-((H36*(AG36-AE36)/1000)*T36)/100,0)","v":0},{"$f":"AF36","v":0},{"$f":"AG36","v":365},null,null,null,null,null,null,{"$f":"IF(DC36=2,IF('Feedin goats (AFC)'!$B$5=0,AI36,AH36),0)","v":0},{"$f":"IF('Feedin goats (AFC)'!$B$5=0,AK36,AJ36)","v":0},{"$f":"IF(DC36=2,0,IF('Feedin goats (AFC)'!$B$5=0,AI36,AH36))","v":0},{"$f":"IF(D36=\"\",\"\",IF(C36=0,0,(AC36*C36/AS36*(AS36*24-(E36*F36))/24)+(AD36*C36)+(AT36*C36)+BS36*U36/100))","v":""},{"$f":"IF(DC36=5,'Ex animal'!BZ53*'Ex animal'!CA53/100-(('Ex animal'!BZ53*'Ex animal'!CA53/100)*T36/100)-(('Ex animal'!BQ53*'Ex animal'!BR53/100)*T36/100)+'Ex animal'!BQ53*'Ex animal'!BR53/100,IF(DC36=3,'Ex animal'!BZ53*'Ex animal'!CA53/100-(('Ex animal'!BZ53*'Ex animal'!CA53/100)*T36/100)-(('Ex animal'!BQ53*'Ex animal'!BR53/100)*T36/100)+'Ex animal'!BQ53*'Ex animal'!BR53/100,IF(DC36=1,'Ex animal'!BQ53*'Ex animal'!BR53/100-(('Ex animal'!BQ53*'Ex animal'!BR53/100)*T36/100),IF(DC36=4,'Ex animal'!BQ53*'Ex animal'!BR53/100-(('Ex animal'!BQ53*'Ex animal'!BR53/100)*T36/100),0))))","v":0},{"$f":"IF(DC36=0,0,AV36)","v":0},{"$f":"IF(DC36=5,Q36*R36/100,IF(DC36=3,Q36*R36/100,0))","v":0},{"$f":"IF(H36=\"\",0,IF(DC36>0,H36*AS36/1000*I36/100-(H36*AS36/1000*I36/100*(T36/100)),0))","v":0},{"$f":"IF(D36=\"\",\"\",IF(AU36>0,((AW36*'Ex animal'!CW53/AS36*(AS36*24-(E36*F36))/24)+(AX36*'Ex animal'!CW53)+(AY36*'Ex animal'!CW53)+(BS36*BY36/100*U36/100))/AU36*100,0))","v":""},{"$f":"AU36*AZ36/100","v":{"$error":"#VALUE!"}},{"$f":"IF(DC36=5,'Ex animal'!BS53+'Ex animal'!CB53,IF(DC36=3,'Ex animal'!BS53+'Ex animal'!CB53,IF(DC36=1,'Ex animal'!BS53,IF(DC36=4,'Ex animal'!BS53,0))))","v":0},{"$f":"IF(DC36=0,0,BB36)","v":0},{"$f":"IF(H36=\"\",0,IF(DC36>0,N36,0))","v":0},{"$f":"IF(D36=\"\",\"\",IF(C36=0,0,IF(DC36=1,(BC36/1000*C36/AS36*(AS36*24-(E36*F36))/24)+BD36+(CE36*U36/100),IF(DC36=4,(BC36/1000*C36/AS36*(AS36*24-(E36*F36))/24)+BD36+(CE36*U36/100),IF(BT36>0,0,((BC36/1000*C36/AS36*(AS36*24-(E36*F36))/24)+(BD36))+(CE36*U36/100)-CT36/1000)))))","v":""},{"$f":"IF(DC36=5,'Ex animal'!BT53+'Ex animal'!CH53,IF(DC36=3,'Ex animal'!BT53+'Ex animal'!CH53,IF(DC36=1,'Ex animal'!BT53,IF(DC36=4,'Ex animal'!BT53,0))))","v":0},{"$f":"IF(DC36=0,0,BF36)","v":0},{"$f":"IF(H36=\"\",0,IF(DC36=2,0,O36))","v":0},{"$f":"IF(D36=\"\",\"\",IF(C36=0,0,((BG36/1000*'Ex animal'!CW53/AS36*(AS36*24-(E36*F36))/24)+(BH36))+CL36*U36/100))","v":""},{"$f":"IF(DC36=5,'Ex animal'!BY53+'Ex animal'!CI53,IF(DC36=3,'Ex animal'!BY53+'Ex animal'!CI53,IF(DC36=1,'Ex animal'!BY53,IF(DC36=4,'Ex animal'!BY53,0))))","v":0},{"$f":"IF(DC36=0,0,BJ36)","v":0},{"$f":"IF(H36=\"\",0,IF(DC36=2,0,P36))","v":0},{"$f":"IF(D36=\"\",\"\",IF(C36=0,0,((BK36/1000*'Ex animal'!CW53/AS36*(AS36*24-(E36*F36))/24)+(BL36))+CR36*U36/100))","v":""},{"$f":"IF(DC36=5,0,IF(DC36=3,0,IF(DC36=1,'Ex animal'!BZ53,IF(DC36=4,'Ex animal'!BZ53,'Ex animal'!BZ53+'Ex animal'!BQ53))))","v":0},{"$f":"IF(DC36=0,0,BN36)","v":0},{"$f":"IF(DC36=4,Q36,IF(DC36=2,Q36,IF(DC36=1,Q36,0)))","v":0},{"$f":"IF(DC36=0,H36,0)","v":0},{"$f":"BS36*U36/100","v":{"$error":"#DIV/0!"}},{"$f":"(BO36*'Ex animal'!CW53/AS36*(AS36*24-(E36*F36))/24)+(BP36*'Ex animal'!CW53)+(BQ36*'Ex animal'!CW53)+AR36","v":{"$error":"#DIV/0!"}},{"$f":"IF(D36=\"\",\"\",IF(C36=0,0,BS36-BR36))","v":""},{"$f":"IF(DC36=5,0,IF(DC36=3,0,IF(DC36=1,'Ex animal'!BZ53*'Ex animal'!CA53/100,IF(DC36=4,'Ex animal'!BZ53*'Ex animal'!CA53/100,'Ex animal'!BQ53*'Ex animal'!BR53/100+'Ex animal'!BZ53*'Ex animal'!CA53/100))))","v":0},{"$f":"IF(DC36=0,0,BU36)","v":0},{"$f":"IF(DC36=4,Q36*R36/100,IF(DC36=2,Q36*R36/100,IF(DC36=1,Q36*R36/100,0)))","v":0},{"$f":"IF(H36=\"\",0,IF(DC36=2,(H36*(AS36-AE36))/1000*I36/100,0)+AR36)","v":0},{"$f":"IF(D36=\"\",\"\",IF(C36=0,0,IF(BS36=0,0,((BV36*'Ex animal'!CW53/AS36*(AS36*24-(E36*F36))/24)+(BW36*'Ex animal'!CW53)+(BX36*'Ex animal'!CW53))/BS36*100)))","v":""},{"$f":"BT36*BY36/100","v":{"$error":"#VALUE!"}},{"$f":"IF(DC36=5,0,IF(DC36=3,0,IF(DC36=1,'Ex animal'!CB53,IF(DC36=4,'Ex animal'!CB53,'Ex animal'!BS53+'Ex animal'!CB53))))","v":0},{"$f":"IF(DC36=0,0,CA36)","v":0},{"$f":"IF(AU36=0,N36,0)","v":0},{"$f":"CE36*U36/100","v":{"$error":"#DIV/0!"}},{"$f":"IF(BT36>0,((CB36/1000*'Ex animal'!CW53/AS36*(AS36*24-(E36*F36))/24)-('Ex animal'!CB53/1000*'Ex animal'!CW53*S36/100)+(CC36)),0)","v":{"$error":"#DIV/0!"}},null,{"$f":"IF(D36=\"\",\"\",IF(C36=0,0,CE36-CD36))","v":""},{"$f":"IF(DC36=5,0,IF(DC36=3,0,IF(DC36=1,'Ex animal'!CH53,IF(DC36=4,'Ex animal'!CH53,'Ex animal'!BT53+'Ex animal'!CH53))))","v":0},{"$f":"IF(DC36=0,0,CH36)","v":0},{"$f":"IF(DC36=2,O36,0)","v":0},{"$f":"CL36*U36/100","v":{"$error":"#DIV/0!"}},{"$f":"((CI36/1000*'Ex animal'!CW53/AS36*(AS36*24-(E36*F36))/24)+(CJ36))","v":{"$error":"#DIV/0!"}},{"$f":"IF(D36=\"\",\"\",IF(C36=0,0,CL36-CK36))","v":""},{"$f":"IF(DC36=5,0,IF(DC36=3,0,IF(DC36=1,'Ex animal'!CI53,IF(DC36=4,'Ex animal'!CI53,'Ex animal'!CI53+'Ex animal'!BY53))))","v":0},{"$f":"IF(DC36=0,0,CN36)","v":0},{"$f":"IF(DC36=2,P36,0)","v":0},{"$f":"CR36*U36/100","v":{"$error":"#DIV/0!"}},{"$f":"((CO36/1000*'Ex animal'!CW53/AS36*(AS36*24-(E36*F36))/24)+(CP36))","v":{"$error":"#DIV/0!"}},{"$f":"IF(D36=\"\",\"\",IF(C36=0,0,CR36-CQ36))","v":""},{"$f":"IF(D36=\"\",\"\",IF('Ex animal'!CW53=0,0,('Ex animal'!CB53*S36*'Ex animal'!CW53/100)-('Ex animal'!CB53*S36*'Ex animal'!CW53/100)/AS36*(E36*F36/24)))","v":""},{"$f":"IF(D36=\"\",\"\",IF(AU36=0,0,BE36*1000/AU36))","v":""},{"$f":"IF(D36=\"\",\"\",IF(AU36=0,0,BI36*1000/AU36))","v":""},{"$f":"IF(D36=\"\",\"\",IF(AU36=0,0,BM36*1000/AU36))","v":""},{"$f":"IF(D36=\"\",\"\",IF(BT36=0,0,CG36*1000/BT36))","v":""},{"$f":"IF(D36=\"\",\"\",IF(BT36=0,0,CM36*1000/BT36))","v":""},{"$f":"IF(D36=\"\",\"\",IF(BT36=0,0,CS36*1000/BT36))","v":""},null,{"$f":"IF(D36=\"\",\"\",VLOOKUP(D36,Tehnology!C202:E206,3,FALSE))","v":""},{"$f":"IF(D36=\"\",\"\",VLOOKUP(DB36,Tehnology!$I$10:$W$53,1,FALSE))","v":""},null,null,null,null,null,null,null,null,null,null,null,null,{"$f":"IF(SUM($C$31:$C$33)=0,\"\",IF(SUM($C$31:$C$33)>0,IF(VLOOKUP($DA$31,$DA$11:$DA$33,1,FALSE),IF(DH11=\"\",\"\",\"Virts\"),\"\")))","v":""},null,{"$f":"IF(DP36=\"\",\"\",VLOOKUP($DQ$36,Tehnology!L10:M17,2,FALSE))","v":""},{"$f":"IF(DP36=\"\",\"\",VLOOKUP($DG$24,Tehnology!$I$10:$W$17,8,FALSE))","v":""},{"$f":"IF(DP36=\"\",\"\",VLOOKUP($DG$24,Tehnology!$I$10:$W$17,10,FALSE))","v":""},null,null,null,null,null,null,null,null,null,null,null,{"$f":"DH11+SUM(DZ66:DZ69)","v":{"$error":"#VALUE!"}},{"$f":"EF36+DY36*DZ36/1000","v":{"$error":"#VALUE!"}},{"$f":"EG36-((EK36+DY36*DZ36/1000*0/100)*EA36/100)-EI36","v":{"$error":"#VALUE!"}},{"$f":"IF(DQ36=\"Storage roofed\",DY36*EC36/1000,0)","v":0},{"$f":"IF(DP36=\"\",\"\",EH36-(DY36*DZ36/1000-DY36*DZ36/1000*(1-(EB36/100))))","v":""},{"$f":"IF(DC31=1,BZ31,0)+IF(DC32=1,BZ32,0)+IF(DC33=1,BZ33,0)","v":0},{"$f":"EK36+(DY36*DZ36/1000*0/100)+SUM(EF66:EF69)","v":0},{"$f":"EL36-(EL36*EA36/100)","v":0},{"$f":"IF(DP36=\"\",\"\",IF(EJ36=0,0,EM36/EJ36*100))","v":""},{"$f":"(DH13+SUM(EB66:EB69)/1000)*DR36/100","v":{"$error":"#VALUE!"}},null,{"$f":"(DH13+SUM(EB66:EB69)/1000)*DT36/100","v":{"$error":"#VALUE!"}},null,{"$f":"IF(DP36=\"\",\"\",DH13+SUM(EB66:EB69)/1000-EO36-EP36-EQ36-ER36)","v":""},{"$f":"IF(DP36=\"\",\"\",VLOOKUP($DG$24,Tehnology!$I$10:$W$17,12,FALSE)*ES36)","v":""},null,{"$f":"IF(DP36=\"\",\"\",DH15+SUM(EC66:EC69)/1000-EU36)","v":""},null,{"$f":"IF(DP36=\"\",\"\",DH16+SUM(ED66:ED69)/1000-EW36)","v":""},{"$f":"IF(DP36=\"\",\"\",ES36*1000/EJ36)","v":""},{"$f":"IF(DP36=\"\",\"\",ET36*1000/EJ36)","v":""},{"$f":"IF(DP36=\"\",\"\",EV36*1000/EJ36)","v":""},{"$f":"IF(DP36=\"\",\"\",EX36*1000/EJ36)","v":""},{"$f":"IF(DP36=\"\",\"\",EO36*1000)","v":""},"","","","","",{"$f":"SUM(C31:C33)*Tehnology!AB17","v":0},0]
[null,"Sikud",{"$f":"'Ex animal'!CW54","v":0},null,{"$f":"IF('Feedin goats (AFC)'!$B$5=0,'Feedin goats (AFC)'!$AO$17,0)","v":0},{"$f":"IF('Feedin goats (AFC)'!$B$5=0,'Feedin goats (AFC)'!$AQ$17,0)","v":0},null,null,{"$f":"IF(G37=\"\",0,VLOOKUP(G37,'Additional information'!$B$8:$F$16,2,FALSE))","v":0},null,null,null,null,{"$f":"IF(G37=\"\",0,VLOOKUP(G37,'Additional information'!$B$8:$F$16,3,FALSE)*'Ex animal'!CW54*H37*(AS37-AE37)/1000*I37/100/1000)","v":0},{"$f":"IF(G37=\"\",0,VLOOKUP(G37,'Additional information'!$B$8:$F$16,4,FALSE)*'Ex animal'!CW54*H37*(AS37-AE37)/1000*I37/100/1000)","v":0},{"$f":"IF(G37=\"\",0,VLOOKUP(G37,'Additional information'!$B$8:$F$16,5,FALSE)*'Ex animal'!CW54*H37*(AS37-AE37)/1000*I37/100/1000)","v":0},null,2.5,{"$f":"IF(D37=\"\",\"\",VLOOKUP(D37,Tehnology!C202:D206,2,FALSE))","v":""},null,null,null,null,null,null,null,null,{"$f":"IF(DC37=5,'Ex animal'!BQ54-'Ex animal'!BQ54*T37/100+'Ex animal'!BZ54*(1-T37/100),IF(DC37=3,'Ex animal'!BQ54-'Ex animal'!BQ54*T37/100+'Ex animal'!BZ54*(1-T37/100),IF(DC37=1,'Ex animal'!BQ54-'Ex animal'!BQ54*T37/100,IF(DC37=4,'Ex animal'!BQ54-'Ex animal'!BQ54*T37/100,0))))","v":0},{"$f":"IF(DC37=0,0,AB37)","v":0},{"$f":"IF(DC37=5,Q37,IF(DC37=3,Q37,0))","v":0},{"$f":"E37*F37/24","v":0},null,365,{"$f":"IF(DC37>0,H37*(AF37-AE37)/1000-((H37*(AF37-AE37)/1000)*T37)/100,0)","v":0},{"$f":"IF(DC37>0,H37*(AG37-AE37)/1000-((H37*(AG37-AE37)/1000)*T37)/100,0)","v":0},{"$f":"AF37","v":0},{"$f":"AG37","v":365},null,null,null,null,null,null,{"$f":"IF(DC37=2,IF('Feedin goats (AFC)'!$B$5=0,AI37,AH37),0)","v":0},{"$f":"IF('Feedin goats (AFC)'!$B$5=0,AK37,AJ37)","v":0},{"$f":"IF(DC37=2,0,IF('Feedin goats (AFC)'!$B$5=0,AI37,AH37))","v":0},{"$f":"IF(D37=\"\",\"\",IF(C37=0,0,(AC37*C37/AS37*(AS37*24-(E37*F37))/24)+(AD37*C37)+(AT37*C37)+BS37*U37/100))","v":""},{"$f":"IF(DC37=5,'Ex animal'!BZ54*'Ex animal'!CA54/100-(('Ex animal'!BZ54*'Ex animal'!CA54/100)*T37/100)-(('Ex animal'!BQ54*'Ex animal'!BR54/100)*T37/100)+'Ex animal'!BQ54*'Ex animal'!BR54/100,IF(DC37=3,'Ex animal'!BZ54*'Ex animal'!CA54/100-(('Ex animal'!BZ54*'Ex animal'!CA54/100)*T37/100)-(('Ex animal'!BQ54*'Ex animal'!BR54/100)*T37/100)+'Ex animal'!BQ54*'Ex animal'!BR54/100,IF(DC37=1,'Ex animal'!BQ54*'Ex animal'!BR54/100-(('Ex animal'!BQ54*'Ex animal'!BR54/100)*T37/100),IF(DC37=4,'Ex animal'!BQ54*'Ex animal'!BR54/100-(('Ex animal'!BQ54*'Ex animal'!BR54/100)*T37/100),0))))","v":0},{"$f":"IF(DC37=0,0,AV37)","v":0},{"$f":"IF(DC37=5,Q37*R37/100,IF(DC37=3,Q37*R37/100,0))","v":0},{"$f":"IF(H37=\"\",0,IF(DC37>0,H37*AS37/1000*I37/100-(H37*AS37/1000*I37/100*(T37/100)),0))","v":0},{"$f":"IF(D37=\"\",\"\",IF(AU37>0,((AW37*'Ex animal'!CW54/AS37*(AS37*24-(E37*F37))/24)+(AX37*'Ex animal'!CW54)+(AY37*'Ex animal'!CW54)+(BS37*BY37/100*U37/100))/AU37*100,0))","v":""},{"$f":"AU37*AZ37/100","v":{"$error":"#VALUE!"}},{"$f":"IF(DC37=5,'Ex animal'!BS54+'Ex animal'!CB54,IF(DC37=3,'Ex animal'!BS54+'Ex animal'!CB54,IF(DC37=1,'Ex animal'!BS54,IF(DC37=4,'Ex animal'!BS54,0))))","v":0},{"$f":"IF(DC37=0,0,BB37)","v":0},{"$f":"IF(H37=\"\",0,IF(DC37>0,N37,0))","v":0},{"$f":"IF(D37=\"\",\"\",IF(C37=0,0,IF(DC37=1,(BC37/1000*C37/AS37*(AS37*24-(E37*F37))/24)+BD37+(CE37*U37/100),IF(DC37=4,(BC37/1000*C37/AS37*(AS37*24-(E37*F37))/24)+BD37+(CE37*U37/100),IF(BT37>0,0,((BC37/1000*C37/AS37*(AS37*24-(E37*F37))/24)+(BD37))+(CE37*U37/100)-CT37/1000)))))","v":""},{"$f":"IF(DC37=5,'Ex animal'!BT54+'Ex animal'!CH54,IF(DC37=3,'Ex animal'!BT54+'Ex animal'!CH54,IF(DC37=1,'Ex animal'!BT54,IF(DC37=4,'Ex animal'!BT54,0))))","v":0},{"$f":"IF(DC37=0,0,BF37)","v":0},{"$f":"IF(H37=\"\",0,IF(DC37=2,0,O37))","v":0},{"$f":"IF(D37=\"\",\"\",IF(C37=0,0,((BG37/1000*'Ex animal'!CW54/AS37*(AS37*24-(E37*F37))/24)+(BH37))+CL37*U37/100))","v":""},{"$f":"IF(DC37=5,'Ex animal'!BY54+'Ex animal'!CI54,IF(DC37=3,'Ex animal'!BY54+'Ex animal'!CI54,IF(DC37=1,'Ex animal'!BY54,IF(DC37=4,'Ex animal'!BY54,0))))","v":0},{"$f":"IF(DC37=0,0,BJ37)","v":0},{"$f":"IF(H37=\"\",0,IF(DC37=2,0,P37))","v":0},{"$f":"IF(D37=\"\",\"\",IF(C37=0,0,((BK37/1000*'Ex animal'!CW54/AS37*(AS37*24-(E37*F37))/24)+(BL37))+CR37*U37/100))","v":""},{"$f":"IF(DC37=5,0,IF(DC37=3,0,IF(DC37=1,'Ex animal'!BZ54,IF(DC37=4,'Ex animal'!BZ54,'Ex animal'!BZ54+'Ex animal'!BQ54))))","v":0},{"$f":"IF(DC37=0,0,BN37)","v":0},{"$f":"IF(DC37=4,Q37,IF(DC37=2,Q37,IF(DC37=1,Q37,0)))","v":0},{"$f":"IF(DC37=0,H37,0)","v":0},{"$f":"BS37*U37/100","v":{"$error":"#DIV/0!"}},{"$f":"(BO37*'Ex animal'!CW54/AS37*(AS37*24-(E37*F37))/24)+(BP37*'Ex animal'!CW54)+(BQ37*'Ex animal'!CW54)+AR37","v":{"$error":"#DIV/0!"}},{"$f":"IF(D37=\"\",\"\",IF(C37=0,0,BS37-BR37))","v":""},{"$f":"IF(DC37=5,0,IF(DC37=3,0,IF(DC37=1,'Ex animal'!BZ54*'Ex animal'!CA54/100,IF(DC37=4,'Ex animal'!BZ54*'Ex animal'!CA54/100,'Ex animal'!BQ54*'Ex animal'!BR54/100+'Ex animal'!BZ54*'Ex animal'!CA54/100))))","v":0},{"$f":"IF(DC37=0,0,BU37)","v":0},{"$f":"IF(DC37=4,Q37*R37/100,IF(DC37=2,Q37*R37/100,IF(DC37=1,Q37*R37/100,0)))","v":0},{"$f":"IF(H37=\"\",0,IF(DC37=2,(H37*(AS37-AE37))/1000*I37/100,0)+AR37)","v":0},{"$f":"IF(D37=\"\",\"\",IF(C37=0,0,IF(BS37=0,0,((BV37*'Ex animal'!CW54/AS37*(AS37*24-(E37*F37))/24)+(BW37*'Ex animal'!CW54)+(BX37*'Ex animal'!CW54))/BS37*100)))","v":""},{"$f":"BT37*BY37/100","v":{"$error":"#VALUE!"}},{"$f":"IF(DC37=5,0,IF(DC37=3,0,IF(DC37=1,'Ex animal'!CB54,IF(DC37=4,'Ex animal'!CB54,'Ex animal'!BS54+'Ex animal'!CB54))))","v":0},{"$f":"IF(DC37=0,0,CA37)","v":0},{"$f":"IF(AU37=0,N37,0)","v":0},{"$f":"CE37*U37/100","v":{"$error":"#DIV/0!"}},{"$f":"IF(BT37>0,((CB37/1000*'Ex animal'!CW54/AS37*(AS37*24-(E37*F37))/24)-('Ex animal'!CB54/1000*'Ex animal'!CW54*S37/100)+(CC37)),0)","v":{"$error":"#DIV/0!"}},null,{"$f":"IF(D37=\"\",\"\",IF(C37=0,0,CE37-CD37))","v":""},{"$f":"IF(DC37=5,0,IF(DC37=3,0,IF(DC37=1,'Ex animal'!CH54,IF(DC37=4,'Ex animal'!CH54,'Ex animal'!BT54+'Ex animal'!CH54))))","v":0},{"$f":"IF(DC37=0,0,CH37)","v":0},{"$f":"IF(DC37=2,O37,0)","v":0},{"$f":"CL37*U37/100","v":{"$error":"#DIV/0!"}},{"$f":"((CI37/1000*'Ex animal'!CW54/AS37*(AS37*24-(E37*F37))/24)+(CJ37))","v":{"$error":"#DIV/0!"}},{"$f":"IF(D37=\"\",\"\",IF(C37=0,0,CL37-CK37))","v":""},{"$f":"IF(DC37=5,0,IF(DC37=3,0,IF(DC37=1,'Ex animal'!CI54,IF(DC37=4,'Ex animal'!CI54,'Ex animal'!CI54+'Ex animal'!BY54))))","v":0},{"$f":"IF(DC37=0,0,CN37)","v":0},{"$f":"IF(DC37=2,P37,0)","v":0},{"$f":"CR37*U37/100","v":{"$error":"#DIV/0!"}},{"$f":"((CO37/1000*'Ex animal'!CW54/AS37*(AS37*24-(E37*F37))/24)+(CP37))","v":{"$error":"#DIV/0!"}},{"$f":"IF(D37=\"\",\"\",IF(C37=0,0,CR37-CQ37))","v":""},{"$f":"IF(D37=\"\",\"\",IF('Ex animal'!CW54=0,0,('Ex animal'!CB54*S37*'Ex animal'!CW54/100)-('Ex animal'!CB54*S37*'Ex animal'!CW54/100)/AS37*(E37*F37/24)))","v":""},{"$f":"IF(D37=\"\",\"\",IF(AU37=0,0,BE37*1000/AU37))","v":""},{"$f":"IF(D37=\"\",\"\",IF(AU37=0,0,BI37*1000/AU37))","v":""},{"$f":"IF(D37=\"\",\"\",IF(AU37=0,0,BM37*1000/AU37))","v":""},{"$f":"IF(D37=\"\",\"\",IF(BT37=0,0,CG37*1000/BT37))","v":""},{"$f":"IF(D37=\"\",\"\",IF(BT37=0,0,CM37*1000/BT37))","v":""},{"$f":"IF(D37=\"\",\"\",IF(BT37=0,0,CS37*1000/BT37))","v":""},null,{"$f":"IF(D37=\"\",\"\",VLOOKUP(D37,Tehnology!C202:E206,3,FALSE))","v":""},{"$f":"IF(D37=\"\",\"\",VLOOKUP(DB37,Tehnology!$I$10:$W$53,1,FALSE))","v":""},null,null,null,null,null,null,null,null,null,null,null,null,{"$f":"IF(SUM($C$31:$C$33)=0,\"\",IF(SUM($C$31:$C$33)>0,IF(VLOOKUP($DA$31,$DA$11:$DA$33,1,FALSE),IF(DI11=\"\",\"\",\"Vedelsõnnik\"),\"\")))","v":""},null,{"$f":"IF(DP37=\"\",\"\",VLOOKUP(DQ37,Tehnology!L19:M26,2,FALSE))","v":""},{"$f":"IF(DP37=\"\",\"\",VLOOKUP($DI$24,Tehnology!I19:W26,8,FALSE))","v":""},{"$f":"IF(DP37=\"\",\"\",VLOOKUP($DI$24,Tehnology!I19:W26,10,FALSE))","v":""},null,null,null,null,null,null,null,null,null,null,null,{"$f":"DI11+SUM(DZ66:DZ69)","v":{"$error":"#VALUE!"}},{"$f":"EF37+DY37*DZ37/1000","v":{"$error":"#VALUE!"}},{"$f":"EG37-((EK37+DY37*DZ37/1000*0/100)*EA37/100)-EI37","v":{"$error":"#VALUE!"}},0,{"$f":"IF(DP37=\"\",\"\",EH37-(DY37*DZ37/1000-DY37*DZ37/1000*(1-(EB37/100))))","v":""},{"$f":"IF(DI11=0,0,(IF(DC31=2,BZ31,0)+IF(DC32=2,BZ32,0)+IF(DC33=2,BZ33,0)))","v":0},{"$f":"EK37+(DY37*DZ37/1000*0/100)+SUM(EF66:EF69)","v":0},{"$f":"EL37-(EL37*EA37/100)","v":0},{"$f":"IF(DP37=\"\",\"\",IF(EJ37=0,0,EM37/EJ37*100))","v":""},{"$f":"((IF(DC31=2,CF31,0)+IF(DC32=2,CF32,0)+IF(DC33=2,CF33,0))+(SUM(EB66:EB69)/1000))*DR37/100","v":{"$error":"#VALUE!"}},null,{"$f":"(DI13+SUM(EB66:EB69)/1000)*DT37/100","v":{"$error":"#VALUE!"}},null,{"$f":"IF(DP37=\"\",\"\",DI13+SUM(EB70:EB73)/1000-EO37-EP37-EQ37-ER37)","v":""},{"$f":"IF(DP37=\"\",\"\",VLOOKUP(DI24,Tehnology!I19:W26,12,FALSE)*ES37)","v":""},null,{"$f":"IF(DP37=\"\",\"\",DI15+SUM(EC66:EC69)/1000-EU37)","v":""},null,{"$f":"IF(DP37=\"\",\"\",DI16+SUM(ED66:ED69)/1000-EW37)","v":""},{"$f":"IF(DP37=\"\",\"\",ES37*1000/EJ37)","v":""},{"$f":"IF(DP37=\"\",\"\",ET37*1000/EJ37)","v":""},{"$f":"IF(DP37=\"\",\"\",EV37*1000/EJ37)","v":""},{"$f":"IF(DP37=\"\",\"\",EX37*1000/EJ37)","v":""},{"$f":"IF(DP37=\"\",\"\",EO37*1000)","v":""},"","","","","",null,null,null,null,{"$f":"IF(D32=\"\",\"\",IF(AU32=AU32+BT32,C32*Tehnology!$AD$17,C32*Tehnology!$AD$17*AU32/(AU32+BT32)))","v":""},{"$f":"IF(D32=\"\",\"\",IF(BT32=0,0,IF(AU32=AU32+BT32,C32*Tehnology!$AD$17,C32*Tehnology!$AD$17*BT32/(AU32+BT32))))","v":""}]
[null,null,null,null,null,null,null,null,null,null,null,null,null,null,null,null,null,null,null,null,null,null,null,null,null,null,null,null,null,null,null,null,null,null,null,null,null,null,null,null,null,null,null,null,null,null,null,null,null,null,null,null,null,null,null,null,null,null,null,null,null,null,null,null,null,null,null,null,null,null,null,null,null,null,null,null,null,null,null,null,null,null,null,null,null,null,null,null,null,null,null,null,null,null,null,null,null,null,null,null,null,null,null,null,null,null,null,null,null,null,null,null,null,null,null,null,null,null,null,{"$f":"IF(SUM($C$31:$C$33)=0,\"\",IF(SUM($C$31:$C$33)>0,IF(VLOOKUP($DA$31,$DA$11:$DA$33,1,FALSE),IF(DJ11=\"\",\"\",\"Sügavallapanusõnnik\"),\"\")))","v":""},null,{"$f":"IF(DP38=\"\",\"\",VLOOKUP(DQ38,Tehnology!J28:K35,2,FALSE))","v":""},{"$f":"IF(DP38=\"\",\"\",VLOOKUP($DJ$24,Tehnology!I28:W35,7,FALSE))","v":""},{"$f":"IF(DP38=\"\",\"\",VLOOKUP($DJ$24,Tehnology!I28:W35,9,FALSE))","v":""},{"$f":"IF(DP38=\"\",\"\",VLOOKUP($DQ$38,Tehnology!J28:W35,12,FALSE))","v":""},{"$f":"IF(DP38=\"\",\"\",VLOOKUP($DQ$38,Tehnology!J28:W35,13,FALSE))","v":""},{"$f":"IF(DP38=\"\",\"\",VLOOKUP($DQ$38,Tehnology!J28:W35,14,FALSE))","v":""},null,null,null,null,null,null,null,null,{"$f":"DJ11*(1-ED38/100)","v":{"$error":"#VALUE!"}},{"$f":"EF38+DY38*DZ38/1000","v":{"$error":"#VALUE!"}},{"$f":"EG38-((EK38+DY38*DZ38/1000*0/100)*EA38/100)-EI38","v":{"$error":"#VALUE!"}},0,{"$f":"IF(DP38=\"\",\"\",EH38-(DY38*DZ38/1000-DY38*DZ38/1000*(1-(EB38/100))))","v":""},{"$f":"(IF(DC31=3,BA31,0)+IF(DC32=3,BA32,0)+IF(DC33=3,BA33,0))*(1-ED38/100)","v":0},{"$f":"EK38+(DY38*DZ38/1000*0/100)","v":0},{"$f":"EL38-(EL38*EA38/100)","v":0},{"$f":"IF(DP38=\"\",\"\",IF(EJ38=0,0,EM38/EJ38*100))","v":""},{"$f":"DJ13*DR38/100*(1-ED38/100)","v":{"$error":"#VALUE!"}},{"$f":"DJ13*DS38/100*(1-ED38/100)","v":{"$error":"#VALUE!"}},{"$f":"DJ13*DT38/100*(1-ED38/100)","v":{"$error":"#VALUE!"}},{"$f":"DJ13*DU38/100*(1-ED38/100)","v":{"$error":"#VALUE!"}},{"$f":"IF(DP38=\"\",\"\",DJ13*(1-ED38/100)-EO38-EP38-EQ38-ER38)","v":""},{"$f":"IF(DP38=\"\",\"\",VLOOKUP(DJ24,Tehnology!I28:W35,11,FALSE)*ES38)","v":""},{"$f":"DJ15*DV38/100*(1-ED38/100)","v":{"$error":"#VALUE!"}},{"$f":"IF(DP38=\"\",\"\",DJ15*(1-ED38/100)-EU38)","v":""},{"$f":"DJ16*DW38/100*(1-ED38/100)","v":{"$error":"#VALUE!"}},{"$f":"IF(DP38=\"\",\"\",DJ16*(1-ED38/100)-EW38)","v":""},{"$f":"IF(ED38=100,0,IF(DP38=\"\",\"\",ES38*1000/EJ38))","v":""},{"$f":"IF(ED38=100,0,IF(DP38=\"\",\"\",ET38*1000/EJ38))","v":""},{"$f":"IF(ED38=100,0,IF(DP38=\"\",\"\",EV38*1000/EJ38))","v":""},{"$f":"IF(ED38=100,0,IF(DP38=\"\",\"\",EX38*1000/EJ38))","v":""},{"$f":"IF(DP38=\"\",\"\",EO38*1000)","v":""},{"$f":"IF(DP38=\"\",\"\",EP38*1000)","v":""},"","","",{"$f":"IF(DP38=\"\",\"\",EW38*1000)","v":""},null,null,null,null,{"$f":"IF(D33=\"\",\"\",IF(AU33=AU33+BT33,C33*Tehnology!$AD$17,C33*Tehnology!$AD$17*AU33/(AU33+BT33)))","v":""},{"$f":"IF(D33=\"\",\"\",IF(BT33=0,0,IF(AU33=AU33+BT33,C33*Tehnology!$AD$17,C33*Tehnology!$AD$17*BT33/(AU33+BT33))))","v":""}]
[null,"Noorhobused",{"$f":"'Ex animal'!CW61","v":0},null,{"$f":"IF('Feedin horses (AFC)'!$B$5=0,'Feedin horses (AFC)'!$AE$17,0)","v":0},{"$f":"IF('Feedin horses (AFC)'!$B$5=0,'Feedin horses (AFC)'!$AG$17,0)","v":0},null,null,{"$f":"IF(G39=\"\",0,VLOOKUP(G39,'Additional information'!$B$8:$F$16,2,FALSE))","v":0},null,null,null,null,{"$f":"IF(G39=\"\",0,VLOOKUP(G39,'Additional information'!$B$8:$F$16,3,FALSE)*'Ex animal'!CW61*H39*(AS39-AE39)/1000*I39/100/1000)","v":0},{"$f":"IF(G39=\"\",0,VLOOKUP(G39,'Additional information'!$B$8:$F$16,4,FALSE)*'Ex animal'!CW61*H39*(AS39-AE39)/1000*I39/100/1000)","v":0},{"$f":"IF(G39=\"\",0,VLOOKUP(G39,'Additional information'!$B$8:$F$16,5,FALSE)*'Ex animal'!CW61*H39*(AS39-AE39)/1000*I39/100/1000)","v":0},null,2.5,{"$f":"IF(D39=\"\",\"\",VLOOKUP(D39,Tehnology!C207:D211,2,FALSE))","v":""},null,null,null,null,null,null,null,null,{"$f":"IF(DC39=5,'Ex animal'!BQ61-'Ex animal'!BQ61*T39/100+'Ex animal'!BZ61*(1-T39/100),IF(DC39=3,'Ex animal'!BQ61-'Ex animal'!BQ61*T39/100+'Ex animal'!BZ61*(1-T39/100),IF(DC39=1,'Ex animal'!BQ61-'Ex animal'!BQ61*T39/100,IF(DC39=4,'Ex animal'!BQ61-'Ex animal'!BQ61*T39/100,0))))","v":0},{"$f":"IF(DC39=0,0,AB39)","v":0},{"$f":"IF(DC39=5,Q39,IF(DC39=3,Q39,0))","v":0},{"$f":"E39*F39/24","v":0},null,365,{"$f":"IF(DC39>0,H39*(AF39-AE39)/1000-((H39*(AF39-AE39)/1000)*T39)/100,0)","v":0},{"$f":"IF(DC39>0,H39*(AG39-AE39)/1000-((H39*(AG39-AE39)/1000)*T39)/100,0)","v":0},{"$f":"AF39","v":0},{"$f":"AG39","v":365},null,null,null,null,null,null,{"$f":"IF(DC39=2,IF('Feedin horses (AFC)'!$B$5=0,AI39,AH39),0)","v":0},{"$f":"IF('Feedin horses (AFC)'!$B$5=0,AK39,AJ39)","v":365},{"$f":"IF(DC39=2,0,IF('Feedin horses (AFC)'!$B$5=0,AI39,AH39))","v":0},{"$f":"IF(D39=\"\",\"\",IF(C39=0,0,(AC39*C39/AS39*(AS39*24-(E39*F39))/24)+(AD39*C39)+(AT39*C39)+BS39*U39/100))","v":""},{"$f":"IF(DC39=5,'Ex animal'!BZ61*'Ex animal'!CA61/100-(('Ex animal'!BZ61*'Ex animal'!CA61/100)*T39/100)-(('Ex animal'!BQ61*'Ex animal'!BR61/100)*T39/100)+'Ex animal'!BQ61*'Ex animal'!BR61/100,IF(DC39=3,'Ex animal'!BZ61*'Ex animal'!CA61/100-(('Ex animal'!BZ61*'Ex animal'!CA61/100)*T39/100)-(('Ex animal'!BQ61*'Ex animal'!BR61/100)*T39/100)+'Ex animal'!BQ61*'Ex animal'!BR61/100,IF(DC39=1,'Ex animal'!BQ61*'Ex animal'!BR61/100-(('Ex animal'!BQ61*'Ex animal'!BR61/100)*T39/100),IF(DC39=4,'Ex animal'!BQ61*'Ex animal'!BR61/100-(('Ex animal'!BQ61*'Ex animal'!BR61/100)*T39/100),0))))","v":0},{"$f":"IF(DC39=0,0,AV39)","v":0},{"$f":"IF(DC39=5,Q39*R39/100,IF(DC39=3,Q39*R39/100,0))","v":0},{"$f":"IF(H39=\"\",0,IF(DC39>0,H39*AS39/1000*I39/100-(H39*AS39/1000*I39/100*(T39/100)),0))","v":0},{"$f":"IF(D39=\"\",\"\",IF(AU39>0,((AW39*'Ex animal'!CW61/AS39*(AS39*24-(E39*F39))/24)+(AX39*'Ex animal'!CW61)+(AY39*'Ex animal'!CW61)+(BS39*BY39/100*U39/100))/AU39*100,0))","v":""},{"$f":"AU39*AZ39/100","v":{"$error":"#VALUE!"}},{"$f":"IF(DC39=5,'Ex animal'!BS61+'Ex animal'!CB61,IF(DC39=3,'Ex animal'!BS61+'Ex animal'!CB61,IF(DC39=1,'Ex animal'!BS61,IF(DC39=4,'Ex animal'!BS61,0))))","v":0},{"$f":"IF(DC39=0,0,BB39)","v":0},{"$f":"IF(H39=\"\",0,IF(DC39>0,N39,0))","v":0},{"$f":"IF(D39=\"\",\"\",IF(C39=0,0,IF(DC39=1,(BC39/1000*C39/AS39*(AS39*24-(E39*F39))/24)+BD39+(CE39*U39/100),IF(DC39=4,(BC39/1000*C39/AS39*(AS39*24-(E39*F39))/24)+BD39+(CE39*U39/100),IF(BT39>0,0,((BC39/1000*C39/AS39*(AS39*24-(E39*F39))/24)+(BD39))+(CE39*U39/100)-CT39/1000)))))","v":""},{"$f":"IF(DC39=5,'Ex animal'!BT61+'Ex animal'!CH61,IF(DC39=3,'Ex animal'!BT61+'Ex animal'!CH61,IF(DC39=1,'Ex animal'!BT61,IF(DC39=4,'Ex animal'!BT61,0))))","v":0},{"$f":"IF(DC39=0,0,BF39)","v":0},{"$f":"IF(H39=\"\",0,IF(DC39=2,0,O39))","v":0},{"$f":"IF(D39=\"\",\"\",IF(C39=0,0,((BG39/1000*'Ex animal'!CW61/AS39*(AS39*24-(E39*F39))/24)+(BH39))+CL39*U39/100))","v":""},{"$f":"IF(DC39=5,'Ex animal'!BY61+'Ex animal'!CI61,IF(DC39=3,'Ex animal'!BY61+'Ex animal'!CI61,IF(DC39=1,'Ex animal'!BY61,IF(DC39=4,'Ex animal'!BY61,0))))","v":0},{"$f":"IF(DC39=0,0,BJ39)","v":0},{"$f":"IF(H39=\"\",0,IF(DC39=2,0,P39))","v":0},{"$f":"IF(D39=\"\",\"\",IF(C39=0,0,((BK39/1000*'Ex animal'!CW61/AS39*(AS39*24-(E39*F39))/24)+(BL39))+CR39*U39/100))","v":""},{"$f":"IF(DC39=5,0,IF(DC39=3,0,IF(DC39=1,'Ex animal'!BZ61,IF(DC39=4,'Ex animal'!BZ61,'Ex animal'!BZ61+'Ex animal'!BQ61))))","v":0},{"$f":"IF(DC39=0,0,BN39)","v":0},{"$f":"IF(DC39=4,Q39,IF(DC39=2,Q39,IF(DC39=1,Q39,0)))","v":0},{"$f":"IF(DC39=0,H39,0)","v":0},{"$f":"BS39*U39/100","v":0},{"$f":"(BO39*'Ex animal'!CW61/AS39*(AS39*24-(E39*F39))/24)+(BP39*'Ex animal'!CW61)+(BQ39*'Ex animal'!CW61)+AR39","v":0},{"$f":"IF(D39=\"\",\"\",IF(C39=0,0,BS39-BR39))","v":""},{"$f":"IF(DC39=5,0,IF(DC39=3,0,IF(DC39=1,'Ex animal'!BZ61*'Ex animal'!CA61/100,IF(DC39=4,'Ex animal'!BZ61*'Ex animal'!CA61/100,'Ex animal'!BQ61*'Ex animal'!BR61/100+'Ex animal'!BZ61*'Ex animal'!CA61/100))))","v":0},{"$f":"IF(DC39=0,0,BU39)","v":0},{"$f":"IF(DC39=4,Q39*R39/100,IF(DC39=2,Q39*R39/100,IF(DC39=1,Q39*R39/100,0)))","v":0},{"$f":"IF(H39=\"\",0,IF(DC39=2,(H39*(AS39-AE39))/1000*I39/100,0)+AR39)","v":0},{"$f":"IF(D39=\"\",\"\",IF(C39=0,0,IF(BS39=0,0,((BV39*'Ex animal'!CW61/AS39*(AS39*24-(E39*F39))/24)+(BW39*'Ex animal'!CW61)+(BX39*'Ex animal'!CW61))/BS39*100)))","v":""},{"$f":"BT39*BY39/100","v":{"$error":"#VALUE!"}},{"$f":"IF(DC39=5,0,IF(DC39=3,0,IF(DC39=1,'Ex animal'!CB61,IF(DC39=4,'Ex animal'!CB61,'Ex animal'!BS61+'Ex animal'!CB61))))","v":0},{"$f":"IF(DC39=0,0,CA39)","v":0},{"$f":"IF(AU39=0,N39,0)","v":0},{"$f":"CE39*U39/100","v":{"$error":"#VALUE!"}},{"$f":"IF(BT39>0,((CB39/1000*'Ex animal'!CW61/AS39*(AS39*24-(E39*F39))/24)-('Ex animal'!CB61/1000*'Ex animal'!CW61*S39/100)+(CC39)),0)","v":{"$error":"#VALUE!"}},null,{"$f":"IF(D39=\"\",\"\",IF(C39=0,0,CE39-CD39))","v":""},{"$f":"IF(DC39=5,0,IF(DC39=3,0,IF(DC39=1,'Ex animal'!CH61,IF(DC39=4,'Ex animal'!CH61,'Ex animal'!BT61+'Ex animal'!CH61))))","v":0},{"$f":"IF(DC39=0,0,CH39)","v":0},{"$f":"IF(DC39=2,O39,0)","v":0},{"$f":"CL39*U39/100","v":0},{"$f":"((CI39/1000*'Ex animal'!CW61/AS39*(AS39*24-(E39*F39))/24)+(CJ39))","v":0},{"$f":"IF(D39=\"\",\"\",IF(C39=0,0,CL39-CK39))","v":""},{"$f":"IF(DC39=5,0,IF(DC39=3,0,IF(DC39=1,'Ex animal'!CI61,IF(DC39=4,'Ex animal'!C61,'Ex animal'!CI61+'Ex animal'!BY61))))","v":0},{"$f":"IF(DC39=0,0,CN39)","v":0},{"$f":"IF(DC39=2,P39,0)","v":0},{"$f":"CR39*U39/100","v":0},{"$f":"((CO39/1000*'Ex animal'!CW61/AS39*(AS39*24-(E39*F39))/24)+(CP39))","v":0},{"$f":"IF(D39=\"\",\"\",IF(C39=0,0,CR39-CQ39))","v":""},{"$f":"IF(D39=\"\",\"\",IF('Ex animal'!CW61=0,0,('Ex animal'!CB61*S39*'Ex animal'!CW61/100)-('Ex animal'!CB61*S39*'Ex animal'!CW61/100)/AS39*(E39*F39/24)))","v":""},{"$f":"IF(D39=\"\",\"\",IF(AU39=0,0,BE39*1000/AU39))","v":""},{"$f":"IF(D39=\"\",\"\",IF(AU39=0,0,BI39*1000/AU39))","v":""},{"$f":"IF(D39=\"\",\"\",IF(AU39=0,0,BM39*1000/AU39))","v":""},{"$f":"IF(D39=\"\",\"\",IF(BT39=0,0,CG39*1000/BT39))","v":""},{"$f":"IF(D39=\"\",\"\",IF(BT39=0,0,CM39*1000/BT39))","v":""},{"$f":"IF(D39=\"\",\"\",IF(BT39=0,0,CS39*1000/BT39))","v":""},60,{"$f":"IF(D39=\"\",\"\",VLOOKUP(D39,Tehnology!C207:E211,3,FALSE))","v":""},{"$f":"IF(D39=\"\",\"\",VLOOKUP(DB39,Tehnology!$I$10:$W$53,1,FALSE))","v":""},null,null,null,null,null,null,null,null,null,null,null,null,{"$f":"IF(SUM($C$31:$C$33)=0,\"\",IF(SUM($C$31:$C$33)>0,IF(VLOOKUP($DA$31,$DA$11:$DA$33,1,FALSE),IF(DK11=\"\",\"\",\"Sügavallapanusõnnik\"),\"\")))","v":""},null,{"$f":"IF(DP39=\"\",\"\",VLOOKUP($DQ$39,Tehnology!J37:K44,2,FALSE))","v":""},{"$f":"IF(DP39=\"\",\"\",VLOOKUP(DK24,Tehnology!I37:W44,7,FALSE))","v":""},{"$f":"IF(DP39=\"\",\"\",VLOOKUP($DK$24,Tehnology!I37:W44,9,FALSE))","v":""},{"$f":"IF(DP39=\"\",\"\",VLOOKUP($DQ$39,Tehnology!J37:W44,12,FALSE))","v":""},{"$f":"IF(DP39=\"\",\"\",VLOOKUP($DQ$39,Tehnology!J37:W44,13,FALSE))","v":""},{"$f":"IF(DP39=\"\",\"\",VLOOKUP($DQ$39,Tehnology!J37:W44,14,FALSE))","v":""},null,null,null,null,null,null,null,null,{"$f":"DK11*(1-ED39/100)","v":{"$error":"#VALUE!"}},{"$error":"#VALUE!"},{"$f":"EG39-((EK39+DY39*DZ39/1000*0/100)*EA39/100)-EI39","v":{"$error":"#VALUE!"}},0,{"$f":"IF(DP39=\"\",\"\",EH39-(DY39*DZ39/1000-DY39*DZ39/1000*(1-(EB39/100))))","v":""},{"$f":"(IF(DC31=4,BA31,0)+IF(DC32=4,BA32,0)+IF(DC33=4,BA33,0))*(1-ED39/100)","v":0},{"$f":"EK39+(DY39*DZ39/1000*0/100)","v":0},{"$f":"EL39-(EL39*EA39/100)","v":0},{"$f":"IF(DP39=\"\",\"\",IF(EJ39=0,0,EM39/EJ39*100))","v":""},{"$f":"DK13*DR39/100*(1-ED39/100)","v":{"$error":"#VALUE!"}},{"$f":"DK13*DS39/100*(1-ED39/100)","v":{"$error":"#VALUE!"}},{"$f":"DK13*DT39/100*(1-ED39/100)","v":{"$error":"#VALUE!"}},{"$f":"DK13*DU39/100*(1-ED39/100)","v":{"$error":"#VALUE!"}},{"$f":"IF(DP39=\"\",\"\",DK13*(1-ED39/100)-EO39-EP39-EQ39-ER39)","v":""},{"$f":"IF(DP39=\"\",\"\",VLOOKUP(DK24,Tehnology!I37:W53,11,FALSE)*ES39)","v":""},{"$f":"DK15*DV39/100*(1-ED39/100)","v":{"$error":"#VALUE!"}},{"$f":"IF(DP39=\"\",\"\",DK15*(1-ED39/100)-EU39)","v":""},{"$f":"DK16*DW39/100*(1-ED39/100)","v":{"$error":"#VALUE!"}},{"$f":"IF(DP39=\"\",\"\",DK16*(1-ED39/100)-EW39)","v":""},{"$f":"IF(ED39=100,0,IF(DP39=\"\",\"\",ES39*1000/EJ39))","v":""},{"$f":"IF(ED39=100,0,IF(DP39=\"\",\"\",ET39*1000/EJ39))","v":""},{"$f":"IF(ED39=100,0,IF(DP39=\"\",\"\",EV39*1000/EJ39))","v":""},{"$f":"IF(ED39=100,0,IF(DP39=\"\",\"\",EX39*1000/EJ39))","v":""},{"$f":"IF(DP39=\"\",\"\",EO39*1000)","v":""},"","","","",""]
[null,"Täiskasvanud hobused",{"$f":"'Ex animal'!CW62","v":0},null,{"$f":"IF('Feedin horses (AFC)'!$B$5=0,'Feedin horses (AFC)'!$U$17,0)","v":0},{"$f":"IF('Feedin horses (AFC)'!$B$5=0,'Feedin horses (AFC)'!$W$17,0)","v":0},null,null,{"$f":"IF(G40=\"\",0,VLOOKUP(G40,'Additional information'!$B$8:$F$16,2,FALSE))","v":0},null,null,null,null,{"$f":"IF(G40=\"\",0,VLOOKUP(G40,'Additional information'!$B$8:$F$16,3,FALSE)*'Ex animal'!CW62*H40*(AS40-AE40)/1000*I40/100/1000)","v":0},{"$f":"IF(G40=\"\",0,VLOOKUP(G40,'Additional information'!$B$8:$F$16,4,FALSE)*'Ex animal'!CW62*H40*(AS40-AE40)/1000*I40/100/1000)","v":0},{"$f":"IF(G40=\"\",0,VLOOKUP(G40,'Additional information'!$B$8:$F$16,5,FALSE)*'Ex animal'!CW62*H40*(AS40-AE40)/1000*I40/100/1000)","v":0},null,2.5,{"$f":"IF(D40=\"\",\"\",VLOOKUP(D40,Tehnology!C207:D211,2,FALSE))","v":""},null,null,null,null,null,null,null,null,{"$f":"IF(DC40=5,'Ex animal'!BQ62-'Ex animal'!BQ62*T40/100+'Ex animal'!BZ62*(1-T40/100),IF(DC40=3,'Ex animal'!BQ62-'Ex animal'!BQ62*T40/100+'Ex animal'!BZ62*(1-T40/100),IF(DC40=1,'Ex animal'!BQ62-'Ex animal'!BQ62*T40/100,IF(DC40=4,'Ex animal'!BQ62-'Ex animal'!BQ62*T40/100,0))))","v":0},{"$f":"IF(DC40=0,0,AB40)","v":0},{"$f":"IF(DC40=5,Q40,IF(DC40=3,Q40,0))","v":0},{"$f":"E40*F40/24","v":0},null,365,{"$f":"IF(DC40>0,H40*(AF40-AE40)/1000-((H40*(AF40-AE40)/1000)*T40)/100,0)","v":0},{"$f":"IF(DC40>0,H40*(AG40-AE40)/1000-((H40*(AG40-AE40)/1000)*T40)/100,0)","v":0},{"$f":"AF40","v":0},{"$f":"AG40","v":365},null,null,null,null,null,null,{"$f":"IF(DC40=2,IF('Feedin goats (AFC)'!$B$5=0,AI40,AH40),0)","v":0},{"$f":"IF('Feedin horses (AFC)'!$B$5=0,AK40,AJ40)","v":365},{"$f":"IF(DC41=2,0,IF('Feedin horses (AFC)'!$B$5=0,AI40,AH40))","v":0},{"$f":"IF(D40=\"\",\"\",IF(C40=0,0,(AC40*C40/AS40*(AS40*24-(E40*F40))/24)+(AD40*C40)+(AT40*C40)+BS40*U40/100))","v":""},{"$f":"IF(DC40=5,'Ex animal'!BZ62*'Ex animal'!CA62/100-(('Ex animal'!BZ62*'Ex animal'!CA62/100)*T40/100)-(('Ex animal'!BQ62*'Ex animal'!BR62/100)*T40/100)+'Ex animal'!BQ62*'Ex animal'!BR62/100,IF(DC40=3,'Ex animal'!BZ62*'Ex animal'!CA62/100-(('Ex animal'!BZ62*'Ex animal'!CA62/100)*T40/100)-(('Ex animal'!BQ62*'Ex animal'!BR62/100)*T40/100)+'Ex animal'!BQ62*'Ex animal'!BR62/100,IF(DC40=1,'Ex animal'!BQ62*'Ex animal'!BR62/100-(('Ex animal'!BQ62*'Ex animal'!BR62/100)*T40/100),IF(DC40=4,'Ex animal'!BQ62*'Ex animal'!BR62/100-(('Ex animal'!BQ62*'Ex animal'!BR62/100)*T40/100),0))))","v":0},{"$f":"IF(DC40=0,0,AV40)","v":0},{"$f":"IF(DC40=5,Q40*R40/100,IF(DC40=3,Q40*R40/100,0))","v":0},{"$f":"IF(H40=\"\",0,IF(DC40>0,H40*AS40/1000*I40/100-(H40*AS40/1000*I40/100*(T40/100)),0))","v":0},{"$f":"IF(D40=\"\",\"\",IF(AU40>0,((AW40*'Ex animal'!CW62/AS40*(AS40*24-(E40*F40))/24)+(AX40*'Ex animal'!CW62)+(AY40*'Ex animal'!CW62)+(BS40*BY40/100*U40/100))/AU40*100,0))","v":""},{"$f":"AU40*AZ40/100","v":{"$error":"#VALUE!"}},{"$f":"IF(DC40=5,'Ex animal'!BS62+'Ex animal'!CB62,IF(DC40=3,'Ex animal'!BS62+'Ex animal'!CB62,IF(DC40=1,'Ex animal'!BS62,IF(DC40=4,'Ex animal'!BS62,0))))","v":0},{"$f":"IF(DC40=0,0,BB40)","v":0},{"$f":"IF(H40=\"\",0,IF(DC40>0,N40,0))","v":0},{"$f":"IF(D40=\"\",\"\",IF(C40=0,0,IF(DC40=1,(BC40/1000*C40/AS40*(AS40*24-(E40*F40))/24)+BD40+(CE40*U40/100),IF(DC40=4,(BC40/1000*C40/AS40*(AS40*24-(E40*F40))/24)+BD40+(CE40*U40/100),IF(BT40>0,0,((BC40/1000*C40/AS40*(AS40*24-(E40*F40))/24)+(BD40))+(CE40*U40/100)-CT40/1000)))))","v":""},{"$f":"IF(DC40=5,'Ex animal'!BT62+'Ex animal'!CH62,IF(DC40=3,'Ex animal'!BT62+'Ex animal'!CH62,IF(DC40=1,'Ex animal'!BT62,IF(DC40=4,'Ex animal'!BT62,0))))","v":0},{"$f":"IF(DC40=0,0,BF40)","v":0},{"$f":"IF(H40=\"\",0,IF(DC40=2,0,O40))","v":0},{"$f":"IF(D40=\"\",\"\",IF(C40=0,0,((BG40/1000*'Ex animal'!CW62/AS40*(AS40*24-(E40*F40))/24)+(BH40))+CL40*U40/100))","v":""},{"$f":"IF(DC40=5,'Ex animal'!BY62+'Ex animal'!CI62,IF(DC40=3,'Ex animal'!BY62+'Ex animal'!CI62,IF(DC40=1,'Ex animal'!BY62,IF(DC40=4,'Ex animal'!BY62,0))))","v":0},{"$f":"IF(DC40=0,0,BJ40)","v":0},{"$f":"IF(H40=\"\",0,IF(DC40=2,0,P40))","v":0},{"$f":"IF(D40=\"\",\"\",IF(C40=0,0,((BK40/1000*'Ex animal'!CW62/AS40*(AS40*24-(E40*F40))/24)+(BL40))+CR40*U40/100))","v":""},{"$f":"IF(DC40=5,0,IF(DC40=3,0,IF(DC40=1,'Ex animal'!BZ62,IF(DC40=4,'Ex animal'!BZ62,'Ex animal'!BZ62+'Ex animal'!BQ62))))","v":0},{"$f":"IF(DC40=0,0,BN40)","v":0},{"$f":"IF(DC40=4,Q40,IF(DC40=2,Q40,IF(DC40=1,Q40,0)))","v":0},{"$f":"IF(DC40=0,H40,0)","v":0},{"$f":"BS40*U40/100","v":0},{"$f":"(BO40*'Ex animal'!CW62/AS40*(AS40*24-(E40*F40))/24)+(BP40*'Ex animal'!CW62)+(BQ40*'Ex animal'!CW62)+AR40","v":0},{"$f":"IF(D40=\"\",\"\",IF(C40=0,0,BS40-BR40))","v":""},{"$f":"IF(DC40=5,0,IF(DC40=3,0,IF(DC40=1,'Ex animal'!BZ62*'Ex animal'!CA62/100,IF(DC40=4,'Ex animal'!BZ62*'Ex animal'!CA62/100,'Ex animal'!BQ62*'Ex animal'!BR62/100+'Ex animal'!BZ62*'Ex animal'!CA62/100))))","v":0},{"$f":"IF(DC40=0,0,BU40)","v":0},{"$f":"IF(DC40=4,Q40*R40/100,IF(DC40=2,Q40*R40/100,IF(DC40=1,Q40*R40/100,0)))","v":0},{"$f":"IF(H40=\"\",0,IF(DC40=2,(H40*(AS40-AE40))/1000*I40/100,0)+AR40)","v":0},{"$f":"IF(D40=\"\",\"\",IF(C40=0,0,IF(BS40=0,0,((BV40*'Ex animal'!CW62/AS40*(AS40*24-(E40*F40))/24)+(BW40*'Ex animal'!CW62)+(BX40*'Ex animal'!CW62))/BS40*100)))","v":""},{"$f":"BT40*BY40/100","v":{"$error":"#VALUE!"}},{"$f":"IF(DC40=5,0,IF(DC40=3,0,IF(DC40=1,'Ex animal'!CB62,IF(DC40=4,'Ex animal'!CB62,'Ex animal'!BS62+'Ex animal'!CB62))))","v":0},{"$f":"IF(DC40=0,0,CA40)","v":0},{"$f":"IF(AU40=0,N40,0)","v":0},{"$f":"CE40*U40/100","v":{"$error":"#VALUE!"}},{"$f":"IF(BT40>0,((CB40/1000*'Ex animal'!CW62/AS40*(AS40*24-(E40*F40))/24)-('Ex animal'!CB62/1000*'Ex animal'!CW62*S40/100)+(CC40)),0)","v":{"$error":"#VALUE!"}},null,{"$f":"IF(D40=\"\",\"\",IF(C40=0,0,CE40-CD40))","v":""},{"$f":"IF(DC40=5,0,IF(DC40=3,0,IF(DC40=1,'Ex animal'!CH62,IF(DC40=4,'Ex animal'!CH62,'Ex animal'!BT62+'Ex animal'!CH62))))","v":0},{"$f":"IF(DC40=0,0,CH40)","v":0},{"$f":"IF(DC40=2,O40,0)","v":0},{"$f":"CL40*U40/100","v":0},{"$f":"((CI40/1000*'Ex animal'!CW62/AS40*(AS40*24-(E40*F40))/24)+(CJ40))","v":0},{"$f":"IF(D40=\"\",\"\",IF(C40=0,0,CL40-CK40))","v":""},{"$f":"IF(DC40=5,0,IF(DC40=3,0,IF(DC40=1,'Ex animal'!CI62,IF(DC40=4,'Ex animal'!CI62,'Ex animal'!CI62+'Ex animal'!BY62))))","v":0},{"$f":"IF(DC40=0,0,CN40)","v":0},{"$f":"IF(DC40=2,P40,0)","v":0},{"$f":"CR40*U40/100","v":0},{"$f":"((CO40/1000*'Ex animal'!CW62/AS40*(AS40*24-(E40*F40))/24)+(CP40))","v":0},{"$f":"IF(D40=\"\",\"\",IF(C40=0,0,CR40-CQ40))","v":""},{"$f":"IF(D40=\"\",\"\",IF('Ex animal'!CW62=0,0,('Ex animal'!CB62*S40*'Ex animal'!CW62/100)-('Ex animal'!CB62*S40*'Ex animal'!CW62/100)/AS40*(E40*F40/24)))","v":""},{"$f":"IF(D40=\"\",\"\",IF(AU40=0,0,BE40*1000/AU40))","v":""},{"$f":"IF(D40=\"\",\"\",IF(AU40=0,0,BI40*1000/AU40))","v":""},{"$f":"IF(D40=\"\",\"\",IF(AU40=0,0,BM40*1000/AU40))","v":""},{"$f":"IF(D40=\"\",\"\",IF(BT40=0,0,CG40*1000/BT40))","v":""},{"$f":"IF(D40=\"\",\"\",IF(BT40=0,0,CM40*1000/BT40))","v":""},{"$f":"IF(D40=\"\",\"\",IF(BT40=0,0,CS40*1000/BT40))","v":""},null,{"$f":"IF(D40=\"\",\"\",VLOOKUP(D40,Tehnology!C207:E211,3,FALSE))","v":""},{"$f":"IF(D40=\"\",\"\",VLOOKUP(DB40,Tehnology!$I$10:$W$53,1,FALSE))","v":""},null,null,null,null,null,null,null,null,null,null,null,null,{"$f":"IF(SUM($C$31:$C$33)=0,\"\",IF(SUM($C$31:$C$33)>0,IF(VLOOKUP($DA$31,$DA$11:$DA$33,1,FALSE),IF(DL11=\"\",\"\",\"Vedelsõnnik\"),\"\")))","v":""},null,{"$f":"IF(DP40=\"\",\"\",VLOOKUP($DQ$40,Tehnology!L37:N44,3,FALSE))","v":""},{"$f":"IF(DP40=\"\",\"\",VLOOKUP($DK$24,Tehnology!I37:W44,8,FALSE))","v":""},{"$f":"IF(DP40=\"\",\"\",VLOOKUP($DK$24,Tehnology!I37:W44,10,FALSE))","v":""},null,null,null,null,null,null,null,null,null,null,null,{"$f":"DL11+SUM(DZ66:DZ69)","v":{"$error":"#VALUE!"}},{"$f":"EF40+DY40*DZ40/1000","v":{"$error":"#VALUE!"}},{"$f":"EG40-((EK40+DY40*DZ40/1000*0/100)*EA40/100)-EI40","v":{"$error":"#VALUE!"}},{"$f":"IF(DQ40=\"Storage roofed\",DY40*EC40/1000,0)","v":0},{"$f":"IF(DP40=\"\",\"\",EH40-(DY40*DZ40/1000-DY40*DZ40/1000*(1-(EB40/100))))","v":""},{"$f":"IF(DC31=4,BZ31,0)+IF(DC32=4,BZ32,0)+IF(DC33=4,BZ33,0)","v":0},{"$f":"EK40+(DY40*DZ40/1000*0/100)+SUM(EF66:EF69)","v":0},{"$f":"EL40-(EL40*EA40/100)","v":0},"",{"$f":"DL13*DR40/100*0.4+SUM(EB66:EB69)/1000*DR40/100","v":{"$error":"#VALUE!"}},null,{"$f":"DL13*DT40/100*0.4+SUM(EB66:EB69)/1000*DT40","v":{"$error":"#VALUE!"}},null,{"$f":"IF(DP40=\"\",\"\",DL13+SUM(EB66:EB69)/1000-EO40-EP40-EQ40-ER40)","v":""},{"$f":"IF(DP40=\"\",\"\",VLOOKUP(DK24,Tehnology!I37:W53,12,FALSE)*ES40)","v":""},null,{"$f":"IF(DP40=\"\",\"\",DL15+SUM(EC66:EC69)/1000-EU40)","v":""},null,{"$f":"IF(DP40=\"\",\"\",DL16+SUM(ED66:ED69)/1000-EW40)","v":""},{"$f":"IF(DP40=\"\",\"\",ES40*1000/EJ40)","v":""},{"$f":"IF(DP40=\"\",\"\",ET40*1000/EJ40)","v":""},{"$f":"IF(DP40=\"\",\"\",EV40*1000/EJ40)","v":""},{"$f":"IF(DP40=\"\",\"\",EX40*1000/EJ40)","v":""},"","","","","",""]
[null,null,null,null,null,null,null,null,null,null,null,null,null,null,null,null,null,null,null,null,null,null,null,null,null,null,null,null,null,null,null,null,null,null,null,null,null,null,null,null,null,null,null,null,null,null,null,null,null,null,null,null,null,null,null,null,null,null,null,null,null,null,null,null,null,null,null,null,null,null,null,null,null,null,null,null,null,null,null,null,null,null,null,null,null,null,null,null,null,null,null,null,null,null,null,null,null,null,null,null,null,null,null,null,null,null,null,null,null,null,null,null,null,null,null,null,null,null,null,{"$f":"IF(SUM($C$31:$C$33)=0,\"\",IF(SUM($C$31:$C$33)>0,IF(VLOOKUP($DA$31,$DA$11:$DA$33,1,FALSE),IF(DM11=\"\",\"\",\"Tahesõnnik\"),\"\")))","v":""},null,{"$f":"IF(DP41=\"\",\"\",VLOOKUP(DQ41,Tehnology!J46:K53,2,FALSE))","v":""},{"$f":"IF(DP41=\"\",\"\",VLOOKUP($DM$24,Tehnology!I46:W53,7,FALSE))","v":""},{"$f":"IF(DP41=\"\",\"\",VLOOKUP($DM$24,Tehnology!I46:W53,9,FALSE))","v":""},{"$f":"IF(DP41=\"\",\"\",VLOOKUP($DQ$41,Tehnology!J46:W53,12,FALSE))","v":""},{"$f":"IF(DP41=\"\",\"\",VLOOKUP($DQ$41,Tehnology!J46:W53,13,FALSE))","v":""},{"$f":"IF(DP41=\"\",\"\",VLOOKUP($DQ$41,Tehnology!J46:W53,14,FALSE))","v":""},null,null,null,null,null,null,null,null,{"$f":"DM11*(1-ED41/100)","v":{"$error":"#VALUE!"}},{"$f":"EF41+DY41*DZ41/1000","v":{"$error":"#VALUE!"}},{"$f":"EG41-((EK41+DY41*DZ41/1000*0/100)*EA41/100)-EI41","v":{"$error":"#VALUE!"}},{"$f":"IF(DQ41=\"Storage roofed\",DY41*EC41/1000,0)","v":0},{"$f":"IF(DP41=\"\",\"\",EH41-(DY41*DZ41/1000-DY41*DZ41/1000*(1-(EB41/100))))","v":""},{"$f":"(IF(DC31=5,BA31,0)+IF(DC32=5,BA32,0)+IF(DC33=5,BA33,0))*(1-ED41/100)","v":0},{"$f":"EK41+(DY41*DZ41/1000*0/100)","v":0},{"$f":"EL41-(EL41*EA41/100)","v":0},{"$f":"IF(DP41=\"\",\"\",IF(EJ41=0,0,EM41/EJ41*100))","v":""},{"$f":"DM13*DR41/100*(1-ED41/100)","v":{"$error":"#VALUE!"}},{"$f":"DM13*DS41/100*(1-ED41/100)","v":{"$error":"#VALUE!"}},{"$f":"DM13*DT41/100*(1-ED41/100)","v":{"$error":"#VALUE!"}},{"$f":"DM13*DU41/100*(1-ED41/100)","v":{"$error":"#VALUE!"}},{"$f":"IF(DP41=\"\",\"\",DM13*(1-ED41/100)-EO41-EP41-EQ41-ER41)","v":""},{"$f":"IF(DP41=\"\",\"\",VLOOKUP(DM24,Tehnology!I46:W53,11,FALSE)*ES41)","v":""},{"$f":"DM15*DV41/100*(1-ED41/100)","v":{"$error":"#VALUE!"}},{"$f":"IF(DP41=\"\",\"\",DM15*(1-ED41/100)-EU41)","v":""},{"$f":"DM16*DW41/100*(1-ED41/100)","v":{"$error":"#VALUE!"}},{"$f":"IF(DP41=\"\",\"\",DM16*(1-ED41/100)-EW41)","v":""},{"$f":"IF(ED41=100,0,IF(DP41=\"\",\"\",ES41*1000/EJ41))","v":""},{"$f":"IF(ED41=100,0,IF(DP41=\"\",\"\",ET41*1000/EJ41))","v":""},{"$f":"IF(ED41=100,0,IF(DP41=\"\",\"\",EV41*1000/EJ41))","v":""},{"$f":"IF(ED41=100,0,IF(DP41=\"\",\"\",EX41*1000/EJ41))","v":""},{"$f":"IF(DP41=\"\",\"\",EO41*1000)","v":""},"",{"$f":"IF(DP41=\"\",\"\",EQ41*1000)","v":""},"","",""]
[]
[null,null,null,null,null,null,null,null,null,null,null,null,null,null,null,null,null,null,null,null,null,null,null,null,null,null,null,null,null,null,null,null,null,null,null,null,null,null,null,null,null,null,null,null,null,null,null,null,null,null,null,null,null,null,null,null,null,null,null,null,null,null,null,null,null,null,null,null,null,null,null,null,null,null,null,null,null,null,null,null,null,null,null,null,null,null,null,null,null,null,null,null,null,null,null,null,null,null,null,null,null,null,null,null,null,null,null,null,null,null,null,null,null,null,null,null,null,null,"KITSED",{"$f":"IF(SUM($C$35:$C$37)=0,\"\",IF(SUM($C$35:$C$37)>0,IF(VLOOKUP($DA$35,$DA$11:$DA$37,1,FALSE),IF(DG11=\"\",\"\",\"Tahesõnnik\"),\"\")))","v":""},null,{"$f":"IF(DP43=\"\",\"\",VLOOKUP($DQ$43,Tehnology!$J$10:$K$17,2,FALSE))","v":""},{"$f":"IF(DP43=\"\",\"\",VLOOKUP(DG24,Tehnology!I10:W17,7,FALSE))","v":""},{"$f":"IF(DP43=\"\",\"\",VLOOKUP($DG$24,Tehnology!$I$10:$W$17,9,FALSE))","v":""},{"$f":"IF(DP43=\"\",\"\",VLOOKUP($DQ$43,Tehnology!$J$10:$W$17,12,FALSE))","v":""},{"$f":"IF(DP43=\"\",\"\",VLOOKUP($DQ$43,Tehnology!$J$10:$W$17,13,FALSE))","v":""},{"$f":"IF(DP43=\"\",\"\",VLOOKUP($DQ$43,Tehnology!$J$10:$W$17,14,FALSE))","v":""},null,null,null,null,null,null,null,null,{"$f":"DG11","v":""},{"$f":"EF43+DY43*DZ43/1000","v":{"$error":"#VALUE!"}},{"$f":"EG43-((EK43+DY43*DZ43/1000*0/100)*EA43/100)-EI43","v":{"$error":"#VALUE!"}},{"$f":"IF(DQ43=\"Storage roofed\",DY43*EC43/1000,0)","v":0},{"$f":"IF(DP43=\"\",\"\",EH43-(DY43*DZ43/1000-DY43*DZ43/1000*(1-(EB43/100))))","v":""},{"$f":"IF(DC35=1,BA35,0)+IF(DC36=1,BA36,0)+IF(DC37=1,BA37,0)","v":0},{"$f":"EK43+(DY43*DZ43/1000*0/100)","v":0},{"$f":"EL43-(EL43*EA43/100)","v":0},{"$f":"IF(DP43=\"\",\"\",IF(EJ43=0,0,EM43/EJ43*100))","v":""},{"$f":"DG13*DR43/100","v":{"$error":"#VALUE!"}},{"$f":"DG13*DS43/100","v":{"$error":"#VALUE!"}},{"$f":"DG13*DT43/100","v":{"$error":"#VALUE!"}},{"$f":"DG13*DU43/100","v":{"$error":"#VALUE!"}},{"$f":"IF(DP43=\"\",\"\",DG13-EO43-EP43-EQ43-ER43)","v":""},{"$f":"IF(DP43=\"\",\"\",VLOOKUP($DG$24,Tehnology!$I$10:$W$17,11,FALSE)*ES43)","v":""},{"$f":"DG15*DV43/100","v":{"$error":"#VALUE!"}},{"$f":"IF(DP43=\"\",\"\",DG15-EU43)","v":""},{"$f":"DG16*DW43/100","v":{"$error":"#VALUE!"}},{"$f":"IF(DP43=\"\",\"\",DG16-EW43)","v":""},{"$f":"IF(DP43=\"\",\"\",ES43*1000/EJ43)","v":""},{"$f":"IF(DP43=\"\",\"\",ET43*1000/EJ43)","v":""},{"$f":"IF(DP43=\"\",\"\",EV43*1000/EJ43)","v":""},{"$f":"IF(DP43=\"\",\"\",EX43*1000/EJ43)","v":""},{"$f":"IF(DP43=\"\",\"\",EO43*1000)","v":""},{"$f":"IF(DP43=\"\",\"\",EP43*1000)","v":""},{"$f":"IF(DP43=\"\",\"\",EQ43*1000)","v":""},{"$f":"IF(DP43=\"\",\"\",ER43*1000)","v":""},{"$f":"IF(DP43=\"\",\"\",EU43*1000)","v":""},{"$f":"IF(DP43=\"\",\"\",EW43*1000)","v":""},null,null,null,null,{"$f":"IF(D35=\"\",\"\",IF(AU35=AU35+BT35,C35*Tehnology!AD18,C35*Tehnology!AD18*AU35/(AU35+BT35)))","v":""},{"$f":"IF(D35=\"\",\"\",IF(BT35=0,0,IF(AU35=AU35+BT35,C35*Tehnology!AD18,C35*Tehnology!AD18*BT35/(AU35+BT35))))","v":""},{"$f":"IF(SUM(C35:C37)=0,\"\",SUM(FI43:FI49)/1000)","v":""},{"$f":"IF(SUM(C35:C37)=0,\"\",SUM(FM43:FN49)/1000)","v":""}]
[null,null,null,null,null,null,null,null,null,null,null,null,null,null,null,null,null,null,null,null,null,null,null,null,null,null,null,null,null,null,null,null,null,null,null,null,null,null,null,null,null,null,null,null,null,null,null,null,null,null,null,null,null,null,null,null,null,null,null,null,null,null,null,null,null,null,null,null,null,null,null,null,null,null,null,null,null,null,null,null,null,null,null,null,null,null,null,null,null,null,null,null,null,null,null,null,null,null,null,null,null,null,null,null,null,null,null,null,null,null,null,null,null,null,null,null,null,null,null,{"$f":"IF(SUM($C$35:$C$37)=0,\"\",IF(SUM($C$35:$C$37)>0,IF(VLOOKUP($DA$35,$DA$11:$DA$37,1,FALSE),IF(DH11=\"\",\"\",\"Virts\"),\"\")))","v":""},null,{"$f":"IF(DP44=\"\",\"\",VLOOKUP($DQ$44,Tehnology!L10:M17,2,FALSE))","v":""},{"$f":"IF(DP44=\"\",\"\",VLOOKUP($DG$24,Tehnology!$I$10:$W$17,8,FALSE))","v":""},{"$f":"IF(DP44=\"\",\"\",VLOOKUP($DG$24,Tehnology!$I$10:$W$17,10,FALSE))","v":""},null,null,null,null,null,null,null,null,null,null,null,{"$f":"DH11+SUM(DZ66:DZ69)","v":{"$error":"#VALUE!"}},{"$error":"#VALUE!"},{"$f":"EG44-((EK44+DY44*DZ44/1000*0/100)*EA44/100)-EI44","v":{"$error":"#VALUE!"}},0,"",{"$f":"IF(DC35=1,BZ35,0)+IF(DC36=1,BZ36,0)+IF(DC37=1,BZ37,0)","v":0},{"$f":"EK44+(DY44*DZ44/1000*0/100)+SUM(EF66:EF69)","v":0},{"$f":"EL44-(EL44*EA44/100)","v":0},"",{"$f":"(DH13+SUM(EB66:EB69)/1000)*DR44/100","v":{"$error":"#VALUE!"}},null,{"$f":"(DH13+SUM(EB66:EB69)/1000)*DT44/100","v":{"$error":"#VALUE!"}},null,{"$f":"IF(DP44=\"\",\"\",DH13+SUM(EB66:EB69)/1000-EO44-EP44-EQ44-ER44)","v":""},{"$f":"IF(DP44=\"\",\"\",VLOOKUP($DG$24,Tehnology!$I$10:$W$17,12,FALSE)*ES44)","v":""},null,{"$f":"IF(DP44=\"\",\"\",DH15+SUM(EC66:EC69)/1000-EU44)","v":""},null,{"$f":"IF(DP44=\"\",\"\",DH16+SUM(ED66:ED69)/1000-EW44)","v":""},{"$f":"IF(DP44=\"\",\"\",ES44*1000/EJ44)","v":""},{"$f":"IF(DP44=\"\",\"\",ET44*1000/EJ44)","v":""},{"$f":"IF(DP44=\"\",\"\",EV44*1000/EJ44)","v":""},{"$f":"IF(DP44=\"\",\"\",EX44*1000/EJ44)","v":""},{"$f":"IF(DP44=\"\",\"\",EO44*1000)","v":""},"","","","","",{"$f":"SUM(C35:C37)*Tehnology!AB18","v":0},0]
[null,null,null,null,null,null,null,null,null,null,null,null,null,null,null,null,null,null,null,null,null,null,null,null,null,null,null,null,null,null,null,null,null,null,null,null,null,null,null,null,null,null,null,null,null,null,null,null,null,null,null,null,null,null,null,null,null,null,null,null,null,null,null,null,null,null,null,null,null,null,null,null,null,null,null,null,null,null,null,null,null,null,null,null,null,null,null,null,null,null,null,null,null,null,null,null,null,null,null,null,null,null,null,null,null,null,null,null,null,null,null,null,null,null,null,null,null,null,null,{"$f":"IF(SUM($C$35:$C$37)=0,\"\",IF(SUM($C$35:$C$37)>0,IF(VLOOKUP($DA$35,$DA$11:$DA$37,1,FALSE),IF(DI11=\"\",\"\",\"Vedelsõnnik\"),\"\")))","v":""},null,{"$f":"IF(DP45=\"\",\"\",VLOOKUP(DQ45,Tehnology!L19:M26,2,FALSE))","v":""},{"$f":"IF(DP45=\"\",\"\",VLOOKUP($DI$24,Tehnology!I19:W26,8,FALSE))","v":""},{"$f":"IF(DP45=\"\",\"\",VLOOKUP($DI$24,Tehnology!I19:W26,10,FALSE))","v":""},null,null,null,null,null,null,null,null,null,null,null,{"$f":"DI11+SUM(DZ66:DZ69)","v":{"$error":"#VALUE!"}},{"$error":"#VALUE!"},{"$f":"EG45-((EK45+DY45*DZ45/1000*0/100)*EA45/100)-EI45","v":{"$error":"#VALUE!"}},0,"",{"$f":"IF(DI11=0,0,(IF(DC35=2,BZ35,0)+IF(DC36=2,BZ36,0)+IF(DC37=2,BZ37,0)))","v":0},{"$f":"EK45+(DY45*DZ45/1000*0/100)+SUM(EF66:EF69)","v":0},{"$f":"EL45-(EL45*EA45/100)","v":0},"",{"$f":"((IF(DC35=2,CF35,0)+IF(DC36=2,CF36,0)+IF(DC37=2,CF37,0))+(SUM(EB66:EB69)/1000))*DR45/100","v":{"$error":"#VALUE!"}},null,{"$f":"(DI13+SUM(EB66:EB69)/1000)*DT45/100","v":{"$error":"#VALUE!"}},null,{"$f":"IF(DP45=\"\",\"\",DI13+SUM(EB66:EB69)/1000-EO45-EP45-EQ45-ER45)","v":""},{"$f":"IF(DP45=\"\",\"\",VLOOKUP(DI24,Tehnology!I19:W26,12,FALSE)*ES45)","v":""},null,{"$f":"IF(DP45=\"\",\"\",DI15+SUM(EC66:EC69)/1000-EU45)","v":""},null,{"$f":"IF(DP45=\"\",\"\",DI16+SUM(ED66:ED69)/1000-EW45)","v":""},{"$f":"IF(DP45=\"\",\"\",ES45*1000/EJ45)","v":""},{"$f":"IF(DP45=\"\",\"\",ET45*1000/EJ45)","v":""},{"$f":"IF(DP45=\"\",\"\",EV45*1000/EJ45)","v":""},{"$f":"IF(DP45=\"\",\"\",EX45*1000/EJ45)","v":""},{"$f":"IF(DP45=\"\",\"\",EO45*1000)","v":""},"","","","","",null,null,null,null,{"$f":"IF(D36=\"\",\"\",IF(AU36=AU36+BT36,C36*Tehnology!$AD$18,C36*Tehnology!$AD$18*AU36/(AU36+BT36)))","v":""},{"$f":"IF(D36=\"\",\"\",IF(BT36=0,0,IF(AU36=AU36+BT36,C36*Tehnology!$AD$18,C36*Tehnology!$AD$18*BT36/(AU36+BT36))))","v":""}]
[null,null,null,null,null,null,null,null,null,null,null,null,null,null,null,null,null,null,null,null,null,null,null,null,null,null,null,null,null,null,null,null,null,null,null,null,null,null,null,null,null,null,null,null,null,null,null,null,null,null,null,null,null,null,null,null,null,null,null,null,null,null,null,null,null,null,null,null,null,null,null,null,null,null,null,null,null,null,null,null,null,null,null,null,null,null,null,null,null,null,null,null,null,null,null,null,null,null,null,null,null,null,null,null,null,null,null,null,null,null,null,null,null,null,null,null,null,null,null,{"$f":"IF(SUM($C$35:$C$37)=0,\"\",IF(SUM($C$35:$C$37)>0,IF(VLOOKUP($DA$35,$DA$11:$DA$37,1,FALSE),IF(DJ11=\"\",\"\",\"Sügavallapanusõnnik\"),\"\")))","v":""},null,{"$f":"IF(DP46=\"\",\"\",VLOOKUP(DQ46,Tehnology!J28:K35,2,FALSE))","v":""},{"$f":"IF(DP46=\"\",\"\",VLOOKUP($DJ$24,Tehnology!I28:W35,7,FALSE))","v":""},{"$f":"IF(DP46=\"\",\"\",VLOOKUP($DJ$24,Tehnology!I28:W35,9,FALSE))","v":""},{"$f":"IF(DP46=\"\",\"\",VLOOKUP($DQ$46,Tehnology!J28:W35,12,FALSE))","v":""},{"$f":"IF(DP46=\"\",\"\",VLOOKUP($DQ$46,Tehnology!J28:W35,13,FALSE))","v":""},{"$f":"IF(DP46=\"\",\"\",VLOOKUP($DQ$46,Tehnology!J28:W35,14,FALSE))","v":""},null,null,null,null,null,null,null,null,{"$f":"DJ11*(1-ED46/100)","v":{"$error":"#VALUE!"}},{"$error":"#VALUE!"},{"$f":"EG46-((EK46+DY46*DZ46/1000*0/100)*EA46/100)-EI46","v":{"$error":"#VALUE!"}},0,"",{"$f":"(IF(DC35=3,BA35,0)+IF(DC36=3,BA36,0)+IF(DC37=3,BA37,0))*(1-ED46/100)","v":0},{"$f":"EK46+(DY46*DZ46/1000*0/100)","v":0},{"$f":"EL46-(EL46*EA46/100)","v":0},"",{"$f":"DJ13*DR46/100*(1-ED46/100)","v":{"$error":"#VALUE!"}},{"$f":"DJ13*DS46/100*(1-ED46/100)","v":{"$error":"#VALUE!"}},{"$f":"DJ13*DT46/100*(1-ED46/100)","v":{"$error":"#VALUE!"}},{"$f":"DJ13*DU46/100*(1-ED46/100)","v":{"$error":"#VALUE!"}},{"$f":"IF(DP46=\"\",\"\",DJ13*(1-ED46/100)-EO46-EP46-EQ46-ER46)","v":""},{"$f":"IF(DP46=\"\",\"\",VLOOKUP(DJ24,Tehnology!I28:W35,11,FALSE)*ES46)","v":""},{"$f":"DJ15*DV46/100*(1-ED46/100)","v":{"$error":"#VALUE!"}},{"$f":"IF(DP46=\"\",\"\",DJ15*(1-ED46/100)-EU46)","v":""},{"$f":"DJ16*DW46/100*(1-ED46/100)","v":{"$error":"#VALUE!"}},{"$f":"IF(DP46=\"\",\"\",DJ16*(1-ED46/100)-EW46)","v":""},{"$f":"IF(ED46=100,0,IF(DP46=\"\",\"\",ES46*1000/EJ46))","v":""},{"$f":"IF(ED46=100,0,IF(DP46=\"\",\"\",ET46*1000/EJ46))","v":""},{"$f":"IF(ED46=100,0,IF(DP46=\"\",\"\",EV46*1000/EJ46))","v":""},{"$f":"IF(ED46=100,0,IF(DP46=\"\",\"\",EX46*1000/EJ46))","v":""},{"$f":"IF(DP46=\"\",\"\",EO46*1000)","v":""},{"$f":"IF(DP46=\"\",\"\",EP46*1000)","v":""},"","","",{"$f":"IF(DP46=\"\",\"\",EW46*1000)","v":""},null,null,null,null,{"$f":"IF(D37=\"\",\"\",IF(AU37=AU37+BT37,C37*Tehnology!$AD$18,C37*Tehnology!$AD$18*AU37/(AU37+BT37)))","v":""},{"$f":"IF(D37=\"\",\"\",IF(BT37=0,0,IF(AU37=AU37+BT37,C37*Tehnology!$AD$18,C37*Tehnology!$AD$18*BT37/(AU37+BT37))))","v":""}]
[null,null,null,null,null,null,null,null,null,null,null,null,null,null,null,null,null,null,null,null,null,null,null,null,null,null,null,null,null,null,null,null,null,null,null,null,null,null,null,null,null,null,null,null,null,null,null,null,null,null,null,null,null,null,null,null,null,null,null,null,null,null,null,null,null,null,null,null,null,null,null,null,null,null,null,null,null,null,null,null,null,null,null,null,null,null,null,null,null,null,null,null,null,null,null,null,null,null,null,null,null,null,null,null,null,null,null,null,null,null,null,null,null,null,null,null,null,null,null,{"$f":"IF(SUM($C$35:$C$37)=0,\"\",IF(SUM($C$35:$C$37)>0,IF(VLOOKUP($DA$35,$DA$11:$DA$37,1,FALSE),IF(DK11=\"\",\"\",\"Sügavallapanusõnnik\"),\"\")))","v":""},null,{"$f":"IF(DP47=\"\",\"\",VLOOKUP($DQ$47,Tehnology!J37:K44,2,FALSE))","v":""},{"$f":"IF(DP47=\"\",\"\",VLOOKUP(DK24,Tehnology!I37:W44,7,FALSE))","v":""},{"$f":"IF(DP47=\"\",\"\",VLOOKUP($DK$24,Tehnology!I37:W44,9,FALSE))","v":""},{"$f":"IF(DP47=\"\",\"\",VLOOKUP($DQ$47,Tehnology!J37:W44,12,FALSE))","v":""},{"$f":"IF(DP47=\"\",\"\",VLOOKUP($DQ$47,Tehnology!J37:W44,13,FALSE))","v":""},{"$f":"IF(DP47=\"\",\"\",VLOOKUP($DQ$47,Tehnology!J37:W44,14,FALSE))","v":""},null,null,null,null,null,null,null,null,{"$f":"DK11*(1-ED47/100)","v":{"$error":"#VALUE!"}},{"$error":"#VALUE!"},{"$f":"EG47-((EK47+DY47*DZ47/1000*0/100)*EA47/100)-EI47","v":{"$error":"#VALUE!"}},0,"",{"$f":"(IF(DC35=4,BA35,0)+IF(DC36=4,BA36,0)+IF(DC37=4,BA37,0))*(1-ED47/100)","v":0},{"$f":"EK47+(DY47*DZ47/1000*0/100)","v":0},{"$f":"EL47-(EL47*EA47/100)","v":0},"",{"$f":"DK13*DR47/100*(1-ED47/100)","v":{"$error":"#VALUE!"}},{"$f":"DK13*DS47/100*(1-ED47/100)","v":{"$error":"#VALUE!"}},{"$f":"DK13*DT47/100*(1-ED47/100)","v":{"$error":"#VALUE!"}},{"$f":"DK13*DU47/100*(1-ED47/100)","v":{"$error":"#VALUE!"}},{"$f":"IF(DP47=\"\",\"\",DK13*(1-ED47/100)-EO47-EP47-EQ47-ER47)","v":""},{"$f":"IF(DP47=\"\",\"\",VLOOKUP(DK24,Tehnology!I37:W53,11,FALSE)*ES47)","v":""},{"$f":"DK15*DV47/100*(1-ED47/100)","v":{"$error":"#VALUE!"}},{"$f":"IF(DP47=\"\",\"\",DK15*(1-ED47/100)-EU47)","v":""},{"$f":"DK16*DW47/100*(1-ED47/100)","v":{"$error":"#VALUE!"}},{"$f":"IF(DP47=\"\",\"\",DK16*(1-ED47/100)-EW47)","v":""},{"$f":"IF(ED47=100,0,IF(DP47=\"\",\"\",ES47*1000/EJ47))","v":""},{"$f":"IF(ED47=100,0,IF(DP47=\"\",\"\",ET47*1000/EJ47))","v":""},{"$f":"IF(ED47=100,0,IF(DP47=\"\",\"\",EV47*1000/EJ47))","v":""},{"$f":"IF(ED47=100,0,IF(DP47=\"\",\"\",EX47*1000/EJ47))","v":""},{"$f":"IF(DP47=\"\",\"\",EO47*1000)","v":""},{"$f":"IF(DP47=\"\",\"\",EP47*1000)","v":""},"","","",{"$f":"IF(DP47=\"\",\"\",EW47*1000)","v":""}]
[null,null,null,null,null,null,null,null,null,null,null,null,null,null,null,null,null,null,null,null,null,null,null,null,null,null,null,null,null,null,null,null,null,null,null,null,null,null,null,null,null,null,null,null,null,null,null,null,null,null,null,null,null,null,null,null,null,null,null,null,null,null,null,null,null,null,null,null,null,null,null,null,null,null,null,null,null,null,null,null,null,null,null,null,null,null,null,null,null,null,null,null,null,null,null,null,null,null,null,null,null,null,null,null,null,null,null,null,null,null,null,null,null,null,null,null,null,null,null,{"$f":"IF(SUM($C$35:$C$37)=0,\"\",IF(SUM($C$35:$C$37)>0,IF(VLOOKUP($DA$35,$DA$11:$DA$37,1,FALSE),IF(DL11=\"\",\"\",\"Vedelsõnnik\"),\"\")))","v":""},null,{"$f":"IF(DP48=\"\",\"\",VLOOKUP($DQ$48,Tehnology!L37:N44,3,FALSE))","v":""},{"$f":"IF(DP48=\"\",\"\",VLOOKUP($DK$24,Tehnology!I37:W44,8,FALSE))","v":""},{"$f":"IF(DP48=\"\",\"\",VLOOKUP($DK$24,Tehnology!I37:W44,10,FALSE))","v":""},null,null,null,null,null,null,null,null,null,null,null,{"$f":"DL11+SUM(DZ66:DZ69)","v":{"$error":"#VALUE!"}},{"$error":"#VALUE!"},{"$f":"EG48-((EK48+DY48*DZ48/1000*0/100)*EA48/100)-EI48","v":{"$error":"#VALUE!"}},0,"",{"$f":"IF(DC35=4,BZ35,0)+IF(DC36=4,BZ36,0)+IF(DC37=4,BZ37,0)","v":0},{"$f":"EK48+(DY48*DZ48/1000*0/100)+SUM(EF66:EF69)","v":0},{"$f":"EL48-(EL48*EA48/100)","v":0},"",{"$f":"DL13*DR48/100*0.4+SUM(EB66:EB69)/1000*DR48/100","v":{"$error":"#VALUE!"}},null,{"$f":"DL13*DT48/100*0.4+SUM(EB66:EB69)/1000*DT48","v":{"$error":"#VALUE!"}},null,{"$f":"IF(DP48=\"\",\"\",DL13+SUM(EB66:EB69)/1000-EO48-EP48-EQ48-ER48)","v":""},{"$f":"IF(DP48=\"\",\"\",VLOOKUP(DK24,Tehnology!I37:W53,12,FALSE)*ES48)","v":""},null,{"$f":"IF(DP48=\"\",\"\",DL15+SUM(EC66:EC69)/1000-EU48)","v":""},null,{"$f":"IF(DP48=\"\",\"\",DL16+SUM(ED66:ED69)/1000-EW48)","v":""},{"$f":"IF(DP48=\"\",\"\",ES48*1000/EJ48)","v":""},{"$f":"IF(DP48=\"\",\"\",ET48*1000/EJ48)","v":""},{"$f":"IF(DP48=\"\",\"\",EV48*1000/EJ48)","v":""},{"$f":"IF(DP48=\"\",\"\",EX48*1000/EJ48)","v":""},"","","","","",""]
[null,null,null,null,null,null,null,null,null,null,null,null,null,null,null,null,null,null,null,null,null,null,null,null,null,null,null,null,null,null,null,null,null,null,null,null,null,null,null,null,null,null,null,null,null,null,null,null,null,null,null,null,null,null,null,null,null,null,null,null,null,null,null,null,null,null,null,null,null,null,null,null,null,null,null,null,null,null,null,null,null,null,null,null,null,null,null,null,null,null,null,null,null,null,null,null,null,null,null,null,null,null,null,null,null,null,null,null,null,null,null,null,null,null,null,null,null,null,null,{"$f":"IF(SUM($C$35:$C$37)=0,\"\",IF(SUM($C$35:$C$37)>0,IF(VLOOKUP($DA$35,$DA$11:$DA$37,1,FALSE),IF(DM11=\"\",\"\",\"Tahesõnnik\"),\"\")))","v":""},null,{"$f":"IF(DP49=\"\",\"\",VLOOKUP(DQ49,Tehnology!J46:K53,2,FALSE))","v":""},{"$f":"IF(DP49=\"\",\"\",VLOOKUP($DM$24,Tehnology!I46:W53,7,FALSE))","v":""},{"$f":"IF(DP49=\"\",\"\",VLOOKUP($DM$24,Tehnology!I46:W53,9,FALSE))","v":""},{"$f":"IF(DP49=\"\",\"\",VLOOKUP($DQ$49,Tehnology!J46:W53,12,FALSE))","v":""},{"$f":"IF(DP49=\"\",\"\",VLOOKUP($DQ$49,Tehnology!J46:W53,13,FALSE))","v":""},{"$f":"IF(DP49=\"\",\"\",VLOOKUP($DQ$49,Tehnology!J46:W53,14,FALSE))","v":""},null,null,null,null,null,null,null,null,{"$f":"DM11*(1-ED49/100)","v":{"$error":"#VALUE!"}},{"$error":"#VALUE!"},{"$f":"EG49-((EK49+DY49*DZ49/1000*0/100)*EA49/100)-EI49","v":{"$error":"#VALUE!"}},0,"",{"$f":"(IF(DC35=5,BA35,0)+IF(DC36=5,BA36,0)+IF(DC37=5,BA37,0))*(1-ED49/100)","v":0},{"$f":"EK49+(DY49*DZ49/1000*0/100)","v":0},{"$f":"EL49-(EL49*EA49/100)","v":0},"",{"$f":"DM13*DR49/100*(1-ED49/100)","v":{"$error":"#VALUE!"}},{"$f":"DM13*DS49/100*(1-ED49/100)","v":{"$error":"#VALUE!"}},{"$f":"DM13*DT49/100*(1-ED49/100)","v":{"$error":"#VALUE!"}},{"$f":"DM13*DU49/100*(1-ED49/100)","v":{"$error":"#VALUE!"}},{"$f":"IF(DP49=\"\",\"\",DM13*(1-ED49/100)-EO49-EP49-EQ49-ER49)","v":""},{"$f":"IF(DP49=\"\",\"\",VLOOKUP(DM24,Tehnology!I46:W53,11,FALSE)*ES49)","v":""},{"$f":"DM15*DV49/100*(1-ED49/100)","v":{"$error":"#VALUE!"}},{"$f":"IF(DP49=\"\",\"\",DM15*(1-ED49/100)-EU49)","v":""},{"$f":"DM16*DW49/100*(1-ED49/100)","v":{"$error":"#VALUE!"}},{"$f":"IF(DP49=\"\",\"\",DM16*(1-ED49/100)-EW49)","v":""},{"$f":"IF(ED49=100,0,IF(DP49=\"\",\"\",ES49*1000/EJ49))","v":""},{"$f":"IF(ED49=100,0,IF(DP49=\"\",\"\",ET49*1000/EJ49))","v":""},{"$f":"IF(ED49=100,0,IF(DP49=\"\",\"\",EV49*1000/EJ49))","v":""},{"$f":"IF(ED49=100,0,IF(DP49=\"\",\"\",EX49*1000/EJ49))","v":""},{"$f":"IF(DP49=\"\",\"\",EO49*1000)","v":""},"",{"$f":"IF(DP49=\"\",\"\",EQ49*1000)","v":""},"","",""]
[]
[null,null,null,null,null,null,null,null,null,null,null,null,null,null,null,null,null,null,null,null,null,null,null,null,null,null,null,null,null,null,null,null,null,null,null,null,null,null,null,null,null,null,null,null,null,null,null,null,null,null,null,null,null,null,null,null,null,null,null,null,null,null,null,null,null,null,null,null,null,null,null,null,null,null,null,null,null,null,null,null,null,null,null,null,null,null,null,null,null,null,null,null,null,null,null,null,null,null,null,null,null,null,null,null,null,null,null,null,null,null,null,null,null,null,null,null,null,null,"HOBUSED",{"$f":"IF(SUM($C$39:$C$40)=0,\"\",IF(SUM($C$39:$C$40)>0,IF(VLOOKUP($DA$39,$DA$11:$DA$40,1,FALSE),IF(DG11=\"\",\"\",\"Tahesõnnik\"),\"\")))","v":""},null,{"$f":"IF(DP51=\"\",\"\",VLOOKUP($DQ$51,Tehnology!$J$10:$K$17,2,FALSE))","v":""},{"$f":"IF(DP51=\"\",\"\",VLOOKUP(DG24,Tehnology!I10:W17,7,FALSE))","v":""},{"$f":"IF(DP51=\"\",\"\",VLOOKUP($DG$24,Tehnology!$I$10:$W$17,9,FALSE))","v":""},{"$f":"IF(DP51=\"\",\"\",VLOOKUP($DQ$51,Tehnology!$J$10:$W$17,12,FALSE))","v":""},{"$f":"IF(DP51=\"\",\"\",VLOOKUP($DQ$51,Tehnology!$J$10:$W$17,13,FALSE))","v":""},{"$f":"IF(DP51=\"\",\"\",VLOOKUP($DQ$51,Tehnology!$J$10:$W$17,14,FALSE))","v":""},null,null,null,null,null,null,null,null,{"$f":"DG11","v":""},{"$f":"EF51+DY51*DZ51/1000","v":{"$error":"#VALUE!"}},{"$f":"EG51-((EK51+DY51*DZ51/1000*0/100)*EA51/100)-EI51","v":{"$error":"#VALUE!"}},{"$f":"IF(DQ51=\"Storage roofed\",DY51*EC51/1000,0)","v":0},{"$f":"IF(DP51=\"\",\"\",EH51-(DY51*DZ51/1000-DY51*DZ51/1000*(1-(EB51/100))))","v":""},{"$f":"IF(DC39=1,BA39,0)+IF(DC40=1,BA40,0)","v":0},{"$f":"EK51+(DY51*DZ51/1000*0/100)","v":0},{"$f":"EL51-(EL51*EA51/100)","v":0},{"$f":"IF(DP51=\"\",\"\",IF(EJ51=0,0,EM51/EJ51*100))","v":""},{"$f":"DG13*DR51/100","v":{"$error":"#VALUE!"}},{"$f":"DG13*DS51/100","v":{"$error":"#VALUE!"}},{"$f":"DG13*DT51/100","v":{"$error":"#VALUE!"}},{"$f":"DG13*DU51/100","v":{"$error":"#VALUE!"}},{"$f":"IF(DP51=\"\",\"\",DG13-EO51-EP51-EQ51-ER51)","v":""},{"$f":"IF(DP51=\"\",\"\",VLOOKUP($DG$24,Tehnology!$I$10:$W$17,11,FALSE)*ES51)","v":""},{"$f":"DG15*DV51/100","v":{"$error":"#VALUE!"}},{"$f":"IF(DP51=\"\",\"\",DG15-EU51)","v":""},{"$f":"DG16*DW51/100","v":{"$error":"#VALUE!"}},{"$f":"IF(DP51=\"\",\"\",DG16-EW51)","v":""},{"$f":"IF(DP51=\"\",\"\",ES51*1000/EJ51)","v":""},{"$f":"IF(DP51=\"\",\"\",ET51*1000/EJ51)","v":""},{"$f":"IF(DP51=\"\",\"\",EV51*1000/EJ51)","v":""},{"$f":"IF(DP51=\"\",\"\",EX51*1000/EJ51)","v":""},{"$f":"IF(DP51=\"\",\"\",EO51*1000)","v":""},{"$f":"IF(DP51=\"\",\"\",EP51*1000)","v":""},{"$f":"IF(DP51=\"\",\"\",EQ51*1000)","v":""},{"$f":"IF(DP51=\"\",\"\",ER51*1000)","v":""},{"$f":"IF(DP51=\"\",\"\",EU51*1000)","v":""},{"$f":"IF(DP51=\"\",\"\",EW51*1000)","v":""},null,null,null,null,{"$f":"IF(D39=\"\",\"\",IF(AU39=AU39+BT39,C39*Tehnology!AD19,C39*Tehnology!AD19*AU39/(AU39+BT39)))","v":""},{"$f":"IF(D39=\"\",\"\",IF(BT39=0,0,IF(AU39=AU39+BT39,C39*Tehnology!AD19,C39*Tehnology!AD19*BT39/(AU39+BT39))))","v":""},{"$f":"IF(SUM(C39:C40)=0,\"\",SUM(FI51:FI57)/1000)","v":""},{"$f":"IF(SUM(C39:C40)=0,\"\",SUM(FM51:FN57)/1000)","v":""}]
[null,null,null,null,null,null,null,null,null,null,null,null,null,null,null,null,null,null,null,null,null,null,null,null,null,null,null,null,null,null,null,null,null,null,null,null,null,null,null,null,null,null,null,null,null,null,null,null,null,null,null,null,null,null,null,null,null,null,null,null,null,null,null,null,null,null,null,null,null,null,null,null,null,null,null,null,null,null,null,null,null,null,null,null,null,null,null,null,null,null,null,null,null,null,null,null,null,null,null,null,null,null,null,null,null,null,null,null,null,null,null,null,null,null,null,null,null,null,null,{"$f":"IF(SUM($C$39:$C$40)=0,\"\",IF(SUM($C$39:$C$40)>0,IF(VLOOKUP($DA$39,$DA$11:$DA$40,1,FALSE),IF(DH11=\"\",\"\",\"Virts\"),\"\")))","v":""},null,{"$f":"IF(DP52=\"\",\"\",VLOOKUP($DQ$52,Tehnology!L10:M17,2,FALSE))","v":""},{"$f":"IF(DP52=\"\",\"\",VLOOKUP($DG$24,Tehnology!$I$10:$W$17,8,FALSE))","v":""},{"$f":"IF(DP52=\"\",\"\",VLOOKUP($DG$24,Tehnology!$I$10:$W$17,10,FALSE))","v":""},null,null,null,null,null,null,null,null,null,null,null,{"$f":"DH11+SUM(DZ66:DZ69)","v":{"$error":"#VALUE!"}},{"$error":"#VALUE!"},{"$error":"#VALUE!"},0,"",{"$f":"IF(DC39=1,BZ39,0)+IF(DC40=1,BZ40,0)","v":0},{"$f":"EK52+(DY52*DZ52/1000*0/100)+SUM(EF66:EF69)","v":0},0,"",{"$f":"(DH13+SUM(EB66:EB69)/1000)*DR52/100","v":{"$error":"#VALUE!"}},null,{"$f":"(DH13+SUM(EB66:EB69)/1000)*DT52/100","v":{"$error":"#VALUE!"}},null,{"$f":"IF(DP52=\"\",\"\",DH13+SUM(EB66:EB69)/1000-EO52-EP52-EQ52-ER52)","v":""},{"$f":"IF(DP52=\"\",\"\",VLOOKUP($DG$24,Tehnology!$I$10:$W$17,12,FALSE)*ES52)","v":""},null,{"$f":"IF(DP52=\"\",\"\",DH15+SUM(EC66:EC69)/1000-EU52)","v":""},null,{"$f":"IF(DP52=\"\",\"\",DH16+SUM(ED66:ED69)/1000-EW52)","v":""},{"$f":"IF(DP52=\"\",\"\",ES52*1000/EJ52)","v":""},{"$f":"IF(DP52=\"\",\"\",ET52*1000/EJ52)","v":""},{"$f":"IF(DP52=\"\",\"\",EV52*1000/EJ52)","v":""},{"$f":"IF(DP52=\"\",\"\",EX52*1000/EJ52)","v":""},{"$f":"IF(DP52=\"\",\"\",EO52*1000)","v":""},"","","","","",{"$f":"SUM(C39:C40)*Tehnology!AB19","v":0},0]
[null,null,null,null,null,null,null,null,null,null,null,null,null,null,null,null,null,null,null,null,null,null,null,null,null,null,null,null,null,null,null,null,null,null,null,null,null,null,null,null,null,null,null,null,null,null,null,null,null,null,null,null,null,null,null,null,null,null,null,null,null,null,null,null,null,null,null,null,null,null,null,null,null,null,null,null,null,null,null,null,null,null,null,null,null,null,null,null,null,null,null,null,null,null,null,null,null,null,null,null,null,null,null,null,null,null,null,null,null,null,null,null,null,null,null,null,null,null,null,{"$f":"IF(SUM($C$39:$C$40)=0,\"\",IF(SUM($C$39:$C$40)>0,IF(VLOOKUP($DA$39,$DA$11:$DA$40,1,FALSE),IF(DI11=\"\",\"\",\"Vedelsõnnik\"),\"\")))","v":""},null,{"$f":"IF(DP53=\"\",\"\",VLOOKUP(DQ53,Tehnology!L19:M26,2,FALSE))","v":""},{"$f":"IF(DP53=\"\",\"\",VLOOKUP($DI$24,Tehnology!I19:W26,8,FALSE))","v":""},{"$f":"IF(DP53=\"\",\"\",VLOOKUP($DI$24,Tehnology!I19:W26,10,FALSE))","v":""},null,null,null,null,null,null,null,null,null,null,null,{"$f":"DI11+SUM(DZ66:DZ69)","v":{"$error":"#VALUE!"}},{"$error":"#VALUE!"},{"$error":"#VALUE!"},0,"",{"$f":"IF(DI11=0,0,(IF(DC39=2,BZ39,0)+IF(DC40=2,BZ40,0)))","v":0},{"$f":"EK53+(DY53*DZ53/1000*0/100)+SUM(EF66:EF69)","v":0},0,"",{"$f":"((IF(DC39=2,CF39,0)+IF(DC40=2,CF40,0))+(SUM(EB66:EB69)/1000))*DR53/100","v":{"$error":"#VALUE!"}},null,{"$f":"(DI13+SUM(EB66:EB69)/1000)*DT53/100","v":{"$error":"#VALUE!"}},null,{"$f":"IF(DP53=\"\",\"\",DI13+SUM(EB66:EB69)/1000-EO53-EP53-EQ53-ER53)","v":""},{"$f":"IF(DP53=\"\",\"\",VLOOKUP(DI24,Tehnology!I19:W26,12,FALSE)*ES53)","v":""},null,{"$f":"IF(DP53=\"\",\"\",DI15+SUM(EC66:EC69)/1000-EU53)","v":""},null,{"$f":"IF(DP53=\"\",\"\",DI16+SUM(ED66:ED69)/1000-EW53)","v":""},{"$f":"IF(DP53=\"\",\"\",ES53*1000/EJ53)","v":""},{"$f":"IF(DP53=\"\",\"\",ET53*1000/EJ53)","v":""},{"$f":"IF(DP53=\"\",\"\",EV53*1000/EJ53)","v":""},{"$f":"IF(DP53=\"\",\"\",EX53*1000/EJ53)","v":""},{"$f":"IF(DP53=\"\",\"\",EO53*1000)","v":""},"","","","","",null,null,null,null,{"$f":"IF(D40=\"\",\"\",IF(AU40=AU40+BT40,C40*Tehnology!$AD$19,C40*Tehnology!$AD$19*AU40/(AU40+BT40)))","v":""},{"$f":"IF(D40=\"\",\"\",IF(BT40=0,0,IF(AU40=AU40+BT40,C40*Tehnology!$AD$19,C40*Tehnology!$AD$19*BT40/(AU40+BT40))))","v":""}]
[null,null,null,null,null,null,null,null,null,null,null,null,null,null,null,null,null,null,null,null,null,null,null,null,null,null,null,null,null,null,null,null,null,null,null,null,null,null,null,null,null,null,null,null,null,null,null,null,null,null,null,null,null,null,null,null,null,null,null,null,null,null,null,null,null,null,null,null,null,null,null,null,null,null,null,null,null,null,null,null,null,null,null,null,null,null,null,null,null,null,null,null,null,null,null,null,null,null,null,null,null,null,null,null,null,null,null,null,null,null,null,null,null,null,null,null,null,null,null,{"$f":"IF(SUM($C$39:$C$40)=0,\"\",IF(SUM($C$39:$C$40)>0,IF(VLOOKUP($DA$39,$DA$11:$DA$40,1,FALSE),IF(DJ11=\"\",\"\",\"Sügavallapanusõnnik\"),\"\")))","v":""},null,{"$f":"IF(DP54=\"\",\"\",VLOOKUP(DQ54,Tehnology!J28:K35,2,FALSE))","v":""},{"$f":"IF(DP54=\"\",\"\",VLOOKUP($DJ$24,Tehnology!I28:W35,7,FALSE))","v":""},{"$f":"IF(DP54=\"\",\"\",VLOOKUP($DJ$24,Tehnology!I28:W35,9,FALSE))","v":""},{"$f":"IF(DP54=\"\",\"\",VLOOKUP($DQ$54,Tehnology!J28:W35,12,FALSE))","v":""},{"$f":"IF(DP54=\"\",\"\",VLOOKUP($DQ$54,Tehnology!J28:W35,13,FALSE))","v":""},{"$f":"IF(DP54=\"\",\"\",VLOOKUP($DQ$54,Tehnology!J28:W35,14,FALSE))","v":""},null,null,null,null,null,null,null,null,{"$f":"DJ11*(1-ED54/100)","v":{"$error":"#VALUE!"}},{"$error":"#VALUE!"},{"$error":"#VALUE!"},0,"",{"$f":"(IF(DC39=3,BA39,0)+IF(DC40=3,BA40,0))*(1-ED54/100)","v":0},{"$f":"EK54+(DY54*DZ54/1000*0/100)","v":0},0,"",{"$f":"DJ13*DR54/100*(1-ED54/100)","v":{"$error":"#VALUE!"}},{"$f":"DJ13*DS54/100*(1-ED54/100)","v":{"$error":"#VALUE!"}},{"$f":"DJ13*DT54/100*(1-ED54/100)","v":{"$error":"#VALUE!"}},{"$f":"DJ13*DU54/100*(1-ED54/100)","v":{"$error":"#VALUE!"}},{"$f":"IF(DP54=\"\",\"\",DJ13*(1-ED54/100)-EO54-EP54-EQ54-ER54)","v":""},{"$f":"IF(DP54=\"\",\"\",VLOOKUP(DJ24,Tehnology!I28:W35,11,FALSE)*ES54)","v":""},{"$f":"DJ15*DV54/100*(1-ED54/100)","v":{"$error":"#VALUE!"}},{"$f":"IF(DP54=\"\",\"\",DJ15*(1-ED54/100)-EU54)","v":""},{"$f":"DJ16*DW54/100*(1-ED54/100)","v":{"$error":"#VALUE!"}},{"$f":"IF(DP54=\"\",\"\",DJ16*(1-ED54/100)-EW54)","v":""},{"$f":"IF(ED54=100,0,IF(DP54=\"\",\"\",ES54*1000/EJ54))","v":""},{"$f":"IF(ED54=100,0,IF(DP54=\"\",\"\",ET54*1000/EJ54))","v":""},{"$f":"IF(ED54=100,0,IF(DP54=\"\",\"\",EV54*1000/EJ54))","v":""},{"$f":"IF(ED54=100,0,IF(DP54=\"\",\"\",EX54*1000/EJ54))","v":""},{"$f":"IF(DP54=\"\",\"\",EO54*1000)","v":""},{"$f":"IF(DP54=\"\",\"\",EP54*1000)","v":""},"","","",{"$f":"IF(DP54=\"\",\"\",EW54*1000)","v":""}]
[null,null,null,null,null,null,null,null,null,null,null,null,null,null,null,null,null,null,null,null,null,null,null,null,null,null,null,null,null,null,null,null,null,null,null,null,null,null,null,null,null,null,null,null,null,null,null,null,null,null,null,null,null,null,null,null,null,null,null,null,null,null,null,null,null,null,null,null,null,null,null,null,null,null,null,null,null,null,null,null,null,null,null,null,null,null,null,null,null,null,null,null,null,null,null,null,null,null,null,null,null,null,null,null,null,null,null,null,null,null,null,null,null,null,null,null,null,null,null,{"$f":"IF(SUM($C$39:$C$40)=0,\"\",IF(SUM($C$39:$C$40)>0,IF(VLOOKUP($DA$39,$DA$11:$DA$40,1,FALSE),IF(DK11=\"\",\"\",\"Sügavallapanusõnnik\"),\"\")))","v":""},null,{"$f":"IF(DP55=\"\",\"\",VLOOKUP($DQ$55,Tehnology!J37:K44,2,FALSE))","v":""},{"$f":"IF(DP55=\"\",\"\",VLOOKUP(DK24,Tehnology!I37:W44,7,FALSE))","v":""},{"$f":"IF(DP55=\"\",\"\",VLOOKUP($DK$24,Tehnology!I37:W44,9,FALSE))","v":""},{"$f":"IF(DP55=\"\",\"\",VLOOKUP($DQ$55,Tehnology!J37:W44,12,FALSE))","v":""},{"$f":"IF(DP55=\"\",\"\",VLOOKUP($DQ$55,Tehnology!J37:W44,13,FALSE))","v":""},{"$f":"IF(DP55=\"\",\"\",VLOOKUP($DQ$55,Tehnology!J37:W44,14,FALSE))","v":""},null,null,null,null,null,null,null,null,{"$f":"DK11*(1-ED55/100)","v":{"$error":"#VALUE!"}},{"$error":"#VALUE!"},{"$error":"#VALUE!"},0,"",{"$f":"(IF(DC39=4,BA39,0)+IF(DC40=4,BA40,0))*(1-ED55/100)","v":0},{"$f":"EK55+(DY55*DZ55/1000*0/100)","v":0},0,"",{"$f":"DK13*DR55/100*(1-ED55/100)","v":{"$error":"#VALUE!"}},{"$f":"DK13*DS55/100*(1-ED55/100)","v":{"$error":"#VALUE!"}},{"$f":"DK13*DT55/100*(1-ED55/100)","v":{"$error":"#VALUE!"}},{"$f":"DK13*DU55/100*(1-ED55/100)","v":{"$error":"#VALUE!"}},{"$f":"IF(DP55=\"\",\"\",DK13*(1-ED55/100)-EO55-EP55-EQ55-ER55)","v":""},{"$f":"IF(DP55=\"\",\"\",VLOOKUP(DK24,Tehnology!I37:W53,11,FALSE)*ES55)","v":""},{"$f":"DK15*DV55/100*(1-ED55/100)","v":{"$error":"#VALUE!"}},{"$f":"IF(DP55=\"\",\"\",DK15*(1-ED55/100)-EU55)","v":""},{"$f":"DK16*DW55/100*(1-ED55/100)","v":{"$error":"#VALUE!"}},{"$f":"IF(DP55=\"\",\"\",DK16*(1-ED55/100)-EW55)","v":""},{"$f":"IF(ED55=100,0,IF(DP55=\"\",\"\",ES55*1000/EJ55))","v":""},{"$f":"IF(ED55=100,0,IF(DP55=\"\",\"\",ET55*1000/EJ55))","v":""},{"$f":"IF(ED55=100,0,IF(DP55=\"\",\"\",EV55*1000/EJ55))","v":""},{"$f":"IF(ED55=100,0,IF(DP55=\"\",\"\",EX55*1000/EJ55))","v":""},{"$f":"IF(DP55=\"\",\"\",EO55*1000)","v":""},{"$f":"IF(DP55=\"\",\"\",EP55*1000)","v":""},"","","",{"$f":"IF(DP55=\"\",\"\",EW55*1000)","v":""}]
[null,null,null,null,null,null,null,null,null,null,null,null,null,null,null,null,null,null,null,null,null,null,null,null,null,null,null,null,null,null,null,null,null,null,null,null,null,null,null,null,null,null,null,null,null,null,null,null,null,null,null,null,null,null,null,null,null,null,null,null,null,null,null,null,null,null,null,null,null,null,null,null,null,null,null,null,null,null,null,null,null,null,null,null,null,null,null,null,null,null,null,null,null,null,null,null,null,null,null,null,null,null,null,null,null,null,null,null,null,null,null,null,null,null,null,null,null,null,null,{"$f":"IF(SUM($C$39:$C$40)=0,\"\",IF(SUM($C$39:$C$40)>0,IF(VLOOKUP($DA$39,$DA$11:$DA$40,1,FALSE),IF(DL11=\"\",\"\",\"Vedelsõnnik\"),\"\")))","v":""},null,{"$f":"IF(DP56=\"\",\"\",VLOOKUP($DQ$56,Tehnology!L37:N44,3,FALSE))","v":""},{"$f":"IF(DP56=\"\",\"\",VLOOKUP($DK$24,Tehnology!I37:W44,8,FALSE))","v":""},{"$f":"IF(DP56=\"\",\"\",VLOOKUP($DK$24,Tehnology!I37:W44,10,FALSE))","v":""},null,null,null,null,null,null,null,null,null,null,null,{"$f":"DL11+SUM(DZ66:DZ69)","v":{"$error":"#VALUE!"}},{"$error":"#VALUE!"},{"$error":"#VALUE!"},0,"",{"$f":"IF(DC39=4,BZ39,0)+IF(DC40=4,BZ40,0)","v":0},{"$f":"EK56+(DY56*DZ56/1000*0/100)+SUM(EF66:EF69)","v":0},0,"",{"$f":"DL13*DR56/100*0.4+SUM(EB66:EB69)/1000*DR56/100","v":{"$error":"#VALUE!"}},null,{"$f":"DL13*DT56/100*0.4+SUM(EB66:EB69)/1000*DT56","v":{"$error":"#VALUE!"}},null,{"$f":"IF(DP56=\"\",\"\",DL13+SUM(EB66:EB69)/1000-EO56-EP56-EQ56-ER56)","v":""},{"$f":"IF(DP56=\"\",\"\",VLOOKUP(DK24,Tehnology!I37:W53,12,FALSE)*ES56)","v":""},null,{"$f":"IF(DP56=\"\",\"\",DL15+SUM(EC66:EC69)/1000-EU56)","v":""},null,{"$f":"IF(DP56=\"\",\"\",DL16+SUM(ED66:ED69)/1000-EW56)","v":""},{"$f":"IF(DP56=\"\",\"\",ES56*1000/EJ56)","v":""},{"$f":"IF(DP56=\"\",\"\",ET56*1000/EJ56)","v":""},{"$f":"IF(DP56=\"\",\"\",EV56*1000/EJ56)","v":""},{"$f":"IF(DP56=\"\",\"\",EX56*1000/EJ56)","v":""},"","","","","",""]
[null,null,null,null,null,null,null,null,null,null,null,null,null,null,null,null,null,null,null,null,null,null,null,null,null,null,null,null,null,null,null,null,null,null,null,null,null,null,null,null,null,null,null,null,null,null,null,null,null,null,null,null,null,null,null,null,null,null,null,null,null,null,null,null,null,null,null,null,null,null,null,null,null,null,null,null,null,null,null,null,null,null,null,null,null,null,null,null,null,null,null,null,null,null,null,null,null,null,null,null,null,null,null,null,null,null,null,null,null,null,null,null,null,null,null,null,null,null,null,{"$f":"IF(SUM($C$39:$C$40)=0,\"\",IF(SUM($C$39:$C$40)>0,IF(VLOOKUP($DA$39,$DA$11:$DA$40,1,FALSE),IF(DM11=\"\",\"\",\"Tahesõnnik\"),\"\")))","v":""},null,{"$f":"IF(DP57=\"\",\"\",VLOOKUP(DQ57,Tehnology!J46:K53,2,FALSE))","v":""},{"$f":"IF(DP57=\"\",\"\",VLOOKUP($DM$24,Tehnology!I46:W53,7,FALSE))","v":""},{"$f":"IF(DP57=\"\",\"\",VLOOKUP($DM$24,Tehnology!I46:W53,9,FALSE))","v":""},{"$f":"IF(DP57=\"\",\"\",VLOOKUP($DQ$57,Tehnology!J46:W53,12,FALSE))","v":""},{"$f":"IF(DP57=\"\",\"\",VLOOKUP($DQ$57,Tehnology!J46:W53,13,FALSE))","v":""},{"$f":"IF(DP57=\"\",\"\",VLOOKUP($DQ$57,Tehnology!J46:W53,14,FALSE))","v":""},null,null,null,null,null,null,null,null,{"$f":"DM11*(1-ED57/100)","v":{"$error":"#VALUE!"}},{"$error":"#VALUE!"},{"$error":"#VALUE!"},0,"",{"$f":"(IF(DC39=5,BA39,0)+IF(DC40=5,BA40,0))*(1-ED57/100)","v":0},{"$f":"EK57+(DY57*DZ57/1000*0/100)","v":0},0,"",{"$f":"DM13*DR57/100*(1-ED57/100)","v":{"$error":"#VALUE!"}},{"$f":"DM13*DS57/100*(1-ED57/100)","v":{"$error":"#VALUE!"}},{"$f":"DM13*DT57/100*(1-ED57/100)","v":{"$error":"#VALUE!"}},{"$f":"DM13*DU57/100*(1-ED57/100)","v":{"$error":"#VALUE!"}},{"$f":"IF(DP57=\"\",\"\",DM13*(1-ED57/100)-EO57-EP57-EQ57-ER57)","v":""},{"$f":"IF(DP57=\"\",\"\",VLOOKUP(DM24,Tehnology!I46:W53,11,FALSE)*ES57)","v":""},{"$f":"DM15*DV57/100*(1-ED57/100)","v":{"$error":"#VALUE!"}},{"$f":"IF(DP57=\"\",\"\",DM15*(1-ED57/100)-EU57)","v":""},{"$f":"DM16*DW57/100*(1-ED57/100)","v":{"$error":"#VALUE!"}},{"$f":"IF(DP57=\"\",\"\",DM16*(1-ED57/100)-EW57)","v":""},{"$f":"IF(ED57=100,0,IF(DP57=\"\",\"\",ES57*1000/EJ57))","v":""},{"$f":"IF(ED57=100,0,IF(DP57=\"\",\"\",ET57*1000/EJ57))","v":""},{"$f":"IF(ED57=100,0,IF(DP57=\"\",\"\",EV57*1000/EJ57))","v":""},{"$f":"IF(ED57=100,0,IF(DP57=\"\",\"\",EX57*1000/EJ57))","v":""},{"$f":"IF(DP57=\"\",\"\",EO57*1000)","v":""},"",{"$f":"IF(DP57=\"\",\"\",EQ57*1000)","v":""},"","",""]
[]
[]
[]
[]
[null,null,null,null,null,null,null,null,null,null,null,null,null,null,null,null,null,null,null,null,null,null,null,null,null,null,null,null,null,null,null,null,null,null,null,null,null,null,null,null,null,null,null,null,null,null,null,null,null,null,null,null,null,null,null,null,null,null,null,null,null,null,null,null,null,null,null,null,null,null,null,null,null,null,null,null,null,null,null,null,null,null,null,null,null,null,null,null,null,null,null,null,null,null,null,null,null,null,null,null,null,null,null,null,null,null,null,null,null,null,null,null,null,null,null,null,null,null,null,null,null,null,null,null,null,null,null,null,"Lisamaterjalid vedelsõnnikuhoidlas "]
[]
[null,null,null,null,null,null,null,null,null,null,null,null,null,null,null,null,null,null,null,null,null,null,null,null,null,null,null,null,null,null,null,null,null,null,null,null,null,null,null,null,null,null,null,null,null,null,null,null,null,null,null,null,null,null,null,null,null,null,null,null,null,null,null,null,null,null,null,null,null,null,null,null,null,null,null,null,null,null,null,null,null,null,null,null,null,null,null,null,null,null,null,null,null,null,null,null,null,null,null,null,null,null,null,null,null,null,null,null,null,null,null,null,null,null,null,null,null,null,null,null,null,null,null,null,null,null,null,null,"Allikas","Kogus","KA","N","P","K"]
[null,null,null,null,null,null,null,null,null,null,null,null,null,null,null,null,null,null,null,null,null,null,null,null,null,null,null,null,null,null,null,null,null,null,null,null,null,null,null,null,null,null,null,null,null,null,null,null,null,null,null,null,null,null,null,null,null,null,null,null,null,null,null,null,null,null,null,null,null,null,null,null,null,null,null,null,null,null,null,null,null,null,null,null,null,null,null,null,null,null,null,null,null,null,null,null,null,null,null,null,null,null,null,null,null,null,null,null,null,null,null,null,null,null,null,null,null,null,null,null,null,null,null,null,null,null,null,null,null,"t/aasta","%","kg/aasta"]
[null,null,null,null,null,null,null,null,null,null,null,null,null,null,null,null,null,null,null,null,null,null,null,null,null,null,null,null,null,null,null,null,null,null,null,null,null,null,null,null,null,null,null,null,null,null,null,null,null,null,null,null,null,null,null,null,null,null,null,null,null,null,null,null,null,null,null,null,null,null,null,null,null,null,null,null,null,null,null,null,null,null,null,null,null,null,null,null,null,null,null,null,null,null,null,null,null,null,null,null,null,null,null,null,null,null,null,null,null,null,null,null,null,null,null,null,null,null,null,null,null,null,null,null,null,null,null,null,null,null,{"$f":"IF(DY66=\"\",\"\",IF(DZ66=0,\"\",VLOOKUP(DY66,'Additional information'!$T$8:$X$13,2,FALSE)))","v":""},{"$f":"IF('Ex animal'!$CW$10=0,\"\",IF(DY66=\"\",\"\",IF(DZ66=0,\"\",VLOOKUP(DY66,'Additional information'!$T$8:$X$13,3,FALSE)*DZ66)))","v":""},{"$f":"IF(DY66=\"\",\"\",IF(DZ66=0,\"\",VLOOKUP(DY66,'Additional information'!$T$8:$X$13,4,FALSE)*DZ66))","v":""},{"$f":"IF(DY66=\"\",\"\",IF(DZ66=0,\"\",VLOOKUP(DY66,'Additional information'!$T$8:$X$13,5,FALSE)*DZ66))","v":""},null,{"$f":"IF(EA66=\"\",0,DZ66*EA66/100)","v":0}]
[null,null,null,null,null,null,null,null,null,null,null,null,null,null,null,null,null,null,null,null,null,null,null,null,null,null,null,null,null,null,null,null,null,null,null,null,null,null,null,null,null,null,null,null,null,null,null,null,null,null,null,null,null,null,null,null,null,null,null,null,null,null,null,null,null,null,null,null,null,null,null,null,null,null,null,null,null,null,null,null,null,null,null,null,null,null,null,null,null,null,null,null,null,null,null,null,null,null,null,null,null,null,null,null,null,null,null,null,null,null,null,null,null,null,null,null,null,null,null,null,null,null,null,null,null,null,null,null,null,null,{"$f":"IF(DY67=\"\",\"\",IF(DZ67=0,\"\",VLOOKUP(DY67,'Additional information'!$T$8:$X$13,2,FALSE)))","v":""},{"$f":"IF(DY67=\"\",\"\",IF(DZ67=0,\"\",VLOOKUP(DY67,'Additional information'!$T$8:$X$13,3,FALSE)*DZ67))","v":""},{"$f":"IF(DY67=\"\",\"\",IF(DZ67=0,\"\",VLOOKUP(DY67,'Additional information'!$T$8:$X$13,4,FALSE)*DZ67))","v":""},{"$f":"IF(DY67=\"\",\"\",IF(DZ67=0,\"\",VLOOKUP(DY67,'Additional information'!$T$8:$X$13,5,FALSE)*DZ67))","v":""},null,{"$f":"IF(EA67=\"\",0,DZ67*EA67/100)","v":0}]
[null,null,null,null,null,null,null,null,null,null,null,null,null,null,null,null,null,null,null,null,null,null,null,null,null,null,null,null,null,null,null,null,null,null,null,null,null,null,null,null,null,null,null,null,null,null,null,null,null,null,null,null,null,null,null,null,null,null,null,null,null,null,null,null,null,null,null,null,null,null,null,null,null,null,null,null,null,null,null,null,null,null,null,null,null,null,null,null,null,null,null,null,null,null,null,null,null,null,null,null,null,null,null,null,null,null,null,null,null,null,null,null,null,null,null,null,null,null,null,null,null,null,null,null,null,null,null,null,null,null,{"$f":"IF(DY68=\"\",\"\",IF(DZ68=0,\"\",VLOOKUP(DY68,'Additional information'!$T$8:$X$13,2,FALSE)))","v":""},{"$f":"IF(DY68=\"\",\"\",IF(DZ68=0,\"\",VLOOKUP(DY68,'Additional information'!$T$8:$X$13,3,FALSE)*DZ68))","v":""},{"$f":"IF(DY68=\"\",\"\",IF(DZ68=0,\"\",VLOOKUP(DY68,'Additional information'!$T$8:$X$13,4,FALSE)*DZ68))","v":""},{"$f":"IF(DY68=\"\",\"\",IF(DZ68=0,\"\",VLOOKUP(DY68,'Additional information'!$T$8:$X$13,5,FALSE)*DZ68))","v":""},null,0]
[null,null,null,null,null,null,null,null,null,null,null,null,null,null,null,null,null,null,null,null,null,null,null,null,null,null,null,null,null,null,null,null,null,null,null,null,null,null,null,null,null,null,null,null,null,null,null,null,null,null,null,null,null,null,null,null,null,null,null,null,null,null,null,null,null,null,null,null,null,null,null,null,null,null,null,null,null,null,null,null,null,null,null,null,null,null,null,null,null,null,null,null,null,null,null,null,null,null,null,null,null,null,null,null,null,null,null,null,null,null,null,null,null,null,null,null,null,null,null,null,null,null,null,null,null,null,null,null,{"$f":"IF(EC80=\"\",\"\",\"Silomahl\")","v":""},{"$f":"IF(EC80=\"\",\"\",EC80)","v":""},{"$f":"IF(DY69=\"\",\"\",IF(DZ69=0,\"\",VLOOKUP(DY69,'Additional information'!$T$8:$X$13,2,FALSE)))","v":""},{"$f":"IF(DY69=\"\",\"\",IF(DZ69=0,\"\",VLOOKUP(DY69,'Additional information'!$T$8:$X$13,3,FALSE)*DZ69))","v":""},{"$f":"IF(DY69=\"\",\"\",IF(DZ69=0,\"\",VLOOKUP(DY69,'Additional information'!$T$8:$X$13,4,FALSE)*DZ69))","v":""},{"$f":"IF(DY69=\"\",\"\",IF(DZ69=0,\"\",VLOOKUP(DY69,'Additional information'!$T$8:$X$13,5,FALSE)*DZ69))","v":""},null,0]
[]
[null,null,null,null,null,null,null,null,null,null,null,null,null,null,null,null,null,null,null,null,null,null,null,null,null,null,null,null,null,null,null,null,null,null,null,null,null,null,null,null,null,null,null,null,null,null,null,null,null,null,null,null,null,null,null,null,null,null,null,null,null,null,null,null,null,null,null,null,null,null,null,null,null,null,null,null,null,null,null,null,null,null,null,null,null,null,null,null,null,null,null,null,null,null,null,null,null,null,null,null,null,null,null,null,null,null,null,null,null,null,null,null,null,null,null,null,null,null,null,null,null,null,null,null,null,null,null,null,"Silomahl"]
[null,null,null,null,null,null,null,null,null,null,null,null,null,null,null,null,null,null,null,null,null,null,null,null,null,null,null,null,null,null,null,null,null,null,null,null,null,null,null,null,null,null,null,null,null,null,null,null,null,null,null,null,null,null,null,null,null,null,null,null,null,null,null,null,null,null,null,null,null,null,null,null,null,null,null,null,null,null,null,null,null,null,null,null,null,null,null,null,null,null,null,null,null,null,null,null,null,null,null,null,null,null,null,null,null,null,null,null,null,null,null,null,null,null,null,null,null,null,null,null,null,null,null,null,null,null,null,null,"Silo","Maht","KA","Silomahl"]
[null,null,null,null,null,null,null,null,null,null,null,null,null,null,null,null,null,null,null,null,null,null,null,null,null,null,null,null,null,null,null,null,null,null,null,null,null,null,null,null,null,null,null,null,null,null,null,null,null,null,null,null,null,null,null,null,null,null,null,null,null,null,null,null,null,null,null,null,null,null,null,null,null,null,null,null,null,null,null,null,null,null,null,null,null,null,null,null,null,null,null,null,null,null,null,null,null,null,null,null,null,null,null,null,null,null,null,null,null,null,null,null,null,null,null,null,null,null,null,null,null,null,null,null,null,null,null,null,null,"m3","%","kg/t","kokku/t"]
[null,null,null,null,null,null,null,null,null,null,null,null,null,null,null,null,null,null,null,null,null,null,null,null,null,null,null,null,null,null,null,null,null,null,null,null,null,null,null,null,null,null,null,null,null,null,null,null,null,null,null,null,null,null,null,null,null,null,null,null,null,null,null,null,null,null,null,null,null,null,null,null,null,null,null,null,null,null,null,null,null,null,null,null,null,null,null,null,null,null,null,null,null,null,null,null,null,null,null,null,null,null,null,null,null,null,null,null,null,null,null,null,null,null,null,null,null,null,null,null,null,null,null,null,null,null,null,null,null,null,null,{"$f":"IF(EA74=\"\",\"\",IF(EA74>30.1,0,767-5.3*EA74*10+0.0096*(EA74*10)*(EA74*10)))","v":""},{"$f":"IF(EB74=\"\",\"\",IF(EA74>'Additional information'!$AA$10,DZ74/'Additional information'!$AB$11*' Ex housing and ex storage (MB)'!EB74/1000,IF(EA74>'Additional information'!$AA$9,DZ74/'Additional information'!$AB$10*' Ex housing and ex storage (MB)'!EB74/1000,IF(EA74>'Additional information'!$AA$8,' Ex housing and ex storage (MB)'!DZ74/'Additional information'!$AB$9*' Ex housing and ex storage (MB)'!EB74/1000,DZ74/'Additional information'!$AB$8*' Ex housing and ex storage (MB)'!EB74/1000))))","v":""}]
[null,null,null,null,null,null,null,null,null,null,null,null,null,null,null,null,null,null,null,null,null,null,null,null,null,null,null,null,null,null,null,null,null,null,null,null,null,null,null,null,null,null,null,null,null,null,null,null,null,null,null,null,null,null,null,null,null,null,null,null,null,null,null,null,null,null,null,null,null,null,null,null,null,null,null,null,null,null,null,null,null,null,null,null,null,null,null,null,null,null,null,null,null,null,null,null,null,null,null,null,null,null,null,null,null,null,null,null,null,null,null,null,null,null,null,null,null,null,null,null,null,null,null,null,null,null,null,null,null,null,null,{"$f":"IF(EA75=\"\",\"\",IF(EA75>30.1,0,767-5.3*EA75*10+0.0096*(EA75*10)*(EA75*10)))","v":""},{"$f":"IF(EB75=\"\",\"\",IF(EA75>'Additional information'!$AA$10,DZ75/'Additional information'!$AB$11*' Ex housing and ex storage (MB)'!EB75/1000,IF(EA75>'Additional information'!$AA$9,DZ75/'Additional information'!$AB$10*' Ex housing and ex storage (MB)'!EB75/1000,IF(EA75>'Additional information'!$AA$8,' Ex housing and ex storage (MB)'!DZ75/'Additional information'!$AB$9*' Ex housing and ex storage (MB)'!EB75/1000,DZ75/'Additional information'!$AB$8*' Ex housing and ex storage (MB)'!EB75/1000))))","v":""}]
[null,null,null,null,null,null,null,null,null,null,null,null,null,null,null,null,null,null,null,null,null,null,null,null,null,null,null,null,null,null,null,null,null,null,null,null,null,null,null,null,null,null,null,null,null,null,null,null,null,null,null,null,null,null,null,null,null,null,null,null,null,null,null,null,null,null,null,null,null,null,null,null,null,null,null,null,null,null,null,null,null,null,null,null,null,null,null,null,null,null,null,null,null,null,null,null,null,null,null,null,null,null,null,null,null,null,null,null,null,null,null,null,null,null,null,null,null,null,null,null,null,null,null,null,null,null,null,null,null,null,null,{"$f":"IF(EA76=\"\",\"\",IF(EA76>30.1,0,767-5.3*EA76*10+0.0096*(EA76*10)*(EA76*10)))","v":""},{"$f":"IF(EB76=\"\",\"\",IF(EB76=\"\",\"\",IF(EA76>'Additional information'!$AA$10,DZ76/'Additional information'!$AB$11*' Ex housing and ex storage (MB)'!EB76/1000,IF(EA76>'Additional information'!$AA$9,DZ76/'Additional information'!$AB$10*' Ex housing and ex storage (MB)'!EB76/1000,IF(EA76>'Additional information'!$AA$8,' Ex housing and ex storage (MB)'!DZ76/'Additional information'!$AB$9*' Ex housing and ex storage (MB)'!EB76/1000,DZ76/'Additional information'!$AB$8*' Ex housing and ex storage (MB)'!EB76/1000)))))","v":""}]
[null,null,null,null,null,null,null,null,null,null,null,null,null,null,null,null,null,null,null,null,null,null,null,null,null,null,null,null,null,null,null,null,null,null,null,null,null,null,null,null,null,null,null,null,null,null,null,null,null,null,null,null,null,null,null,null,null,null,null,null,null,null,null,null,null,null,null,null,null,null,null,null,null,null,null,null,null,null,null,null,null,null,null,null,null,null,null,null,null,null,null,null,null,null,null,null,null,null,null,null,null,null,null,null,null,null,null,null,null,null,null,null,null,null,null,null,null,null,null,null,null,null,null,null,null,null,null,null,null,null,null,{"$f":"IF(EA77=\"\",\"\",IF(EA77>30.1,0,767-5.3*EA77*10+0.0096*(EA77*10)*(EA77*10)))","v":""},{"$f":"IF(EB77=\"\",\"\",IF(EA77>'Additional information'!$AA$10,DZ77/'Additional information'!$AB$11*' Ex housing and ex storage (MB)'!EB77/1000,IF(EA77>'Additional information'!$AA$9,DZ77/'Additional information'!$AB$10*' Ex housing and ex storage (MB)'!EB77/1000,IF(EA77>'Additional information'!$AA$8,' Ex housing and ex storage (MB)'!DZ77/'Additional information'!$AB$9*' Ex housing and ex storage (MB)'!EB77/1000,DZ77/'Additional information'!$AB$8*' Ex housing and ex storage (MB)'!EB77/1000))))","v":""}]
[null,null,null,null,null,null,null,null,null,null,null,null,null,null,null,null,null,null,null,null,null,null,null,null,null,null,null,null,null,null,null,null,null,null,null,null,null,null,null,null,null,null,null,null,null,null,null,null,null,null,null,null,null,null,null,null,null,null,null,null,null,null,null,null,null,null,null,null,null,null,null,null,null,null,null,null,null,null,null,null,null,null,null,null,null,null,null,null,null,null,null,null,null,null,null,null,null,null,null,null,null,null,null,null,null,null,null,null,null,null,null,null,null,null,null,null,null,null,null,null,null,null,null,null,null,null,null,null,null,null,null,"",{"$f":"IF(EB78=\"\",\"\",IF(EA78>'Additional information'!$AA$10,DZ78/'Additional information'!$AB$11*' Ex housing and ex storage (MB)'!EB78/1000,IF(EA78>'Additional information'!$AA$9,DZ78/'Additional information'!$AB$10*' Ex housing and ex storage (MB)'!EB78/1000,IF(EA78>'Additional information'!$AA$8,' Ex housing and ex storage (MB)'!DZ78/'Additional information'!$AB$9*' Ex housing and ex storage (MB)'!EB78/1000,DZ78/'Additional information'!$AB$8*' Ex housing and ex storage (MB)'!EB78/1000))))","v":""}]
[null,null,null,null,null,null,null,null,null,null,null,null,null,null,null,null,null,null,null,null,null,null,null,null,null,null,null,null,null,null,null,null,null,null,null,null,null,null,null,null,null,null,null,null,null,null,null,null,null,null,null,null,null,null,null,null,null,null,null,null,null,null,null,null,null,null,null,null,null,null,null,null,null,null,null,null,null,null,null,null,null,null,null,null,null,null,null,null,null,null,null,null,null,null,null,null,null,null,null,null,null,null,null,null,null,null,null,null,null,null,null,null,null,null,null,null,null,null,null,null,null,null,null,null,null,null,null,null,null,null,null,{"$f":"IF(EA79=\"\",\"\",IF(EA79>30.1,0,767-5.3*EA79*10+0.0096*(EA79*10)*(EA79*10)))","v":""},{"$f":"IF(EB79=\"\",\"\",IF(EA79>'Additional information'!$AA$10,DZ79/'Additional information'!$AB$11*' Ex housing and ex storage (MB)'!EB79/1000,IF(EA79>'Additional information'!$AA$9,DZ79/'Additional information'!$AB$10*' Ex housing and ex storage (MB)'!EB79/1000,IF(EA79>'Additional information'!$AA$8,' Ex housing and ex storage (MB)'!DZ79/'Additional information'!$AB$9*' Ex housing and ex storage (MB)'!EB79/1000,DZ79/'Additional information'!$AB$8*' Ex housing and ex storage (MB)'!EB79/1000))))","v":""}]
[null,null,null,null,null,null,null,null,null,null,null,null,null,null,null,null,null,null,null,null,null,null,null,null,null,null,null,null,null,null,null,null,null,null,null,null,null,null,null,null,null,null,null,null,null,null,null,null,null,null,null,null,null,null,null,null,null,null,null,null,null,null,null,null,null,null,null,null,null,null,null,null,null,null,null,null,null,null,null,null,null,null,null,null,null,null,null,null,null,null,null,null,null,null,null,null,null,null,null,null,null,null,null,null,null,null,null,null,null,null,null,null,null,null,null,null,null,null,null,null,null,null,null,null,null,null,null,null,null,null,null,null,{"$f":"IF(SUM(EC74:EC79)=0,\"\",SUM(EC74:EC79))","v":""}]

{"sheet":"Tehnology","index":12,"n_rows":352,"n_cols":30,"rows_kept":352,"cut":false,"hidden":false,"merged":[[1,1,1,2],[2,1,2,2],[117,23,124,23],[117,24,124,24],[126,23,133,23],[126,24,133,24],[135,23,142,23],[135,24,142,24],[72,23,79,23],[72,24,79,24],[81,23,88,23],[81,24,88,24],[90,23,97,23],[90,24,97,24],[99,23,106,23],[99,24,106,24],[108,23,115,23],[108,24,115,24],[27,23,34,23],[27,24,34,24],[36,23,43,23],[36,24,43,24],[45,23,52,23],[45,24,52,24],[54,23,61,23],[54,24,61,24],[63,23,70,23],[63,24,70,24],[6,23,6,24],[4,23,5,24],[7,23,8,23],[7,24,8,24],[9,23,16,23],[9,24,16,24],[18,23,25,23],[18,24,25,24],[7,18,8,18],[7,19,8,19],[4,6,5,22],[7,21,8,21],[7,22,8,22],[6,20,6,22],[6,6,8,6],[6,9,6,13],[6,14,6,15],[6,16,6,17],[6,18,6,19],[7,9,7,10],[7,11,7,13],[7,14,8,14],[7,15,8,15],[7,16,8,16],[7,17,8,17],[7,20,8,20],[35,7,43,7],[18,17,25,17],[9,7,16,7],[36,14,43,14],[36,15,43,15],[27,19,34,19],[36,19,43,19],[27,18,34,18],[26,7,34,7],[9,14,16,14],[9,16,16,16],[9,17,16,17],[9,18,16,18],[9,19,16,19],[9,15,16,15],[27,17,34,17],[36,16,43,16],[27,8,34,8],[27,14,34,14],[27,15,34,15],[27,16,34,16],[18,19,25,19],[191,1,195,1],[169,1,190,1],[103,1,118,1],[119,1,135,1],[136,1,147,1],[148,1,161,1],[26,1,37,1],[162,1,168,1],[50,1,67,1],[68,1,85,1],[86,1,102,1],[38,1,49,1],[196,1,200,1],[3,1,3,3],[6,3,7,3],[4,1,8,1],[4,2,8,2],[4,4,8,4],[9,1,25,1],[53,7,61,7],[62,7,70,7],[53,6,97,6],[80,7,88,7],[3,6,3,22],[9,6,52,6],[44,7,52,7],[45,8,52,8],[17,7,25,7],[9,8,16,8],[18,8,25,8],[6,7,8,7],[6,8,8,8],[36,17,43,17],[36,18,43,18],[36,8,43,8],[18,18,25,18],[54,8,61,8],[54,14,61,14],[54,15,61,15],[54,16,61,16],[54,17,61,17],[54,18,61,18],[63,8,70,8],[63,18,70,18],[63,14,70,14],[63,15,70,15],[63,16,70,16],[63,17,70,17],[63,19,70,19],[54,19,61,19],[45,14,52,14],[45,16,52,16],[45,18,52,18],[45,15,52,15],[45,17,52,17],[45,19,52,19],[18,14,25,14],[18,15,25,15],[18,16,25,16],[90,19,97,19],[72,19,79,19],[81,14,88,14],[81,16,88,16],[81,15,88,15],[81,17,88,17],[71,7,79,7],[72,8,79,8],[72,14,79,14],[72,15,79,15],[72,16,79,16],[72,17,79,17],[81,18,88,18],[81,19,88,19],[89,7,97,7],[90,8,97,8],[90,14,97,14],[90,15,97,15],[90,16,97,16],[90,17,97,17],[90,18,97,18],[81,8,88,8],[72,18,79,18],[99,18,106,18],[99,19,106,19],[108,18,115,18],[108,19,115,19],[117,14,124,14],[134,7,142,7],[135,8,142,8],[135,14,142,14],[135,15,142,15],[135,16,142,16],[135,17,142,17],[117,15,124,15],[99,16,106,16],[99,17,106,17],[107,7,115,7],[108,8,115,8],[108,14,115,14],[108,15,115,15],[108,16,115,16],[108,17,115,17],[117,16,124,16],[117,17,124,17],[117,8,124,8],[206,1,210,1],[201,1,205,1],[6,26,8,26],[6,27,8,27],[6,28,7,29],[4,26,5,29],[98,6,142,6],[117,18,124,18],[117,19,124,19],[125,7,133,7],[126,8,133,8],[126,14,133,14],[126,15,133,15],[126,16,133,16],[126,17,133,17],[126,18,133,18],[126,19,133,19],[98,7,106,7],[99,8,106,8],[99,14,106,14],[99,15,106,15],[116,7,124,7],[135,18,142,18],[135,19,142,19]]}
[]
[null,"Tehnoloogia"]
[]
[]
[null,"Looma liik ja vanuse- või tootmisrühm","Pidamistehnoloogia, sõnniku eemaldamise tehnoloogia","N-lendumine","Sõnniku ladustamise viisi kood",null,"Emissioonifaktorid, sõnnikuhoidla",null,null,null,null,null,null,null,null,null,null,null,null,null,null,null,null,"Loomapidamis-hoone",null,null,"Metaani (CH4) emissioonifaktorid, kg/aastaloom"]
[null,null,null,"Loomapidamis- hoone"]
[null,null,null,"NH3-N ",null,null,"Looma liik","Sõnniku ladustamse viis","Kood","NH3-N",null,null,null,null,"Denitrifikatsioon",null,"N2O-N",null,"NH4-N/kogu-N",null,"Leostumine",null,null,"NH4-N/kogu-N",null,null,"Loomarühm ","Ex-animal","Ex-housing ja ex-storage"]
[null,null,null,null,null,null,null,null,null,"Roe",null,"Uriin",null,null,"Roe","Uriin","Roe","Uriin","Roe","Uriin","N","P","K","Roe","Uriin"]
[null,null,null,"%",null,null,null,null,null,"Katmise viis","TS","Katmise viis","VS",null,null,null,null,null,null,null,null,null,null,null,null,null,null,null,"Sõnniku tüüp"]
[null,"Piimalehmad ","Lõastatud pidamine (sõnniku eemaldamine traktori või skreeperiga)",10,1,null,"Veised","Tahesõnnik (TS) vedelsõnnik (VS)",1,"Katusega hoidla",20,"Katusega hoidla",2,null,5,null,2,0.1,0.25,0.9,0,0,0,0.25,0.9,null,"Piimalehmad",128,"Vedelsõnnik",21]
[null,null,"Lõastatud pidamine (restpõrand, vedelsõnnik)",6,2,null,null,null,null,"Hoidla, loomulik koorik",40,"Ujuvkate",null,null,null,null,null,null,null,null,0,0,0,null,null,null,null,null,"Tahesõnnik",3]
[null,null,"Vabapidamine (monoliitpõrand, vedelsõnnik)",20,2,null,null,null,null,"Aun, loomulik koorik ",30,"Loomulik koorik ",20,null,null,null,null,null,null,null,1,1,5,null,null,null,"Muud veised",53,"Vedelsõnnik",6]
[null,null,"Vabapidamine (restpõrand, vedelsõnniku pidev eemaldamine)",12,2,null,null,null,null,null,null,null,null,null,null,null,null,null,null,null,null,null,null,null,null,null,null,null,"Tahesõnnik",1.1000000000000001]
[null,null,"Vabapidamine (sügavallapanu kogu söötmis-puhkealal) ",13.2,3,null,null,null,null,null,null,null,null,null,null,null,null,null,null,null,null,null,null,null,null,null,"Sead",1.5,"Vedelsõnnik",5.5]
[null,null,"Vabapidamine (sügavallapanu puhke-, vedelsõnnik monoliitpõrandaga söötmisalal)",15.9,4,null,null,null,null,null,null,null,null,null,null,null,null,null,null,null,null,null,null,null,null,null,null,null,"Tahesõnnik",0.6]
[null,null,"Vabapidamine (sügavallapanu puhkealal, vedelsõnnik (skreeper, uriini kiire eraldamine) söötmisalal)",11.1,4,null,null,null,null,null,null,null,null,null,null,null,null,null,null,null,null,null,null,null,null,null,"Linnud",null,"Tahesõnnik",7.8E-2]
[null,null,"Vabapidamine (tahesõnnik, rohke allapanu)",10,5,null,null,null,null,null,null,null,null,null,null,null,null,null,null,null,null,null,null,null,null,null,"Lambad",10,"Tahesõnnik",1]
[null,null,null,null,null,null,null,"Vedelsõnnik (VS)",null,null,null,null,"VS",null,null,null,null,null,null,null,null,null,null,null,null,null,"Kitsed",10,"Tahesõnnik",1]
[null,null,null,null,null,null,null,null,2,"Katusega hoidla",null,"Katusega hoidla",2,null,null,null,null,0.1,null,0.6,0,0,0,null,0.6,null,"Hobused",18,"Tahesõnnik",1]
[null,null,null,null,null,null,null,null,null,"Hoidla, loomulik koorik",null,"Ujuvkate",5,null,null,null,null,null,null,null,0,0,0]
[null,null,null,null,null,null,null,null,null,"Aun, loomulik koorik",null,"Loomulik koorik",20,null,null,null,null,null,null,null,1,1,5]
[]
[]
[]
[]
[]
[null,"Lehmvasikad (vanus kuni 6 kuud)  ","Vabapidamine (sügavallapanu kogu söötmis-puhkealal)",8.5,3,null,null,"Sügavallapanu- sõnnik (SAS)",null,null,"SAS",null,"SAS"]
[null,null,"Vabapidamine (sügavallapanu puhkealal, vedelsõnnik lühikeselt monoliitpõrandaga söötmisalalt) ",8.5,3,null,null,null,3,"Katusega hoidla",5,"Katusega hoidla",3,null,5,5,1,null,0.2,null,0,0,0,0.2]
[null,null,"Vabapidamine (monoliitpõrand, vedelsõnnik)",10.6,2,null,null,null,null,"Hoidla, loomulik koorik",10,"Hoidla, loomulik koorik",3,null,null,null,null,null,null,null,0,0,0]
[null,null,"Vabapidamine (tahesõnnik, rohke allapanu)",10,5,null,null,null,null,"Aun, loomulik koorik",10,"Aun, loomulik koorik",3,null,null,null,null,null,null,null,1,1,5]
[null,null,"Vabapidamine (sügavallapanu puhke-, vedelsõnnik monoliitpõrandaga söötmisalal)",15.9,4]
[]
[]
[]
[]
[null,null,null,null,null,null,null,"Sügavallapanu- sõnnik (SAS) vedelsõnnik (VS)",null,null,"SAS",null,"SAS","VS"]
[null,null,null,null,null,null,null,null,4,"Katusega hoidla",5,"Katusega hoidla",3,2,5,5,1,0.1,0.2,0.6,0,0,0,0.2,0.6]
[null,null,null,null,null,null,null,null,null,"Hoidla, loomulik koorik",10,"Ujuvkate",3,5,null,null,null,null,null,null,0,0,0]
[null,"Pullvasikad (vanus kuni 6 kuud) ","Vabapidamine (sügavallapanu kogu söötmis-puhkealal)",9.25,3,null,null,null,null,"Aun, loomulik koorik",10,"Loomulik koorik",3,20,null,null,null,null,null,null,1,1,5]
[null,null,"Vabapidamine (sügavallapanu puhkealal, vedelsõnnik lühikeselt monoliitpõrandaga söötmisalalt)",9.25,3]
[null,null,"Vabapidamine (monoliitpõrand, vedelsõnnik)",10.6,2]
[null,null,"Vabapidamine (sügavallapanu puhke-, vedelsõnnik monoliitpõrandaga söötmisalal)",15.9,4]
[null,null,"Vabapidamine (tahesõnnik, rohke allapanu)",10,5]
[]
[null,null,null,null,null,null,null,"Tahesõnnik (TS)",null,null,"TS"]
[null,null,null,null,null,null,null,null,5,"Katusega hoidla",20,null,null,null,5,null,2,null,0.25,null,0,0,0,0.25]
[null,null,null,null,null,null,null,null,null,"Hoidla, loomulik koorik",40,null,null,null,null,null,null,null,null,null,0,0,0]
[null,null,null,null,null,null,null,null,null,"Aun, loomulik koorik",30,null,null,null,null,null,null,null,null,null,1,1,5]
[]
[]
[null,"Lehmmullikad (vanus 6 kuud kuni poegimine) ","Lõastatud pidamine (sõnniku eemaldamine traktori või skreeperiga)",10,1]
[null,null,"Lõastatud pidamine (restpõrand, vedelsõnnik)",6,2]
[null,null,"Vabapidamine (monoliitpõrand, vedelsõnnik)",20,2]
[null,null,"Vabapidamine (restpõrand, vedelsõnniku pidev eemaldamine)",12,2,null,"Sead","Tahesõnnik (TS), Vedelsõnnik (VS)",null,null,"TS",null,"VS","S"]
[null,null,"Vabapidamine (sügavallapanu kogu söötmis-puhkealal)",8.9,3,null,null,null,1,"Katusega hoidla",20,"Katusega hoidla",2,null,null,null,2,0.1,0.35,0.9,0,0,0,0.35,0.9]
[null,null,"Vabapidamine (sügavallapanu puhke-, vedelsõnnik monoliitpõrandaga söötmisalal)",13.4,4,null,null,null,null,"Hoidla, loomulik koorik",40,"Ujuvkate",5,null,null,null,null,null,null,null,0,0,0]
[null,null,"Vabapidamine (sügavallapanu puhkealal, vedelsõnnik (ringkanal, uhtesüsteem) söötmisalal) ",11.8,4,null,null,null,null,"Aun, loomulik koorik",30,"Loomulik koorik",20,null,null,null,null,null,null,null,1,1,5]
[null,null,"Vabapidamine (respõrand, sõnnikukelder)",16,2]
[null,null,"Vabapidamine (tahesõnnik, rohke allapanu)",10,5]
[]
[]
[]
[null,null,null,null,null,null,null,"Vedelsõnnik (VS)",null,null,null,null,"VS"]
[null,null,null,null,null,null,null,null,2,"Katusega hoidla",null,"Katusega hoidla",2,null,null,null,null,0.1,null,0.75,0,0,0,null,0.75]
[null,null,null,null,null,null,null,null,null,"Hoidla, loomulik koorik",null,"Ujuvkate",5,null,null,null,null,null,null,null,0,0,0]
[null,null,null,null,null,null,null,null,null,"Aun, loomulik koorik",null,"Loomulik koorik",20,null,null,null,null,null,null,null,1,1,5]
[]
[]
[null,"Lihaveised (vanus 6 kuud kuni realiseerimine) ","Lõastatud pidamine (sõnniku eemaldamine traktori või skreeperiga)",10,1]
[null,null,"Lõastatud pidamine (restpõrand, vedelsõnnik)",6,2]
[null,null,"Vabapidamine (monoliitpõrand, vedelsõnnik)",20,2]
[null,null,"Vabapidamine (restpõrand, vedelsõnniku pidev eemaldamine)",12,2,null,null,"Sügavallapanu- sõnnik (SAS)",null,null,"SAS",null,"SAS"]
[null,null,"Vabapidamine (sügavallapanu kogu söötmis-puhkealal)",8.9,3,null,null,null,3,"Katusega hoidla",5,"Katusega hoidla",13,null,15,15,1,null,0.25,null,0,0,0,0.25]
[null,null,"Vabapidamine (sügavallapanu puhke-, vedelsõnnik monoliitpõrandaga söötmisalal)",13.4,4,null,null,null,null,"Hoidla, loomulik koorik",10,"Hoidla, loomulik koorik",13,null,null,null,null,null,null,null,0,0,0]
[null,null,"Vabapidamine (sügavallapanu puhkealal, vedelsõnnik (ringkanal, uhtesüsteem) söötmisalal)",11.8,4,null,null,null,null,"Aun, loomulik koorik",10,"Aun, loomulik koorik",13,null,null,null,null,null,null,null,1,1,5]
[null,null,"Vabapidamine (respõrand, sõnnikukelder)",16,2]
[null,null,"Vabapidamine (tahesõnnik, rohke allapanu)",10,5]
[]
[]
[]
[null,null,null,null,null,null,null,"Sügavallapanu- sõnnik (SAS) vedelsõnnik (VS)",null,null,"SAS",null,"SAS","VS"]
[null,null,null,null,null,null,null,null,4,"Katusega hoidla",5,"Katusega hoidla",13,2,15,15,1,0.1,0.25,0.75,0,0,0,0.25,0.75]
[null,null,null,null,null,null,null,null,null,"Hoidla, loomulik koorik",10,"Ujuvkate",13,5,null,null,null,null,null,null,0,0,0]
[null,null,null,null,null,null,null,null,null,"Aun, loomulik koorik",10,"Loomulik koorik",13,20,null,null,null,null,null,null,1,1,5]
[]
[]
[null,"Ammlehmad","Lõastatud pidamine (sõnniku eemaldamine traktori või skreeperiga)",10,1]
[null,null,"Lõastatud pidamine (restpõrand, vedelsõnnik)",6,2]
[null,null,"Vabapidamine (restpõrand, vedelsõnniku pidev eemaldamine)",12,2]
[null,null,"Vabapidamine (vedelsõnniku eemaldamine skreeperiga, uriini kiire eraldamine)",8,2,null,null,"Tahesõnnik (TS)",null,null,"TS"]
[null,null,"Vabapidamine (sügavallapanu kogu söötmis-puhkealal)",8.9,3,null,null,null,5,"Katusega hoidla",20,null,null,null,5,null,2,null,0.35,null,0,0,0,0.35]
[null,null,"Vabapidamine (sügavallapanu puhke-, vedelsõnnik monoliitpõrandaga söötmisalal)",13.4,4,null,null,null,null,"Hoidla, loomulik koorik",40,null,null,null,null,null,null,null,null,null,0,0,0]
[null,null,"Vabapidamine (sügavallapanu puhkealal, vedelsõnnik (ringkanal, uhtesüsteem) söötmisalal)",11.8,4,null,null,null,null,"Aun, loomulik koorik",30,null,null,null,null,null,null,null,null,null,1,1,5]
[null,null,"Vabapidamine (tahesõnnik, rohke allapanu)",10,5]
[]
[]
[]
[]
[null,null,null,null,null,null,"Kodulinnud","Tahesõnnik (TS) vedelsõnnik (VS)",null,null,"TS",null,"VS"]
[null,null,null,null,null,null,null,null,1,"Katusega hoidla",20,"Katusega hoidla",2]
[null,null,null,null,null,null,null,null,null,"Hoidla, loomulik koorik",40,"Ujuvkate",5]
[null,null,null,null,null,null,null,null,null,"Aun, loomulik koorik",30,"Loomulik koorik",20]
[]
[null,"Nuumsead ","Osaline restpõrand (50-75%)",12.8,2]
[null,null,"Osaline restpõrand (25-49%)",17.100000000000001,2]
[null,null,"Monoliitpõrand (uriini kiire eraldamine) ja osaline restpõrand (33/67)",20.9,2]
[null,null,"Monoliitpõrand",27.3,1]
[null,null,"Sügavallapanusõnnik lamamislalal, vedelsõnnik söötmisalal",20.3,4,null,null,"Vedelsõnnik (VS)",null,null,null,null,"VS"]
[null,null,"Sügavallapanusõnnik kogu söötmis-puhkealal",23,3,null,null,null,2,null,null,"Katusega hoidla",2,null,null,null,null,0.1,null,0.75,0,0,0,null,0.75]
[null,null,"Monoliitpõrand (rohke allapanu, tahesõnnik)",27.3,5,null,null,null,null,null,null,"Ujuvkate",5,null,null,null,null,null,null,null,0,0,0]
[null,null,null,null,null,null,null,null,null,null,null,"Loomulik koorik",20,null,null,null,null,null,null,null,1,1,5]
[]
[]
[]
[]
[]
[null,null,null,null,null,null,null,"Sügavallapanu- sõnnik (SAS) ",null,null,"SAS",null,"SAS"]
[null,null,null,null,null,null,null,null,3,"Katusega hoidla",5,null,null,null,10,null,1,null,0.25,null,0,0,0,0.25]
[null,null,null,null,null,null,null,null,null,"Hoidla, loomulik koorik",10,null,null,null,null,null,null,null,null,null,0,0,0]
[null,"Emised (vaba- ja tiinusperiood)","Individuaalsulud (osaline restpõrand)",9.1999999999999993,2,null,null,null,null,"Aun, loomulik koorik",10,null,null,null,null,null,null,null,null,null,0,0,0]
[null,null,"Individuaalsulud (täisrestpõrand)",13.4,2]
[null,null,"Individuaalsulud (monoliitpõrand)",14.8,1]
[null,null,"Rühmasulud (sügavallapanu ja osaline restpõrand)",12.2,4]
[null,null,"Rühmasulud (sügavallapanu ja monoliitpõrand)",13.6,4]
[null,null,"Rühmasulud (sügavallapanu)",14.3,3]
[null,null,"Rühmasulud (osaline restpõrand)",11.3,2,null,null,"Sügavallapanu- sõnnik (SAS), vedelsõnnik (VS)",null,null,"SAS",null,"SAS","VS"]
[null,null,null,null,null,null,null,null,4,"Katusega hoidla",null,"Katusega hoidla"]
[null,null,null,null,null,null,null,null,null,"Hoidla, loomulik koorik",null,"Ujuvkate"]
[null,null,null,null,null,null,null,null,null,"Aun, loomulik koorik",null,"Loomulik koorik"]
[]
[]
[]
[]
[]
[null,null,null,null,null,null,null,"Tahesõnnik (TS)",null,null,"TS"]
[null,null,null,null,null,null,null,null,5,"Katusega hoidla",24,null,null,null,10,null,1,null,0.25,null,0,0,0,0.25]
[null,"Emised (imetamisperiood)","Poegimissulud (osaline restpõrand)",3.9,2,null,null,null,null,"Hoidla, loomulik koorik",40,null,null,null,null,null,null,null,null,null,0,0,0]
[null,null,"Poegimissulud (täisrestpõrand)",7.8,2,null,null,null,null,"Aun, loomulik koorik",30,null,null,null,null,null,null,null,null,null,1,1,5]
[null,null,"Rühmasulud (sügavallapanu)",14.3,3]
[]
[]
[]
[]
[]
[]
[]
[]
[]
[null,"Võõrdepõrsad","Kakskliima (osaline restpõrand)",10.3,2]
[null,null,"Monoliitpõrand (uriini kiire eraldamine) ja osaline restpõrand (50/50)",20.7,2]
[null,null,"Monoliitpõrand",34.5,1]
[null,null,"Sügavallapanusõnik kogu söötmis-puhkealal",24.1,3]
[]
[]
[]
[]
[]
[]
[]
[]
[null,null,null,null,null,null,"Niiskuse aurumine"]
[null,null,null,null,null,null,"%"]
[null,"Kanabroilerid (1000 lindu)","Sügavallapanusõnnik ",10,3]
[null,null,"Sügavallapanusõnnik (sõnniku kuivatamine)",10,3,null,40]
[]
[]
[]
[]
[]
[null,"Munakanad (100 lindu)","Puurispidamine, transportöörlindid, sõnniku kuivatamine",10,3,null,40]
[null,null,"Puurispidamine, transportöörlindid, vedelsõnnik",10,2]
[null,null,"Puurispidamine, transportöörlindid, tahesõnnik",10,5]
[]
[]
[null,null,"Mitmel tasapinnal pidamine (õrrekanala), transportöörlindid, sõnniku kuivatamine ",13.8,3,null,40]
[null,null,"Mitmel tasapinnal pidamine (õrrekanala), sügavallapanusõnnik ",35.1,3]
[]
[]
[]
[null,null,"Vabapidamine (pääs jalutusaladele), põrandalpidamine",31.5,3]
[null,null,"Vabapidamine (pääs jalutusaladele), mitmel tasapinnal pidamine, transportöörlindid, sõnniku kuivatamine",12,3,null,40]
[]
[]
[]
[]
[null,null,"Mahekanad, põrandalpidamine",31.5,3]
[null,null,"Mahekanad, mitmel tasapinnal pidamine, transportöörlindid, sõnniku kuivatamine",12,3,null,40]
[]
[]
[]
[]
[null,"Noorlinnud (100 lindu)","Puurispidamine, transportöörlindid, sõnniku kuivatamine",39.799999999999997,3,null,40]
[null,null,"Põrandalpidamine",24.9,3]
[]
[]
[]
[null,"Lambad","Vabapidamine (sügavallapanu kogu söötmis-puhkealal)",8.5,3]
[]
[]
[]
[]
[null,"Kitsed","Vabapidamine (sügavallapanu kogu söötmis-puhkealal)",9,3]
[]
[]
[]
[]
[null,"Hobused","Vabapidamine (sügavallapanu) ",5,5]
[]
[]
[]
[]
[]
[]
[]
[]
[]
[]
[]
[]
[]
[]
[]
[]
[]
[]
[]
[]
[]
[]
[]
[]
[]
[]
[]
[]
[]
[]
[]
[]
[]
[]
[]
[]
[]
[]
[]
[]
[]
[]
[]
[]
[]
[]
[]
[]
[]
[]
[]
[]
[]
[]
[]
[]
[]
[]
[]
[]
[]
[]
[]
[]
[]
[]
[]
[]
[]
[]
[]
[]
[]
[]
[]
[]
[]
[]
[]
[]
[]
[]
[]
[]
[]
[]
[]
[]
[]
[]
[]
[]
[]
[]
[]
[]
[]
[]
[]
[]
[]
[]
[]
[]
[]
[]
[]
[]
[]
[]
[]
[]
[]
[]
[]
[]
[]
[]
[]
[]
[]
[]
[]
[]
[]
[]
[]
[]
[]
[]
[]
[]
[]
[]
[]
[]
[]
[]
[]
[]
[]
[]
[]
[]
[null,null,null,null,null,null,22,null,null,23,24]

{"sheet":"Additional information","index":13,"n_rows":140,"n_cols":32,"rows_kept":140,"cut":false,"hidden":false,"merged":[[122,7,127,7],[122,8,124,8],[122,10,124,10],[125,8,127,8],[125,10,127,10],[105,7,115,7],[105,10,107,10],[110,8,112,8],[110,10,112,10],[113,8,115,8],[113,10,115,10],[116,7,121,7],[116,8,118,8],[116,10,118,10],[119,8,121,8],[119,10,121,10],[108,8,109,8],[108,10,109,10],[1,1,1,9],[2,1,2,9],[4,1,4,5],[4,13,4,17],[16,13,16,15],[7,8,7,9],[5,7,17,7],[6,8,6,10],[11,8,13,8],[14,8,15,8],[4,7,4,11],[8,10,10,10],[5,8,5,9],[8,8,10,8],[17,13,17,15],[15,13,15,15],[6,3,6,5],[9,13,9,15],[8,13,8,15],[7,13,7,15],[6,13,6,15],[12,13,12,15],[13,13,13,15],[14,13,14,15],[71,7,73,7],[71,8,73,8],[71,10,73,10],[77,7,82,7],[74,7,76,7],[74,8,76,8],[74,10,76,10],[77,8,79,8],[77,10,79,10],[53,7,58,7],[59,7,64,7],[59,8,61,8],[59,10,61,10],[62,8,64,8],[62,10,64,10],[56,8,58,8],[56,10,58,10],[65,7,70,7],[65,8,67,8],[65,10,67,10],[68,8,70,8],[68,10,70,10],[4,30,4,31],[18,13,18,15],[19,13,19,15],[20,13,20,15],[87,8,89,8],[87,10,89,10],[18,7,22,7],[38,7,42,7],[38,8,40,8],[38,10,40,10],[43,8,43,10],[43,7,52,7],[33,8,35,8],[33,10,35,10],[28,7,37,7],[28,8,28,10],[23,8,25,8],[23,10,25,10],[29,8,29,9],[23,7,27,7],[44,8,44,9],[45,8,47,8],[45,10,47,10],[48,8,50,8],[30,8,32,8],[30,10,32,10],[18,8,20,8],[18,10,20,10],[53,8,55,8],[53,10,55,10],[80,8,82,8],[11,13,11,15],[10,13,10,15],[11,10,13,10],[14,10,15,10],[48,10,50,10],[80,10,82,10],[7,27,7,28],[8,27,8,28],[9,27,9,28],[10,27,10,28],[4,19,4,23],[4,25,4,28],[5,25,5,26],[5,27,6,28],[6,21,6,23],[96,8,98,8],[96,10,98,10],[93,7,98,7],[99,7,104,7],[99,8,101,8],[99,10,101,10],[102,8,104,8],[102,10,104,10],[83,7,92,7],[83,8,83,9],[84,10,86,10],[93,8,95,8],[93,10,95,10],[90,8,92,8],[90,10,92,10],[128,7,133,7],[128,8,130,8],[128,10,130,10],[131,8,133,8],[131,10,133,10],[134,7,139,7],[134,8,136,8],[134,10,136,10],[137,8,139,8],[137,10,139,10]]}
[]
[null,"Lisainformatsioon"]
[]
[]
[null,"Allapanu",null,null,null,null,null,"Standardväärtused: juurdekasv, embrüo, piim, kanamunad",null,null,null,null,null,"Standardväärtused: väljaheidete KA, %",null,null,null,null,null,"Standardväärtused: muud vedelad materjalid vedelsõnnikuhoidlas",null,null,null,null,null,"Standardväärtused: mahumass (sõnnik, silo)",null,null,null,null,"Konstant"]
[null,"Liik","KA","N","P","K",null,"Piimalehmad","Parameeter",null,"Ühik","Väärtus",null,"Loomarühm",null,null,"Roe","Uriin",null,"Allikas","KA","N","P","K",null,"DM, %",null,"m3/t",null,null,"Loomarühm","k"]
[null,null,"%","g/kg KA",null,null,null,null,"Poegimiste arv lehma kohta aastas ",null,null,0.6,null,"Piimalehmad",null,null,13.5,5,null,null,"%","kg/t",null,null,null,"Min","Max",null,null,null,"Piimalehmad",1.85]
[null,"Põhk",85,5,0.7,15,null,null,"Vasika sünnikaal",null,"kg",40,null,"Lehmvasikad (vanus kuni 6 kuud) ",null,null,17,4,null,"Silomahl",3,2,0.44,1.24,null,0,7.9,1,null,null,"Lehmvasikad (vanus kuni 6 kuud)",1.5]
[null,"Turvas",65,20,1.1000000000000001,8,null,null,"Juurdekasv","N","g/kg juurdekasv",25.6,null,"Pullvasikad (vanus kuni 6 kuud) ",null,null,17,4,null,"Mittestandardne piim",10,{"$f":"IF('Ex animal'!H10=0,\"\",'Ex animal'!J10/'Ex animal'!H10*1000/6.25)","v":""},{"$f":"L15","v":0.96},{"$f":"L16","v":1.6},null,8,19.899999999999999,1.1100000000000001,null,null,"Pullvasikad (vanus kuni 6 kuud)",1.5]
[null,"Höövlilaastud",61,1.1000000000000001,0.1,1.1000000000000001,null,null,null,"P",null,6.1,null,"Lehmmullikad (vanus 6 kuud kuni poegimine)",null,null,20,5,null,"Sademetevesi",null,null,null,null,null,20,24.9,1.33,null,null,"Lehmmullikad (vanus 6 kuud kuni poegimine)",2]
[null,"Saepuru",60.99,1.1000000000000001,0.11,1.06,null,null,null,"K",null,1.8,null,"Lihaveised (vanus 6 kuud kuni realiseerimine)",null,null,20,5,null,"Reovesi",null,null,null,null,null,25,100,1.67,null,null,"Lihaveised (vanus 6 kuud kuni realiseerimine)",2]
[null,null,null,null,null,null,null,null,"Embrüo","N","g/kg embrüo",29.6,null,"Ammlehmad",null,null,13.5,5,null,null,null,null,null,null,null,null,null,null,null,null,"Ammlehmad",2]
[null,null,null,null,null,null,null,null,null,"P",null,10.199999999999999,null,"Nuumsead",null,null,25.2,2.2000000000000002,null,null,null,null,null,null,null,null,null,null,null,null,"Nuumsead",0.32400000000000001]
[null,null,null,null,null,null,null,null,null,"K",null,2.1,null,"Võõrdepõrsad",null,null,25,2.2000000000000002,null,null,null,null,null,null,null,null,null,null,null,null,"Võõrdepõrsad",0.32400000000000001]
[null,null,null,null,null,null,null,null,"Piim","P","g/kg piim",0.96,null,"Emised",null,null,25,2.2000000000000002,null,null,null,null,null,null,null,null,null,null,null,null,"Emised                                           Free and gestation period",0.32400000000000001]
[null,null,null,null,null,null,null,null,null,"K",null,1.6,null,"Kanabroilerid",null,null,25,null,null,null,null,null,null,null,null,null,null,null,null,null,"Kanabroilerid"]
[null,null,null,null,null,null,null,null,"Eritumine uriiniga","P","mg/kg kehamass/päev",3,null,"Noorlinnud",null,null,25,null,null,null,null,null,null,null,null,null,null,null,null,null,"Noorlinnud"]
[null,null,null,null,null,null,null,null,"Eritumine roojaga","K","g/kg KA söömus",3,null,"Munakanad",null,null,25,null,null,null,null,null,null,null,null,null,null,null,null,null,"Munakanad"]
[null,null,null,null,null,null,null,"Lehmvasikad (vanus kuni 6 kuud) ","Juurdekasv","N","g/kg juurdekasv",25.6,null,"Lambad",null,null,37,5,null,null,null,null,null,null,null,null,null,null,null,null,"Noorlambad",1.75]
[null,null,null,null,null,null,null,null,null,"P",null,6.1,null,"Kitsed",null,null,37,5,null,null,null,null,null,null,null,null,null,null,null,null,"Uted koos talledega",1.75]
[null,null,null,null,null,null,null,null,null,"K",null,1.8,null,"Hobused",null,null,37,5,null,null,null,null,null,null,null,null,null,null,null,null,"Jäärad",1.75]
[null,null,null,null,null,null,null,null,"Eritumine uriiniga","P","%/P söömus",2,null,null,null,null,null,null,null,null,null,null,null,null,null,null,null,null,null,null,"Noorkitsed",1.75]
[null,null,null,null,null,null,null,null,"Eritumine roojaga","K","g/kg KA söömus",3,null,null,null,null,null,null,null,null,null,null,null,null,null,null,null,null,null,null,"Lüpsikitsed koos talledega",1.75]
[null,null,null,null,null,null,null,"Pullvasikad (vanus kuni 6 kuud) ","Juurdekasv","N","g/kg juurdekasv",25.6,null,null,null,null,null,null,null,null,null,null,null,null,null,null,null,null,null,null,"Sikud",1.75]
[null,null,null,null,null,null,null,null,null,"P",null,6.1,null,null,null,null,null,null,null,null,null,null,null,null,null,null,null,null,null,null,"Noorhobused",1.75]
[null,null,null,null,null,null,null,null,null,"K",null,1.8,null,null,null,null,null,null,null,null,null,null,null,null,null,null,null,null,null,null,"Täiskasvanud hobused",1.75]
[null,null,null,null,null,null,null,null,"Eritumine uriiniga","P","%/P söömus",2]
[null,null,null,null,null,null,null,null,"Eritumine roojaga","K","g/kg KA söömus",3]
[null,null,null,null,null,null,null,"Lehmmullikad (vanus 6 kuud kuni poegimine)","Poegimiste arv mullika kohta aastas ",null,null,0.4]
[null,null,null,null,null,null,null,null,"Vasika sünnikaal",null,"kg",40]
[null,null,null,null,null,null,null,null,"Juurdekasv","N","g/kg juurdekasv",25.6]
[null,null,null,null,null,null,null,null,null,"P",null,6.1]
[null,null,null,null,null,null,null,null,null,"K",null,1.8]
[null,null,null,null,null,null,null,null,"Embrüo","N","g/kg embrüo",29.6]
[null,null,null,null,null,null,null,null,null,"P",null,10.199999999999999]
[null,null,null,null,null,null,null,null,null,"K",null,2.1]
[null,null,null,null,null,null,null,null,"Eritumine uriiniga","P","%/P söömus",2]
[null,null,null,null,null,null,null,null,"Eritumine roojaga","K","g/kg KA söömus",3]
[null,null,null,null,null,null,null,"Lihaveised (vanus 6 kuud kuni realiseerimine)","Juurdekasv","N","g/kg juurdekasv",25.6]
[null,null,null,null,null,null,null,null,null,"P",null,6.1]
[null,null,null,null,null,null,null,null,null,"K",null,1.8]
[null,null,null,null,null,null,null,null,"Eritumine uriiniga","P","%/P söömus",2]
[null,null,null,null,null,null,null,null,"Eritumine roojaga","K","g/kg KA söömus",3]
[null,null,null,null,null,null,null,"Ammlehmad","Poegimiste arv lehma kohta aastas ",null,null,0.6]
[null,null,null,null,null,null,null,null,"Vasika sünnikaal",null,"kg",40]
[null,null,null,null,null,null,null,null,"Juurdekasv","N","g/kg juurdekasv",25.6]
[null,null,null,null,null,null,null,null,null,"P",null,6.1]
[null,null,null,null,null,null,null,null,null,"K",null,1.8]
[null,null,null,null,null,null,null,null,"Embrüo","N","g/kg embrüo",29.6]
[null,null,null,null,null,null,null,null,null,"P",null,10.199999999999999]
[null,null,null,null,null,null,null,null,null,"K",null,2.1]
[null,null,null,null,null,null,null,null,"Eritumine uriiniga","P","%/P söömus",2]
[null,null,null,null,null,null,null,null,"Eritumine roojaga","K","g/kg KA söömus",3]
[null,null,null,null,null,null,null,"Nuumsead","Juurdekasv","N","g/kg juurdekasv",29.6]
[null,null,null,null,null,null,null,null,null,"P",null,5.5]
[null,null,null,null,null,null,null,null,null,"K",null,2.2000000000000002]
[null,null,null,null,null,null,null,null,"Seeduvus","N","%",81]
[null,null,null,null,null,null,null,null,null,"P",null,55]
[null,null,null,null,null,null,null,null,null,"K",null,70]
[null,null,null,null,null,null,null,"Võõrdepõrsad","Juurdekasv","N","g/kg juurdekasv",29.6]
[null,null,null,null,null,null,null,null,null,"P",null,5.5]
[null,null,null,null,null,null,null,null,null,"K",null,2.2000000000000002]
[null,null,null,null,null,null,null,null,"Seeduvus","N","%",84]
[null,null,null,null,null,null,null,null,null,"P",null,63]
[null,null,null,null,null,null,null,null,null,"K",null,75]
[null,null,null,null,null,null,null,"Emised","Imikpõrsaste juurdekasv","N","g/kg juurdekasv",29.6]
[null,null,null,null,null,null,null,null,null,"P",null,5.5]
[null,null,null,null,null,null,null,null,null,"K",null,2.2000000000000002]
[null,null,null,null,null,null,null,null,"Seeduvus","N","%",80.5]
[null,null,null,null,null,null,null,null,null,"P",null,50]
[null,null,null,null,null,null,null,null,null,"K",null,70]
[null,null,null,null,null,null,null,"Kanabroilerid","Juurdekasv","N","g/kg juurdekasv",29]
[null,null,null,null,null,null,null,null,null,"P",null,3.3]
[null,null,null,null,null,null,null,null,null,"K",null,2.5]
[null,null,null,null,null,null,null,"Noorlinnud","Juurdekasv","N","g/kg juurdekasv",29]
[null,null,null,null,null,null,null,null,null,"P",null,3.4]
[null,null,null,null,null,null,null,null,null,"K",null,2.5]
[null,null,null,null,null,null,null,"Munakanad","Juurdekasv","N","g/kg juurdekasv",29]
[null,null,null,null,null,null,null,null,null,"P",null,3.4]
[null,null,null,null,null,null,null,null,null,"K",null,2.5]
[null,null,null,null,null,null,null,null,"Munad","N","g/kg ",18.100000000000001]
[null,null,null,null,null,null,null,null,null,"P",null,2.1]
[null,null,null,null,null,null,null,null,null,"K",null,1.3]
[null,null,null,null,null,null,null,"Uted koos talledega","Talle sünnikaal",null,"kg",8]
[null,null,null,null,null,null,null,null,null,"N","g/kg embrüo",29.6]
[null,null,null,null,null,null,null,null,"Embrüo","P",null,10.199999999999999]
[null,null,null,null,null,null,null,null,null,"K",null,2.1]
[null,null,null,null,null,null,null,null,"Juurdekasv","N","g/kg juurdekasv",25.6]
[null,null,null,null,null,null,null,null,null,"P",null,5.5]
[null,null,null,null,null,null,null,null,null,"K",null,2.2000000000000002]
[null,null,null,null,null,null,null,null,"Seeduvus","N","%",50]
[null,null,null,null,null,null,null,null,null,"P",null,30]
[null,null,null,null,null,null,null,null,null,"K",null,75]
[null,null,null,null,null,null,null,"Noorlambad","Juurdekasv","N","g/kg juurdekasv",27.2]
[null,null,null,null,null,null,null,null,null,"P",null,5.5]
[null,null,null,null,null,null,null,null,null,"K",null,2.2000000000000002]
[null,null,null,null,null,null,null,null,"Seeduvus","N","%",50]
[null,null,null,null,null,null,null,null,null,"P",null,30]
[null,null,null,null,null,null,null,null,null,"K",null,75]
[null,null,null,null,null,null,null,"Jäärad","Juurdekasv","N","g/kg juurdekasv",25.6]
[null,null,null,null,null,null,null,null,null,"P",null,5.5]
[null,null,null,null,null,null,null,null,null,"K",null,2.2000000000000002]
[null,null,null,null,null,null,null,null,"Seeduvus","N","%",50]
[null,null,null,null,null,null,null,null,null,"P",null,30]
[null,null,null,null,null,null,null,null,null,"K",null,75]
[null,null,null,null,null,null,null,"Lüpsikitsed koos talledega",null,"N","g/kg embrüo",29.6]
[null,null,null,null,null,null,null,null,"Embrüo","P",null,10.199999999999999]
[null,null,null,null,null,null,null,null,null,"K",null,2.1]
[null,null,null,null,null,null,null,null,"Piim","P","g/kg piim",0.96]
[null,null,null,null,null,null,null,null,null,"K",null,1.6]
[null,null,null,null,null,null,null,null,"Juurdekasv","N","g/kg juurdekasv",25.6]
[null,null,null,null,null,null,null,null,null,"P",null,5.5]
[null,null,null,null,null,null,null,null,null,"K",null,2.2000000000000002]
[null,null,null,null,null,null,null,null,"Seeduvus","N","%",70]
[null,null,null,null,null,null,null,null,null,"P",null,30]
[null,null,null,null,null,null,null,null,null,"K",null,75]
[null,null,null,null,null,null,null,"Noorkitsed","Juurdekasv","N","g/kg juurdekasv",27.2]
[null,null,null,null,null,null,null,null,null,"P",null,5.5]
[null,null,null,null,null,null,null,null,null,"K",null,2.2000000000000002]
[null,null,null,null,null,null,null,null,"Seeduvus","N","%",70]
[null,null,null,null,null,null,null,null,null,"P",null,30]
[null,null,null,null,null,null,null,null,null,"K",null,75]
[null,null,null,null,null,null,null,"Sikud","Juurdekasv","N","g/kg juurdekasv",25.6]
[null,null,null,null,null,null,null,null,null,"P",null,5.5]
[null,null,null,null,null,null,null,null,null,"K",null,2.2000000000000002]
[null,null,null,null,null,null,null,null,"Seeduvus","N","%",70]
[null,null,null,null,null,null,null,null,null,"P",null,30]
[null,null,null,null,null,null,null,null,null,"K",null,75]
[null,null,null,null,null,null,null,"Noorhobused","Juurdekasv","N","g/kg juurdekasv",27.2]
[null,null,null,null,null,null,null,null,null,"P",null,5.5]
[null,null,null,null,null,null,null,null,null,"K",null,2.2000000000000002]
[null,null,null,null,null,null,null,null,"Seeduvus","N","%",65]
[null,null,null,null,null,null,null,null,null,"P",null,30]
[null,null,null,null,null,null,null,null,null,"K",null,75]
[null,null,null,null,null,null,null,"Täiskasvanud hobused","Juurdekasv","N","g/kg juurdekasv",25.6]
[null,null,null,null,null,null,null,null,null,"P",null,5.5]
[null,null,null,null,null,null,null,null,null,"K",null,2.2000000000000002]
[null,null,null,null,null,null,null,null,"Seeduvus","N","%",65]
[null,null,null,null,null,null,null,null,null,"P",null,30]
[null,null,null,null,null,null,null,null,null,"K",null,75]